{"text_format":"1","workbook":"xlsx","n_sheets":5,"sheets":["Inputs & Outputs","Calculations","Data","Triangle Chart Examples","Site-Wide Concs."],"not_rendered":{"charts":79,"images":27,"macros":1,"external_links":4,"defined_names":23,"comments":0,"pivot_tables":0},"unopened":[],"bounds":{"document_bytes":16777216,"sheet_cells":100000,"rows_first":2000,"rows_last":500,"rows_between":2000,"halvings":0,"cell_chars":16384,"cell_head_chars":4096},"cells_cut":0,"cells_raw":0,"read":"whole","date_system":"1900"}

{"sheet":"Inputs & Outputs","index":0,"n_rows":29,"n_cols":12,"rows_kept":29,"cut":false,"hidden":false,"merged":[[7,11,8,11],[7,8,8,8],[7,9,8,9],[7,10,8,10]]}
[null,"Chlorinated Solvent Remediation Decision Support System\n",null,null,"ESTCP Project ER-201120"]
[null,"Beta Version 1.0, 31 July 2015"]
[null,"INPUTS",null,null,null,null,null,null,"OUTPUTS"]
[null,"PRIMARY SELECTIONS:",null,null,null,null,null,null,"Concentration Before vs After Triangle Chart (see left)"]
[null,null,null,null,null,null,null,null,"Summary Statistics of Before Concentrations (see below)"]
[null,null,null,null,null,null,null,null,"Summary Statistics of After Concentrations (see below)"]
[null,null,null,null,null,null,null,null,"Summary Statistics of OoM Reductions (see below)"]
[null,null,null,null,null,null,null,null,"Summary Statistics:","Before Conc., mg/L","After Conc., mg/L","OoM \nReduction"]
[]
[null,null,null,null,null,null,null,null,"Minimum",{"$f":"IF(Calculations!F1 = 2, IF(Calculations!H1 = 2, Calculations!F287, Calculations!H287), IF(Calculations!H1 = 2, Calculations!L287, Calculations!N287))","v":1.4145E-3},{"$f":"IF(Calculations!F1 = 2, IF(Calculations!H1 = 2, Calculations!G287, Calculations!I287), IF(Calculations!H1 = 2, Calculations!M287, Calculations!O287))","v":1E-3},{"$f":"IF(Calculations!$F$1 = 2, IF(Calculations!$H$1 = 2, Calculations!J287, Calculations!K287), IF(Calculations!$H$1 = 2, Calculations!P287, Calculations!Q287))","v":-2.3979400000000002}]
[null,null,null,null,null,null,null,null,"10th Percentile",{"$f":"IF(Calculations!F1 = 2, IF(Calculations!H1 = 2, Calculations!F289, Calculations!H289), IF(Calculations!H1 = 2, Calculations!L289, Calculations!N289))","v":2.5721290000000004E-2},{"$f":"IF(Calculations!F1 = 2, IF(Calculations!H1 = 2, Calculations!G289, Calculations!I289), IF(Calculations!H1 = 2, Calculations!M289, Calculations!O289))","v":1.0677700000000002E-3},{"$f":"IF(Calculations!$F$1 = 2, IF(Calculations!$H$1 = 2, Calculations!J289, Calculations!K289), IF(Calculations!$H$1 = 2, Calculations!P289, Calculations!Q289))","v":4.7178530000000087E-2}]
[null,null,null,null,null,null,null,null,"25th Percentile",{"$f":"IF(Calculations!F1 = 2, IF(Calculations!H1 = 2, Calculations!F290, Calculations!H290), IF(Calculations!H1 = 2, Calculations!L290, Calculations!N290))","v":0.29112062500000002},{"$f":"IF(Calculations!F1 = 2, IF(Calculations!H1 = 2, Calculations!G290, Calculations!I290), IF(Calculations!H1 = 2, Calculations!M290, Calculations!O290))","v":9.6097749999999992E-3},{"$f":"IF(Calculations!$F$1 = 2, IF(Calculations!$H$1 = 2, Calculations!J290, Calculations!K290), IF(Calculations!$H$1 = 2, Calculations!P290, Calculations!Q290))","v":0.44460747500000003}]
[null,null,null,null,null,null,null,null,"50th Percentile",{"$f":"IF(Calculations!F1 = 2, IF(Calculations!H1 = 2, Calculations!F291, Calculations!H291), IF(Calculations!H1 = 2, Calculations!L291, Calculations!N291))","v":1.1397746500000001},{"$f":"IF(Calculations!F1 = 2, IF(Calculations!H1 = 2, Calculations!G291, Calculations!I291), IF(Calculations!H1 = 2, Calculations!M291, Calculations!O291))","v":6.7623100000000005E-2},{"$f":"IF(Calculations!$F$1 = 2, IF(Calculations!$H$1 = 2, Calculations!J291, Calculations!K291), IF(Calculations!$H$1 = 2, Calculations!P291, Calculations!Q291))","v":1.0023543500000001}]
[null,"See Site-by-Site DATA",null,null,null,null,null,null,"75th Percentile",{"$f":"IF(Calculations!F1 = 2, IF(Calculations!H1 = 2, Calculations!F292, Calculations!H292), IF(Calculations!H1 = 2, Calculations!L292, Calculations!N292))","v":7.6712492999999995},{"$f":"IF(Calculations!F1 = 2, IF(Calculations!H1 = 2, Calculations!G292, Calculations!I292), IF(Calculations!H1 = 2, Calculations!M292, Calculations!O292))","v":0.61787654999999997},{"$f":"IF(Calculations!$F$1 = 2, IF(Calculations!$H$1 = 2, Calculations!J292, Calculations!K292), IF(Calculations!$H$1 = 2, Calculations!P292, Calculations!Q292))","v":1.9070906249999999}]
[null,null,null,null,null,null,null,null,"90th Percentile",{"$f":"IF(Calculations!F1 = 2, IF(Calculations!H1 = 2, Calculations!F293, Calculations!H293), IF(Calculations!H1 = 2, Calculations!L293, Calculations!N293))","v":34.504999999999974},{"$f":"IF(Calculations!F1 = 2, IF(Calculations!H1 = 2, Calculations!G293, Calculations!I293), IF(Calculations!H1 = 2, Calculations!M293, Calculations!O293))","v":2.8095288499999977},{"$f":"IF(Calculations!$F$1 = 2, IF(Calculations!$H$1 = 2, Calculations!J293, Calculations!K293), IF(Calculations!$H$1 = 2, Calculations!P293, Calculations!Q293))","v":2.6823460099999998}]
[null,"See All Concentration DATA",null,null,null,null,null,null,"Maximum",{"$f":"IF(Calculations!F1 = 2, IF(Calculations!H1 = 2, Calculations!F288, Calculations!H288), IF(Calculations!H1 = 2, Calculations!L288, Calculations!N288))","v":995},{"$f":"IF(Calculations!F1 = 2, IF(Calculations!H1 = 2, Calculations!G288, Calculations!I288), IF(Calculations!H1 = 2, Calculations!M288, Calculations!O288))","v":387.5},{"$f":"IF(Calculations!$F$1 = 2, IF(Calculations!$H$1 = 2, Calculations!J288, Calculations!K288), IF(Calculations!$H$1 = 2, Calculations!P288, Calculations!Q288))","v":5.2130326}]
[null,null,null,null,null,null,null,null,"Number of Sites",{"$f":"IF(Calculations!F1 = 2, IF(Calculations!H1 = 2, Calculations!F294, Calculations!H294), IF(Calculations!H1 = 2, Calculations!L294, Calculations!N294))","v":280},{"$f":"IF(Calculations!F1 = 2, IF(Calculations!H1 = 2, Calculations!G294, Calculations!I294), IF(Calculations!H1 = 2, Calculations!M294, Calculations!O294))","v":280}]
[null,"SECONDARY SELECTIONS:"]
[]
[]
[]
[]
[]
[]
[]
[]
[]
[]
[null,"Bioremediation:","Chemical Oxidation:","Chemical Reduction:","Thermal Treatment:"]

{"sheet":"Calculations","index":1,"n_rows":294,"n_cols":17,"rows_kept":294,"cut":false,"hidden":false,"merged":[[1,5,1,8],[1,9,1,10],[1,11,1,14],[1,15,1,16],[2,11,3,11],[2,12,3,12],[2,13,3,13],[2,14,3,14],[2,15,3,15],[2,16,3,16],[2,5,3,5],[2,6,3,6],[2,7,3,7],[2,8,3,8],[2,9,3,9],[2,10,3,10]]}
[null,null,null,true,null,2,null,2]
[null,null,null,true,null,"Parent",null,null,null,"Parent OoM",null,"Total CVOC",null,null,null,"T CVOC OoM"]
[null,null,null,null,null,{"$f":"Data!I3","v":"Parent Before Geomean"},{"$f":"Data!J3","v":"Parent After Geomean"},{"$f":"Data!K3","v":"Parent Before Maximum"},{"$f":"Data!L3","v":"Parent After Maximum"},{"$f":"Data!M3","v":"Parent Geomean OoM"},{"$f":"Data!N3","v":"Parent Maximum OoM"},{"$f":"Data!O3","v":"Total Before Geomean"},{"$f":"Data!P3","v":"Total After Geomean"},{"$f":"Data!Q3","v":"Total Before Maximum"},{"$f":"Data!R3","v":"Total After Maximum"},{"$f":"Data!S3","v":"Total Geomean OoM"},{"$f":"Data!T3","v":"Total Maximum OoM"}]
[null,"Technology","Tech Variant","Treatment Scale","Dominant Geology"]
[true,{"$f":"Data!B4","v":"Bioremediation"},{"$f":"Data!C4","v":"Soluble"},{"$f":"Data!E4","v":"Full"},{"$f":"Data!H4","v":"Coarse-grained"},{"$f":"IF($A$6=TRUE, IF($A$5=TRUE, IF($H$1=2, IF($F$1 = 2, Data!I4, NA()), NA()), NA()), NA())","v":1.0649999999999999},{"$f":"IF($A$6=TRUE, IF($A$5=TRUE, IF($H$1=2, IF($F$1 = 2, Data!J4, NA()), NA()), NA()), NA())","v":6.5358899999999998E-2},{"$f":"IF($A$6=TRUE, IF($A$5=TRUE, IF($H$1=1, IF($F$1 = 2, Data!K4, NA()), NA()), NA()), NA())","v":{"$error":"#N/A"}},{"$f":"IF($A$6=TRUE, IF($A$5=TRUE, IF($H$1=1, IF($F$1 = 2, Data!L4, NA()), NA()), NA()), NA())","v":{"$error":"#N/A"}},{"$f":"IF($A$5=TRUE, IF($A$6=TRUE, IF($F$1=2, IF($H$1=2, Data!M4, NA()), NA()), NA()), NA())","v":1.2120446},{"$f":"IF($A$5 = TRUE, IF($A$6=TRUE, IF($F$1=2, IF($H$1=1, Data!N4, NA()), NA()),NA()), NA())","v":{"$error":"#N/A"}},{"$f":"IF($A$6=TRUE, IF($A$5= TRUE, IF($H$1=2, IF($F$1 = 1, Data!O4, NA()), NA()), NA()), NA())","v":{"$error":"#N/A"}},{"$f":"IF($A$6=TRUE, IF($A$5= TRUE, IF($H$1=2, IF($F$1 = 1, Data!P4, NA()), NA()), NA()), NA())","v":{"$error":"#N/A"}},{"$f":"IF($A$6 = TRUE, IF($A$5=TRUE, IF($H$1=1, IF($F$1 = 1, Data!Q4, NA()), NA()), NA()), NA())","v":{"$error":"#N/A"}},{"$f":"IF($A$6 = TRUE, IF($A$5=TRUE, IF($H$1=1, IF($F$1 = 1, Data!R4, NA()), NA()), NA()), NA())","v":{"$error":"#N/A"}},{"$f":"IF($A$5=TRUE, IF($A$6=TRUE, IF($F$1=1, IF($H$1=2, Data!S4, NA()), NA()), NA()), NA())","v":{"$error":"#N/A"}},{"$f":"IF($A$5 = TRUE, IF($A$6=TRUE, IF($F$1=1, IF($H$1=1, Data!T4, NA()), NA()),NA()), NA())","v":{"$error":"#N/A"}}]
[true,{"$f":"Data!B5","v":"Bioremediation"},{"$f":"Data!C5","v":"Soluble"},{"$f":"Data!E5","v":"Full"},{"$f":"Data!H5","v":"Fine-grained"},{"$f":"IF($A$6=TRUE, IF($A$5=TRUE, IF($H$1=2, IF($F$1 = 2, Data!I5, NA()), NA()), NA()), NA())","v":4.3999999999999997E-2},{"$f":"IF($A$6=TRUE, IF($A$5=TRUE, IF($H$1=2, IF($F$1 = 2, Data!J5, NA()), NA()), NA()), NA())","v":1E-3},{"$f":"IF($A$6=TRUE, IF($A$5=TRUE, IF($H$1=1, IF($F$1 = 2, Data!K5, NA()), NA()), NA()), NA())","v":{"$error":"#N/A"}},{"$f":"IF($A$6=TRUE, IF($A$5=TRUE, IF($H$1=1, IF($F$1 = 2, Data!L5, NA()), NA()), NA()), NA())","v":{"$error":"#N/A"}},{"$f":"IF($A$5=TRUE, IF($A$6=TRUE, IF($F$1=2, IF($H$1=2, Data!M5, NA()), NA()), NA()), NA())","v":1.6644227},{"$f":"IF($A$5 = TRUE, IF($A$6=TRUE, IF($F$1=2, IF($H$1=1, Data!N5, NA()), NA()),NA()), NA())","v":{"$error":"#N/A"}},{"$f":"IF($A$6=TRUE, IF($A$5= TRUE, IF($H$1=2, IF($F$1 = 1, Data!O5, NA()), NA()), NA()), NA())","v":{"$error":"#N/A"}},{"$f":"IF($A$6=TRUE, IF($A$5= TRUE, IF($H$1=2, IF($F$1 = 1, Data!P5, NA()), NA()), NA()), NA())","v":{"$error":"#N/A"}},{"$f":"IF($A$6 = TRUE, IF($A$5=TRUE, IF($H$1=1, IF($F$1 = 1, Data!Q5, NA()), NA()), NA()), NA())","v":{"$error":"#N/A"}},{"$f":"IF($A$6 = TRUE, IF($A$5=TRUE, IF($H$1=1, IF($F$1 = 1, Data!R5, NA()), NA()), NA()), NA())","v":{"$error":"#N/A"}},{"$f":"IF($A$5=TRUE, IF($A$6=TRUE, IF($F$1=1, IF($H$1=2, Data!S5, NA()), NA()), NA()), NA())","v":{"$error":"#N/A"}},{"$f":"IF($A$5 = TRUE, IF($A$6=TRUE, IF($F$1=1, IF($H$1=1, Data!T5, NA()), NA()),NA()), NA())","v":{"$error":"#N/A"}}]
[true,{"$f":"Data!B6","v":"Bioremediation"},{"$f":"Data!C6","v":"Soluble"},{"$f":"Data!E6","v":"Full"},{"$f":"Data!H6","v":"Fine-grained"},{"$f":"IF($A$6=TRUE, IF($A$5=TRUE, IF($H$1=2, IF($F$1 = 2, Data!I6, NA()), NA()), NA()), NA())","v":0.21},{"$f":"IF($A$6=TRUE, IF($A$5=TRUE, IF($H$1=2, IF($F$1 = 2, Data!J6, NA()), NA()), NA()), NA())","v":1E-3},{"$f":"IF($A$6=TRUE, IF($A$5=TRUE, IF($H$1=1, IF($F$1 = 2, Data!K6, NA()), NA()), NA()), NA())","v":{"$error":"#N/A"}},{"$f":"IF($A$6=TRUE, IF($A$5=TRUE, IF($H$1=1, IF($F$1 = 2, Data!L6, NA()), NA()), NA()), NA())","v":{"$error":"#N/A"}},{"$f":"IF($A$5=TRUE, IF($A$6=TRUE, IF($F$1=2, IF($H$1=2, Data!M6, NA()), NA()), NA()), NA())","v":2.3222193},{"$f":"IF($A$5 = TRUE, IF($A$6=TRUE, IF($F$1=2, IF($H$1=1, Data!N6, NA()), NA()),NA()), NA())","v":{"$error":"#N/A"}},{"$f":"IF($A$6=TRUE, IF($A$5= TRUE, IF($H$1=2, IF($F$1 = 1, Data!O6, NA()), NA()), NA()), NA())","v":{"$error":"#N/A"}},{"$f":"IF($A$6=TRUE, IF($A$5= TRUE, IF($H$1=2, IF($F$1 = 1, Data!P6, NA()), NA()), NA()), NA())","v":{"$error":"#N/A"}},{"$f":"IF($A$6 = TRUE, IF($A$5=TRUE, IF($H$1=1, IF($F$1 = 1, Data!Q6, NA()), NA()), NA()), NA())","v":{"$error":"#N/A"}},{"$f":"IF($A$6 = TRUE, IF($A$5=TRUE, IF($H$1=1, IF($F$1 = 1, Data!R6, NA()), NA()), NA()), NA())","v":{"$error":"#N/A"}},{"$f":"IF($A$5=TRUE, IF($A$6=TRUE, IF($F$1=1, IF($H$1=2, Data!S6, NA()), NA()), NA()), NA())","v":{"$error":"#N/A"}},{"$f":"IF($A$5 = TRUE, IF($A$6=TRUE, IF($F$1=1, IF($H$1=1, Data!T6, NA()), NA()),NA()), NA())","v":{"$error":"#N/A"}}]
[true,{"$f":"Data!B7","v":"Bioremediation"},{"$f":"Data!C7","v":"Soluble"},{"$f":"Data!E7","v":"Full"},{"$f":"Data!H7","v":"Fine-grained"},{"$f":"IF($A$6=TRUE, IF($A$5=TRUE, IF($H$1=2, IF($F$1 = 2, Data!I7, NA()), NA()), NA()), NA())","v":0.245},{"$f":"IF($A$6=TRUE, IF($A$5=TRUE, IF($H$1=2, IF($F$1 = 2, Data!J7, NA()), NA()), NA()), NA())","v":2.4953099999999999E-2},{"$f":"IF($A$6=TRUE, IF($A$5=TRUE, IF($H$1=1, IF($F$1 = 2, Data!K7, NA()), NA()), NA()), NA())","v":{"$error":"#N/A"}},{"$f":"IF($A$6=TRUE, IF($A$5=TRUE, IF($H$1=1, IF($F$1 = 2, Data!L7, NA()), NA()), NA()), NA())","v":{"$error":"#N/A"}},{"$f":"IF($A$5=TRUE, IF($A$6=TRUE, IF($F$1=2, IF($H$1=2, Data!M7, NA()), NA()), NA()), NA())","v":0.99204130000000001},{"$f":"IF($A$5 = TRUE, IF($A$6=TRUE, IF($F$1=2, IF($H$1=1, Data!N7, NA()), NA()),NA()), NA())","v":{"$error":"#N/A"}},{"$f":"IF($A$6=TRUE, IF($A$5= TRUE, IF($H$1=2, IF($F$1 = 1, Data!O7, NA()), NA()), NA()), NA())","v":{"$error":"#N/A"}},{"$f":"IF($A$6=TRUE, IF($A$5= TRUE, IF($H$1=2, IF($F$1 = 1, Data!P7, NA()), NA()), NA()), NA())","v":{"$error":"#N/A"}},{"$f":"IF($A$6 = TRUE, IF($A$5=TRUE, IF($H$1=1, IF($F$1 = 1, Data!Q7, NA()), NA()), NA()), NA())","v":{"$error":"#N/A"}},{"$f":"IF($A$6 = TRUE, IF($A$5=TRUE, IF($H$1=1, IF($F$1 = 1, Data!R7, NA()), NA()), NA()), NA())","v":{"$error":"#N/A"}},{"$f":"IF($A$5=TRUE, IF($A$6=TRUE, IF($F$1=1, IF($H$1=2, Data!S7, NA()), NA()), NA()), NA())","v":{"$error":"#N/A"}},{"$f":"IF($A$5 = TRUE, IF($A$6=TRUE, IF($F$1=1, IF($H$1=1, Data!T7, NA()), NA()),NA()), NA())","v":{"$error":"#N/A"}}]
[null,{"$f":"Data!B8","v":"Bioremediation"},{"$f":"Data!C8","v":"Soluble"},{"$f":"Data!E8","v":"Full"},{"$f":"Data!H8","v":"Fine-grained"},{"$f":"IF($A$7=TRUE, IF($A$5=TRUE, IF($H$1=2, IF($F$1 = 2, Data!I8, NA()), NA()), NA()), NA())","v":3.34},{"$f":"IF($A$7=TRUE, IF($A$5=TRUE, IF($H$1=2, IF($F$1 = 2, Data!J8, NA()), NA()), NA()), NA())","v":1E-3},{"$f":"IF($A$7=TRUE, IF($A$5=TRUE, IF($H$1=1, IF($F$1 = 2, Data!K8, NA()), NA()), NA()), NA())","v":{"$error":"#N/A"}},{"$f":"IF($A$7=TRUE, IF($A$5=TRUE, IF($H$1=1, IF($F$1 = 2, Data!L8, NA()), NA()), NA()), NA())","v":{"$error":"#N/A"}},{"$f":"IF($A$5=TRUE, IF($A$6=TRUE, IF($F$1=2, IF($H$1=2, Data!M8, NA()), NA()), NA()), NA())","v":3.5237465000000001},{"$f":"IF($A$5 = TRUE, IF($A$6=TRUE, IF($F$1=2, IF($H$1=1, Data!N8, NA()), NA()),NA()), NA())","v":{"$error":"#N/A"}},{"$f":"IF($A$7=TRUE, IF($A$5= TRUE, IF($H$1=2, IF($F$1 = 1, Data!O8, NA()), NA()), NA()), NA())","v":{"$error":"#N/A"}},{"$f":"IF($A$6=TRUE, IF($A$5= TRUE, IF($H$1=2, IF($F$1 = 1, Data!P8, NA()), NA()), NA()), NA())","v":{"$error":"#N/A"}},{"$f":"IF($A$6 = TRUE, IF($A$5=TRUE, IF($H$1=1, IF($F$1 = 1, Data!Q8, NA()), NA()), NA()), NA())","v":{"$error":"#N/A"}},{"$f":"IF($A$6 = TRUE, IF($A$5=TRUE, IF($H$1=1, IF($F$1 = 1, Data!R8, NA()), NA()), NA()), NA())","v":{"$error":"#N/A"}},{"$f":"IF($A$5=TRUE, IF($A$6=TRUE, IF($F$1=1, IF($H$1=2, Data!S8, NA()), NA()), NA()), NA())","v":{"$error":"#N/A"}},{"$f":"IF($A$5 = TRUE, IF($A$6=TRUE, IF($F$1=1, IF($H$1=1, Data!T8, NA()), NA()),NA()), NA())","v":{"$error":"#N/A"}}]
[null,{"$f":"Data!B9","v":"Bioremediation"},{"$f":"Data!C9","v":"Semi-Soluble / Slow-Release"},{"$f":"Data!E9","v":"Full"},{"$f":"Data!H9","v":"Fine-grained"},{"$f":"IF($A$6=TRUE, IF($A$5=TRUE, IF($H$1=2, IF($F$1 = 2, Data!I9, NA()), NA()), NA()), NA())","v":0.2389328},{"$f":"IF($A$6=TRUE, IF($A$5=TRUE, IF($H$1=2, IF($F$1 = 2, Data!J9, NA()), NA()), NA()), NA())","v":6.3553799999999994E-2},{"$f":"IF($A$6=TRUE, IF($A$5=TRUE, IF($H$1=1, IF($F$1 = 2, Data!K9, NA()), NA()), NA()), NA())","v":{"$error":"#N/A"}},{"$f":"IF($A$6=TRUE, IF($A$5=TRUE, IF($H$1=1, IF($F$1 = 2, Data!L9, NA()), NA()), NA()), NA())","v":{"$error":"#N/A"}},{"$f":"IF($A$5=TRUE, IF($A$7=TRUE, IF($F$1=2, IF($H$1=2, Data!M9, NA()), NA()), NA()), NA())","v":0.57513409999999998},{"$f":"IF($A$5 = TRUE, IF($A$7=TRUE, IF($F$1=2, IF($H$1=1, Data!N9, NA()), NA()),NA()), NA())","v":{"$error":"#N/A"}},{"$f":"IF($A$6=TRUE, IF($A$5= TRUE, IF($H$1=2, IF($F$1 = 1, Data!O9, NA()), NA()), NA()), NA())","v":{"$error":"#N/A"}},{"$f":"IF($A$6=TRUE, IF($A$5= TRUE, IF($H$1=2, IF($F$1 = 1, Data!P9, NA()), NA()), NA()), NA())","v":{"$error":"#N/A"}},{"$f":"IF($A$7 = TRUE, IF($A$5=TRUE, IF($H$1=1, IF($F$1 = 1, Data!Q9, NA()), NA()), NA()), NA())","v":{"$error":"#N/A"}},{"$f":"IF($A$7 = TRUE, IF($A$5=TRUE, IF($H$1=1, IF($F$1 = 1, Data!R9, NA()), NA()), NA()), NA())","v":{"$error":"#N/A"}},{"$f":"IF($A$5=TRUE, IF($A$7=TRUE, IF($F$1=1, IF($H$1=2, Data!S9, NA()), NA()), NA()), NA())","v":{"$error":"#N/A"}},{"$f":"IF($A$5 = TRUE, IF($A$7=TRUE, IF($F$1=1, IF($H$1=1, Data!T9, NA()), NA()),NA()), NA())","v":{"$error":"#N/A"}}]
[null,{"$f":"Data!B10","v":"Bioremediation"},{"$f":"Data!C10","v":"Soluble"},{"$f":"Data!E10","v":"Full"},{"$f":"Data!H10","v":"Fine-grained"},{"$f":"IF($A$6=TRUE, IF($A$5=TRUE, IF($H$1=2, IF($F$1 = 2, Data!I10, NA()), NA()), NA()), NA())","v":0.21},{"$f":"IF($A$6=TRUE, IF($A$5=TRUE, IF($H$1=2, IF($F$1 = 2, Data!J10, NA()), NA()), NA()), NA())","v":1.7080999999999999E-3},{"$f":"IF($A$6=TRUE, IF($A$5=TRUE, IF($H$1=1, IF($F$1 = 2, Data!K10, NA()), NA()), NA()), NA())","v":{"$error":"#N/A"}},{"$f":"IF($A$6=TRUE, IF($A$5=TRUE, IF($H$1=1, IF($F$1 = 2, Data!L10, NA()), NA()), NA()), NA())","v":{"$error":"#N/A"}},{"$f":"IF($A$5=TRUE, IF($A$6=TRUE, IF($F$1=2, IF($H$1=2, Data!M10, NA()), NA()), NA()), NA())","v":2.0896940000000002},{"$f":"IF($A$5 = TRUE, IF($A$6=TRUE, IF($F$1=2, IF($H$1=1, Data!N10, NA()), NA()),NA()), NA())","v":{"$error":"#N/A"}},{"$f":"IF($A$6=TRUE, IF($A$5= TRUE, IF($H$1=2, IF($F$1 = 1, Data!O10, NA()), NA()), NA()), NA())","v":{"$error":"#N/A"}},{"$f":"IF($A$6=TRUE, IF($A$5= TRUE, IF($H$1=2, IF($F$1 = 1, Data!P10, NA()), NA()), NA()), NA())","v":{"$error":"#N/A"}},{"$f":"IF($A$6 = TRUE, IF($A$5=TRUE, IF($H$1=1, IF($F$1 = 1, Data!Q10, NA()), NA()), NA()), NA())","v":{"$error":"#N/A"}},{"$f":"IF($A$6 = TRUE, IF($A$5=TRUE, IF($H$1=1, IF($F$1 = 1, Data!R10, NA()), NA()), NA()), NA())","v":{"$error":"#N/A"}},{"$f":"IF($A$5=TRUE, IF($A$6=TRUE, IF($F$1=1, IF($H$1=2, Data!S10, NA()), NA()), NA()), NA())","v":{"$error":"#N/A"}},{"$f":"IF($A$5 = TRUE, IF($A$6=TRUE, IF($F$1=1, IF($H$1=1, Data!T10, NA()), NA()),NA()), NA())","v":{"$error":"#N/A"}}]
[null,{"$f":"Data!B11","v":"Bioremediation"},{"$f":"Data!C11","v":"Soluble & Semi-Soluble"},{"$f":"Data!E11","v":"Full"},{"$f":"Data!H11","v":"Fine-grained"},{"$f":"IF($A$8=TRUE, IF($A$5=TRUE, IF($H$1=2, IF($F$1 = 2, Data!I11, NA()), NA()), NA()), NA())","v":9.65},{"$f":"IF($A$8=TRUE, IF($A$5=TRUE, IF($H$1=2, IF($F$1 = 2, Data!J11, NA()), NA()), NA()), NA())","v":1.084797},{"$f":"IF($A$8=TRUE, IF($A$5=TRUE, IF($H$1=1, IF($F$1 = 2, Data!K11, NA()), NA()), NA()), NA())","v":{"$error":"#N/A"}},{"$f":"IF($A$8=TRUE, IF($A$5=TRUE, IF($H$1=1, IF($F$1 = 2, Data!L11, NA()), NA()), NA()), NA())","v":{"$error":"#N/A"}},{"$f":"IF($A$5=TRUE, IF($A$8=TRUE, IF($F$1=2, IF($H$1=2, Data!M11, NA()), NA()), NA()), NA())","v":0.94917879999999999},{"$f":"IF($A$5 = TRUE, IF($A$8=TRUE, IF($F$1=2, IF($H$1=1, Data!N11, NA()), NA()),NA()), NA())","v":{"$error":"#N/A"}},{"$f":"IF($A$8=TRUE, IF($A$5= TRUE, IF($H$1=2, IF($F$1 = 1, Data!O11, NA()), NA()), NA()), NA())","v":{"$error":"#N/A"}},{"$f":"IF($A$8=TRUE, IF($A$5= TRUE, IF($H$1=2, IF($F$1 = 1, Data!P11, NA()), NA()), NA()), NA())","v":{"$error":"#N/A"}},{"$f":"IF($A$8 = TRUE, IF($A$5=TRUE, IF($H$1=1, IF($F$1 = 1, Data!Q11, NA()), NA()), NA()), NA())","v":{"$error":"#N/A"}},{"$f":"IF($A$8 = TRUE, IF($A$5=TRUE, IF($H$1=1, IF($F$1 = 1, Data!R11, NA()), NA()), NA()), NA())","v":{"$error":"#N/A"}},{"$f":"IF($A$5=TRUE, IF($A$8=TRUE, IF($F$1=1, IF($H$1=2, Data!S11, NA()), NA()), NA()), NA())","v":{"$error":"#N/A"}},{"$f":"IF($A$5 = TRUE, IF($A$8=TRUE, IF($F$1=1, IF($H$1=1, Data!T11, NA()), NA()),NA()), NA())","v":{"$error":"#N/A"}}]
[null,{"$f":"Data!B12","v":"Bioremediation"},{"$f":"Data!C12","v":"Semi-Soluble / Slow-Release"},{"$f":"Data!E12","v":"Full"},{"$f":"Data!H12","v":"Fine-grained"},{"$f":"IF($A$7=TRUE, IF($A$5=TRUE, IF($H$1=2, IF($F$1 = 2, Data!I12, NA()), NA()), NA()), NA())","v":10.5889373},{"$f":"IF($A$7=TRUE, IF($A$5=TRUE, IF($H$1=2, IF($F$1 = 2, Data!J12, NA()), NA()), NA()), NA())","v":0.22917390000000001},{"$f":"IF($A$7=TRUE, IF($A$5=TRUE, IF($H$1=1, IF($F$1 = 2, Data!K12, NA()), NA()), NA()), NA())","v":{"$error":"#N/A"}},{"$f":"IF($A$7=TRUE, IF($A$5=TRUE, IF($H$1=1, IF($F$1 = 2, Data!L12, NA()), NA()), NA()), NA())","v":{"$error":"#N/A"}},{"$f":"IF($A$5=TRUE, IF($A$7=TRUE, IF($F$1=2, IF($H$1=2, Data!M12, NA()), NA()), NA()), NA())","v":1.6646873},{"$f":"IF($A$5 = TRUE, IF($A$7=TRUE, IF($F$1=2, IF($H$1=1, Data!N12, NA()), NA()),NA()), NA())","v":{"$error":"#N/A"}},{"$f":"IF($A$7=TRUE, IF($A$5= TRUE, IF($H$1=2, IF($F$1 = 1, Data!O12, NA()), NA()), NA()), NA())","v":{"$error":"#N/A"}},{"$f":"IF($A$7=TRUE, IF($A$5= TRUE, IF($H$1=2, IF($F$1 = 1, Data!P12, NA()), NA()), NA()), NA())","v":{"$error":"#N/A"}},{"$f":"IF($A$7 = TRUE, IF($A$5=TRUE, IF($H$1=1, IF($F$1 = 1, Data!Q12, NA()), NA()), NA()), NA())","v":{"$error":"#N/A"}},{"$f":"IF($A$7 = TRUE, IF($A$5=TRUE, IF($H$1=1, IF($F$1 = 1, Data!R12, NA()), NA()), NA()), NA())","v":{"$error":"#N/A"}},{"$f":"IF($A$5=TRUE, IF($A$7=TRUE, IF($F$1=1, IF($H$1=2, Data!S12, NA()), NA()), NA()), NA())","v":{"$error":"#N/A"}},{"$f":"IF($A$5 = TRUE, IF($A$7=TRUE, IF($F$1=1, IF($H$1=1, Data!T12, NA()), NA()),NA()), NA())","v":{"$error":"#N/A"}}]
[null,{"$f":"Data!B13","v":"Bioremediation"},{"$f":"Data!C13","v":"Semi-Soluble / Slow-Release"},{"$f":"Data!E13","v":"Full"},{"$f":"Data!H13","v":"Fractured Rock"},{"$f":"IF($A$7=TRUE, IF($A$5=TRUE, IF($H$1=2, IF($F$1 = 2, Data!I13, NA()), NA()), NA()), NA())","v":44.1},{"$f":"IF($A$7=TRUE, IF($A$5=TRUE, IF($H$1=2, IF($F$1 = 2, Data!J13, NA()), NA()), NA()), NA())","v":0.29028989999999999},{"$f":"IF($A$7=TRUE, IF($A$5=TRUE, IF($H$1=1, IF($F$1 = 2, Data!K13, NA()), NA()), NA()), NA())","v":{"$error":"#N/A"}},{"$f":"IF($A$7=TRUE, IF($A$5=TRUE, IF($H$1=1, IF($F$1 = 2, Data!L13, NA()), NA()), NA()), NA())","v":{"$error":"#N/A"}},{"$f":"IF($A$5=TRUE, IF($A$7=TRUE, IF($F$1=2, IF($H$1=2, Data!M13, NA()), NA()), NA()), NA())","v":2.1816065999999998},{"$f":"IF($A$5 = TRUE, IF($A$7=TRUE, IF($F$1=2, IF($H$1=1, Data!N13, NA()), NA()),NA()), NA())","v":{"$error":"#N/A"}},{"$f":"IF($A$7=TRUE, IF($A$5= TRUE, IF($H$1=2, IF($F$1 = 1, Data!O13, NA()), NA()), NA()), NA())","v":{"$error":"#N/A"}},{"$f":"IF($A$7=TRUE, IF($A$5= TRUE, IF($H$1=2, IF($F$1 = 1, Data!P13, NA()), NA()), NA()), NA())","v":{"$error":"#N/A"}},{"$f":"IF($A$7 = TRUE, IF($A$5=TRUE, IF($H$1=1, IF($F$1 = 1, Data!Q13, NA()), NA()), NA()), NA())","v":{"$error":"#N/A"}},{"$f":"IF($A$7 = TRUE, IF($A$5=TRUE, IF($H$1=1, IF($F$1 = 1, Data!R13, NA()), NA()), NA()), NA())","v":{"$error":"#N/A"}},{"$f":"IF($A$5=TRUE, IF($A$7=TRUE, IF($F$1=1, IF($H$1=2, Data!S13, NA()), NA()), NA()), NA())","v":{"$error":"#N/A"}},{"$f":"IF($A$5 = TRUE, IF($A$7=TRUE, IF($F$1=1, IF($H$1=1, Data!T13, NA()), NA()),NA()), NA())","v":{"$error":"#N/A"}}]
[null,{"$f":"Data!B14","v":"Bioremediation"},{"$f":"Data!C14","v":"Semi-Soluble / Slow-Release"},{"$f":"Data!E14","v":"Full"},{"$f":"Data!H14","v":"Fine-grained"},{"$f":"IF($A$7=TRUE, IF($A$5=TRUE, IF($H$1=2, IF($F$1 = 2, Data!I14, NA()), NA()), NA()), NA())","v":53.333231900000001},{"$f":"IF($A$7=TRUE, IF($A$5=TRUE, IF($H$1=2, IF($F$1 = 2, Data!J14, NA()), NA()), NA()), NA())","v":2.9370799999999999E-2},{"$f":"IF($A$7=TRUE, IF($A$5=TRUE, IF($H$1=1, IF($F$1 = 2, Data!K14, NA()), NA()), NA()), NA())","v":{"$error":"#N/A"}},{"$f":"IF($A$7=TRUE, IF($A$5=TRUE, IF($H$1=1, IF($F$1 = 2, Data!L14, NA()), NA()), NA()), NA())","v":{"$error":"#N/A"}},{"$f":"IF($A$5=TRUE, IF($A$7=TRUE, IF($F$1=2, IF($H$1=2, Data!M14, NA()), NA()), NA()), NA())","v":3.2590827},{"$f":"IF($A$5 = TRUE, IF($A$7=TRUE, IF($F$1=2, IF($H$1=1, Data!N14, NA()), NA()),NA()), NA())","v":{"$error":"#N/A"}},{"$f":"IF($A$7=TRUE, IF($A$5= TRUE, IF($H$1=2, IF($F$1 = 1, Data!O14, NA()), NA()), NA()), NA())","v":{"$error":"#N/A"}},{"$f":"IF($A$7=TRUE, IF($A$5= TRUE, IF($H$1=2, IF($F$1 = 1, Data!P14, NA()), NA()), NA()), NA())","v":{"$error":"#N/A"}},{"$f":"IF($A$7 = TRUE, IF($A$5=TRUE, IF($H$1=1, IF($F$1 = 1, Data!Q14, NA()), NA()), NA()), NA())","v":{"$error":"#N/A"}},{"$f":"IF($A$7 = TRUE, IF($A$5=TRUE, IF($H$1=1, IF($F$1 = 1, Data!R14, NA()), NA()), NA()), NA())","v":{"$error":"#N/A"}},{"$f":"IF($A$5=TRUE, IF($A$7=TRUE, IF($F$1=1, IF($H$1=2, Data!S14, NA()), NA()), NA()), NA())","v":{"$error":"#N/A"}},{"$f":"IF($A$5 = TRUE, IF($A$7=TRUE, IF($F$1=1, IF($H$1=1, Data!T14, NA()), NA()),NA()), NA())","v":{"$error":"#N/A"}}]
[null,{"$f":"Data!B15","v":"Bioremediation"},{"$f":"Data!C15","v":"Soluble"},{"$f":"Data!E15","v":"Full"},{"$f":"Data!H15","v":"Fine-grained"},{"$f":"IF($A$6=TRUE, IF($A$5=TRUE, IF($H$1=2, IF($F$1 = 2, Data!I15, NA()), NA()), NA()), NA())","v":0.57535559999999997},{"$f":"IF($A$6=TRUE, IF($A$5=TRUE, IF($H$1=2, IF($F$1 = 2, Data!J15, NA()), NA()), NA()), NA())","v":1E-3},{"$f":"IF($A$6=TRUE, IF($A$5=TRUE, IF($H$1=1, IF($F$1 = 2, Data!K15, NA()), NA()), NA()), NA())","v":{"$error":"#N/A"}},{"$f":"IF($A$6=TRUE, IF($A$5=TRUE, IF($H$1=1, IF($F$1 = 2, Data!L15, NA()), NA()), NA()), NA())","v":{"$error":"#N/A"}},{"$f":"IF($A$5=TRUE, IF($A$6=TRUE, IF($F$1=2, IF($H$1=2, Data!M15, NA()), NA()), NA()), NA())","v":3.0609663},{"$f":"IF($A$5 = TRUE, IF($A$6=TRUE, IF($F$1=2, IF($H$1=1, Data!N15, NA()), NA()),NA()), NA())","v":{"$error":"#N/A"}},{"$f":"IF($A$6=TRUE, IF($A$5= TRUE, IF($H$1=2, IF($F$1 = 1, Data!O15, NA()), NA()), NA()), NA())","v":{"$error":"#N/A"}},{"$f":"IF($A$6=TRUE, IF($A$5= TRUE, IF($H$1=2, IF($F$1 = 1, Data!P15, NA()), NA()), NA()), NA())","v":{"$error":"#N/A"}},{"$f":"IF($A$6 = TRUE, IF($A$5=TRUE, IF($H$1=1, IF($F$1 = 1, Data!Q15, NA()), NA()), NA()), NA())","v":{"$error":"#N/A"}},{"$f":"IF($A$6 = TRUE, IF($A$5=TRUE, IF($H$1=1, IF($F$1 = 1, Data!R15, NA()), NA()), NA()), NA())","v":{"$error":"#N/A"}},{"$f":"IF($A$5=TRUE, IF($A$6=TRUE, IF($F$1=1, IF($H$1=2, Data!S15, NA()), NA()), NA()), NA())","v":{"$error":"#N/A"}},{"$f":"IF($A$5 = TRUE, IF($A$6=TRUE, IF($F$1=1, IF($H$1=1, Data!T15, NA()), NA()),NA()), NA())","v":{"$error":"#N/A"}}]
[null,{"$f":"Data!B16","v":"Bioremediation"},{"$f":"Data!C16","v":"Semi-Soluble / Slow-Release"},{"$f":"Data!E16","v":"Full"},{"$f":"Data!H16","v":"Fine-grained"},{"$f":"IF($A$7=TRUE, IF($A$5=TRUE, IF($H$1=2, IF($F$1 = 2, Data!I16, NA()), NA()), NA()), NA())","v":0.68184049999999996},{"$f":"IF($A$7=TRUE, IF($A$5=TRUE, IF($H$1=2, IF($F$1 = 2, Data!J16, NA()), NA()), NA()), NA())","v":1E-3},{"$f":"IF($A$7=TRUE, IF($A$5=TRUE, IF($H$1=1, IF($F$1 = 2, Data!K16, NA()), NA()), NA()), NA())","v":{"$error":"#N/A"}},{"$f":"IF($A$7=TRUE, IF($A$5=TRUE, IF($H$1=1, IF($F$1 = 2, Data!L16, NA()), NA()), NA()), NA())","v":{"$error":"#N/A"}},{"$f":"IF($A$5=TRUE, IF($A$7=TRUE, IF($F$1=2, IF($H$1=2, Data!M16, NA()), NA()), NA()), NA())","v":2.8607026000000002},{"$f":"IF($A$5 = TRUE, IF($A$7=TRUE, IF($F$1=2, IF($H$1=1, Data!N16, NA()), NA()),NA()), NA())","v":{"$error":"#N/A"}},{"$f":"IF($A$7=TRUE, IF($A$5= TRUE, IF($H$1=2, IF($F$1 = 1, Data!O16, NA()), NA()), NA()), NA())","v":{"$error":"#N/A"}},{"$f":"IF($A$7=TRUE, IF($A$5= TRUE, IF($H$1=2, IF($F$1 = 1, Data!P16, NA()), NA()), NA()), NA())","v":{"$error":"#N/A"}},{"$f":"IF($A$7 = TRUE, IF($A$5=TRUE, IF($H$1=1, IF($F$1 = 1, Data!Q16, NA()), NA()), NA()), NA())","v":{"$error":"#N/A"}},{"$f":"IF($A$7 = TRUE, IF($A$5=TRUE, IF($H$1=1, IF($F$1 = 1, Data!R16, NA()), NA()), NA()), NA())","v":{"$error":"#N/A"}},{"$f":"IF($A$5=TRUE, IF($A$7=TRUE, IF($F$1=1, IF($H$1=2, Data!S16, NA()), NA()), NA()), NA())","v":{"$error":"#N/A"}},{"$f":"IF($A$5 = TRUE, IF($A$7=TRUE, IF($F$1=1, IF($H$1=1, Data!T16, NA()), NA()),NA()), NA())","v":{"$error":"#N/A"}}]
[null,{"$f":"Data!B17","v":"Bioremediation"},{"$f":"Data!C17","v":"Semi-Soluble / Slow-Release"},{"$f":"Data!E17","v":"Full"},{"$f":"Data!H17","v":"Fine-grained"},{"$f":"IF($A$7=TRUE, IF($A$5=TRUE, IF($H$1=2, IF($F$1 = 2, Data!I17, NA()), NA()), NA()), NA())","v":2.9505325999999998},{"$f":"IF($A$7=TRUE, IF($A$5=TRUE, IF($H$1=2, IF($F$1 = 2, Data!J17, NA()), NA()), NA()), NA())","v":4.24929E-2},{"$f":"IF($A$7=TRUE, IF($A$5=TRUE, IF($H$1=1, IF($F$1 = 2, Data!K17, NA()), NA()), NA()), NA())","v":{"$error":"#N/A"}},{"$f":"IF($A$7=TRUE, IF($A$5=TRUE, IF($H$1=1, IF($F$1 = 2, Data!L17, NA()), NA()), NA()), NA())","v":{"$error":"#N/A"}},{"$f":"IF($A$5=TRUE, IF($A$7=TRUE, IF($F$1=2, IF($H$1=2, Data!M17, NA()), NA()), NA()), NA())","v":1.8415839000000001},{"$f":"IF($A$5 = TRUE, IF($A$7=TRUE, IF($F$1=2, IF($H$1=1, Data!N17, NA()), NA()),NA()), NA())","v":{"$error":"#N/A"}},{"$f":"IF($A$7=TRUE, IF($A$5= TRUE, IF($H$1=2, IF($F$1 = 1, Data!O17, NA()), NA()), NA()), NA())","v":{"$error":"#N/A"}},{"$f":"IF($A$7=TRUE, IF($A$5= TRUE, IF($H$1=2, IF($F$1 = 1, Data!P17, NA()), NA()), NA()), NA())","v":{"$error":"#N/A"}},{"$f":"IF($A$7 = TRUE, IF($A$5=TRUE, IF($H$1=1, IF($F$1 = 1, Data!Q17, NA()), NA()), NA()), NA())","v":{"$error":"#N/A"}},{"$f":"IF($A$7 = TRUE, IF($A$5=TRUE, IF($H$1=1, IF($F$1 = 1, Data!R17, NA()), NA()), NA()), NA())","v":{"$error":"#N/A"}},{"$f":"IF($A$5=TRUE, IF($A$7=TRUE, IF($F$1=1, IF($H$1=2, Data!S17, NA()), NA()), NA()), NA())","v":{"$error":"#N/A"}},{"$f":"IF($A$5 = TRUE, IF($A$7=TRUE, IF($F$1=1, IF($H$1=1, Data!T17, NA()), NA()),NA()), NA())","v":{"$error":"#N/A"}}]
[null,{"$f":"Data!B24","v":"Bioremediation"},{"$f":"Data!C18","v":"Semi-Soluble / Slow-Release"},{"$f":"Data!E18","v":"Pilot"},{"$f":"Data!H18","v":"Fine-grained"},{"$f":"IF($A$7=TRUE, IF($A$5=TRUE, IF($H$1=2, IF($F$1 = 2, Data!I18, NA()), NA()), NA()), NA())","v":1.1627046999999999},{"$f":"IF($A$7=TRUE, IF($A$5=TRUE, IF($H$1=2, IF($F$1 = 2, Data!J18, NA()), NA()), NA()), NA())","v":1E-3},{"$f":"IF($A$7=TRUE, IF($A$5=TRUE, IF($H$1=1, IF($F$1 = 2, Data!K18, NA()), NA()), NA()), NA())","v":{"$error":"#N/A"}},{"$f":"IF($A$7=TRUE, IF($A$5=TRUE, IF($H$1=1, IF($F$1 = 2, Data!L18, NA()), NA()), NA()), NA())","v":{"$error":"#N/A"}},{"$f":"IF($A$5=TRUE, IF($A$7=TRUE, IF($F$1=2, IF($H$1=2, Data!M18, NA()), NA()), NA()), NA())","v":3.2489826000000002},{"$f":"IF($A$5 = TRUE, IF($A$7=TRUE, IF($F$1=2, IF($H$1=1, Data!N18, NA()), NA()),NA()), NA())","v":{"$error":"#N/A"}},{"$f":"IF($A$7=TRUE, IF($A$5= TRUE, IF($H$1=2, IF($F$1 = 1, Data!O18, NA()), NA()), NA()), NA())","v":{"$error":"#N/A"}},{"$f":"IF($A$7=TRUE, IF($A$5= TRUE, IF($H$1=2, IF($F$1 = 1, Data!P18, NA()), NA()), NA()), NA())","v":{"$error":"#N/A"}},{"$f":"IF($A$7 = TRUE, IF($A$5=TRUE, IF($H$1=1, IF($F$1 = 1, Data!Q18, NA()), NA()), NA()), NA())","v":{"$error":"#N/A"}},{"$f":"IF($A$7 = TRUE, IF($A$5=TRUE, IF($H$1=1, IF($F$1 = 1, Data!R18, NA()), NA()), NA()), NA())","v":{"$error":"#N/A"}},{"$f":"IF($A$5=TRUE, IF($A$7=TRUE, IF($F$1=1, IF($H$1=2, Data!S18, NA()), NA()), NA()), NA())","v":{"$error":"#N/A"}},{"$f":"IF($A$5 = TRUE, IF($A$7=TRUE, IF($F$1=1, IF($H$1=1, Data!T18, NA()), NA()),NA()), NA())","v":{"$error":"#N/A"}}]
[null,{"$f":"Data!B25","v":"Bioremediation"},{"$f":"Data!C19","v":"Soluble"},{"$f":"Data!E19","v":"Pilot"},{"$f":"Data!H19","v":"Coarse-grained"},{"$f":"IF($A$6=TRUE, IF($A$5=TRUE, IF($H$1=2, IF($F$1 = 2, Data!I19, NA()), NA()), NA()), NA())","v":0.44519540000000002},{"$f":"IF($A$6=TRUE, IF($A$5=TRUE, IF($H$1=2, IF($F$1 = 2, Data!J19, NA()), NA()), NA()), NA())","v":3.5914099999999997E-2},{"$f":"IF($A$6=TRUE, IF($A$5=TRUE, IF($H$1=1, IF($F$1 = 2, Data!K19, NA()), NA()), NA()), NA())","v":{"$error":"#N/A"}},{"$f":"IF($A$6=TRUE, IF($A$5=TRUE, IF($H$1=1, IF($F$1 = 2, Data!L19, NA()), NA()), NA()), NA())","v":{"$error":"#N/A"}},{"$f":"IF($A$5=TRUE, IF($A$6=TRUE, IF($F$1=2, IF($H$1=2, Data!M19, NA()), NA()), NA()), NA())","v":1.0932861},{"$f":"IF($A$5 = TRUE, IF($A$6=TRUE, IF($F$1=2, IF($H$1=1, Data!N19, NA()), NA()),NA()), NA())","v":{"$error":"#N/A"}},{"$f":"IF($A$6=TRUE, IF($A$5= TRUE, IF($H$1=2, IF($F$1 = 1, Data!O19, NA()), NA()), NA()), NA())","v":{"$error":"#N/A"}},{"$f":"IF($A$6=TRUE, IF($A$5= TRUE, IF($H$1=2, IF($F$1 = 1, Data!P19, NA()), NA()), NA()), NA())","v":{"$error":"#N/A"}},{"$f":"IF($A$6 = TRUE, IF($A$5=TRUE, IF($H$1=1, IF($F$1 = 1, Data!Q19, NA()), NA()), NA()), NA())","v":{"$error":"#N/A"}},{"$f":"IF($A$6 = TRUE, IF($A$5=TRUE, IF($H$1=1, IF($F$1 = 1, Data!R19, NA()), NA()), NA()), NA())","v":{"$error":"#N/A"}},{"$f":"IF($A$5=TRUE, IF($A$6=TRUE, IF($F$1=1, IF($H$1=2, Data!S19, NA()), NA()), NA()), NA())","v":{"$error":"#N/A"}},{"$f":"IF($A$5 = TRUE, IF($A$6=TRUE, IF($F$1=1, IF($H$1=1, Data!T19, NA()), NA()),NA()), NA())","v":{"$error":"#N/A"}}]
[null,{"$f":"Data!B26","v":"Bioremediation"},{"$f":"Data!C20","v":"Soluble"},{"$f":"Data!E20","v":"Pilot"},{"$f":"Data!H20","v":"Fine-grained"},{"$f":"IF($A$6=TRUE, IF($A$5=TRUE, IF($H$1=2, IF($F$1 = 2, Data!I20, NA()), NA()), NA()), NA())","v":55.828308200000002},{"$f":"IF($A$6=TRUE, IF($A$5=TRUE, IF($H$1=2, IF($F$1 = 2, Data!J20, NA()), NA()), NA()), NA())","v":18.013968599999998},{"$f":"IF($A$6=TRUE, IF($A$5=TRUE, IF($H$1=1, IF($F$1 = 2, Data!K20, NA()), NA()), NA()), NA())","v":{"$error":"#N/A"}},{"$f":"IF($A$6=TRUE, IF($A$5=TRUE, IF($H$1=1, IF($F$1 = 2, Data!L20, NA()), NA()), NA()), NA())","v":{"$error":"#N/A"}},{"$f":"IF($A$5=TRUE, IF($A$6=TRUE, IF($F$1=2, IF($H$1=2, Data!M20, NA()), NA()), NA()), NA())","v":0.49124509999999999},{"$f":"IF($A$5 = TRUE, IF($A$6=TRUE, IF($F$1=2, IF($H$1=1, Data!N20, NA()), NA()),NA()), NA())","v":{"$error":"#N/A"}},{"$f":"IF($A$6=TRUE, IF($A$5= TRUE, IF($H$1=2, IF($F$1 = 1, Data!O20, NA()), NA()), NA()), NA())","v":{"$error":"#N/A"}},{"$f":"IF($A$6=TRUE, IF($A$5= TRUE, IF($H$1=2, IF($F$1 = 1, Data!P20, NA()), NA()), NA()), NA())","v":{"$error":"#N/A"}},{"$f":"IF($A$6 = TRUE, IF($A$5=TRUE, IF($H$1=1, IF($F$1 = 1, Data!Q20, NA()), NA()), NA()), NA())","v":{"$error":"#N/A"}},{"$f":"IF($A$6 = TRUE, IF($A$5=TRUE, IF($H$1=1, IF($F$1 = 1, Data!R20, NA()), NA()), NA()), NA())","v":{"$error":"#N/A"}},{"$f":"IF($A$5=TRUE, IF($A$6=TRUE, IF($F$1=1, IF($H$1=2, Data!S20, NA()), NA()), NA()), NA())","v":{"$error":"#N/A"}},{"$f":"IF($A$5 = TRUE, IF($A$6=TRUE, IF($F$1=1, IF($H$1=1, Data!T20, NA()), NA()),NA()), NA())","v":{"$error":"#N/A"}}]
[null,{"$f":"Data!B30","v":"Bioremediation"},{"$f":"Data!C21","v":"Soluble"},{"$f":"Data!E21","v":"Pilot"},{"$f":"Data!H21","v":"Fine-grained"},{"$f":"IF($A$6=TRUE, IF($A$5=TRUE, IF($H$1=2, IF($F$1 = 2, Data!I21, NA()), NA()), NA()), NA())","v":1.8289599999999999},{"$f":"IF($A$6=TRUE, IF($A$5=TRUE, IF($H$1=2, IF($F$1 = 2, Data!J21, NA()), NA()), NA()), NA())","v":1.2019641999999999},{"$f":"IF($A$6=TRUE, IF($A$5=TRUE, IF($H$1=1, IF($F$1 = 2, Data!K21, NA()), NA()), NA()), NA())","v":{"$error":"#N/A"}},{"$f":"IF($A$6=TRUE, IF($A$5=TRUE, IF($H$1=1, IF($F$1 = 2, Data!L21, NA()), NA()), NA()), NA())","v":{"$error":"#N/A"}},{"$f":"IF($A$5=TRUE, IF($A$6=TRUE, IF($F$1=2, IF($H$1=2, Data!M21, NA()), NA()), NA()), NA())","v":0.18231269999999999},{"$f":"IF($A$5 = TRUE, IF($A$6=TRUE, IF($F$1=2, IF($H$1=1, Data!N21, NA()), NA()),NA()), NA())","v":{"$error":"#N/A"}},{"$f":"IF($A$6=TRUE, IF($A$5= TRUE, IF($H$1=2, IF($F$1 = 1, Data!O21, NA()), NA()), NA()), NA())","v":{"$error":"#N/A"}},{"$f":"IF($A$6=TRUE, IF($A$5= TRUE, IF($H$1=2, IF($F$1 = 1, Data!P21, NA()), NA()), NA()), NA())","v":{"$error":"#N/A"}},{"$f":"IF($A$6 = TRUE, IF($A$5=TRUE, IF($H$1=1, IF($F$1 = 1, Data!Q21, NA()), NA()), NA()), NA())","v":{"$error":"#N/A"}},{"$f":"IF($A$6 = TRUE, IF($A$5=TRUE, IF($H$1=1, IF($F$1 = 1, Data!R21, NA()), NA()), NA()), NA())","v":{"$error":"#N/A"}},{"$f":"IF($A$5=TRUE, IF($A$6=TRUE, IF($F$1=1, IF($H$1=2, Data!S21, NA()), NA()), NA()), NA())","v":{"$error":"#N/A"}},{"$f":"IF($A$5 = TRUE, IF($A$6=TRUE, IF($F$1=1, IF($H$1=1, Data!T21, NA()), NA()),NA()), NA())","v":{"$error":"#N/A"}}]
[null,{"$f":"Data!B32","v":"Bioremediation"},{"$f":"Data!C22","v":"Soluble"},{"$f":"Data!E22","v":"Full"},{"$f":"Data!H22","v":"Coarse-grained"},{"$f":"IF($A$6=TRUE, IF($A$5=TRUE, IF($H$1=2, IF($F$1 = 2, Data!I22, NA()), NA()), NA()), NA())","v":29},{"$f":"IF($A$6=TRUE, IF($A$5=TRUE, IF($H$1=2, IF($F$1 = 2, Data!J22, NA()), NA()), NA()), NA())","v":1.3},{"$f":"IF($A$6=TRUE, IF($A$5=TRUE, IF($H$1=1, IF($F$1 = 2, Data!K22, NA()), NA()), NA()), NA())","v":{"$error":"#N/A"}},{"$f":"IF($A$6=TRUE, IF($A$5=TRUE, IF($H$1=1, IF($F$1 = 2, Data!L22, NA()), NA()), NA()), NA())","v":{"$error":"#N/A"}},{"$f":"IF($A$5=TRUE, IF($A$6=TRUE, IF($F$1=2, IF($H$1=2, Data!M22, NA()), NA()), NA()), NA())","v":1.3484545999999999},{"$f":"IF($A$5 = TRUE, IF($A$6=TRUE, IF($F$1=2, IF($H$1=1, Data!N22, NA()), NA()),NA()), NA())","v":{"$error":"#N/A"}},{"$f":"IF($A$6=TRUE, IF($A$5= TRUE, IF($H$1=2, IF($F$1 = 1, Data!O22, NA()), NA()), NA()), NA())","v":{"$error":"#N/A"}},{"$f":"IF($A$6=TRUE, IF($A$5= TRUE, IF($H$1=2, IF($F$1 = 1, Data!P22, NA()), NA()), NA()), NA())","v":{"$error":"#N/A"}},{"$f":"IF($A$6 = TRUE, IF($A$5=TRUE, IF($H$1=1, IF($F$1 = 1, Data!Q22, NA()), NA()), NA()), NA())","v":{"$error":"#N/A"}},{"$f":"IF($A$6 = TRUE, IF($A$5=TRUE, IF($H$1=1, IF($F$1 = 1, Data!R22, NA()), NA()), NA()), NA())","v":{"$error":"#N/A"}},{"$f":"IF($A$5=TRUE, IF($A$6=TRUE, IF($F$1=1, IF($H$1=2, Data!S22, NA()), NA()), NA()), NA())","v":{"$error":"#N/A"}},{"$f":"IF($A$5 = TRUE, IF($A$6=TRUE, IF($F$1=1, IF($H$1=1, Data!T22, NA()), NA()),NA()), NA())","v":{"$error":"#N/A"}}]
[null,{"$f":"Data!B36","v":"Bioremediation"},{"$f":"Data!C23","v":"Soluble"},{"$f":"Data!E23","v":"Full"},{"$f":"Data!H23","v":"Fine-grained"},{"$f":"IF($A$6=TRUE, IF($A$5=TRUE, IF($H$1=2, IF($F$1 = 2, Data!I23, NA()), NA()), NA()), NA())","v":7.6749476999999997},{"$f":"IF($A$6=TRUE, IF($A$5=TRUE, IF($H$1=2, IF($F$1 = 2, Data!J23, NA()), NA()), NA()), NA())","v":2.58823E-2},{"$f":"IF($A$6=TRUE, IF($A$5=TRUE, IF($H$1=1, IF($F$1 = 2, Data!K23, NA()), NA()), NA()), NA())","v":{"$error":"#N/A"}},{"$f":"IF($A$6=TRUE, IF($A$5=TRUE, IF($H$1=1, IF($F$1 = 2, Data!L23, NA()), NA()), NA()), NA())","v":{"$error":"#N/A"}},{"$f":"IF($A$5=TRUE, IF($A$6=TRUE, IF($F$1=2, IF($H$1=2, Data!M23, NA()), NA()), NA()), NA())","v":2.4720732999999999},{"$f":"IF($A$5 = TRUE, IF($A$6=TRUE, IF($F$1=2, IF($H$1=1, Data!N23, NA()), NA()),NA()), NA())","v":{"$error":"#N/A"}},{"$f":"IF($A$6=TRUE, IF($A$5= TRUE, IF($H$1=2, IF($F$1 = 1, Data!O23, NA()), NA()), NA()), NA())","v":{"$error":"#N/A"}},{"$f":"IF($A$6=TRUE, IF($A$5= TRUE, IF($H$1=2, IF($F$1 = 1, Data!P23, NA()), NA()), NA()), NA())","v":{"$error":"#N/A"}},{"$f":"IF($A$6 = TRUE, IF($A$5=TRUE, IF($H$1=1, IF($F$1 = 1, Data!Q23, NA()), NA()), NA()), NA())","v":{"$error":"#N/A"}},{"$f":"IF($A$6 = TRUE, IF($A$5=TRUE, IF($H$1=1, IF($F$1 = 1, Data!R23, NA()), NA()), NA()), NA())","v":{"$error":"#N/A"}},{"$f":"IF($A$5=TRUE, IF($A$6=TRUE, IF($F$1=1, IF($H$1=2, Data!S23, NA()), NA()), NA()), NA())","v":{"$error":"#N/A"}},{"$f":"IF($A$5 = TRUE, IF($A$6=TRUE, IF($F$1=1, IF($H$1=1, Data!T23, NA()), NA()),NA()), NA())","v":{"$error":"#N/A"}}]
[null,{"$f":"Data!B37","v":"Bioremediation"},{"$f":"Data!C24","v":"Soluble"},{"$f":"Data!E24","v":"Pilot"},{"$f":"Data!H24","v":"Fractured Rock"},{"$f":"IF($A$6=TRUE, IF($A$5=TRUE, IF($H$1=2, IF($F$1 = 2, Data!I24, NA()), NA()), NA()), NA())","v":2.4},{"$f":"IF($A$6=TRUE, IF($A$5=TRUE, IF($H$1=2, IF($F$1 = 2, Data!J24, NA()), NA()), NA()), NA())","v":5.0000000000000001E-3},{"$f":"IF($A$6=TRUE, IF($A$5=TRUE, IF($H$1=1, IF($F$1 = 2, Data!K24, NA()), NA()), NA()), NA())","v":{"$error":"#N/A"}},{"$f":"IF($A$6=TRUE, IF($A$5=TRUE, IF($H$1=1, IF($F$1 = 2, Data!L24, NA()), NA()), NA()), NA())","v":{"$error":"#N/A"}},{"$f":"IF($A$5=TRUE, IF($A$6=TRUE, IF($F$1=2, IF($H$1=2, Data!M24, NA()), NA()), NA()), NA())","v":2.6812412000000001},{"$f":"IF($A$5 = TRUE, IF($A$6=TRUE, IF($F$1=2, IF($H$1=1, Data!N24, NA()), NA()),NA()), NA())","v":{"$error":"#N/A"}},{"$f":"IF($A$6=TRUE, IF($A$5= TRUE, IF($H$1=2, IF($F$1 = 1, Data!O24, NA()), NA()), NA()), NA())","v":{"$error":"#N/A"}},{"$f":"IF($A$6=TRUE, IF($A$5= TRUE, IF($H$1=2, IF($F$1 = 1, Data!P24, NA()), NA()), NA()), NA())","v":{"$error":"#N/A"}},{"$f":"IF($A$6 = TRUE, IF($A$5=TRUE, IF($H$1=1, IF($F$1 = 1, Data!Q24, NA()), NA()), NA()), NA())","v":{"$error":"#N/A"}},{"$f":"IF($A$6 = TRUE, IF($A$5=TRUE, IF($H$1=1, IF($F$1 = 1, Data!R24, NA()), NA()), NA()), NA())","v":{"$error":"#N/A"}},{"$f":"IF($A$5=TRUE, IF($A$6=TRUE, IF($F$1=1, IF($H$1=2, Data!S24, NA()), NA()), NA()), NA())","v":{"$error":"#N/A"}},{"$f":"IF($A$5 = TRUE, IF($A$6=TRUE, IF($F$1=1, IF($H$1=1, Data!T24, NA()), NA()),NA()), NA())","v":{"$error":"#N/A"}}]
[null,{"$f":"Data!B38","v":"Bioremediation"},{"$f":"Data!C25","v":"Soluble"},{"$f":"Data!E25","v":"Pilot"},{"$f":"Data!H25","v":"Fine-grained"},{"$f":"IF($A$6=TRUE, IF($A$5=TRUE, IF($H$1=2, IF($F$1 = 2, Data!I25, NA()), NA()), NA()), NA())","v":345},{"$f":"IF($A$6=TRUE, IF($A$5=TRUE, IF($H$1=2, IF($F$1 = 2, Data!J25, NA()), NA()), NA()), NA())","v":49},{"$f":"IF($A$6=TRUE, IF($A$5=TRUE, IF($H$1=1, IF($F$1 = 2, Data!K25, NA()), NA()), NA()), NA())","v":{"$error":"#N/A"}},{"$f":"IF($A$6=TRUE, IF($A$5=TRUE, IF($H$1=1, IF($F$1 = 2, Data!L25, NA()), NA()), NA()), NA())","v":{"$error":"#N/A"}},{"$f":"IF($A$5=TRUE, IF($A$6=TRUE, IF($F$1=2, IF($H$1=2, Data!M25, NA()), NA()), NA()), NA())","v":0.84762300000000002},{"$f":"IF($A$5 = TRUE, IF($A$6=TRUE, IF($F$1=2, IF($H$1=1, Data!N25, NA()), NA()),NA()), NA())","v":{"$error":"#N/A"}},{"$f":"IF($A$6=TRUE, IF($A$5= TRUE, IF($H$1=2, IF($F$1 = 1, Data!O25, NA()), NA()), NA()), NA())","v":{"$error":"#N/A"}},{"$f":"IF($A$6=TRUE, IF($A$5= TRUE, IF($H$1=2, IF($F$1 = 1, Data!P25, NA()), NA()), NA()), NA())","v":{"$error":"#N/A"}},{"$f":"IF($A$6 = TRUE, IF($A$5=TRUE, IF($H$1=1, IF($F$1 = 1, Data!Q25, NA()), NA()), NA()), NA())","v":{"$error":"#N/A"}},{"$f":"IF($A$6 = TRUE, IF($A$5=TRUE, IF($H$1=1, IF($F$1 = 1, Data!R25, NA()), NA()), NA()), NA())","v":{"$error":"#N/A"}},{"$f":"IF($A$5=TRUE, IF($A$6=TRUE, IF($F$1=1, IF($H$1=2, Data!S25, NA()), NA()), NA()), NA())","v":{"$error":"#N/A"}},{"$f":"IF($A$5 = TRUE, IF($A$6=TRUE, IF($F$1=1, IF($H$1=1, Data!T25, NA()), NA()),NA()), NA())","v":{"$error":"#N/A"}}]
[null,{"$f":"Data!B52","v":"Bioremediation"},{"$f":"Data!C26","v":"Soluble"},{"$f":"Data!E26","v":"Full"},{"$f":"Data!H26","v":"Fine-grained"},{"$f":"IF($A$6=TRUE, IF($A$5=TRUE, IF($H$1=2, IF($F$1 = 2, Data!I26, NA()), NA()), NA()), NA())","v":11.385},{"$f":"IF($A$6=TRUE, IF($A$5=TRUE, IF($H$1=2, IF($F$1 = 2, Data!J26, NA()), NA()), NA()), NA())","v":2.4068524999999998},{"$f":"IF($A$6=TRUE, IF($A$5=TRUE, IF($H$1=1, IF($F$1 = 2, Data!K26, NA()), NA()), NA()), NA())","v":{"$error":"#N/A"}},{"$f":"IF($A$6=TRUE, IF($A$5=TRUE, IF($H$1=1, IF($F$1 = 2, Data!L26, NA()), NA()), NA()), NA())","v":{"$error":"#N/A"}},{"$f":"IF($A$5=TRUE, IF($A$6=TRUE, IF($F$1=2, IF($H$1=2, Data!M26, NA()), NA()), NA()), NA())","v":0.67488360000000003},{"$f":"IF($A$5 = TRUE, IF($A$6=TRUE, IF($F$1=2, IF($H$1=1, Data!N26, NA()), NA()),NA()), NA())","v":{"$error":"#N/A"}},{"$f":"IF($A$6=TRUE, IF($A$5= TRUE, IF($H$1=2, IF($F$1 = 1, Data!O26, NA()), NA()), NA()), NA())","v":{"$error":"#N/A"}},{"$f":"IF($A$6=TRUE, IF($A$5= TRUE, IF($H$1=2, IF($F$1 = 1, Data!P26, NA()), NA()), NA()), NA())","v":{"$error":"#N/A"}},{"$f":"IF($A$6 = TRUE, IF($A$5=TRUE, IF($H$1=1, IF($F$1 = 1, Data!Q26, NA()), NA()), NA()), NA())","v":{"$error":"#N/A"}},{"$f":"IF($A$6 = TRUE, IF($A$5=TRUE, IF($H$1=1, IF($F$1 = 1, Data!R26, NA()), NA()), NA()), NA())","v":{"$error":"#N/A"}},{"$f":"IF($A$5=TRUE, IF($A$6=TRUE, IF($F$1=1, IF($H$1=2, Data!S26, NA()), NA()), NA()), NA())","v":{"$error":"#N/A"}},{"$f":"IF($A$5 = TRUE, IF($A$6=TRUE, IF($F$1=1, IF($H$1=1, Data!T26, NA()), NA()),NA()), NA())","v":{"$error":"#N/A"}}]
[null,{"$f":"Data!B53","v":"Bioremediation"},{"$f":"Data!C27","v":"Soluble"},{"$f":"Data!E27","v":"Full"},{"$f":"Data!H27","v":"Coarse-grained"},{"$f":"IF($A$6=TRUE, IF($A$5=TRUE, IF($H$1=2, IF($F$1 = 2, Data!I27, NA()), NA()), NA()), NA())","v":1.5245967},{"$f":"IF($A$6=TRUE, IF($A$5=TRUE, IF($H$1=2, IF($F$1 = 2, Data!J27, NA()), NA()), NA()), NA())","v":6.6360999999999998E-3},{"$f":"IF($A$6=TRUE, IF($A$5=TRUE, IF($H$1=1, IF($F$1 = 2, Data!K27, NA()), NA()), NA()), NA())","v":{"$error":"#N/A"}},{"$f":"IF($A$6=TRUE, IF($A$5=TRUE, IF($H$1=1, IF($F$1 = 2, Data!L27, NA()), NA()), NA()), NA())","v":{"$error":"#N/A"}},{"$f":"IF($A$5=TRUE, IF($A$6=TRUE, IF($F$1=2, IF($H$1=2, Data!M27, NA()), NA()), NA()), NA())","v":2.3612429000000001},{"$f":"IF($A$5 = TRUE, IF($A$6=TRUE, IF($F$1=2, IF($H$1=1, Data!N27, NA()), NA()),NA()), NA())","v":{"$error":"#N/A"}},{"$f":"IF($A$6=TRUE, IF($A$5= TRUE, IF($H$1=2, IF($F$1 = 1, Data!O27, NA()), NA()), NA()), NA())","v":{"$error":"#N/A"}},{"$f":"IF($A$6=TRUE, IF($A$5= TRUE, IF($H$1=2, IF($F$1 = 1, Data!P27, NA()), NA()), NA()), NA())","v":{"$error":"#N/A"}},{"$f":"IF($A$6 = TRUE, IF($A$5=TRUE, IF($H$1=1, IF($F$1 = 1, Data!Q27, NA()), NA()), NA()), NA())","v":{"$error":"#N/A"}},{"$f":"IF($A$6 = TRUE, IF($A$5=TRUE, IF($H$1=1, IF($F$1 = 1, Data!R27, NA()), NA()), NA()), NA())","v":{"$error":"#N/A"}},{"$f":"IF($A$5=TRUE, IF($A$6=TRUE, IF($F$1=1, IF($H$1=2, Data!S27, NA()), NA()), NA()), NA())","v":{"$error":"#N/A"}},{"$f":"IF($A$5 = TRUE, IF($A$6=TRUE, IF($F$1=1, IF($H$1=1, Data!T27, NA()), NA()),NA()), NA())","v":{"$error":"#N/A"}}]
[null,{"$f":"Data!B61","v":"Bioremediation"},{"$f":"Data!C28","v":"Soluble"},{"$f":"Data!E28","v":"Full"},{"$f":"Data!H28","v":"Coarse-grained"},{"$f":"IF($A$6=TRUE, IF($A$5=TRUE, IF($H$1=2, IF($F$1 = 2, Data!I28, NA()), NA()), NA()), NA())","v":3.7002221},{"$f":"IF($A$6=TRUE, IF($A$5=TRUE, IF($H$1=2, IF($F$1 = 2, Data!J28, NA()), NA()), NA()), NA())","v":3.4047999999999999E-3},{"$f":"IF($A$6=TRUE, IF($A$5=TRUE, IF($H$1=1, IF($F$1 = 2, Data!K28, NA()), NA()), NA()), NA())","v":{"$error":"#N/A"}},{"$f":"IF($A$6=TRUE, IF($A$5=TRUE, IF($H$1=1, IF($F$1 = 2, Data!L28, NA()), NA()), NA()), NA())","v":{"$error":"#N/A"}},{"$f":"IF($A$5=TRUE, IF($A$6=TRUE, IF($F$1=2, IF($H$1=2, Data!M28, NA()), NA()), NA()), NA())","v":3.0361392999999999},{"$f":"IF($A$5 = TRUE, IF($A$6=TRUE, IF($F$1=2, IF($H$1=1, Data!N28, NA()), NA()),NA()), NA())","v":{"$error":"#N/A"}},{"$f":"IF($A$6=TRUE, IF($A$5= TRUE, IF($H$1=2, IF($F$1 = 1, Data!O28, NA()), NA()), NA()), NA())","v":{"$error":"#N/A"}},{"$f":"IF($A$6=TRUE, IF($A$5= TRUE, IF($H$1=2, IF($F$1 = 1, Data!P28, NA()), NA()), NA()), NA())","v":{"$error":"#N/A"}},{"$f":"IF($A$6 = TRUE, IF($A$5=TRUE, IF($H$1=1, IF($F$1 = 1, Data!Q28, NA()), NA()), NA()), NA())","v":{"$error":"#N/A"}},{"$f":"IF($A$6 = TRUE, IF($A$5=TRUE, IF($H$1=1, IF($F$1 = 1, Data!R28, NA()), NA()), NA()), NA())","v":{"$error":"#N/A"}},{"$f":"IF($A$5=TRUE, IF($A$6=TRUE, IF($F$1=1, IF($H$1=2, Data!S28, NA()), NA()), NA()), NA())","v":{"$error":"#N/A"}},{"$f":"IF($A$5 = TRUE, IF($A$6=TRUE, IF($F$1=1, IF($H$1=1, Data!T28, NA()), NA()),NA()), NA())","v":{"$error":"#N/A"}}]
[null,{"$f":"Data!B67","v":"Bioremediation"},{"$f":"Data!C29","v":"Soluble"},{"$f":"Data!E29","v":"Full"},{"$f":"Data!H29","v":"Fine-grained"},{"$f":"IF($A$6=TRUE, IF($A$5=TRUE, IF($H$1=2, IF($F$1 = 2, Data!I29, NA()), NA()), NA()), NA())","v":0.6370808},{"$f":"IF($A$6=TRUE, IF($A$5=TRUE, IF($H$1=2, IF($F$1 = 2, Data!J29, NA()), NA()), NA()), NA())","v":7.2069900000000006E-2},{"$f":"IF($A$6=TRUE, IF($A$5=TRUE, IF($H$1=1, IF($F$1 = 2, Data!K29, NA()), NA()), NA()), NA())","v":{"$error":"#N/A"}},{"$f":"IF($A$6=TRUE, IF($A$5=TRUE, IF($H$1=1, IF($F$1 = 2, Data!L29, NA()), NA()), NA()), NA())","v":{"$error":"#N/A"}},{"$f":"IF($A$5=TRUE, IF($A$6=TRUE, IF($F$1=2, IF($H$1=2, Data!M29, NA()), NA()), NA()), NA())","v":0.94644050000000002},{"$f":"IF($A$5 = TRUE, IF($A$6=TRUE, IF($F$1=2, IF($H$1=1, Data!N29, NA()), NA()),NA()), NA())","v":{"$error":"#N/A"}},{"$f":"IF($A$6=TRUE, IF($A$5= TRUE, IF($H$1=2, IF($F$1 = 1, Data!O29, NA()), NA()), NA()), NA())","v":{"$error":"#N/A"}},{"$f":"IF($A$6=TRUE, IF($A$5= TRUE, IF($H$1=2, IF($F$1 = 1, Data!P29, NA()), NA()), NA()), NA())","v":{"$error":"#N/A"}},{"$f":"IF($A$6 = TRUE, IF($A$5=TRUE, IF($H$1=1, IF($F$1 = 1, Data!Q29, NA()), NA()), NA()), NA())","v":{"$error":"#N/A"}},{"$f":"IF($A$6 = TRUE, IF($A$5=TRUE, IF($H$1=1, IF($F$1 = 1, Data!R29, NA()), NA()), NA()), NA())","v":{"$error":"#N/A"}},{"$f":"IF($A$5=TRUE, IF($A$6=TRUE, IF($F$1=1, IF($H$1=2, Data!S29, NA()), NA()), NA()), NA())","v":{"$error":"#N/A"}},{"$f":"IF($A$5 = TRUE, IF($A$6=TRUE, IF($F$1=1, IF($H$1=1, Data!T29, NA()), NA()),NA()), NA())","v":{"$error":"#N/A"}}]
[null,{"$f":"Data!B68","v":"Bioremediation"},{"$f":"Data!C30","v":"Soluble"},{"$f":"Data!E30","v":"Full"},{"$f":"Data!H30","v":"Fine-grained"},{"$f":"IF($A$6=TRUE, IF($A$5=TRUE, IF($H$1=2, IF($F$1 = 2, Data!I30, NA()), NA()), NA()), NA())","v":2.1601645999999999},{"$f":"IF($A$6=TRUE, IF($A$5=TRUE, IF($H$1=2, IF($F$1 = 2, Data!J30, NA()), NA()), NA()), NA())","v":1.9202836000000001},{"$f":"IF($A$6=TRUE, IF($A$5=TRUE, IF($H$1=1, IF($F$1 = 2, Data!K30, NA()), NA()), NA()), NA())","v":{"$error":"#N/A"}},{"$f":"IF($A$6=TRUE, IF($A$5=TRUE, IF($H$1=1, IF($F$1 = 2, Data!L30, NA()), NA()), NA()), NA())","v":{"$error":"#N/A"}},{"$f":"IF($A$5=TRUE, IF($A$6=TRUE, IF($F$1=2, IF($H$1=2, Data!M30, NA()), NA()), NA()), NA())","v":5.11215E-2},{"$f":"IF($A$5 = TRUE, IF($A$6=TRUE, IF($F$1=2, IF($H$1=1, Data!N30, NA()), NA()),NA()), NA())","v":{"$error":"#N/A"}},{"$f":"IF($A$6=TRUE, IF($A$5= TRUE, IF($H$1=2, IF($F$1 = 1, Data!O30, NA()), NA()), NA()), NA())","v":{"$error":"#N/A"}},{"$f":"IF($A$6=TRUE, IF($A$5= TRUE, IF($H$1=2, IF($F$1 = 1, Data!P30, NA()), NA()), NA()), NA())","v":{"$error":"#N/A"}},{"$f":"IF($A$6 = TRUE, IF($A$5=TRUE, IF($H$1=1, IF($F$1 = 1, Data!Q30, NA()), NA()), NA()), NA())","v":{"$error":"#N/A"}},{"$f":"IF($A$6 = TRUE, IF($A$5=TRUE, IF($H$1=1, IF($F$1 = 1, Data!R30, NA()), NA()), NA()), NA())","v":{"$error":"#N/A"}},{"$f":"IF($A$5=TRUE, IF($A$6=TRUE, IF($F$1=1, IF($H$1=2, Data!S30, NA()), NA()), NA()), NA())","v":{"$error":"#N/A"}},{"$f":"IF($A$5 = TRUE, IF($A$6=TRUE, IF($F$1=1, IF($H$1=1, Data!T30, NA()), NA()),NA()), NA())","v":{"$error":"#N/A"}}]
[null,{"$f":"Data!B70","v":"Bioremediation"},{"$f":"Data!C31","v":"Soluble"},{"$f":"Data!E31","v":"Full"},{"$f":"Data!H31","v":"Fine-grained"},{"$f":"IF($A$6=TRUE, IF($A$5=TRUE, IF($H$1=2, IF($F$1 = 2, Data!I31, NA()), NA()), NA()), NA())","v":2.5995799999999999E-2},{"$f":"IF($A$6=TRUE, IF($A$5=TRUE, IF($H$1=2, IF($F$1 = 2, Data!J31, NA()), NA()), NA()), NA())","v":1.0753E-3},{"$f":"IF($A$6=TRUE, IF($A$5=TRUE, IF($H$1=1, IF($F$1 = 2, Data!K31, NA()), NA()), NA()), NA())","v":{"$error":"#N/A"}},{"$f":"IF($A$6=TRUE, IF($A$5=TRUE, IF($H$1=1, IF($F$1 = 2, Data!L31, NA()), NA()), NA()), NA())","v":{"$error":"#N/A"}},{"$f":"IF($A$5=TRUE, IF($A$6=TRUE, IF($F$1=2, IF($H$1=2, Data!M31, NA()), NA()), NA()), NA())","v":1.383381},{"$f":"IF($A$5 = TRUE, IF($A$6=TRUE, IF($F$1=2, IF($H$1=1, Data!N31, NA()), NA()),NA()), NA())","v":{"$error":"#N/A"}},{"$f":"IF($A$6=TRUE, IF($A$5= TRUE, IF($H$1=2, IF($F$1 = 1, Data!O31, NA()), NA()), NA()), NA())","v":{"$error":"#N/A"}},{"$f":"IF($A$6=TRUE, IF($A$5= TRUE, IF($H$1=2, IF($F$1 = 1, Data!P31, NA()), NA()), NA()), NA())","v":{"$error":"#N/A"}},{"$f":"IF($A$6 = TRUE, IF($A$5=TRUE, IF($H$1=1, IF($F$1 = 1, Data!Q31, NA()), NA()), NA()), NA())","v":{"$error":"#N/A"}},{"$f":"IF($A$6 = TRUE, IF($A$5=TRUE, IF($H$1=1, IF($F$1 = 1, Data!R31, NA()), NA()), NA()), NA())","v":{"$error":"#N/A"}},{"$f":"IF($A$5=TRUE, IF($A$6=TRUE, IF($F$1=1, IF($H$1=2, Data!S31, NA()), NA()), NA()), NA())","v":{"$error":"#N/A"}},{"$f":"IF($A$5 = TRUE, IF($A$6=TRUE, IF($F$1=1, IF($H$1=1, Data!T31, NA()), NA()),NA()), NA())","v":{"$error":"#N/A"}}]
[null,{"$f":"Data!B73","v":"Bioremediation"},{"$f":"Data!C32","v":"Soluble"},{"$f":"Data!E32","v":"Pilot"},{"$f":"Data!H32","v":"Coarse-grained"},{"$f":"IF($A$6=TRUE, IF($A$5=TRUE, IF($H$1=2, IF($F$1 = 2, Data!I32, NA()), NA()), NA()), NA())","v":0.40670899999999999},{"$f":"IF($A$6=TRUE, IF($A$5=TRUE, IF($H$1=2, IF($F$1 = 2, Data!J32, NA()), NA()), NA()), NA())","v":1E-3},{"$f":"IF($A$6=TRUE, IF($A$5=TRUE, IF($H$1=1, IF($F$1 = 2, Data!K32, NA()), NA()), NA()), NA())","v":{"$error":"#N/A"}},{"$f":"IF($A$6=TRUE, IF($A$5=TRUE, IF($H$1=1, IF($F$1 = 2, Data!L32, NA()), NA()), NA()), NA())","v":{"$error":"#N/A"}},{"$f":"IF($A$5=TRUE, IF($A$6=TRUE, IF($F$1=2, IF($H$1=2, Data!M32, NA()), NA()), NA()), NA())","v":3.5216373999999999},{"$f":"IF($A$5 = TRUE, IF($A$6=TRUE, IF($F$1=2, IF($H$1=1, Data!N32, NA()), NA()),NA()), NA())","v":{"$error":"#N/A"}},{"$f":"IF($A$6=TRUE, IF($A$5= TRUE, IF($H$1=2, IF($F$1 = 1, Data!O32, NA()), NA()), NA()), NA())","v":{"$error":"#N/A"}},{"$f":"IF($A$6=TRUE, IF($A$5= TRUE, IF($H$1=2, IF($F$1 = 1, Data!P32, NA()), NA()), NA()), NA())","v":{"$error":"#N/A"}},{"$f":"IF($A$6 = TRUE, IF($A$5=TRUE, IF($H$1=1, IF($F$1 = 1, Data!Q32, NA()), NA()), NA()), NA())","v":{"$error":"#N/A"}},{"$f":"IF($A$6 = TRUE, IF($A$5=TRUE, IF($H$1=1, IF($F$1 = 1, Data!R32, NA()), NA()), NA()), NA())","v":{"$error":"#N/A"}},{"$f":"IF($A$5=TRUE, IF($A$6=TRUE, IF($F$1=1, IF($H$1=2, Data!S32, NA()), NA()), NA()), NA())","v":{"$error":"#N/A"}},{"$f":"IF($A$5 = TRUE, IF($A$6=TRUE, IF($F$1=1, IF($H$1=1, Data!T32, NA()), NA()),NA()), NA())","v":{"$error":"#N/A"}}]
[null,{"$f":"Data!B76","v":"Bioremediation"},{"$f":"Data!C33","v":"Soluble"},{"$f":"Data!E33","v":"Full"},{"$f":"Data!H33","v":"Coarse-grained"},{"$f":"IF($A$6=TRUE, IF($A$5=TRUE, IF($H$1=2, IF($F$1 = 2, Data!I33, NA()), NA()), NA()), NA())","v":0.33649649999999998},{"$f":"IF($A$6=TRUE, IF($A$5=TRUE, IF($H$1=2, IF($F$1 = 2, Data!J33, NA()), NA()), NA()), NA())","v":2.1629873000000002},{"$f":"IF($A$6=TRUE, IF($A$5=TRUE, IF($H$1=1, IF($F$1 = 2, Data!K33, NA()), NA()), NA()), NA())","v":{"$error":"#N/A"}},{"$f":"IF($A$6=TRUE, IF($A$5=TRUE, IF($H$1=1, IF($F$1 = 2, Data!L33, NA()), NA()), NA()), NA())","v":{"$error":"#N/A"}},{"$f":"IF($A$5=TRUE, IF($A$6=TRUE, IF($F$1=2, IF($H$1=2, Data!M33, NA()), NA()), NA()), NA())","v":-0.80807340000000005},{"$f":"IF($A$5 = TRUE, IF($A$6=TRUE, IF($F$1=2, IF($H$1=1, Data!N33, NA()), NA()),NA()), NA())","v":{"$error":"#N/A"}},{"$f":"IF($A$6=TRUE, IF($A$5= TRUE, IF($H$1=2, IF($F$1 = 1, Data!O33, NA()), NA()), NA()), NA())","v":{"$error":"#N/A"}},{"$f":"IF($A$6=TRUE, IF($A$5= TRUE, IF($H$1=2, IF($F$1 = 1, Data!P33, NA()), NA()), NA()), NA())","v":{"$error":"#N/A"}},{"$f":"IF($A$6 = TRUE, IF($A$5=TRUE, IF($H$1=1, IF($F$1 = 1, Data!Q33, NA()), NA()), NA()), NA())","v":{"$error":"#N/A"}},{"$f":"IF($A$6 = TRUE, IF($A$5=TRUE, IF($H$1=1, IF($F$1 = 1, Data!R33, NA()), NA()), NA()), NA())","v":{"$error":"#N/A"}},{"$f":"IF($A$5=TRUE, IF($A$6=TRUE, IF($F$1=1, IF($H$1=2, Data!S33, NA()), NA()), NA()), NA())","v":{"$error":"#N/A"}},{"$f":"IF($A$5 = TRUE, IF($A$6=TRUE, IF($F$1=1, IF($H$1=1, Data!T33, NA()), NA()),NA()), NA())","v":{"$error":"#N/A"}}]
[null,{"$f":"Data!B78","v":"Bioremediation"},{"$f":"Data!C34","v":"Soluble"},{"$f":"Data!E34","v":"Pilot"},{"$f":"Data!H34","v":"Coarse-grained"},{"$f":"IF($A$6=TRUE, IF($A$5=TRUE, IF($H$1=2, IF($F$1 = 2, Data!I34, NA()), NA()), NA()), NA())","v":2.6183000000000001E-3},{"$f":"IF($A$6=TRUE, IF($A$5=TRUE, IF($H$1=2, IF($F$1 = 2, Data!J34, NA()), NA()), NA()), NA())","v":1E-3},{"$f":"IF($A$6=TRUE, IF($A$5=TRUE, IF($H$1=1, IF($F$1 = 2, Data!K34, NA()), NA()), NA()), NA())","v":{"$error":"#N/A"}},{"$f":"IF($A$6=TRUE, IF($A$5=TRUE, IF($H$1=1, IF($F$1 = 2, Data!L34, NA()), NA()), NA()), NA())","v":{"$error":"#N/A"}},{"$f":"IF($A$5=TRUE, IF($A$6=TRUE, IF($F$1=2, IF($H$1=2, Data!M34, NA()), NA()), NA()), NA())","v":1.0780943000000001},{"$f":"IF($A$5 = TRUE, IF($A$6=TRUE, IF($F$1=2, IF($H$1=1, Data!N34, NA()), NA()),NA()), NA())","v":{"$error":"#N/A"}},{"$f":"IF($A$6=TRUE, IF($A$5= TRUE, IF($H$1=2, IF($F$1 = 1, Data!O34, NA()), NA()), NA()), NA())","v":{"$error":"#N/A"}},{"$f":"IF($A$6=TRUE, IF($A$5= TRUE, IF($H$1=2, IF($F$1 = 1, Data!P34, NA()), NA()), NA()), NA())","v":{"$error":"#N/A"}},{"$f":"IF($A$6 = TRUE, IF($A$5=TRUE, IF($H$1=1, IF($F$1 = 1, Data!Q34, NA()), NA()), NA()), NA())","v":{"$error":"#N/A"}},{"$f":"IF($A$6 = TRUE, IF($A$5=TRUE, IF($H$1=1, IF($F$1 = 1, Data!R34, NA()), NA()), NA()), NA())","v":{"$error":"#N/A"}},{"$f":"IF($A$5=TRUE, IF($A$6=TRUE, IF($F$1=1, IF($H$1=2, Data!S34, NA()), NA()), NA()), NA())","v":{"$error":"#N/A"}},{"$f":"IF($A$5 = TRUE, IF($A$6=TRUE, IF($F$1=1, IF($H$1=1, Data!T34, NA()), NA()),NA()), NA())","v":{"$error":"#N/A"}}]
[null,{"$f":"Data!B79","v":"Bioremediation"},{"$f":"Data!C35","v":"Soluble"},{"$f":"Data!E35","v":"Full"},{"$f":"Data!H35","v":"Coarse-grained"},{"$f":"IF($A$6=TRUE, IF($A$5=TRUE, IF($H$1=2, IF($F$1 = 2, Data!I35, NA()), NA()), NA()), NA())","v":2.1},{"$f":"IF($A$6=TRUE, IF($A$5=TRUE, IF($H$1=2, IF($F$1 = 2, Data!J35, NA()), NA()), NA()), NA())","v":0.41558889999999998},{"$f":"IF($A$6=TRUE, IF($A$5=TRUE, IF($H$1=1, IF($F$1 = 2, Data!K35, NA()), NA()), NA()), NA())","v":{"$error":"#N/A"}},{"$f":"IF($A$6=TRUE, IF($A$5=TRUE, IF($H$1=1, IF($F$1 = 2, Data!L35, NA()), NA()), NA()), NA())","v":{"$error":"#N/A"}},{"$f":"IF($A$5=TRUE, IF($A$6=TRUE, IF($F$1=2, IF($H$1=2, Data!M35, NA()), NA()), NA()), NA())","v":0.70355540000000005},{"$f":"IF($A$5 = TRUE, IF($A$6=TRUE, IF($F$1=2, IF($H$1=1, Data!N35, NA()), NA()),NA()), NA())","v":{"$error":"#N/A"}},{"$f":"IF($A$6=TRUE, IF($A$5= TRUE, IF($H$1=2, IF($F$1 = 1, Data!O35, NA()), NA()), NA()), NA())","v":{"$error":"#N/A"}},{"$f":"IF($A$6=TRUE, IF($A$5= TRUE, IF($H$1=2, IF($F$1 = 1, Data!P35, NA()), NA()), NA()), NA())","v":{"$error":"#N/A"}},{"$f":"IF($A$6 = TRUE, IF($A$5=TRUE, IF($H$1=1, IF($F$1 = 1, Data!Q35, NA()), NA()), NA()), NA())","v":{"$error":"#N/A"}},{"$f":"IF($A$6 = TRUE, IF($A$5=TRUE, IF($H$1=1, IF($F$1 = 1, Data!R35, NA()), NA()), NA()), NA())","v":{"$error":"#N/A"}},{"$f":"IF($A$5=TRUE, IF($A$6=TRUE, IF($F$1=1, IF($H$1=2, Data!S35, NA()), NA()), NA()), NA())","v":{"$error":"#N/A"}},{"$f":"IF($A$5 = TRUE, IF($A$6=TRUE, IF($F$1=1, IF($H$1=1, Data!T35, NA()), NA()),NA()), NA())","v":{"$error":"#N/A"}}]
[null,{"$f":"Data!B82","v":"Bioremediation"},{"$f":"Data!C36","v":"Soluble"},{"$f":"Data!E36","v":"Pilot"},{"$f":"Data!H36","v":"Coarse-grained"},{"$f":"IF($A$6=TRUE, IF($A$5=TRUE, IF($H$1=2, IF($F$1 = 2, Data!I36, NA()), NA()), NA()), NA())","v":1.3495462},{"$f":"IF($A$6=TRUE, IF($A$5=TRUE, IF($H$1=2, IF($F$1 = 2, Data!J36, NA()), NA()), NA()), NA())","v":0.64885769999999998},{"$f":"IF($A$6=TRUE, IF($A$5=TRUE, IF($H$1=1, IF($F$1 = 2, Data!K36, NA()), NA()), NA()), NA())","v":{"$error":"#N/A"}},{"$f":"IF($A$6=TRUE, IF($A$5=TRUE, IF($H$1=1, IF($F$1 = 2, Data!L36, NA()), NA()), NA()), NA())","v":{"$error":"#N/A"}},{"$f":"IF($A$5=TRUE, IF($A$6=TRUE, IF($F$1=2, IF($H$1=2, Data!M36, NA()), NA()), NA()), NA())","v":0.3180383},{"$f":"IF($A$5 = TRUE, IF($A$6=TRUE, IF($F$1=2, IF($H$1=1, Data!N36, NA()), NA()),NA()), NA())","v":{"$error":"#N/A"}},{"$f":"IF($A$6=TRUE, IF($A$5= TRUE, IF($H$1=2, IF($F$1 = 1, Data!O36, NA()), NA()), NA()), NA())","v":{"$error":"#N/A"}},{"$f":"IF($A$6=TRUE, IF($A$5= TRUE, IF($H$1=2, IF($F$1 = 1, Data!P36, NA()), NA()), NA()), NA())","v":{"$error":"#N/A"}},{"$f":"IF($A$6 = TRUE, IF($A$5=TRUE, IF($H$1=1, IF($F$1 = 1, Data!Q36, NA()), NA()), NA()), NA())","v":{"$error":"#N/A"}},{"$f":"IF($A$6 = TRUE, IF($A$5=TRUE, IF($H$1=1, IF($F$1 = 1, Data!R36, NA()), NA()), NA()), NA())","v":{"$error":"#N/A"}},{"$f":"IF($A$5=TRUE, IF($A$6=TRUE, IF($F$1=1, IF($H$1=2, Data!S36, NA()), NA()), NA()), NA())","v":{"$error":"#N/A"}},{"$f":"IF($A$5 = TRUE, IF($A$6=TRUE, IF($F$1=1, IF($H$1=1, Data!T36, NA()), NA()),NA()), NA())","v":{"$error":"#N/A"}}]
[null,{"$f":"Data!B83","v":"Bioremediation"},{"$f":"Data!C37","v":"Soluble"},{"$f":"Data!E37","v":"Full"},{"$f":"Data!H37","v":"Coarse-grained"},{"$f":"IF($A$6=TRUE, IF($A$5=TRUE, IF($H$1=2, IF($F$1 = 2, Data!I37, NA()), NA()), NA()), NA())","v":7.45},{"$f":"IF($A$6=TRUE, IF($A$5=TRUE, IF($H$1=2, IF($F$1 = 2, Data!J37, NA()), NA()), NA()), NA())","v":5.1066875999999999},{"$f":"IF($A$6=TRUE, IF($A$5=TRUE, IF($H$1=1, IF($F$1 = 2, Data!K37, NA()), NA()), NA()), NA())","v":{"$error":"#N/A"}},{"$f":"IF($A$6=TRUE, IF($A$5=TRUE, IF($H$1=1, IF($F$1 = 2, Data!L37, NA()), NA()), NA()), NA())","v":{"$error":"#N/A"}},{"$f":"IF($A$5=TRUE, IF($A$6=TRUE, IF($F$1=2, IF($H$1=2, Data!M37, NA()), NA()), NA()), NA())","v":0.164017},{"$f":"IF($A$5 = TRUE, IF($A$6=TRUE, IF($F$1=2, IF($H$1=1, Data!N37, NA()), NA()),NA()), NA())","v":{"$error":"#N/A"}},{"$f":"IF($A$6=TRUE, IF($A$5= TRUE, IF($H$1=2, IF($F$1 = 1, Data!O37, NA()), NA()), NA()), NA())","v":{"$error":"#N/A"}},{"$f":"IF($A$6=TRUE, IF($A$5= TRUE, IF($H$1=2, IF($F$1 = 1, Data!P37, NA()), NA()), NA()), NA())","v":{"$error":"#N/A"}},{"$f":"IF($A$6 = TRUE, IF($A$5=TRUE, IF($H$1=1, IF($F$1 = 1, Data!Q37, NA()), NA()), NA()), NA())","v":{"$error":"#N/A"}},{"$f":"IF($A$6 = TRUE, IF($A$5=TRUE, IF($H$1=1, IF($F$1 = 1, Data!R37, NA()), NA()), NA()), NA())","v":{"$error":"#N/A"}},{"$f":"IF($A$5=TRUE, IF($A$6=TRUE, IF($F$1=1, IF($H$1=2, Data!S37, NA()), NA()), NA()), NA())","v":{"$error":"#N/A"}},{"$f":"IF($A$5 = TRUE, IF($A$6=TRUE, IF($F$1=1, IF($H$1=1, Data!T37, NA()), NA()),NA()), NA())","v":{"$error":"#N/A"}}]
[null,{"$f":"Data!B84","v":"Bioremediation"},{"$f":"Data!C38","v":"Soluble"},{"$f":"Data!E38","v":"Full"},{"$f":"Data!H38","v":"Fine-grained"},{"$f":"IF($A$6=TRUE, IF($A$5=TRUE, IF($H$1=2, IF($F$1 = 2, Data!I38, NA()), NA()), NA()), NA())","v":3.18663E-2},{"$f":"IF($A$6=TRUE, IF($A$5=TRUE, IF($H$1=2, IF($F$1 = 2, Data!J38, NA()), NA()), NA()), NA())","v":2.2331999999999999E-3},{"$f":"IF($A$6=TRUE, IF($A$5=TRUE, IF($H$1=1, IF($F$1 = 2, Data!K38, NA()), NA()), NA()), NA())","v":{"$error":"#N/A"}},{"$f":"IF($A$6=TRUE, IF($A$5=TRUE, IF($H$1=1, IF($F$1 = 2, Data!L38, NA()), NA()), NA()), NA())","v":{"$error":"#N/A"}},{"$f":"IF($A$5=TRUE, IF($A$6=TRUE, IF($F$1=2, IF($H$1=2, Data!M38, NA()), NA()), NA()), NA())","v":1.1544011999999999},{"$f":"IF($A$5 = TRUE, IF($A$6=TRUE, IF($F$1=2, IF($H$1=1, Data!N38, NA()), NA()),NA()), NA())","v":{"$error":"#N/A"}},{"$f":"IF($A$6=TRUE, IF($A$5= TRUE, IF($H$1=2, IF($F$1 = 1, Data!O38, NA()), NA()), NA()), NA())","v":{"$error":"#N/A"}},{"$f":"IF($A$6=TRUE, IF($A$5= TRUE, IF($H$1=2, IF($F$1 = 1, Data!P38, NA()), NA()), NA()), NA())","v":{"$error":"#N/A"}},{"$f":"IF($A$6 = TRUE, IF($A$5=TRUE, IF($H$1=1, IF($F$1 = 1, Data!Q38, NA()), NA()), NA()), NA())","v":{"$error":"#N/A"}},{"$f":"IF($A$6 = TRUE, IF($A$5=TRUE, IF($H$1=1, IF($F$1 = 1, Data!R38, NA()), NA()), NA()), NA())","v":{"$error":"#N/A"}},{"$f":"IF($A$5=TRUE, IF($A$6=TRUE, IF($F$1=1, IF($H$1=2, Data!S38, NA()), NA()), NA()), NA())","v":{"$error":"#N/A"}},{"$f":"IF($A$5 = TRUE, IF($A$6=TRUE, IF($F$1=1, IF($H$1=1, Data!T38, NA()), NA()),NA()), NA())","v":{"$error":"#N/A"}}]
[null,{"$f":"Data!B85","v":"Bioremediation"},{"$f":"Data!C39","v":"Soluble"},{"$f":"Data!E39","v":"Full"},{"$f":"Data!H39","v":"Fine-grained"},{"$f":"IF($A$6=TRUE, IF($A$5=TRUE, IF($H$1=2, IF($F$1 = 2, Data!I39, NA()), NA()), NA()), NA())","v":1.45},{"$f":"IF($A$6=TRUE, IF($A$5=TRUE, IF($H$1=2, IF($F$1 = 2, Data!J39, NA()), NA()), NA()), NA())","v":1.01446E-2},{"$f":"IF($A$6=TRUE, IF($A$5=TRUE, IF($H$1=1, IF($F$1 = 2, Data!K39, NA()), NA()), NA()), NA())","v":{"$error":"#N/A"}},{"$f":"IF($A$6=TRUE, IF($A$5=TRUE, IF($H$1=1, IF($F$1 = 2, Data!L39, NA()), NA()), NA()), NA())","v":{"$error":"#N/A"}},{"$f":"IF($A$5=TRUE, IF($A$6=TRUE, IF($F$1=2, IF($H$1=2, Data!M39, NA()), NA()), NA()), NA())","v":2.1551345},{"$f":"IF($A$5 = TRUE, IF($A$6=TRUE, IF($F$1=2, IF($H$1=1, Data!N39, NA()), NA()),NA()), NA())","v":{"$error":"#N/A"}},{"$f":"IF($A$6=TRUE, IF($A$5= TRUE, IF($H$1=2, IF($F$1 = 1, Data!O39, NA()), NA()), NA()), NA())","v":{"$error":"#N/A"}},{"$f":"IF($A$6=TRUE, IF($A$5= TRUE, IF($H$1=2, IF($F$1 = 1, Data!P39, NA()), NA()), NA()), NA())","v":{"$error":"#N/A"}},{"$f":"IF($A$6 = TRUE, IF($A$5=TRUE, IF($H$1=1, IF($F$1 = 1, Data!Q39, NA()), NA()), NA()), NA())","v":{"$error":"#N/A"}},{"$f":"IF($A$6 = TRUE, IF($A$5=TRUE, IF($H$1=1, IF($F$1 = 1, Data!R39, NA()), NA()), NA()), NA())","v":{"$error":"#N/A"}},{"$f":"IF($A$5=TRUE, IF($A$6=TRUE, IF($F$1=1, IF($H$1=2, Data!S39, NA()), NA()), NA()), NA())","v":{"$error":"#N/A"}},{"$f":"IF($A$5 = TRUE, IF($A$6=TRUE, IF($F$1=1, IF($H$1=1, Data!T39, NA()), NA()),NA()), NA())","v":{"$error":"#N/A"}}]
[null,{"$f":"Data!B86","v":"Bioremediation"},{"$f":"Data!C40","v":"Soluble"},{"$f":"Data!E40","v":"Full"},{"$f":"Data!H40","v":"Fine-grained"},{"$f":"IF($A$6=TRUE, IF($A$5=TRUE, IF($H$1=2, IF($F$1 = 2, Data!I40, NA()), NA()), NA()), NA())","v":1.2949903},{"$f":"IF($A$6=TRUE, IF($A$5=TRUE, IF($H$1=2, IF($F$1 = 2, Data!J40, NA()), NA()), NA()), NA())","v":0.51500000000000001},{"$f":"IF($A$6=TRUE, IF($A$5=TRUE, IF($H$1=1, IF($F$1 = 2, Data!K40, NA()), NA()), NA()), NA())","v":{"$error":"#N/A"}},{"$f":"IF($A$6=TRUE, IF($A$5=TRUE, IF($H$1=1, IF($F$1 = 2, Data!L40, NA()), NA()), NA()), NA())","v":{"$error":"#N/A"}},{"$f":"IF($A$5=TRUE, IF($A$6=TRUE, IF($F$1=2, IF($H$1=2, Data!M40, NA()), NA()), NA()), NA())","v":0.40045930000000002},{"$f":"IF($A$5 = TRUE, IF($A$6=TRUE, IF($F$1=2, IF($H$1=1, Data!N40, NA()), NA()),NA()), NA())","v":{"$error":"#N/A"}},{"$f":"IF($A$6=TRUE, IF($A$5= TRUE, IF($H$1=2, IF($F$1 = 1, Data!O40, NA()), NA()), NA()), NA())","v":{"$error":"#N/A"}},{"$f":"IF($A$6=TRUE, IF($A$5= TRUE, IF($H$1=2, IF($F$1 = 1, Data!P40, NA()), NA()), NA()), NA())","v":{"$error":"#N/A"}},{"$f":"IF($A$6 = TRUE, IF($A$5=TRUE, IF($H$1=1, IF($F$1 = 1, Data!Q40, NA()), NA()), NA()), NA())","v":{"$error":"#N/A"}},{"$f":"IF($A$6 = TRUE, IF($A$5=TRUE, IF($H$1=1, IF($F$1 = 1, Data!R40, NA()), NA()), NA()), NA())","v":{"$error":"#N/A"}},{"$f":"IF($A$5=TRUE, IF($A$6=TRUE, IF($F$1=1, IF($H$1=2, Data!S40, NA()), NA()), NA()), NA())","v":{"$error":"#N/A"}},{"$f":"IF($A$5 = TRUE, IF($A$6=TRUE, IF($F$1=1, IF($H$1=1, Data!T40, NA()), NA()),NA()), NA())","v":{"$error":"#N/A"}}]
[null,{"$f":"Data!B88","v":"Bioremediation"},{"$f":"Data!C41","v":"Soluble"},{"$f":"Data!E41","v":"Full"},{"$f":"Data!H41","v":"Coarse-grained"},{"$f":"IF($A$6=TRUE, IF($A$5=TRUE, IF($H$1=2, IF($F$1 = 2, Data!I41, NA()), NA()), NA()), NA())","v":0.90546099999999996},{"$f":"IF($A$6=TRUE, IF($A$5=TRUE, IF($H$1=2, IF($F$1 = 2, Data!J41, NA()), NA()), NA()), NA())","v":7.2499999999999995E-2},{"$f":"IF($A$6=TRUE, IF($A$5=TRUE, IF($H$1=1, IF($F$1 = 2, Data!K41, NA()), NA()), NA()), NA())","v":{"$error":"#N/A"}},{"$f":"IF($A$6=TRUE, IF($A$5=TRUE, IF($H$1=1, IF($F$1 = 2, Data!L41, NA()), NA()), NA()), NA())","v":{"$error":"#N/A"}},{"$f":"IF($A$5=TRUE, IF($A$6=TRUE, IF($F$1=2, IF($H$1=2, Data!M41, NA()), NA()), NA()), NA())","v":1.0965317999999999},{"$f":"IF($A$5 = TRUE, IF($A$6=TRUE, IF($F$1=2, IF($H$1=1, Data!N41, NA()), NA()),NA()), NA())","v":{"$error":"#N/A"}},{"$f":"IF($A$6=TRUE, IF($A$5= TRUE, IF($H$1=2, IF($F$1 = 1, Data!O41, NA()), NA()), NA()), NA())","v":{"$error":"#N/A"}},{"$f":"IF($A$6=TRUE, IF($A$5= TRUE, IF($H$1=2, IF($F$1 = 1, Data!P41, NA()), NA()), NA()), NA())","v":{"$error":"#N/A"}},{"$f":"IF($A$6 = TRUE, IF($A$5=TRUE, IF($H$1=1, IF($F$1 = 1, Data!Q41, NA()), NA()), NA()), NA())","v":{"$error":"#N/A"}},{"$f":"IF($A$6 = TRUE, IF($A$5=TRUE, IF($H$1=1, IF($F$1 = 1, Data!R41, NA()), NA()), NA()), NA())","v":{"$error":"#N/A"}},{"$f":"IF($A$5=TRUE, IF($A$6=TRUE, IF($F$1=1, IF($H$1=2, Data!S41, NA()), NA()), NA()), NA())","v":{"$error":"#N/A"}},{"$f":"IF($A$5 = TRUE, IF($A$6=TRUE, IF($F$1=1, IF($H$1=1, Data!T41, NA()), NA()),NA()), NA())","v":{"$error":"#N/A"}}]
[null,{"$f":"Data!B89","v":"Bioremediation"},{"$f":"Data!C42","v":"Soluble"},{"$f":"Data!E42","v":"Full"},{"$f":"Data!H42","v":"Coarse-grained"},{"$f":"IF($A$6=TRUE, IF($A$5=TRUE, IF($H$1=2, IF($F$1 = 2, Data!I42, NA()), NA()), NA()), NA())","v":8.5285100000000003E-2},{"$f":"IF($A$6=TRUE, IF($A$5=TRUE, IF($H$1=2, IF($F$1 = 2, Data!J42, NA()), NA()), NA()), NA())","v":0.17760880000000001},{"$f":"IF($A$6=TRUE, IF($A$5=TRUE, IF($H$1=1, IF($F$1 = 2, Data!K42, NA()), NA()), NA()), NA())","v":{"$error":"#N/A"}},{"$f":"IF($A$6=TRUE, IF($A$5=TRUE, IF($H$1=1, IF($F$1 = 2, Data!L42, NA()), NA()), NA()), NA())","v":{"$error":"#N/A"}},{"$f":"IF($A$5=TRUE, IF($A$6=TRUE, IF($F$1=2, IF($H$1=2, Data!M42, NA()), NA()), NA()), NA())","v":-0.31859130000000002},{"$f":"IF($A$5 = TRUE, IF($A$6=TRUE, IF($F$1=2, IF($H$1=1, Data!N42, NA()), NA()),NA()), NA())","v":{"$error":"#N/A"}},{"$f":"IF($A$6=TRUE, IF($A$5= TRUE, IF($H$1=2, IF($F$1 = 1, Data!O42, NA()), NA()), NA()), NA())","v":{"$error":"#N/A"}},{"$f":"IF($A$6=TRUE, IF($A$5= TRUE, IF($H$1=2, IF($F$1 = 1, Data!P42, NA()), NA()), NA()), NA())","v":{"$error":"#N/A"}},{"$f":"IF($A$6 = TRUE, IF($A$5=TRUE, IF($H$1=1, IF($F$1 = 1, Data!Q42, NA()), NA()), NA()), NA())","v":{"$error":"#N/A"}},{"$f":"IF($A$6 = TRUE, IF($A$5=TRUE, IF($H$1=1, IF($F$1 = 1, Data!R42, NA()), NA()), NA()), NA())","v":{"$error":"#N/A"}},{"$f":"IF($A$5=TRUE, IF($A$6=TRUE, IF($F$1=1, IF($H$1=2, Data!S42, NA()), NA()), NA()), NA())","v":{"$error":"#N/A"}},{"$f":"IF($A$5 = TRUE, IF($A$6=TRUE, IF($F$1=1, IF($H$1=1, Data!T42, NA()), NA()),NA()), NA())","v":{"$error":"#N/A"}}]
[null,{"$f":"Data!B91","v":"Bioremediation"},{"$f":"Data!C43","v":"Soluble"},{"$f":"Data!E43","v":"Full"},{"$f":"Data!H43","v":"Coarse-grained"},{"$f":"IF($A$6=TRUE, IF($A$5=TRUE, IF($H$1=2, IF($F$1 = 2, Data!I43, NA()), NA()), NA()), NA())","v":6.6373039},{"$f":"IF($A$6=TRUE, IF($A$5=TRUE, IF($H$1=2, IF($F$1 = 2, Data!J43, NA()), NA()), NA()), NA())","v":0.73036279999999998},{"$f":"IF($A$6=TRUE, IF($A$5=TRUE, IF($H$1=1, IF($F$1 = 2, Data!K43, NA()), NA()), NA()), NA())","v":{"$error":"#N/A"}},{"$f":"IF($A$6=TRUE, IF($A$5=TRUE, IF($H$1=1, IF($F$1 = 2, Data!L43, NA()), NA()), NA()), NA())","v":{"$error":"#N/A"}},{"$f":"IF($A$5=TRUE, IF($A$6=TRUE, IF($F$1=2, IF($H$1=2, Data!M43, NA()), NA()), NA()), NA())","v":0.958453},{"$f":"IF($A$5 = TRUE, IF($A$6=TRUE, IF($F$1=2, IF($H$1=1, Data!N43, NA()), NA()),NA()), NA())","v":{"$error":"#N/A"}},{"$f":"IF($A$6=TRUE, IF($A$5= TRUE, IF($H$1=2, IF($F$1 = 1, Data!O43, NA()), NA()), NA()), NA())","v":{"$error":"#N/A"}},{"$f":"IF($A$6=TRUE, IF($A$5= TRUE, IF($H$1=2, IF($F$1 = 1, Data!P43, NA()), NA()), NA()), NA())","v":{"$error":"#N/A"}},{"$f":"IF($A$6 = TRUE, IF($A$5=TRUE, IF($H$1=1, IF($F$1 = 1, Data!Q43, NA()), NA()), NA()), NA())","v":{"$error":"#N/A"}},{"$f":"IF($A$6 = TRUE, IF($A$5=TRUE, IF($H$1=1, IF($F$1 = 1, Data!R43, NA()), NA()), NA()), NA())","v":{"$error":"#N/A"}},{"$f":"IF($A$5=TRUE, IF($A$6=TRUE, IF($F$1=1, IF($H$1=2, Data!S43, NA()), NA()), NA()), NA())","v":{"$error":"#N/A"}},{"$f":"IF($A$5 = TRUE, IF($A$6=TRUE, IF($F$1=1, IF($H$1=1, Data!T43, NA()), NA()),NA()), NA())","v":{"$error":"#N/A"}}]
[null,{"$f":"Data!B93","v":"Bioremediation"},{"$f":"Data!C44","v":"Soluble"},{"$f":"Data!E44","v":"Full"},{"$f":"Data!H44","v":"Coarse-grained"},{"$f":"IF($A$6=TRUE, IF($A$5=TRUE, IF($H$1=2, IF($F$1 = 2, Data!I44, NA()), NA()), NA()), NA())","v":4.8894600000000003E-2},{"$f":"IF($A$6=TRUE, IF($A$5=TRUE, IF($H$1=2, IF($F$1 = 2, Data!J44, NA()), NA()), NA()), NA())","v":0.1220787},{"$f":"IF($A$6=TRUE, IF($A$5=TRUE, IF($H$1=1, IF($F$1 = 2, Data!K44, NA()), NA()), NA()), NA())","v":{"$error":"#N/A"}},{"$f":"IF($A$6=TRUE, IF($A$5=TRUE, IF($H$1=1, IF($F$1 = 2, Data!L44, NA()), NA()), NA()), NA())","v":{"$error":"#N/A"}},{"$f":"IF($A$5=TRUE, IF($A$6=TRUE, IF($F$1=2, IF($H$1=2, Data!M44, NA()), NA()), NA()), NA())","v":-0.39737860000000003},{"$f":"IF($A$5 = TRUE, IF($A$6=TRUE, IF($F$1=2, IF($H$1=1, Data!N44, NA()), NA()),NA()), NA())","v":{"$error":"#N/A"}},{"$f":"IF($A$6=TRUE, IF($A$5= TRUE, IF($H$1=2, IF($F$1 = 1, Data!O44, NA()), NA()), NA()), NA())","v":{"$error":"#N/A"}},{"$f":"IF($A$6=TRUE, IF($A$5= TRUE, IF($H$1=2, IF($F$1 = 1, Data!P44, NA()), NA()), NA()), NA())","v":{"$error":"#N/A"}},{"$f":"IF($A$6 = TRUE, IF($A$5=TRUE, IF($H$1=1, IF($F$1 = 1, Data!Q44, NA()), NA()), NA()), NA())","v":{"$error":"#N/A"}},{"$f":"IF($A$6 = TRUE, IF($A$5=TRUE, IF($H$1=1, IF($F$1 = 1, Data!R44, NA()), NA()), NA()), NA())","v":{"$error":"#N/A"}},{"$f":"IF($A$5=TRUE, IF($A$6=TRUE, IF($F$1=1, IF($H$1=2, Data!S44, NA()), NA()), NA()), NA())","v":{"$error":"#N/A"}},{"$f":"IF($A$5 = TRUE, IF($A$6=TRUE, IF($F$1=1, IF($H$1=1, Data!T44, NA()), NA()),NA()), NA())","v":{"$error":"#N/A"}}]
[null,{"$f":"Data!B94","v":"Bioremediation"},{"$f":"Data!C45","v":"Soluble"},{"$f":"Data!E45","v":"Full"},{"$f":"Data!H45","v":"Fine-grained"},{"$f":"IF($A$6=TRUE, IF($A$5=TRUE, IF($H$1=2, IF($F$1 = 2, Data!I45, NA()), NA()), NA()), NA())","v":3.1622999999999998E-3},{"$f":"IF($A$6=TRUE, IF($A$5=TRUE, IF($H$1=2, IF($F$1 = 2, Data!J45, NA()), NA()), NA()), NA())","v":3.4199999999999999E-3},{"$f":"IF($A$6=TRUE, IF($A$5=TRUE, IF($H$1=1, IF($F$1 = 2, Data!K45, NA()), NA()), NA()), NA())","v":{"$error":"#N/A"}},{"$f":"IF($A$6=TRUE, IF($A$5=TRUE, IF($H$1=1, IF($F$1 = 2, Data!L45, NA()), NA()), NA()), NA())","v":{"$error":"#N/A"}},{"$f":"IF($A$5=TRUE, IF($A$6=TRUE, IF($F$1=2, IF($H$1=2, Data!M45, NA()), NA()), NA()), NA())","v":-3.4020000000000002E-2},{"$f":"IF($A$5 = TRUE, IF($A$6=TRUE, IF($F$1=2, IF($H$1=1, Data!N45, NA()), NA()),NA()), NA())","v":{"$error":"#N/A"}},{"$f":"IF($A$6=TRUE, IF($A$5= TRUE, IF($H$1=2, IF($F$1 = 1, Data!O45, NA()), NA()), NA()), NA())","v":{"$error":"#N/A"}},{"$f":"IF($A$6=TRUE, IF($A$5= TRUE, IF($H$1=2, IF($F$1 = 1, Data!P45, NA()), NA()), NA()), NA())","v":{"$error":"#N/A"}},{"$f":"IF($A$6 = TRUE, IF($A$5=TRUE, IF($H$1=1, IF($F$1 = 1, Data!Q45, NA()), NA()), NA()), NA())","v":{"$error":"#N/A"}},{"$f":"IF($A$6 = TRUE, IF($A$5=TRUE, IF($H$1=1, IF($F$1 = 1, Data!R45, NA()), NA()), NA()), NA())","v":{"$error":"#N/A"}},{"$f":"IF($A$5=TRUE, IF($A$6=TRUE, IF($F$1=1, IF($H$1=2, Data!S45, NA()), NA()), NA()), NA())","v":{"$error":"#N/A"}},{"$f":"IF($A$5 = TRUE, IF($A$6=TRUE, IF($F$1=1, IF($H$1=1, Data!T45, NA()), NA()),NA()), NA())","v":{"$error":"#N/A"}}]
[null,{"$f":"Data!B95","v":"Bioremediation"},{"$f":"Data!C46","v":"Soluble"},{"$f":"Data!E46","v":"Full"},{"$f":"Data!H46","v":"Fine-grained"},{"$f":"IF($A$6=TRUE, IF($A$5=TRUE, IF($H$1=2, IF($F$1 = 2, Data!I46, NA()), NA()), NA()), NA())","v":0.36946299999999999},{"$f":"IF($A$6=TRUE, IF($A$5=TRUE, IF($H$1=2, IF($F$1 = 2, Data!J46, NA()), NA()), NA()), NA())","v":1E-3},{"$f":"IF($A$6=TRUE, IF($A$5=TRUE, IF($H$1=1, IF($F$1 = 2, Data!K46, NA()), NA()), NA()), NA())","v":{"$error":"#N/A"}},{"$f":"IF($A$6=TRUE, IF($A$5=TRUE, IF($H$1=1, IF($F$1 = 2, Data!L46, NA()), NA()), NA()), NA())","v":{"$error":"#N/A"}},{"$f":"IF($A$5=TRUE, IF($A$6=TRUE, IF($F$1=2, IF($H$1=2, Data!M46, NA()), NA()), NA()), NA())","v":2.8923941000000002},{"$f":"IF($A$5 = TRUE, IF($A$6=TRUE, IF($F$1=2, IF($H$1=1, Data!N46, NA()), NA()),NA()), NA())","v":{"$error":"#N/A"}},{"$f":"IF($A$6=TRUE, IF($A$5= TRUE, IF($H$1=2, IF($F$1 = 1, Data!O46, NA()), NA()), NA()), NA())","v":{"$error":"#N/A"}},{"$f":"IF($A$6=TRUE, IF($A$5= TRUE, IF($H$1=2, IF($F$1 = 1, Data!P46, NA()), NA()), NA()), NA())","v":{"$error":"#N/A"}},{"$f":"IF($A$6 = TRUE, IF($A$5=TRUE, IF($H$1=1, IF($F$1 = 1, Data!Q46, NA()), NA()), NA()), NA())","v":{"$error":"#N/A"}},{"$f":"IF($A$6 = TRUE, IF($A$5=TRUE, IF($H$1=1, IF($F$1 = 1, Data!R46, NA()), NA()), NA()), NA())","v":{"$error":"#N/A"}},{"$f":"IF($A$5=TRUE, IF($A$6=TRUE, IF($F$1=1, IF($H$1=2, Data!S46, NA()), NA()), NA()), NA())","v":{"$error":"#N/A"}},{"$f":"IF($A$5 = TRUE, IF($A$6=TRUE, IF($F$1=1, IF($H$1=1, Data!T46, NA()), NA()),NA()), NA())","v":{"$error":"#N/A"}}]
[null,{"$f":"Data!B96","v":"Bioremediation"},{"$f":"Data!C47","v":"Soluble"},{"$f":"Data!E47","v":"Full"},{"$f":"Data!H47","v":0},{"$f":"IF($A$6=TRUE, IF($A$5=TRUE, IF($H$1=2, IF($F$1 = 2, Data!I47, NA()), NA()), NA()), NA())","v":2.6318000000000001E-3},{"$f":"IF($A$6=TRUE, IF($A$5=TRUE, IF($H$1=2, IF($F$1 = 2, Data!J47, NA()), NA()), NA()), NA())","v":2.5699999999999998E-3},{"$f":"IF($A$6=TRUE, IF($A$5=TRUE, IF($H$1=1, IF($F$1 = 2, Data!K47, NA()), NA()), NA()), NA())","v":{"$error":"#N/A"}},{"$f":"IF($A$6=TRUE, IF($A$5=TRUE, IF($H$1=1, IF($F$1 = 2, Data!L47, NA()), NA()), NA()), NA())","v":{"$error":"#N/A"}},{"$f":"IF($A$5=TRUE, IF($A$6=TRUE, IF($F$1=2, IF($H$1=2, Data!M47, NA()), NA()), NA()), NA())","v":1.0324099999999999E-2},{"$f":"IF($A$5 = TRUE, IF($A$6=TRUE, IF($F$1=2, IF($H$1=1, Data!N47, NA()), NA()),NA()), NA())","v":{"$error":"#N/A"}},{"$f":"IF($A$6=TRUE, IF($A$5= TRUE, IF($H$1=2, IF($F$1 = 1, Data!O47, NA()), NA()), NA()), NA())","v":{"$error":"#N/A"}},{"$f":"IF($A$6=TRUE, IF($A$5= TRUE, IF($H$1=2, IF($F$1 = 1, Data!P47, NA()), NA()), NA()), NA())","v":{"$error":"#N/A"}},{"$f":"IF($A$6 = TRUE, IF($A$5=TRUE, IF($H$1=1, IF($F$1 = 1, Data!Q47, NA()), NA()), NA()), NA())","v":{"$error":"#N/A"}},{"$f":"IF($A$6 = TRUE, IF($A$5=TRUE, IF($H$1=1, IF($F$1 = 1, Data!R47, NA()), NA()), NA()), NA())","v":{"$error":"#N/A"}},{"$f":"IF($A$5=TRUE, IF($A$6=TRUE, IF($F$1=1, IF($H$1=2, Data!S47, NA()), NA()), NA()), NA())","v":{"$error":"#N/A"}},{"$f":"IF($A$5 = TRUE, IF($A$6=TRUE, IF($F$1=1, IF($H$1=1, Data!T47, NA()), NA()),NA()), NA())","v":{"$error":"#N/A"}}]
[null,{"$f":"Data!B98","v":"Bioremediation"},{"$f":"Data!C48","v":"Soluble"},{"$f":"Data!E48","v":"Full"},{"$f":"Data!H48","v":0},{"$f":"IF($A$6=TRUE, IF($A$5=TRUE, IF($H$1=2, IF($F$1 = 2, Data!I48, NA()), NA()), NA()), NA())","v":2.3250699999999999E-2},{"$f":"IF($A$6=TRUE, IF($A$5=TRUE, IF($H$1=2, IF($F$1 = 2, Data!J48, NA()), NA()), NA()), NA())","v":2.3E-3},{"$f":"IF($A$6=TRUE, IF($A$5=TRUE, IF($H$1=1, IF($F$1 = 2, Data!K48, NA()), NA()), NA()), NA())","v":{"$error":"#N/A"}},{"$f":"IF($A$6=TRUE, IF($A$5=TRUE, IF($H$1=1, IF($F$1 = 2, Data!L48, NA()), NA()), NA()), NA())","v":{"$error":"#N/A"}},{"$f":"IF($A$5=TRUE, IF($A$6=TRUE, IF($F$1=2, IF($H$1=2, Data!M48, NA()), NA()), NA()), NA())","v":1.0047086999999999},{"$f":"IF($A$5 = TRUE, IF($A$6=TRUE, IF($F$1=2, IF($H$1=1, Data!N48, NA()), NA()),NA()), NA())","v":{"$error":"#N/A"}},{"$f":"IF($A$6=TRUE, IF($A$5= TRUE, IF($H$1=2, IF($F$1 = 1, Data!O48, NA()), NA()), NA()), NA())","v":{"$error":"#N/A"}},{"$f":"IF($A$6=TRUE, IF($A$5= TRUE, IF($H$1=2, IF($F$1 = 1, Data!P48, NA()), NA()), NA()), NA())","v":{"$error":"#N/A"}},{"$f":"IF($A$6 = TRUE, IF($A$5=TRUE, IF($H$1=1, IF($F$1 = 1, Data!Q48, NA()), NA()), NA()), NA())","v":{"$error":"#N/A"}},{"$f":"IF($A$6 = TRUE, IF($A$5=TRUE, IF($H$1=1, IF($F$1 = 1, Data!R48, NA()), NA()), NA()), NA())","v":{"$error":"#N/A"}},{"$f":"IF($A$5=TRUE, IF($A$6=TRUE, IF($F$1=1, IF($H$1=2, Data!S48, NA()), NA()), NA()), NA())","v":{"$error":"#N/A"}},{"$f":"IF($A$5 = TRUE, IF($A$6=TRUE, IF($F$1=1, IF($H$1=1, Data!T48, NA()), NA()),NA()), NA())","v":{"$error":"#N/A"}}]
[null,{"$f":"Data!B100","v":"Bioremediation"},{"$f":"Data!C49","v":"Soluble"},{"$f":"Data!E49","v":"Full"},{"$f":"Data!H49","v":"Fine-grained"},{"$f":"IF($A$6=TRUE, IF($A$5=TRUE, IF($H$1=2, IF($F$1 = 2, Data!I49, NA()), NA()), NA()), NA())","v":2.9475999999999999E-3},{"$f":"IF($A$6=TRUE, IF($A$5=TRUE, IF($H$1=2, IF($F$1 = 2, Data!J49, NA()), NA()), NA()), NA())","v":1E-3},{"$f":"IF($A$6=TRUE, IF($A$5=TRUE, IF($H$1=1, IF($F$1 = 2, Data!K49, NA()), NA()), NA()), NA())","v":{"$error":"#N/A"}},{"$f":"IF($A$6=TRUE, IF($A$5=TRUE, IF($H$1=1, IF($F$1 = 2, Data!L49, NA()), NA()), NA()), NA())","v":{"$error":"#N/A"}},{"$f":"IF($A$5=TRUE, IF($A$6=TRUE, IF($F$1=2, IF($H$1=2, Data!M49, NA()), NA()), NA()), NA())","v":0.53993769999999996},{"$f":"IF($A$5 = TRUE, IF($A$6=TRUE, IF($F$1=2, IF($H$1=1, Data!N49, NA()), NA()),NA()), NA())","v":{"$error":"#N/A"}},{"$f":"IF($A$6=TRUE, IF($A$5= TRUE, IF($H$1=2, IF($F$1 = 1, Data!O49, NA()), NA()), NA()), NA())","v":{"$error":"#N/A"}},{"$f":"IF($A$6=TRUE, IF($A$5= TRUE, IF($H$1=2, IF($F$1 = 1, Data!P49, NA()), NA()), NA()), NA())","v":{"$error":"#N/A"}},{"$f":"IF($A$6 = TRUE, IF($A$5=TRUE, IF($H$1=1, IF($F$1 = 1, Data!Q49, NA()), NA()), NA()), NA())","v":{"$error":"#N/A"}},{"$f":"IF($A$6 = TRUE, IF($A$5=TRUE, IF($H$1=1, IF($F$1 = 1, Data!R49, NA()), NA()), NA()), NA())","v":{"$error":"#N/A"}},{"$f":"IF($A$5=TRUE, IF($A$6=TRUE, IF($F$1=1, IF($H$1=2, Data!S49, NA()), NA()), NA()), NA())","v":{"$error":"#N/A"}},{"$f":"IF($A$5 = TRUE, IF($A$6=TRUE, IF($F$1=1, IF($H$1=1, Data!T49, NA()), NA()),NA()), NA())","v":{"$error":"#N/A"}}]
[null,{"$f":"Data!B101","v":"Bioremediation"},{"$f":"Data!C50","v":"Soluble"},{"$f":"Data!E50","v":"Full"},{"$f":"Data!H50","v":"Fine-grained"},{"$f":"IF($A$6=TRUE, IF($A$5=TRUE, IF($H$1=2, IF($F$1 = 2, Data!I50, NA()), NA()), NA()), NA())","v":0.2887825},{"$f":"IF($A$6=TRUE, IF($A$5=TRUE, IF($H$1=2, IF($F$1 = 2, Data!J50, NA()), NA()), NA()), NA())","v":1.4103E-3},{"$f":"IF($A$6=TRUE, IF($A$5=TRUE, IF($H$1=1, IF($F$1 = 2, Data!K50, NA()), NA()), NA()), NA())","v":{"$error":"#N/A"}},{"$f":"IF($A$6=TRUE, IF($A$5=TRUE, IF($H$1=1, IF($F$1 = 2, Data!L50, NA()), NA()), NA()), NA())","v":{"$error":"#N/A"}},{"$f":"IF($A$5=TRUE, IF($A$6=TRUE, IF($F$1=2, IF($H$1=2, Data!M50, NA()), NA()), NA()), NA())","v":2.3112648999999998},{"$f":"IF($A$5 = TRUE, IF($A$6=TRUE, IF($F$1=2, IF($H$1=1, Data!N50, NA()), NA()),NA()), NA())","v":{"$error":"#N/A"}},{"$f":"IF($A$6=TRUE, IF($A$5= TRUE, IF($H$1=2, IF($F$1 = 1, Data!O50, NA()), NA()), NA()), NA())","v":{"$error":"#N/A"}},{"$f":"IF($A$6=TRUE, IF($A$5= TRUE, IF($H$1=2, IF($F$1 = 1, Data!P50, NA()), NA()), NA()), NA())","v":{"$error":"#N/A"}},{"$f":"IF($A$6 = TRUE, IF($A$5=TRUE, IF($H$1=1, IF($F$1 = 1, Data!Q50, NA()), NA()), NA()), NA())","v":{"$error":"#N/A"}},{"$f":"IF($A$6 = TRUE, IF($A$5=TRUE, IF($H$1=1, IF($F$1 = 1, Data!R50, NA()), NA()), NA()), NA())","v":{"$error":"#N/A"}},{"$f":"IF($A$5=TRUE, IF($A$6=TRUE, IF($F$1=1, IF($H$1=2, Data!S50, NA()), NA()), NA()), NA())","v":{"$error":"#N/A"}},{"$f":"IF($A$5 = TRUE, IF($A$6=TRUE, IF($F$1=1, IF($H$1=1, Data!T50, NA()), NA()),NA()), NA())","v":{"$error":"#N/A"}}]
[null,{"$f":"Data!B87","v":"Bioremediation"},{"$f":"Data!C51","v":"Soluble & Semi-Soluble"},{"$f":"Data!E51","v":"Full"},{"$f":"Data!H51","v":"Fine-grained"},{"$f":"IF($A$8=TRUE, IF($A$5=TRUE, IF($H$1=2, IF($F$1 = 2, Data!I51, NA()), NA()), NA()), NA())","v":3.3955000000000001E-3},{"$f":"IF($A$8=TRUE, IF($A$5=TRUE, IF($H$1=2, IF($F$1 = 2, Data!J51, NA()), NA()), NA()), NA())","v":1E-3},{"$f":"IF($A$8=TRUE, IF($A$5=TRUE, IF($H$1=1, IF($F$1 = 2, Data!K51, NA()), NA()), NA()), NA())","v":{"$error":"#N/A"}},{"$f":"IF($A$8=TRUE, IF($A$5=TRUE, IF($H$1=1, IF($F$1 = 2, Data!L51, NA()), NA()), NA()), NA())","v":{"$error":"#N/A"}},{"$f":"IF($A$5=TRUE, IF($A$8=TRUE, IF($F$1=2, IF($H$1=2, Data!M51, NA()), NA()), NA()), NA())","v":0.69530000000000003},{"$f":"IF($A$5 = TRUE, IF($A$8=TRUE, IF($F$1=2, IF($H$1=1, Data!N51, NA()), NA()),NA()), NA())","v":{"$error":"#N/A"}},{"$f":"IF($A$8=TRUE, IF($A$5= TRUE, IF($H$1=2, IF($F$1 = 1, Data!O51, NA()), NA()), NA()), NA())","v":{"$error":"#N/A"}},{"$f":"IF($A$8=TRUE, IF($A$5= TRUE, IF($H$1=2, IF($F$1 = 1, Data!P51, NA()), NA()), NA()), NA())","v":{"$error":"#N/A"}},{"$f":"IF($A$8 = TRUE, IF($A$5=TRUE, IF($H$1=1, IF($F$1 = 1, Data!Q51, NA()), NA()), NA()), NA())","v":{"$error":"#N/A"}},{"$f":"IF($A$8 = TRUE, IF($A$5=TRUE, IF($H$1=1, IF($F$1 = 1, Data!R51, NA()), NA()), NA()), NA())","v":{"$error":"#N/A"}},{"$f":"IF($A$5=TRUE, IF($A$8=TRUE, IF($F$1=1, IF($H$1=2, Data!S51, NA()), NA()), NA()), NA())","v":{"$error":"#N/A"}},{"$f":"IF($A$5 = TRUE, IF($A$8=TRUE, IF($F$1=1, IF($H$1=1, Data!T51, NA()), NA()),NA()), NA())","v":{"$error":"#N/A"}}]
[null,{"$f":"Data!B92","v":"Bioremediation"},{"$f":"Data!C52","v":"Soluble & Semi-Soluble"},{"$f":"Data!E52","v":"Full"},{"$f":"Data!H52","v":"Fine-grained"},{"$f":"IF($A$8=TRUE, IF($A$5=TRUE, IF($H$1=2, IF($F$1 = 2, Data!I52, NA()), NA()), NA()), NA())","v":2.2000000000000002},{"$f":"IF($A$8=TRUE, IF($A$5=TRUE, IF($H$1=2, IF($F$1 = 2, Data!J52, NA()), NA()), NA()), NA())","v":1.03E-2},{"$f":"IF($A$8=TRUE, IF($A$5=TRUE, IF($H$1=1, IF($F$1 = 2, Data!K52, NA()), NA()), NA()), NA())","v":{"$error":"#N/A"}},{"$f":"IF($A$8=TRUE, IF($A$5=TRUE, IF($H$1=1, IF($F$1 = 2, Data!L52, NA()), NA()), NA()), NA())","v":{"$error":"#N/A"}},{"$f":"IF($A$5=TRUE, IF($A$8=TRUE, IF($F$1=2, IF($H$1=2, Data!M52, NA()), NA()), NA()), NA())","v":2.3295854999999999},{"$f":"IF($A$5 = TRUE, IF($A$8=TRUE, IF($F$1=2, IF($H$1=1, Data!N52, NA()), NA()),NA()), NA())","v":{"$error":"#N/A"}},{"$f":"IF($A$8=TRUE, IF($A$5= TRUE, IF($H$1=2, IF($F$1 = 1, Data!O52, NA()), NA()), NA()), NA())","v":{"$error":"#N/A"}},{"$f":"IF($A$8=TRUE, IF($A$5= TRUE, IF($H$1=2, IF($F$1 = 1, Data!P52, NA()), NA()), NA()), NA())","v":{"$error":"#N/A"}},{"$f":"IF($A$8 = TRUE, IF($A$5=TRUE, IF($H$1=1, IF($F$1 = 1, Data!Q52, NA()), NA()), NA()), NA())","v":{"$error":"#N/A"}},{"$f":"IF($A$8 = TRUE, IF($A$5=TRUE, IF($H$1=1, IF($F$1 = 1, Data!R52, NA()), NA()), NA()), NA())","v":{"$error":"#N/A"}},{"$f":"IF($A$5=TRUE, IF($A$8=TRUE, IF($F$1=1, IF($H$1=2, Data!S52, NA()), NA()), NA()), NA())","v":{"$error":"#N/A"}},{"$f":"IF($A$5 = TRUE, IF($A$8=TRUE, IF($F$1=1, IF($H$1=1, Data!T52, NA()), NA()),NA()), NA())","v":{"$error":"#N/A"}}]
[null,{"$f":"Data!B99","v":"Bioremediation"},{"$f":"Data!C53","v":"Soluble & Semi-Soluble"},{"$f":"Data!E53","v":"Full"},{"$f":"Data!H53","v":"Fine-grained"},{"$f":"IF($A$8=TRUE, IF($A$5=TRUE, IF($H$1=2, IF($F$1 = 2, Data!I53, NA()), NA()), NA()), NA())","v":2.2061299999999999E-2},{"$f":"IF($A$8=TRUE, IF($A$5=TRUE, IF($H$1=2, IF($F$1 = 2, Data!J53, NA()), NA()), NA()), NA())","v":3.2136999999999999E-3},{"$f":"IF($A$8=TRUE, IF($A$5=TRUE, IF($H$1=1, IF($F$1 = 2, Data!K53, NA()), NA()), NA()), NA())","v":{"$error":"#N/A"}},{"$f":"IF($A$8=TRUE, IF($A$5=TRUE, IF($H$1=1, IF($F$1 = 2, Data!L53, NA()), NA()), NA()), NA())","v":{"$error":"#N/A"}},{"$f":"IF($A$5=TRUE, IF($A$8=TRUE, IF($F$1=2, IF($H$1=2, Data!M53, NA()), NA()), NA()), NA())","v":0.83662999999999998},{"$f":"IF($A$5 = TRUE, IF($A$8=TRUE, IF($F$1=2, IF($H$1=1, Data!N53, NA()), NA()),NA()), NA())","v":{"$error":"#N/A"}},{"$f":"IF($A$8=TRUE, IF($A$5= TRUE, IF($H$1=2, IF($F$1 = 1, Data!O53, NA()), NA()), NA()), NA())","v":{"$error":"#N/A"}},{"$f":"IF($A$8=TRUE, IF($A$5= TRUE, IF($H$1=2, IF($F$1 = 1, Data!P53, NA()), NA()), NA()), NA())","v":{"$error":"#N/A"}},{"$f":"IF($A$8 = TRUE, IF($A$5=TRUE, IF($H$1=1, IF($F$1 = 1, Data!Q53, NA()), NA()), NA()), NA())","v":{"$error":"#N/A"}},{"$f":"IF($A$8 = TRUE, IF($A$5=TRUE, IF($H$1=1, IF($F$1 = 1, Data!R53, NA()), NA()), NA()), NA())","v":{"$error":"#N/A"}},{"$f":"IF($A$5=TRUE, IF($A$8=TRUE, IF($F$1=1, IF($H$1=2, Data!S53, NA()), NA()), NA()), NA())","v":{"$error":"#N/A"}},{"$f":"IF($A$5 = TRUE, IF($A$8=TRUE, IF($F$1=1, IF($H$1=1, Data!T53, NA()), NA()),NA()), NA())","v":{"$error":"#N/A"}}]
[null,{"$f":"Data!B31","v":"Bioremediation"},{"$f":"Data!C54","v":"Semi-Soluble / Slow-Release"},{"$f":"Data!E54","v":"Full"},{"$f":"Data!H54","v":"Fine-grained"},{"$f":"IF($A$7=TRUE, IF($A$5=TRUE, IF($H$1=2, IF($F$1 = 2, Data!I54, NA()), NA()), NA()), NA())","v":9.0111042999999995},{"$f":"IF($A$7=TRUE, IF($A$5=TRUE, IF($H$1=2, IF($F$1 = 2, Data!J54, NA()), NA()), NA()), NA())","v":0.1254982},{"$f":"IF($A$7=TRUE, IF($A$5=TRUE, IF($H$1=1, IF($F$1 = 2, Data!K54, NA()), NA()), NA()), NA())","v":{"$error":"#N/A"}},{"$f":"IF($A$7=TRUE, IF($A$5=TRUE, IF($H$1=1, IF($F$1 = 2, Data!L54, NA()), NA()), NA()), NA())","v":{"$error":"#N/A"}},{"$f":"IF($A$5=TRUE, IF($A$7=TRUE, IF($F$1=2, IF($H$1=2, Data!M54, NA()), NA()), NA()), NA())","v":1.8561405},{"$f":"IF($A$5 = TRUE, IF($A$7=TRUE, IF($F$1=2, IF($H$1=1, Data!N54, NA()), NA()),NA()), NA())","v":{"$error":"#N/A"}},{"$f":"IF($A$7=TRUE, IF($A$5= TRUE, IF($H$1=2, IF($F$1 = 1, Data!O54, NA()), NA()), NA()), NA())","v":{"$error":"#N/A"}},{"$f":"IF($A$7=TRUE, IF($A$5= TRUE, IF($H$1=2, IF($F$1 = 1, Data!P54, NA()), NA()), NA()), NA())","v":{"$error":"#N/A"}},{"$f":"IF($A$7 = TRUE, IF($A$5=TRUE, IF($H$1=1, IF($F$1 = 1, Data!Q54, NA()), NA()), NA()), NA())","v":{"$error":"#N/A"}},{"$f":"IF($A$7 = TRUE, IF($A$5=TRUE, IF($H$1=1, IF($F$1 = 1, Data!R54, NA()), NA()), NA()), NA())","v":{"$error":"#N/A"}},{"$f":"IF($A$5=TRUE, IF($A$7=TRUE, IF($F$1=1, IF($H$1=2, Data!S54, NA()), NA()), NA()), NA())","v":{"$error":"#N/A"}},{"$f":"IF($A$5 = TRUE, IF($A$7=TRUE, IF($F$1=1, IF($H$1=1, Data!T54, NA()), NA()),NA()), NA())","v":{"$error":"#N/A"}}]
[null,{"$f":"Data!B33","v":"Bioremediation"},{"$f":"Data!C55","v":"Semi-Soluble / Slow-Release"},{"$f":"Data!E55","v":"Pilot"},{"$f":"Data!H55","v":"Fine-grained"},{"$f":"IF($A$7=TRUE, IF($A$5=TRUE, IF($H$1=2, IF($F$1 = 2, Data!I55, NA()), NA()), NA()), NA())","v":26.071125800000001},{"$f":"IF($A$7=TRUE, IF($A$5=TRUE, IF($H$1=2, IF($F$1 = 2, Data!J55, NA()), NA()), NA()), NA())","v":6.7385700000000007E-2},{"$f":"IF($A$7=TRUE, IF($A$5=TRUE, IF($H$1=1, IF($F$1 = 2, Data!K55, NA()), NA()), NA()), NA())","v":{"$error":"#N/A"}},{"$f":"IF($A$7=TRUE, IF($A$5=TRUE, IF($H$1=1, IF($F$1 = 2, Data!L55, NA()), NA()), NA()), NA())","v":{"$error":"#N/A"}},{"$f":"IF($A$5=TRUE, IF($A$7=TRUE, IF($F$1=2, IF($H$1=2, Data!M55, NA()), NA()), NA()), NA())","v":2.5875922},{"$f":"IF($A$5 = TRUE, IF($A$7=TRUE, IF($F$1=2, IF($H$1=1, Data!N55, NA()), NA()),NA()), NA())","v":{"$error":"#N/A"}},{"$f":"IF($A$7=TRUE, IF($A$5= TRUE, IF($H$1=2, IF($F$1 = 1, Data!O55, NA()), NA()), NA()), NA())","v":{"$error":"#N/A"}},{"$f":"IF($A$7=TRUE, IF($A$5= TRUE, IF($H$1=2, IF($F$1 = 1, Data!P55, NA()), NA()), NA()), NA())","v":{"$error":"#N/A"}},{"$f":"IF($A$7 = TRUE, IF($A$5=TRUE, IF($H$1=1, IF($F$1 = 1, Data!Q55, NA()), NA()), NA()), NA())","v":{"$error":"#N/A"}},{"$f":"IF($A$7 = TRUE, IF($A$5=TRUE, IF($H$1=1, IF($F$1 = 1, Data!R55, NA()), NA()), NA()), NA())","v":{"$error":"#N/A"}},{"$f":"IF($A$5=TRUE, IF($A$7=TRUE, IF($F$1=1, IF($H$1=2, Data!S55, NA()), NA()), NA()), NA())","v":{"$error":"#N/A"}},{"$f":"IF($A$5 = TRUE, IF($A$7=TRUE, IF($F$1=1, IF($H$1=1, Data!T55, NA()), NA()),NA()), NA())","v":{"$error":"#N/A"}}]
[null,{"$f":"Data!B34","v":"Bioremediation"},{"$f":"Data!C56","v":"Semi-Soluble / Slow-Release"},{"$f":"Data!E56","v":"Pilot"},{"$f":"Data!H56","v":"Fine-grained"},{"$f":"IF($A$7=TRUE, IF($A$5=TRUE, IF($H$1=2, IF($F$1 = 2, Data!I56, NA()), NA()), NA()), NA())","v":12.3},{"$f":"IF($A$7=TRUE, IF($A$5=TRUE, IF($H$1=2, IF($F$1 = 2, Data!J56, NA()), NA()), NA()), NA())","v":2.4494999999999999E-3},{"$f":"IF($A$7=TRUE, IF($A$5=TRUE, IF($H$1=1, IF($F$1 = 2, Data!K56, NA()), NA()), NA()), NA())","v":{"$error":"#N/A"}},{"$f":"IF($A$7=TRUE, IF($A$5=TRUE, IF($H$1=1, IF($F$1 = 2, Data!L56, NA()), NA()), NA()), NA())","v":{"$error":"#N/A"}},{"$f":"IF($A$5=TRUE, IF($A$7=TRUE, IF($F$1=2, IF($H$1=2, Data!M56, NA()), NA()), NA()), NA())","v":3.7008295000000002},{"$f":"IF($A$5 = TRUE, IF($A$7=TRUE, IF($F$1=2, IF($H$1=1, Data!N56, NA()), NA()),NA()), NA())","v":{"$error":"#N/A"}},{"$f":"IF($A$7=TRUE, IF($A$5= TRUE, IF($H$1=2, IF($F$1 = 1, Data!O56, NA()), NA()), NA()), NA())","v":{"$error":"#N/A"}},{"$f":"IF($A$7=TRUE, IF($A$5= TRUE, IF($H$1=2, IF($F$1 = 1, Data!P56, NA()), NA()), NA()), NA())","v":{"$error":"#N/A"}},{"$f":"IF($A$7 = TRUE, IF($A$5=TRUE, IF($H$1=1, IF($F$1 = 1, Data!Q56, NA()), NA()), NA()), NA())","v":{"$error":"#N/A"}},{"$f":"IF($A$7 = TRUE, IF($A$5=TRUE, IF($H$1=1, IF($F$1 = 1, Data!R56, NA()), NA()), NA()), NA())","v":{"$error":"#N/A"}},{"$f":"IF($A$5=TRUE, IF($A$7=TRUE, IF($F$1=1, IF($H$1=2, Data!S56, NA()), NA()), NA()), NA())","v":{"$error":"#N/A"}},{"$f":"IF($A$5 = TRUE, IF($A$7=TRUE, IF($F$1=1, IF($H$1=1, Data!T56, NA()), NA()),NA()), NA())","v":{"$error":"#N/A"}}]
[null,{"$f":"Data!B35","v":"Bioremediation"},{"$f":"Data!C57","v":"Semi-Soluble / Slow-Release"},{"$f":"Data!E57","v":"Full"},{"$f":"Data!H57","v":"Fine-grained"},{"$f":"IF($A$7=TRUE, IF($A$5=TRUE, IF($H$1=2, IF($F$1 = 2, Data!I57, NA()), NA()), NA()), NA())","v":0.4},{"$f":"IF($A$7=TRUE, IF($A$5=TRUE, IF($H$1=2, IF($F$1 = 2, Data!J57, NA()), NA()), NA()), NA())","v":1.11404E-2},{"$f":"IF($A$7=TRUE, IF($A$5=TRUE, IF($H$1=1, IF($F$1 = 2, Data!K57, NA()), NA()), NA()), NA())","v":{"$error":"#N/A"}},{"$f":"IF($A$7=TRUE, IF($A$5=TRUE, IF($H$1=1, IF($F$1 = 2, Data!L57, NA()), NA()), NA()), NA())","v":{"$error":"#N/A"}},{"$f":"IF($A$5=TRUE, IF($A$7=TRUE, IF($F$1=2, IF($H$1=2, Data!M57, NA()), NA()), NA()), NA())","v":1.5551604999999999},{"$f":"IF($A$5 = TRUE, IF($A$7=TRUE, IF($F$1=2, IF($H$1=1, Data!N57, NA()), NA()),NA()), NA())","v":{"$error":"#N/A"}},{"$f":"IF($A$7=TRUE, IF($A$5= TRUE, IF($H$1=2, IF($F$1 = 1, Data!O57, NA()), NA()), NA()), NA())","v":{"$error":"#N/A"}},{"$f":"IF($A$7=TRUE, IF($A$5= TRUE, IF($H$1=2, IF($F$1 = 1, Data!P57, NA()), NA()), NA()), NA())","v":{"$error":"#N/A"}},{"$f":"IF($A$7 = TRUE, IF($A$5=TRUE, IF($H$1=1, IF($F$1 = 1, Data!Q57, NA()), NA()), NA()), NA())","v":{"$error":"#N/A"}},{"$f":"IF($A$7 = TRUE, IF($A$5=TRUE, IF($H$1=1, IF($F$1 = 1, Data!R57, NA()), NA()), NA()), NA())","v":{"$error":"#N/A"}},{"$f":"IF($A$5=TRUE, IF($A$7=TRUE, IF($F$1=1, IF($H$1=2, Data!S57, NA()), NA()), NA()), NA())","v":{"$error":"#N/A"}},{"$f":"IF($A$5 = TRUE, IF($A$7=TRUE, IF($F$1=1, IF($H$1=1, Data!T57, NA()), NA()),NA()), NA())","v":{"$error":"#N/A"}}]
[null,{"$f":"Data!B39","v":"Bioremediation"},{"$f":"Data!C58","v":"Semi-Soluble / Slow-Release"},{"$f":"Data!E58","v":"Full"},{"$f":"Data!H58","v":0},{"$f":"IF($A$7=TRUE, IF($A$5=TRUE, IF($H$1=2, IF($F$1 = 2, Data!I58, NA()), NA()), NA()), NA())","v":3.5},{"$f":"IF($A$7=TRUE, IF($A$5=TRUE, IF($H$1=2, IF($F$1 = 2, Data!J58, NA()), NA()), NA()), NA())","v":0.60922929999999997},{"$f":"IF($A$7=TRUE, IF($A$5=TRUE, IF($H$1=1, IF($F$1 = 2, Data!K58, NA()), NA()), NA()), NA())","v":{"$error":"#N/A"}},{"$f":"IF($A$7=TRUE, IF($A$5=TRUE, IF($H$1=1, IF($F$1 = 2, Data!L58, NA()), NA()), NA()), NA())","v":{"$error":"#N/A"}},{"$f":"IF($A$5=TRUE, IF($A$7=TRUE, IF($F$1=2, IF($H$1=2, Data!M58, NA()), NA()), NA()), NA())","v":0.7592873},{"$f":"IF($A$5 = TRUE, IF($A$7=TRUE, IF($F$1=2, IF($H$1=1, Data!N58, NA()), NA()),NA()), NA())","v":{"$error":"#N/A"}},{"$f":"IF($A$7=TRUE, IF($A$5= TRUE, IF($H$1=2, IF($F$1 = 1, Data!O58, NA()), NA()), NA()), NA())","v":{"$error":"#N/A"}},{"$f":"IF($A$7=TRUE, IF($A$5= TRUE, IF($H$1=2, IF($F$1 = 1, Data!P58, NA()), NA()), NA()), NA())","v":{"$error":"#N/A"}},{"$f":"IF($A$7 = TRUE, IF($A$5=TRUE, IF($H$1=1, IF($F$1 = 1, Data!Q58, NA()), NA()), NA()), NA())","v":{"$error":"#N/A"}},{"$f":"IF($A$7 = TRUE, IF($A$5=TRUE, IF($H$1=1, IF($F$1 = 1, Data!R58, NA()), NA()), NA()), NA())","v":{"$error":"#N/A"}},{"$f":"IF($A$5=TRUE, IF($A$7=TRUE, IF($F$1=1, IF($H$1=2, Data!S58, NA()), NA()), NA()), NA())","v":{"$error":"#N/A"}},{"$f":"IF($A$5 = TRUE, IF($A$7=TRUE, IF($F$1=1, IF($H$1=1, Data!T58, NA()), NA()),NA()), NA())","v":{"$error":"#N/A"}}]
[null,{"$f":"Data!B40","v":"Bioremediation"},{"$f":"Data!C59","v":"Semi-Soluble / Slow-Release"},{"$f":"Data!E59","v":"Full"},{"$f":"Data!H59","v":"Fine-grained"},{"$f":"IF($A$7=TRUE, IF($A$5=TRUE, IF($H$1=2, IF($F$1 = 2, Data!I59, NA()), NA()), NA()), NA())","v":17.686993900000001},{"$f":"IF($A$7=TRUE, IF($A$5=TRUE, IF($H$1=2, IF($F$1 = 2, Data!J59, NA()), NA()), NA()), NA())","v":0.1461461},{"$f":"IF($A$7=TRUE, IF($A$5=TRUE, IF($H$1=1, IF($F$1 = 2, Data!K59, NA()), NA()), NA()), NA())","v":{"$error":"#N/A"}},{"$f":"IF($A$7=TRUE, IF($A$5=TRUE, IF($H$1=1, IF($F$1 = 2, Data!L59, NA()), NA()), NA()), NA())","v":{"$error":"#N/A"}},{"$f":"IF($A$5=TRUE, IF($A$7=TRUE, IF($F$1=2, IF($H$1=2, Data!M59, NA()), NA()), NA()), NA())","v":2.0828669},{"$f":"IF($A$5 = TRUE, IF($A$7=TRUE, IF($F$1=2, IF($H$1=1, Data!N59, NA()), NA()),NA()), NA())","v":{"$error":"#N/A"}},{"$f":"IF($A$7=TRUE, IF($A$5= TRUE, IF($H$1=2, IF($F$1 = 1, Data!O59, NA()), NA()), NA()), NA())","v":{"$error":"#N/A"}},{"$f":"IF($A$7=TRUE, IF($A$5= TRUE, IF($H$1=2, IF($F$1 = 1, Data!P59, NA()), NA()), NA()), NA())","v":{"$error":"#N/A"}},{"$f":"IF($A$7 = TRUE, IF($A$5=TRUE, IF($H$1=1, IF($F$1 = 1, Data!Q59, NA()), NA()), NA()), NA())","v":{"$error":"#N/A"}},{"$f":"IF($A$7 = TRUE, IF($A$5=TRUE, IF($H$1=1, IF($F$1 = 1, Data!R59, NA()), NA()), NA()), NA())","v":{"$error":"#N/A"}},{"$f":"IF($A$5=TRUE, IF($A$7=TRUE, IF($F$1=1, IF($H$1=2, Data!S59, NA()), NA()), NA()), NA())","v":{"$error":"#N/A"}},{"$f":"IF($A$5 = TRUE, IF($A$7=TRUE, IF($F$1=1, IF($H$1=1, Data!T59, NA()), NA()),NA()), NA())","v":{"$error":"#N/A"}}]
[null,{"$f":"Data!B41","v":"Bioremediation"},{"$f":"Data!C60","v":"Semi-Soluble / Slow-Release"},{"$f":"Data!E60","v":"Full"},{"$f":"Data!H60","v":"Fine-grained"},{"$f":"IF($A$7=TRUE, IF($A$5=TRUE, IF($H$1=2, IF($F$1 = 2, Data!I60, NA()), NA()), NA()), NA())","v":0.15307570000000001},{"$f":"IF($A$7=TRUE, IF($A$5=TRUE, IF($H$1=2, IF($F$1 = 2, Data!J60, NA()), NA()), NA()), NA())","v":5.4650799999999999E-2},{"$f":"IF($A$7=TRUE, IF($A$5=TRUE, IF($H$1=1, IF($F$1 = 2, Data!K60, NA()), NA()), NA()), NA())","v":{"$error":"#N/A"}},{"$f":"IF($A$7=TRUE, IF($A$5=TRUE, IF($H$1=1, IF($F$1 = 2, Data!L60, NA()), NA()), NA()), NA())","v":{"$error":"#N/A"}},{"$f":"IF($A$5=TRUE, IF($A$7=TRUE, IF($F$1=2, IF($H$1=2, Data!M60, NA()), NA()), NA()), NA())","v":0.44730940000000002},{"$f":"IF($A$5 = TRUE, IF($A$7=TRUE, IF($F$1=2, IF($H$1=1, Data!N60, NA()), NA()),NA()), NA())","v":{"$error":"#N/A"}},{"$f":"IF($A$7=TRUE, IF($A$5= TRUE, IF($H$1=2, IF($F$1 = 1, Data!O60, NA()), NA()), NA()), NA())","v":{"$error":"#N/A"}},{"$f":"IF($A$7=TRUE, IF($A$5= TRUE, IF($H$1=2, IF($F$1 = 1, Data!P60, NA()), NA()), NA()), NA())","v":{"$error":"#N/A"}},{"$f":"IF($A$7 = TRUE, IF($A$5=TRUE, IF($H$1=1, IF($F$1 = 1, Data!Q60, NA()), NA()), NA()), NA())","v":{"$error":"#N/A"}},{"$f":"IF($A$7 = TRUE, IF($A$5=TRUE, IF($H$1=1, IF($F$1 = 1, Data!R60, NA()), NA()), NA()), NA())","v":{"$error":"#N/A"}},{"$f":"IF($A$5=TRUE, IF($A$7=TRUE, IF($F$1=1, IF($H$1=2, Data!S60, NA()), NA()), NA()), NA())","v":{"$error":"#N/A"}},{"$f":"IF($A$5 = TRUE, IF($A$7=TRUE, IF($F$1=1, IF($H$1=1, Data!T60, NA()), NA()),NA()), NA())","v":{"$error":"#N/A"}}]
[null,{"$f":"Data!B42","v":"Bioremediation"},{"$f":"Data!C61","v":"Semi-Soluble / Slow-Release"},{"$f":"Data!E61","v":"Full"},{"$f":"Data!H61","v":"Fine-grained"},{"$f":"IF($A$7=TRUE, IF($A$5=TRUE, IF($H$1=2, IF($F$1 = 2, Data!I61, NA()), NA()), NA()), NA())","v":0.41040189999999999},{"$f":"IF($A$7=TRUE, IF($A$5=TRUE, IF($H$1=2, IF($F$1 = 2, Data!J61, NA()), NA()), NA()), NA())","v":7.8142199999999995E-2},{"$f":"IF($A$7=TRUE, IF($A$5=TRUE, IF($H$1=1, IF($F$1 = 2, Data!K61, NA()), NA()), NA()), NA())","v":{"$error":"#N/A"}},{"$f":"IF($A$7=TRUE, IF($A$5=TRUE, IF($H$1=1, IF($F$1 = 2, Data!L61, NA()), NA()), NA()), NA())","v":{"$error":"#N/A"}},{"$f":"IF($A$5=TRUE, IF($A$7=TRUE, IF($F$1=2, IF($H$1=2, Data!M61, NA()), NA()), NA()), NA())","v":0.72032379999999996},{"$f":"IF($A$5 = TRUE, IF($A$7=TRUE, IF($F$1=2, IF($H$1=1, Data!N61, NA()), NA()),NA()), NA())","v":{"$error":"#N/A"}},{"$f":"IF($A$7=TRUE, IF($A$5= TRUE, IF($H$1=2, IF($F$1 = 1, Data!O61, NA()), NA()), NA()), NA())","v":{"$error":"#N/A"}},{"$f":"IF($A$7=TRUE, IF($A$5= TRUE, IF($H$1=2, IF($F$1 = 1, Data!P61, NA()), NA()), NA()), NA())","v":{"$error":"#N/A"}},{"$f":"IF($A$7 = TRUE, IF($A$5=TRUE, IF($H$1=1, IF($F$1 = 1, Data!Q61, NA()), NA()), NA()), NA())","v":{"$error":"#N/A"}},{"$f":"IF($A$7 = TRUE, IF($A$5=TRUE, IF($H$1=1, IF($F$1 = 1, Data!R61, NA()), NA()), NA()), NA())","v":{"$error":"#N/A"}},{"$f":"IF($A$5=TRUE, IF($A$7=TRUE, IF($F$1=1, IF($H$1=2, Data!S61, NA()), NA()), NA()), NA())","v":{"$error":"#N/A"}},{"$f":"IF($A$5 = TRUE, IF($A$7=TRUE, IF($F$1=1, IF($H$1=1, Data!T61, NA()), NA()),NA()), NA())","v":{"$error":"#N/A"}}]
[null,{"$f":"Data!B43","v":"Bioremediation"},{"$f":"Data!C62","v":"Semi-Soluble / Slow-Release"},{"$f":"Data!E62","v":"Full"},{"$f":"Data!H62","v":"Fine-grained"},{"$f":"IF($A$7=TRUE, IF($A$5=TRUE, IF($H$1=2, IF($F$1 = 2, Data!I62, NA()), NA()), NA()), NA())","v":0.28817419999999999},{"$f":"IF($A$7=TRUE, IF($A$5=TRUE, IF($H$1=2, IF($F$1 = 2, Data!J62, NA()), NA()), NA()), NA())","v":1.6657100000000001E-2},{"$f":"IF($A$7=TRUE, IF($A$5=TRUE, IF($H$1=1, IF($F$1 = 2, Data!K62, NA()), NA()), NA()), NA())","v":{"$error":"#N/A"}},{"$f":"IF($A$7=TRUE, IF($A$5=TRUE, IF($H$1=1, IF($F$1 = 2, Data!L62, NA()), NA()), NA()), NA())","v":{"$error":"#N/A"}},{"$f":"IF($A$5=TRUE, IF($A$7=TRUE, IF($F$1=2, IF($H$1=2, Data!M62, NA()), NA()), NA()), NA())","v":1.2380557999999999},{"$f":"IF($A$5 = TRUE, IF($A$7=TRUE, IF($F$1=2, IF($H$1=1, Data!N62, NA()), NA()),NA()), NA())","v":{"$error":"#N/A"}},{"$f":"IF($A$7=TRUE, IF($A$5= TRUE, IF($H$1=2, IF($F$1 = 1, Data!O62, NA()), NA()), NA()), NA())","v":{"$error":"#N/A"}},{"$f":"IF($A$7=TRUE, IF($A$5= TRUE, IF($H$1=2, IF($F$1 = 1, Data!P62, NA()), NA()), NA()), NA())","v":{"$error":"#N/A"}},{"$f":"IF($A$7 = TRUE, IF($A$5=TRUE, IF($H$1=1, IF($F$1 = 1, Data!Q62, NA()), NA()), NA()), NA())","v":{"$error":"#N/A"}},{"$f":"IF($A$7 = TRUE, IF($A$5=TRUE, IF($H$1=1, IF($F$1 = 1, Data!R62, NA()), NA()), NA()), NA())","v":{"$error":"#N/A"}},{"$f":"IF($A$5=TRUE, IF($A$7=TRUE, IF($F$1=1, IF($H$1=2, Data!S62, NA()), NA()), NA()), NA())","v":{"$error":"#N/A"}},{"$f":"IF($A$5 = TRUE, IF($A$7=TRUE, IF($F$1=1, IF($H$1=1, Data!T62, NA()), NA()),NA()), NA())","v":{"$error":"#N/A"}}]
[null,{"$f":"Data!B45","v":"Bioremediation"},{"$f":"Data!C63","v":"Semi-Soluble / Slow-Release"},{"$f":"Data!E63","v":"Full"},{"$f":"Data!H63","v":"Fractured rock"},{"$f":"IF($A$7=TRUE, IF($A$5=TRUE, IF($H$1=2, IF($F$1 = 2, Data!I63, NA()), NA()), NA()), NA())","v":0.1034506},{"$f":"IF($A$7=TRUE, IF($A$5=TRUE, IF($H$1=2, IF($F$1 = 2, Data!J63, NA()), NA()), NA()), NA())","v":3.1072200000000001E-2},{"$f":"IF($A$7=TRUE, IF($A$5=TRUE, IF($H$1=1, IF($F$1 = 2, Data!K63, NA()), NA()), NA()), NA())","v":{"$error":"#N/A"}},{"$f":"IF($A$7=TRUE, IF($A$5=TRUE, IF($H$1=1, IF($F$1 = 2, Data!L63, NA()), NA()), NA()), NA())","v":{"$error":"#N/A"}},{"$f":"IF($A$5=TRUE, IF($A$7=TRUE, IF($F$1=2, IF($H$1=2, Data!M63, NA()), NA()), NA()), NA())","v":0.52236170000000004},{"$f":"IF($A$5 = TRUE, IF($A$7=TRUE, IF($F$1=2, IF($H$1=1, Data!N63, NA()), NA()),NA()), NA())","v":{"$error":"#N/A"}},{"$f":"IF($A$7=TRUE, IF($A$5= TRUE, IF($H$1=2, IF($F$1 = 1, Data!O63, NA()), NA()), NA()), NA())","v":{"$error":"#N/A"}},{"$f":"IF($A$7=TRUE, IF($A$5= TRUE, IF($H$1=2, IF($F$1 = 1, Data!P63, NA()), NA()), NA()), NA())","v":{"$error":"#N/A"}},{"$f":"IF($A$7 = TRUE, IF($A$5=TRUE, IF($H$1=1, IF($F$1 = 1, Data!Q63, NA()), NA()), NA()), NA())","v":{"$error":"#N/A"}},{"$f":"IF($A$7 = TRUE, IF($A$5=TRUE, IF($H$1=1, IF($F$1 = 1, Data!R63, NA()), NA()), NA()), NA())","v":{"$error":"#N/A"}},{"$f":"IF($A$5=TRUE, IF($A$7=TRUE, IF($F$1=1, IF($H$1=2, Data!S63, NA()), NA()), NA()), NA())","v":{"$error":"#N/A"}},{"$f":"IF($A$5 = TRUE, IF($A$7=TRUE, IF($F$1=1, IF($H$1=1, Data!T63, NA()), NA()),NA()), NA())","v":{"$error":"#N/A"}}]
[null,{"$f":"Data!B46","v":"Bioremediation"},{"$f":"Data!C64","v":"Semi-Soluble / Slow-Release"},{"$f":"Data!E64","v":"Full"},{"$f":"Data!H64","v":"Fine-grained"},{"$f":"IF($A$7=TRUE, IF($A$5=TRUE, IF($H$1=2, IF($F$1 = 2, Data!I64, NA()), NA()), NA()), NA())","v":0.829843},{"$f":"IF($A$7=TRUE, IF($A$5=TRUE, IF($H$1=2, IF($F$1 = 2, Data!J64, NA()), NA()), NA()), NA())","v":0.2047967},{"$f":"IF($A$7=TRUE, IF($A$5=TRUE, IF($H$1=1, IF($F$1 = 2, Data!K64, NA()), NA()), NA()), NA())","v":{"$error":"#N/A"}},{"$f":"IF($A$7=TRUE, IF($A$5=TRUE, IF($H$1=1, IF($F$1 = 2, Data!L64, NA()), NA()), NA()), NA())","v":{"$error":"#N/A"}},{"$f":"IF($A$5=TRUE, IF($A$7=TRUE, IF($F$1=2, IF($H$1=2, Data!M64, NA()), NA()), NA()), NA())","v":0.60767289999999996},{"$f":"IF($A$5 = TRUE, IF($A$7=TRUE, IF($F$1=2, IF($H$1=1, Data!N64, NA()), NA()),NA()), NA())","v":{"$error":"#N/A"}},{"$f":"IF($A$7=TRUE, IF($A$5= TRUE, IF($H$1=2, IF($F$1 = 1, Data!O64, NA()), NA()), NA()), NA())","v":{"$error":"#N/A"}},{"$f":"IF($A$7=TRUE, IF($A$5= TRUE, IF($H$1=2, IF($F$1 = 1, Data!P64, NA()), NA()), NA()), NA())","v":{"$error":"#N/A"}},{"$f":"IF($A$7 = TRUE, IF($A$5=TRUE, IF($H$1=1, IF($F$1 = 1, Data!Q64, NA()), NA()), NA()), NA())","v":{"$error":"#N/A"}},{"$f":"IF($A$7 = TRUE, IF($A$5=TRUE, IF($H$1=1, IF($F$1 = 1, Data!R64, NA()), NA()), NA()), NA())","v":{"$error":"#N/A"}},{"$f":"IF($A$5=TRUE, IF($A$7=TRUE, IF($F$1=1, IF($H$1=2, Data!S64, NA()), NA()), NA()), NA())","v":{"$error":"#N/A"}},{"$f":"IF($A$5 = TRUE, IF($A$7=TRUE, IF($F$1=1, IF($H$1=1, Data!T64, NA()), NA()),NA()), NA())","v":{"$error":"#N/A"}}]
[null,{"$f":"Data!B47","v":"Bioremediation"},{"$f":"Data!C65","v":"Semi-Soluble / Slow-Release"},{"$f":"Data!E65","v":"Full"},{"$f":"Data!H65","v":"Fine-grained"},{"$f":"IF($A$7=TRUE, IF($A$5=TRUE, IF($H$1=2, IF($F$1 = 2, Data!I65, NA()), NA()), NA()), NA())","v":6.1394400000000002E-2},{"$f":"IF($A$7=TRUE, IF($A$5=TRUE, IF($H$1=2, IF($F$1 = 2, Data!J65, NA()), NA()), NA()), NA())","v":8.8511000000000006E-3},{"$f":"IF($A$7=TRUE, IF($A$5=TRUE, IF($H$1=1, IF($F$1 = 2, Data!K65, NA()), NA()), NA()), NA())","v":{"$error":"#N/A"}},{"$f":"IF($A$7=TRUE, IF($A$5=TRUE, IF($H$1=1, IF($F$1 = 2, Data!L65, NA()), NA()), NA()), NA())","v":{"$error":"#N/A"}},{"$f":"IF($A$5=TRUE, IF($A$7=TRUE, IF($F$1=2, IF($H$1=2, Data!M65, NA()), NA()), NA()), NA())","v":0.8411305},{"$f":"IF($A$5 = TRUE, IF($A$7=TRUE, IF($F$1=2, IF($H$1=1, Data!N65, NA()), NA()),NA()), NA())","v":{"$error":"#N/A"}},{"$f":"IF($A$7=TRUE, IF($A$5= TRUE, IF($H$1=2, IF($F$1 = 1, Data!O65, NA()), NA()), NA()), NA())","v":{"$error":"#N/A"}},{"$f":"IF($A$7=TRUE, IF($A$5= TRUE, IF($H$1=2, IF($F$1 = 1, Data!P65, NA()), NA()), NA()), NA())","v":{"$error":"#N/A"}},{"$f":"IF($A$7 = TRUE, IF($A$5=TRUE, IF($H$1=1, IF($F$1 = 1, Data!Q65, NA()), NA()), NA()), NA())","v":{"$error":"#N/A"}},{"$f":"IF($A$7 = TRUE, IF($A$5=TRUE, IF($H$1=1, IF($F$1 = 1, Data!R65, NA()), NA()), NA()), NA())","v":{"$error":"#N/A"}},{"$f":"IF($A$5=TRUE, IF($A$7=TRUE, IF($F$1=1, IF($H$1=2, Data!S65, NA()), NA()), NA()), NA())","v":{"$error":"#N/A"}},{"$f":"IF($A$5 = TRUE, IF($A$7=TRUE, IF($F$1=1, IF($H$1=1, Data!T65, NA()), NA()),NA()), NA())","v":{"$error":"#N/A"}}]
[null,{"$f":"Data!B48","v":"Bioremediation"},{"$f":"Data!C66","v":"Semi-Soluble / Slow-Release"},{"$f":"Data!E66","v":"Pilot"},{"$f":"Data!H66","v":"Fine-grained"},{"$f":"IF($A$7=TRUE, IF($A$5=TRUE, IF($H$1=2, IF($F$1 = 2, Data!I66, NA()), NA()), NA()), NA())","v":0.53583159999999996},{"$f":"IF($A$7=TRUE, IF($A$5=TRUE, IF($H$1=2, IF($F$1 = 2, Data!J66, NA()), NA()), NA()), NA())","v":1.6605700000000001E-2},{"$f":"IF($A$7=TRUE, IF($A$5=TRUE, IF($H$1=1, IF($F$1 = 2, Data!K66, NA()), NA()), NA()), NA())","v":{"$error":"#N/A"}},{"$f":"IF($A$7=TRUE, IF($A$5=TRUE, IF($H$1=1, IF($F$1 = 2, Data!L66, NA()), NA()), NA()), NA())","v":{"$error":"#N/A"}},{"$f":"IF($A$5=TRUE, IF($A$7=TRUE, IF($F$1=2, IF($H$1=2, Data!M66, NA()), NA()), NA()), NA())","v":1.5087710999999999},{"$f":"IF($A$5 = TRUE, IF($A$7=TRUE, IF($F$1=2, IF($H$1=1, Data!N66, NA()), NA()),NA()), NA())","v":{"$error":"#N/A"}},{"$f":"IF($A$7=TRUE, IF($A$5= TRUE, IF($H$1=2, IF($F$1 = 1, Data!O66, NA()), NA()), NA()), NA())","v":{"$error":"#N/A"}},{"$f":"IF($A$7=TRUE, IF($A$5= TRUE, IF($H$1=2, IF($F$1 = 1, Data!P66, NA()), NA()), NA()), NA())","v":{"$error":"#N/A"}},{"$f":"IF($A$7 = TRUE, IF($A$5=TRUE, IF($H$1=1, IF($F$1 = 1, Data!Q66, NA()), NA()), NA()), NA())","v":{"$error":"#N/A"}},{"$f":"IF($A$7 = TRUE, IF($A$5=TRUE, IF($H$1=1, IF($F$1 = 1, Data!R66, NA()), NA()), NA()), NA())","v":{"$error":"#N/A"}},{"$f":"IF($A$5=TRUE, IF($A$7=TRUE, IF($F$1=1, IF($H$1=2, Data!S66, NA()), NA()), NA()), NA())","v":{"$error":"#N/A"}},{"$f":"IF($A$5 = TRUE, IF($A$7=TRUE, IF($F$1=1, IF($H$1=1, Data!T66, NA()), NA()),NA()), NA())","v":{"$error":"#N/A"}}]
[null,{"$f":"Data!B49","v":"Bioremediation"},{"$f":"Data!C67","v":"Semi-Soluble / Slow-Release"},{"$f":"Data!E67","v":"Full"},{"$f":"Data!H67","v":"Fine-grained"},{"$f":"IF($A$7=TRUE, IF($A$5=TRUE, IF($H$1=2, IF($F$1 = 2, Data!I67, NA()), NA()), NA()), NA())","v":0.2973228},{"$f":"IF($A$7=TRUE, IF($A$5=TRUE, IF($H$1=2, IF($F$1 = 2, Data!J67, NA()), NA()), NA()), NA())","v":0.2161901},{"$f":"IF($A$7=TRUE, IF($A$5=TRUE, IF($H$1=1, IF($F$1 = 2, Data!K67, NA()), NA()), NA()), NA())","v":{"$error":"#N/A"}},{"$f":"IF($A$7=TRUE, IF($A$5=TRUE, IF($H$1=1, IF($F$1 = 2, Data!L67, NA()), NA()), NA()), NA())","v":{"$error":"#N/A"}},{"$f":"IF($A$5=TRUE, IF($A$7=TRUE, IF($F$1=2, IF($H$1=2, Data!M67, NA()), NA()), NA()), NA())","v":0.1383924},{"$f":"IF($A$5 = TRUE, IF($A$7=TRUE, IF($F$1=2, IF($H$1=1, Data!N67, NA()), NA()),NA()), NA())","v":{"$error":"#N/A"}},{"$f":"IF($A$7=TRUE, IF($A$5= TRUE, IF($H$1=2, IF($F$1 = 1, Data!O67, NA()), NA()), NA()), NA())","v":{"$error":"#N/A"}},{"$f":"IF($A$7=TRUE, IF($A$5= TRUE, IF($H$1=2, IF($F$1 = 1, Data!P67, NA()), NA()), NA()), NA())","v":{"$error":"#N/A"}},{"$f":"IF($A$7 = TRUE, IF($A$5=TRUE, IF($H$1=1, IF($F$1 = 1, Data!Q67, NA()), NA()), NA()), NA())","v":{"$error":"#N/A"}},{"$f":"IF($A$7 = TRUE, IF($A$5=TRUE, IF($H$1=1, IF($F$1 = 1, Data!R67, NA()), NA()), NA()), NA())","v":{"$error":"#N/A"}},{"$f":"IF($A$5=TRUE, IF($A$7=TRUE, IF($F$1=1, IF($H$1=2, Data!S67, NA()), NA()), NA()), NA())","v":{"$error":"#N/A"}},{"$f":"IF($A$5 = TRUE, IF($A$7=TRUE, IF($F$1=1, IF($H$1=1, Data!T67, NA()), NA()),NA()), NA())","v":{"$error":"#N/A"}}]
[null,{"$f":"Data!B50","v":"Bioremediation"},{"$f":"Data!C68","v":"Semi-Soluble / Slow-Release"},{"$f":"Data!E68","v":"Full"},{"$f":"Data!H68","v":"Fine-grained"},{"$f":"IF($A$7=TRUE, IF($A$5=TRUE, IF($H$1=2, IF($F$1 = 2, Data!I68, NA()), NA()), NA()), NA())","v":0.104145},{"$f":"IF($A$7=TRUE, IF($A$5=TRUE, IF($H$1=2, IF($F$1 = 2, Data!J68, NA()), NA()), NA()), NA())","v":3.8118600000000002E-2},{"$f":"IF($A$7=TRUE, IF($A$5=TRUE, IF($H$1=1, IF($F$1 = 2, Data!K68, NA()), NA()), NA()), NA())","v":{"$error":"#N/A"}},{"$f":"IF($A$7=TRUE, IF($A$5=TRUE, IF($H$1=1, IF($F$1 = 2, Data!L68, NA()), NA()), NA()), NA())","v":{"$error":"#N/A"}},{"$f":"IF($A$5=TRUE, IF($A$7=TRUE, IF($F$1=2, IF($H$1=2, Data!M68, NA()), NA()), NA()), NA())","v":0.43650169999999999},{"$f":"IF($A$5 = TRUE, IF($A$7=TRUE, IF($F$1=2, IF($H$1=1, Data!N68, NA()), NA()),NA()), NA())","v":{"$error":"#N/A"}},{"$f":"IF($A$7=TRUE, IF($A$5= TRUE, IF($H$1=2, IF($F$1 = 1, Data!O68, NA()), NA()), NA()), NA())","v":{"$error":"#N/A"}},{"$f":"IF($A$7=TRUE, IF($A$5= TRUE, IF($H$1=2, IF($F$1 = 1, Data!P68, NA()), NA()), NA()), NA())","v":{"$error":"#N/A"}},{"$f":"IF($A$7 = TRUE, IF($A$5=TRUE, IF($H$1=1, IF($F$1 = 1, Data!Q68, NA()), NA()), NA()), NA())","v":{"$error":"#N/A"}},{"$f":"IF($A$7 = TRUE, IF($A$5=TRUE, IF($H$1=1, IF($F$1 = 1, Data!R68, NA()), NA()), NA()), NA())","v":{"$error":"#N/A"}},{"$f":"IF($A$5=TRUE, IF($A$7=TRUE, IF($F$1=1, IF($H$1=2, Data!S68, NA()), NA()), NA()), NA())","v":{"$error":"#N/A"}},{"$f":"IF($A$5 = TRUE, IF($A$7=TRUE, IF($F$1=1, IF($H$1=1, Data!T68, NA()), NA()),NA()), NA())","v":{"$error":"#N/A"}}]
[null,{"$f":"Data!B51","v":"Bioremediation"},{"$f":"Data!C69","v":"Semi-Soluble / Slow-Release"},{"$f":"Data!E69","v":"Full"},{"$f":"Data!H69","v":"Fine-grained"},{"$f":"IF($A$7=TRUE, IF($A$5=TRUE, IF($H$1=2, IF($F$1 = 2, Data!I69, NA()), NA()), NA()), NA())","v":3.8855162999999999},{"$f":"IF($A$7=TRUE, IF($A$5=TRUE, IF($H$1=2, IF($F$1 = 2, Data!J69, NA()), NA()), NA()), NA())","v":1E-3},{"$f":"IF($A$7=TRUE, IF($A$5=TRUE, IF($H$1=1, IF($F$1 = 2, Data!K69, NA()), NA()), NA()), NA())","v":{"$error":"#N/A"}},{"$f":"IF($A$7=TRUE, IF($A$5=TRUE, IF($H$1=1, IF($F$1 = 2, Data!L69, NA()), NA()), NA()), NA())","v":{"$error":"#N/A"}},{"$f":"IF($A$5=TRUE, IF($A$7=TRUE, IF($F$1=2, IF($H$1=2, Data!M69, NA()), NA()), NA()), NA())","v":3.8720436999999999},{"$f":"IF($A$5 = TRUE, IF($A$7=TRUE, IF($F$1=2, IF($H$1=1, Data!N69, NA()), NA()),NA()), NA())","v":{"$error":"#N/A"}},{"$f":"IF($A$7=TRUE, IF($A$5= TRUE, IF($H$1=2, IF($F$1 = 1, Data!O69, NA()), NA()), NA()), NA())","v":{"$error":"#N/A"}},{"$f":"IF($A$7=TRUE, IF($A$5= TRUE, IF($H$1=2, IF($F$1 = 1, Data!P69, NA()), NA()), NA()), NA())","v":{"$error":"#N/A"}},{"$f":"IF($A$7 = TRUE, IF($A$5=TRUE, IF($H$1=1, IF($F$1 = 1, Data!Q69, NA()), NA()), NA()), NA())","v":{"$error":"#N/A"}},{"$f":"IF($A$7 = TRUE, IF($A$5=TRUE, IF($H$1=1, IF($F$1 = 1, Data!R69, NA()), NA()), NA()), NA())","v":{"$error":"#N/A"}},{"$f":"IF($A$5=TRUE, IF($A$7=TRUE, IF($F$1=1, IF($H$1=2, Data!S69, NA()), NA()), NA()), NA())","v":{"$error":"#N/A"}},{"$f":"IF($A$5 = TRUE, IF($A$7=TRUE, IF($F$1=1, IF($H$1=1, Data!T69, NA()), NA()),NA()), NA())","v":{"$error":"#N/A"}}]
[null,{"$f":"Data!B56","v":"Bioremediation"},{"$f":"Data!C70","v":"Semi-Soluble / Slow-Release"},{"$f":"Data!E70","v":"Full"},{"$f":"Data!H70","v":"Coarse-grained"},{"$f":"IF($A$7=TRUE, IF($A$5=TRUE, IF($H$1=2, IF($F$1 = 2, Data!I70, NA()), NA()), NA()), NA())","v":1.875},{"$f":"IF($A$7=TRUE, IF($A$5=TRUE, IF($H$1=2, IF($F$1 = 2, Data!J70, NA()), NA()), NA()), NA())","v":0.1075705},{"$f":"IF($A$7=TRUE, IF($A$5=TRUE, IF($H$1=1, IF($F$1 = 2, Data!K70, NA()), NA()), NA()), NA())","v":{"$error":"#N/A"}},{"$f":"IF($A$7=TRUE, IF($A$5=TRUE, IF($H$1=1, IF($F$1 = 2, Data!L70, NA()), NA()), NA()), NA())","v":{"$error":"#N/A"}},{"$f":"IF($A$5=TRUE, IF($A$7=TRUE, IF($F$1=2, IF($H$1=2, Data!M70, NA()), NA()), NA()), NA())","v":1.2413082},{"$f":"IF($A$5 = TRUE, IF($A$7=TRUE, IF($F$1=2, IF($H$1=1, Data!N70, NA()), NA()),NA()), NA())","v":{"$error":"#N/A"}},{"$f":"IF($A$7=TRUE, IF($A$5= TRUE, IF($H$1=2, IF($F$1 = 1, Data!O70, NA()), NA()), NA()), NA())","v":{"$error":"#N/A"}},{"$f":"IF($A$7=TRUE, IF($A$5= TRUE, IF($H$1=2, IF($F$1 = 1, Data!P70, NA()), NA()), NA()), NA())","v":{"$error":"#N/A"}},{"$f":"IF($A$7 = TRUE, IF($A$5=TRUE, IF($H$1=1, IF($F$1 = 1, Data!Q70, NA()), NA()), NA()), NA())","v":{"$error":"#N/A"}},{"$f":"IF($A$7 = TRUE, IF($A$5=TRUE, IF($H$1=1, IF($F$1 = 1, Data!R70, NA()), NA()), NA()), NA())","v":{"$error":"#N/A"}},{"$f":"IF($A$5=TRUE, IF($A$7=TRUE, IF($F$1=1, IF($H$1=2, Data!S70, NA()), NA()), NA()), NA())","v":{"$error":"#N/A"}},{"$f":"IF($A$5 = TRUE, IF($A$7=TRUE, IF($F$1=1, IF($H$1=1, Data!T70, NA()), NA()),NA()), NA())","v":{"$error":"#N/A"}}]
[null,{"$f":"Data!B57","v":"Bioremediation"},{"$f":"Data!C71","v":"Semi-Soluble / Slow-Release"},{"$f":"Data!E71","v":"Full"},{"$f":"Data!H71","v":"Coarse-grained"},{"$f":"IF($A$7=TRUE, IF($A$5=TRUE, IF($H$1=2, IF($F$1 = 2, Data!I71, NA()), NA()), NA()), NA())","v":0.54353209999999996},{"$f":"IF($A$7=TRUE, IF($A$5=TRUE, IF($H$1=2, IF($F$1 = 2, Data!J71, NA()), NA()), NA()), NA())","v":0.45497910000000003},{"$f":"IF($A$7=TRUE, IF($A$5=TRUE, IF($H$1=1, IF($F$1 = 2, Data!K71, NA()), NA()), NA()), NA())","v":{"$error":"#N/A"}},{"$f":"IF($A$7=TRUE, IF($A$5=TRUE, IF($H$1=1, IF($F$1 = 2, Data!L71, NA()), NA()), NA()), NA())","v":{"$error":"#N/A"}},{"$f":"IF($A$5=TRUE, IF($A$7=TRUE, IF($F$1=2, IF($H$1=2, Data!M71, NA()), NA()), NA()), NA())","v":7.7233700000000002E-2},{"$f":"IF($A$5 = TRUE, IF($A$7=TRUE, IF($F$1=2, IF($H$1=1, Data!N71, NA()), NA()),NA()), NA())","v":{"$error":"#N/A"}},{"$f":"IF($A$7=TRUE, IF($A$5= TRUE, IF($H$1=2, IF($F$1 = 1, Data!O71, NA()), NA()), NA()), NA())","v":{"$error":"#N/A"}},{"$f":"IF($A$7=TRUE, IF($A$5= TRUE, IF($H$1=2, IF($F$1 = 1, Data!P71, NA()), NA()), NA()), NA())","v":{"$error":"#N/A"}},{"$f":"IF($A$7 = TRUE, IF($A$5=TRUE, IF($H$1=1, IF($F$1 = 1, Data!Q71, NA()), NA()), NA()), NA())","v":{"$error":"#N/A"}},{"$f":"IF($A$7 = TRUE, IF($A$5=TRUE, IF($H$1=1, IF($F$1 = 1, Data!R71, NA()), NA()), NA()), NA())","v":{"$error":"#N/A"}},{"$f":"IF($A$5=TRUE, IF($A$7=TRUE, IF($F$1=1, IF($H$1=2, Data!S71, NA()), NA()), NA()), NA())","v":{"$error":"#N/A"}},{"$f":"IF($A$5 = TRUE, IF($A$7=TRUE, IF($F$1=1, IF($H$1=1, Data!T71, NA()), NA()),NA()), NA())","v":{"$error":"#N/A"}}]
[null,{"$f":"Data!B58","v":"Bioremediation"},{"$f":"Data!C72","v":"Semi-Soluble / Slow-Release"},{"$f":"Data!E72","v":"Full"},{"$f":"Data!H72","v":"Fine-grained"},{"$f":"IF($A$7=TRUE, IF($A$5=TRUE, IF($H$1=2, IF($F$1 = 2, Data!I72, NA()), NA()), NA()), NA())","v":4.2576799999999998E-2},{"$f":"IF($A$7=TRUE, IF($A$5=TRUE, IF($H$1=2, IF($F$1 = 2, Data!J72, NA()), NA()), NA()), NA())","v":1E-3},{"$f":"IF($A$7=TRUE, IF($A$5=TRUE, IF($H$1=1, IF($F$1 = 2, Data!K72, NA()), NA()), NA()), NA())","v":{"$error":"#N/A"}},{"$f":"IF($A$7=TRUE, IF($A$5=TRUE, IF($H$1=1, IF($F$1 = 2, Data!L72, NA()), NA()), NA()), NA())","v":{"$error":"#N/A"}},{"$f":"IF($A$5=TRUE, IF($A$7=TRUE, IF($F$1=2, IF($H$1=2, Data!M72, NA()), NA()), NA()), NA())","v":2.1534},{"$f":"IF($A$5 = TRUE, IF($A$7=TRUE, IF($F$1=2, IF($H$1=1, Data!N72, NA()), NA()),NA()), NA())","v":{"$error":"#N/A"}},{"$f":"IF($A$7=TRUE, IF($A$5= TRUE, IF($H$1=2, IF($F$1 = 1, Data!O72, NA()), NA()), NA()), NA())","v":{"$error":"#N/A"}},{"$f":"IF($A$7=TRUE, IF($A$5= TRUE, IF($H$1=2, IF($F$1 = 1, Data!P72, NA()), NA()), NA()), NA())","v":{"$error":"#N/A"}},{"$f":"IF($A$7 = TRUE, IF($A$5=TRUE, IF($H$1=1, IF($F$1 = 1, Data!Q72, NA()), NA()), NA()), NA())","v":{"$error":"#N/A"}},{"$f":"IF($A$7 = TRUE, IF($A$5=TRUE, IF($H$1=1, IF($F$1 = 1, Data!R72, NA()), NA()), NA()), NA())","v":{"$error":"#N/A"}},{"$f":"IF($A$5=TRUE, IF($A$7=TRUE, IF($F$1=1, IF($H$1=2, Data!S72, NA()), NA()), NA()), NA())","v":{"$error":"#N/A"}},{"$f":"IF($A$5 = TRUE, IF($A$7=TRUE, IF($F$1=1, IF($H$1=1, Data!T72, NA()), NA()),NA()), NA())","v":{"$error":"#N/A"}}]
[null,{"$f":"Data!B59","v":"Bioremediation"},{"$f":"Data!C73","v":"Semi-Soluble / Slow-Release"},{"$f":"Data!E73","v":"Full"},{"$f":"Data!H73","v":"Fine-grained"},{"$f":"IF($A$7=TRUE, IF($A$5=TRUE, IF($H$1=2, IF($F$1 = 2, Data!I73, NA()), NA()), NA()), NA())","v":0.96003329999999998},{"$f":"IF($A$7=TRUE, IF($A$5=TRUE, IF($H$1=2, IF($F$1 = 2, Data!J73, NA()), NA()), NA()), NA())","v":1E-3},{"$f":"IF($A$7=TRUE, IF($A$5=TRUE, IF($H$1=1, IF($F$1 = 2, Data!K73, NA()), NA()), NA()), NA())","v":{"$error":"#N/A"}},{"$f":"IF($A$7=TRUE, IF($A$5=TRUE, IF($H$1=1, IF($F$1 = 2, Data!L73, NA()), NA()), NA()), NA())","v":{"$error":"#N/A"}},{"$f":"IF($A$5=TRUE, IF($A$7=TRUE, IF($F$1=2, IF($H$1=2, Data!M73, NA()), NA()), NA()), NA())","v":3.0511799000000002},{"$f":"IF($A$5 = TRUE, IF($A$7=TRUE, IF($F$1=2, IF($H$1=1, Data!N73, NA()), NA()),NA()), NA())","v":{"$error":"#N/A"}},{"$f":"IF($A$7=TRUE, IF($A$5= TRUE, IF($H$1=2, IF($F$1 = 1, Data!O73, NA()), NA()), NA()), NA())","v":{"$error":"#N/A"}},{"$f":"IF($A$7=TRUE, IF($A$5= TRUE, IF($H$1=2, IF($F$1 = 1, Data!P73, NA()), NA()), NA()), NA())","v":{"$error":"#N/A"}},{"$f":"IF($A$7 = TRUE, IF($A$5=TRUE, IF($H$1=1, IF($F$1 = 1, Data!Q73, NA()), NA()), NA()), NA())","v":{"$error":"#N/A"}},{"$f":"IF($A$7 = TRUE, IF($A$5=TRUE, IF($H$1=1, IF($F$1 = 1, Data!R73, NA()), NA()), NA()), NA())","v":{"$error":"#N/A"}},{"$f":"IF($A$5=TRUE, IF($A$7=TRUE, IF($F$1=1, IF($H$1=2, Data!S73, NA()), NA()), NA()), NA())","v":{"$error":"#N/A"}},{"$f":"IF($A$5 = TRUE, IF($A$7=TRUE, IF($F$1=1, IF($H$1=1, Data!T73, NA()), NA()),NA()), NA())","v":{"$error":"#N/A"}}]
[null,{"$f":"Data!B60","v":"Bioremediation"},{"$f":"Data!C74","v":"Semi-Soluble / Slow-Release"},{"$f":"Data!E74","v":"Full"},{"$f":"Data!H74","v":"Coarse-grained"},{"$f":"IF($A$7=TRUE, IF($A$5=TRUE, IF($H$1=2, IF($F$1 = 2, Data!I74, NA()), NA()), NA()), NA())","v":3.1573E-3},{"$f":"IF($A$7=TRUE, IF($A$5=TRUE, IF($H$1=2, IF($F$1 = 2, Data!J74, NA()), NA()), NA()), NA())","v":1E-3},{"$f":"IF($A$7=TRUE, IF($A$5=TRUE, IF($H$1=1, IF($F$1 = 2, Data!K74, NA()), NA()), NA()), NA())","v":{"$error":"#N/A"}},{"$f":"IF($A$7=TRUE, IF($A$5=TRUE, IF($H$1=1, IF($F$1 = 2, Data!L74, NA()), NA()), NA()), NA())","v":{"$error":"#N/A"}},{"$f":"IF($A$5=TRUE, IF($A$7=TRUE, IF($F$1=2, IF($H$1=2, Data!M74, NA()), NA()), NA()), NA())","v":0.49931120000000001},{"$f":"IF($A$5 = TRUE, IF($A$7=TRUE, IF($F$1=2, IF($H$1=1, Data!N74, NA()), NA()),NA()), NA())","v":{"$error":"#N/A"}},{"$f":"IF($A$7=TRUE, IF($A$5= TRUE, IF($H$1=2, IF($F$1 = 1, Data!O74, NA()), NA()), NA()), NA())","v":{"$error":"#N/A"}},{"$f":"IF($A$7=TRUE, IF($A$5= TRUE, IF($H$1=2, IF($F$1 = 1, Data!P74, NA()), NA()), NA()), NA())","v":{"$error":"#N/A"}},{"$f":"IF($A$7 = TRUE, IF($A$5=TRUE, IF($H$1=1, IF($F$1 = 1, Data!Q74, NA()), NA()), NA()), NA())","v":{"$error":"#N/A"}},{"$f":"IF($A$7 = TRUE, IF($A$5=TRUE, IF($H$1=1, IF($F$1 = 1, Data!R74, NA()), NA()), NA()), NA())","v":{"$error":"#N/A"}},{"$f":"IF($A$5=TRUE, IF($A$7=TRUE, IF($F$1=1, IF($H$1=2, Data!S74, NA()), NA()), NA()), NA())","v":{"$error":"#N/A"}},{"$f":"IF($A$5 = TRUE, IF($A$7=TRUE, IF($F$1=1, IF($H$1=1, Data!T74, NA()), NA()),NA()), NA())","v":{"$error":"#N/A"}}]
[null,{"$f":"Data!B62","v":"Bioremediation"},{"$f":"Data!C75","v":"Semi-Soluble / Slow-Release"},{"$f":"Data!E75","v":"Full"},{"$f":"Data!H75","v":"Fine-grained"},{"$f":"IF($A$7=TRUE, IF($A$5=TRUE, IF($H$1=2, IF($F$1 = 2, Data!I75, NA()), NA()), NA()), NA())","v":6.1915E-3},{"$f":"IF($A$7=TRUE, IF($A$5=TRUE, IF($H$1=2, IF($F$1 = 2, Data!J75, NA()), NA()), NA()), NA())","v":1.1039999999999999E-3},{"$f":"IF($A$7=TRUE, IF($A$5=TRUE, IF($H$1=1, IF($F$1 = 2, Data!K75, NA()), NA()), NA()), NA())","v":{"$error":"#N/A"}},{"$f":"IF($A$7=TRUE, IF($A$5=TRUE, IF($H$1=1, IF($F$1 = 2, Data!L75, NA()), NA()), NA()), NA())","v":{"$error":"#N/A"}},{"$f":"IF($A$5=TRUE, IF($A$7=TRUE, IF($F$1=2, IF($H$1=2, Data!M75, NA()), NA()), NA()), NA())","v":0.74883029999999995},{"$f":"IF($A$5 = TRUE, IF($A$7=TRUE, IF($F$1=2, IF($H$1=1, Data!N75, NA()), NA()),NA()), NA())","v":{"$error":"#N/A"}},{"$f":"IF($A$7=TRUE, IF($A$5= TRUE, IF($H$1=2, IF($F$1 = 1, Data!O75, NA()), NA()), NA()), NA())","v":{"$error":"#N/A"}},{"$f":"IF($A$7=TRUE, IF($A$5= TRUE, IF($H$1=2, IF($F$1 = 1, Data!P75, NA()), NA()), NA()), NA())","v":{"$error":"#N/A"}},{"$f":"IF($A$7 = TRUE, IF($A$5=TRUE, IF($H$1=1, IF($F$1 = 1, Data!Q75, NA()), NA()), NA()), NA())","v":{"$error":"#N/A"}},{"$f":"IF($A$7 = TRUE, IF($A$5=TRUE, IF($H$1=1, IF($F$1 = 1, Data!R75, NA()), NA()), NA()), NA())","v":{"$error":"#N/A"}},{"$f":"IF($A$5=TRUE, IF($A$7=TRUE, IF($F$1=1, IF($H$1=2, Data!S75, NA()), NA()), NA()), NA())","v":{"$error":"#N/A"}},{"$f":"IF($A$5 = TRUE, IF($A$7=TRUE, IF($F$1=1, IF($H$1=1, Data!T75, NA()), NA()),NA()), NA())","v":{"$error":"#N/A"}}]
[null,{"$f":"Data!B63","v":"Bioremediation"},{"$f":"Data!C76","v":"Semi-Soluble / Slow-Release"},{"$f":"Data!E76","v":"Full"},{"$f":"Data!H76","v":"Coarse-grained"},{"$f":"IF($A$7=TRUE, IF($A$5=TRUE, IF($H$1=2, IF($F$1 = 2, Data!I76, NA()), NA()), NA()), NA())","v":2.7211791999999999},{"$f":"IF($A$7=TRUE, IF($A$5=TRUE, IF($H$1=2, IF($F$1 = 2, Data!J76, NA()), NA()), NA()), NA())","v":3.4870999999999999E-3},{"$f":"IF($A$7=TRUE, IF($A$5=TRUE, IF($H$1=1, IF($F$1 = 2, Data!K76, NA()), NA()), NA()), NA())","v":{"$error":"#N/A"}},{"$f":"IF($A$7=TRUE, IF($A$5=TRUE, IF($H$1=1, IF($F$1 = 2, Data!L76, NA()), NA()), NA()), NA())","v":{"$error":"#N/A"}},{"$f":"IF($A$5=TRUE, IF($A$7=TRUE, IF($F$1=2, IF($H$1=2, Data!M76, NA()), NA()), NA()), NA())","v":2.8922943000000001},{"$f":"IF($A$5 = TRUE, IF($A$7=TRUE, IF($F$1=2, IF($H$1=1, Data!N76, NA()), NA()),NA()), NA())","v":{"$error":"#N/A"}},{"$f":"IF($A$7=TRUE, IF($A$5= TRUE, IF($H$1=2, IF($F$1 = 1, Data!O76, NA()), NA()), NA()), NA())","v":{"$error":"#N/A"}},{"$f":"IF($A$7=TRUE, IF($A$5= TRUE, IF($H$1=2, IF($F$1 = 1, Data!P76, NA()), NA()), NA()), NA())","v":{"$error":"#N/A"}},{"$f":"IF($A$7 = TRUE, IF($A$5=TRUE, IF($H$1=1, IF($F$1 = 1, Data!Q76, NA()), NA()), NA()), NA())","v":{"$error":"#N/A"}},{"$f":"IF($A$7 = TRUE, IF($A$5=TRUE, IF($H$1=1, IF($F$1 = 1, Data!R76, NA()), NA()), NA()), NA())","v":{"$error":"#N/A"}},{"$f":"IF($A$5=TRUE, IF($A$7=TRUE, IF($F$1=1, IF($H$1=2, Data!S76, NA()), NA()), NA()), NA())","v":{"$error":"#N/A"}},{"$f":"IF($A$5 = TRUE, IF($A$7=TRUE, IF($F$1=1, IF($H$1=1, Data!T76, NA()), NA()),NA()), NA())","v":{"$error":"#N/A"}}]
[null,{"$f":"Data!B65","v":"Bioremediation"},{"$f":"Data!C77","v":"Semi-Soluble / Slow-Release"},{"$f":"Data!E77","v":"Full"},{"$f":"Data!H77","v":"Fine-grained"},{"$f":"IF($A$7=TRUE, IF($A$5=TRUE, IF($H$1=2, IF($F$1 = 2, Data!I77, NA()), NA()), NA()), NA())","v":4.2},{"$f":"IF($A$7=TRUE, IF($A$5=TRUE, IF($H$1=2, IF($F$1 = 2, Data!J77, NA()), NA()), NA()), NA())","v":0.2735552},{"$f":"IF($A$7=TRUE, IF($A$5=TRUE, IF($H$1=1, IF($F$1 = 2, Data!K77, NA()), NA()), NA()), NA())","v":{"$error":"#N/A"}},{"$f":"IF($A$7=TRUE, IF($A$5=TRUE, IF($H$1=1, IF($F$1 = 2, Data!L77, NA()), NA()), NA()), NA())","v":{"$error":"#N/A"}},{"$f":"IF($A$5=TRUE, IF($A$7=TRUE, IF($F$1=2, IF($H$1=2, Data!M77, NA()), NA()), NA()), NA())","v":1.1862043},{"$f":"IF($A$5 = TRUE, IF($A$7=TRUE, IF($F$1=2, IF($H$1=1, Data!N77, NA()), NA()),NA()), NA())","v":{"$error":"#N/A"}},{"$f":"IF($A$7=TRUE, IF($A$5= TRUE, IF($H$1=2, IF($F$1 = 1, Data!O77, NA()), NA()), NA()), NA())","v":{"$error":"#N/A"}},{"$f":"IF($A$7=TRUE, IF($A$5= TRUE, IF($H$1=2, IF($F$1 = 1, Data!P77, NA()), NA()), NA()), NA())","v":{"$error":"#N/A"}},{"$f":"IF($A$7 = TRUE, IF($A$5=TRUE, IF($H$1=1, IF($F$1 = 1, Data!Q77, NA()), NA()), NA()), NA())","v":{"$error":"#N/A"}},{"$f":"IF($A$7 = TRUE, IF($A$5=TRUE, IF($H$1=1, IF($F$1 = 1, Data!R77, NA()), NA()), NA()), NA())","v":{"$error":"#N/A"}},{"$f":"IF($A$5=TRUE, IF($A$7=TRUE, IF($F$1=1, IF($H$1=2, Data!S77, NA()), NA()), NA()), NA())","v":{"$error":"#N/A"}},{"$f":"IF($A$5 = TRUE, IF($A$7=TRUE, IF($F$1=1, IF($H$1=1, Data!T77, NA()), NA()),NA()), NA())","v":{"$error":"#N/A"}}]
[null,{"$f":"Data!B69","v":"Bioremediation"},{"$f":"Data!C78","v":"Semi-Soluble / Slow-Release"},{"$f":"Data!E78","v":"Full"},{"$f":"Data!H78","v":"Fine-grained"},{"$f":"IF($A$7=TRUE, IF($A$5=TRUE, IF($H$1=2, IF($F$1 = 2, Data!I78, NA()), NA()), NA()), NA())","v":4.4868332000000004},{"$f":"IF($A$7=TRUE, IF($A$5=TRUE, IF($H$1=2, IF($F$1 = 2, Data!J78, NA()), NA()), NA()), NA())","v":1.2599392},{"$f":"IF($A$7=TRUE, IF($A$5=TRUE, IF($H$1=1, IF($F$1 = 2, Data!K78, NA()), NA()), NA()), NA())","v":{"$error":"#N/A"}},{"$f":"IF($A$7=TRUE, IF($A$5=TRUE, IF($H$1=1, IF($F$1 = 2, Data!L78, NA()), NA()), NA()), NA())","v":{"$error":"#N/A"}},{"$f":"IF($A$5=TRUE, IF($A$7=TRUE, IF($F$1=2, IF($H$1=2, Data!M78, NA()), NA()), NA()), NA())","v":0.55159029999999998},{"$f":"IF($A$5 = TRUE, IF($A$7=TRUE, IF($F$1=2, IF($H$1=1, Data!N78, NA()), NA()),NA()), NA())","v":{"$error":"#N/A"}},{"$f":"IF($A$7=TRUE, IF($A$5= TRUE, IF($H$1=2, IF($F$1 = 1, Data!O78, NA()), NA()), NA()), NA())","v":{"$error":"#N/A"}},{"$f":"IF($A$7=TRUE, IF($A$5= TRUE, IF($H$1=2, IF($F$1 = 1, Data!P78, NA()), NA()), NA()), NA())","v":{"$error":"#N/A"}},{"$f":"IF($A$7 = TRUE, IF($A$5=TRUE, IF($H$1=1, IF($F$1 = 1, Data!Q78, NA()), NA()), NA()), NA())","v":{"$error":"#N/A"}},{"$f":"IF($A$7 = TRUE, IF($A$5=TRUE, IF($H$1=1, IF($F$1 = 1, Data!R78, NA()), NA()), NA()), NA())","v":{"$error":"#N/A"}},{"$f":"IF($A$5=TRUE, IF($A$7=TRUE, IF($F$1=1, IF($H$1=2, Data!S78, NA()), NA()), NA()), NA())","v":{"$error":"#N/A"}},{"$f":"IF($A$5 = TRUE, IF($A$7=TRUE, IF($F$1=1, IF($H$1=1, Data!T78, NA()), NA()),NA()), NA())","v":{"$error":"#N/A"}}]
[null,{"$f":"Data!B71","v":"Bioremediation"},{"$f":"Data!C79","v":"Semi-Soluble / Slow-Release"},{"$f":"Data!E79","v":"Full"},{"$f":"Data!H79","v":"Coarse-grained"},{"$f":"IF($A$7=TRUE, IF($A$5=TRUE, IF($H$1=2, IF($F$1 = 2, Data!I79, NA()), NA()), NA()), NA())","v":2.1367224999999999},{"$f":"IF($A$7=TRUE, IF($A$5=TRUE, IF($H$1=2, IF($F$1 = 2, Data!J79, NA()), NA()), NA()), NA())","v":1.8556193999999999},{"$f":"IF($A$7=TRUE, IF($A$5=TRUE, IF($H$1=1, IF($F$1 = 2, Data!K79, NA()), NA()), NA()), NA())","v":{"$error":"#N/A"}},{"$f":"IF($A$7=TRUE, IF($A$5=TRUE, IF($H$1=1, IF($F$1 = 2, Data!L79, NA()), NA()), NA()), NA())","v":{"$error":"#N/A"}},{"$f":"IF($A$5=TRUE, IF($A$7=TRUE, IF($F$1=2, IF($H$1=2, Data!M79, NA()), NA()), NA()), NA())","v":6.12592E-2},{"$f":"IF($A$5 = TRUE, IF($A$7=TRUE, IF($F$1=2, IF($H$1=1, Data!N79, NA()), NA()),NA()), NA())","v":{"$error":"#N/A"}},{"$f":"IF($A$7=TRUE, IF($A$5= TRUE, IF($H$1=2, IF($F$1 = 1, Data!O79, NA()), NA()), NA()), NA())","v":{"$error":"#N/A"}},{"$f":"IF($A$7=TRUE, IF($A$5= TRUE, IF($H$1=2, IF($F$1 = 1, Data!P79, NA()), NA()), NA()), NA())","v":{"$error":"#N/A"}},{"$f":"IF($A$7 = TRUE, IF($A$5=TRUE, IF($H$1=1, IF($F$1 = 1, Data!Q79, NA()), NA()), NA()), NA())","v":{"$error":"#N/A"}},{"$f":"IF($A$7 = TRUE, IF($A$5=TRUE, IF($H$1=1, IF($F$1 = 1, Data!R79, NA()), NA()), NA()), NA())","v":{"$error":"#N/A"}},{"$f":"IF($A$5=TRUE, IF($A$7=TRUE, IF($F$1=1, IF($H$1=2, Data!S79, NA()), NA()), NA()), NA())","v":{"$error":"#N/A"}},{"$f":"IF($A$5 = TRUE, IF($A$7=TRUE, IF($F$1=1, IF($H$1=1, Data!T79, NA()), NA()),NA()), NA())","v":{"$error":"#N/A"}}]
[null,{"$f":"Data!B72","v":"Bioremediation"},{"$f":"Data!C80","v":"Semi-Soluble / Slow-Release"},{"$f":"Data!E80","v":"Full"},{"$f":"Data!H80","v":"Coarse-grained"},{"$f":"IF($A$7=TRUE, IF($A$5=TRUE, IF($H$1=2, IF($F$1 = 2, Data!I80, NA()), NA()), NA()), NA())","v":0.5407402},{"$f":"IF($A$7=TRUE, IF($A$5=TRUE, IF($H$1=2, IF($F$1 = 2, Data!J80, NA()), NA()), NA()), NA())","v":1E-3},{"$f":"IF($A$7=TRUE, IF($A$5=TRUE, IF($H$1=1, IF($F$1 = 2, Data!K80, NA()), NA()), NA()), NA())","v":{"$error":"#N/A"}},{"$f":"IF($A$7=TRUE, IF($A$5=TRUE, IF($H$1=1, IF($F$1 = 2, Data!L80, NA()), NA()), NA()), NA())","v":{"$error":"#N/A"}},{"$f":"IF($A$5=TRUE, IF($A$7=TRUE, IF($F$1=2, IF($H$1=2, Data!M80, NA()), NA()), NA()), NA())","v":3.1661120999999999},{"$f":"IF($A$5 = TRUE, IF($A$7=TRUE, IF($F$1=2, IF($H$1=1, Data!N80, NA()), NA()),NA()), NA())","v":{"$error":"#N/A"}},{"$f":"IF($A$7=TRUE, IF($A$5= TRUE, IF($H$1=2, IF($F$1 = 1, Data!O80, NA()), NA()), NA()), NA())","v":{"$error":"#N/A"}},{"$f":"IF($A$7=TRUE, IF($A$5= TRUE, IF($H$1=2, IF($F$1 = 1, Data!P80, NA()), NA()), NA()), NA())","v":{"$error":"#N/A"}},{"$f":"IF($A$7 = TRUE, IF($A$5=TRUE, IF($H$1=1, IF($F$1 = 1, Data!Q80, NA()), NA()), NA()), NA())","v":{"$error":"#N/A"}},{"$f":"IF($A$7 = TRUE, IF($A$5=TRUE, IF($H$1=1, IF($F$1 = 1, Data!R80, NA()), NA()), NA()), NA())","v":{"$error":"#N/A"}},{"$f":"IF($A$5=TRUE, IF($A$7=TRUE, IF($F$1=1, IF($H$1=2, Data!S80, NA()), NA()), NA()), NA())","v":{"$error":"#N/A"}},{"$f":"IF($A$5 = TRUE, IF($A$7=TRUE, IF($F$1=1, IF($H$1=1, Data!T80, NA()), NA()),NA()), NA())","v":{"$error":"#N/A"}}]
[null,{"$f":"Data!B74","v":"Bioremediation"},{"$f":"Data!C81","v":"Semi-Soluble / Slow-Release"},{"$f":"Data!E81","v":"Pilot"},{"$f":"Data!H81","v":"Coarse-grained"},{"$f":"IF($A$7=TRUE, IF($A$5=TRUE, IF($H$1=2, IF($F$1 = 2, Data!I81, NA()), NA()), NA()), NA())","v":0.1335633},{"$f":"IF($A$7=TRUE, IF($A$5=TRUE, IF($H$1=2, IF($F$1 = 2, Data!J81, NA()), NA()), NA()), NA())","v":5.3499000000000003E-3},{"$f":"IF($A$7=TRUE, IF($A$5=TRUE, IF($H$1=1, IF($F$1 = 2, Data!K81, NA()), NA()), NA()), NA())","v":{"$error":"#N/A"}},{"$f":"IF($A$7=TRUE, IF($A$5=TRUE, IF($H$1=1, IF($F$1 = 2, Data!L81, NA()), NA()), NA()), NA())","v":{"$error":"#N/A"}},{"$f":"IF($A$5=TRUE, IF($A$7=TRUE, IF($F$1=2, IF($H$1=2, Data!M81, NA()), NA()), NA()), NA())","v":1.3973431999999999},{"$f":"IF($A$5 = TRUE, IF($A$7=TRUE, IF($F$1=2, IF($H$1=1, Data!N81, NA()), NA()),NA()), NA())","v":{"$error":"#N/A"}},{"$f":"IF($A$7=TRUE, IF($A$5= TRUE, IF($H$1=2, IF($F$1 = 1, Data!O81, NA()), NA()), NA()), NA())","v":{"$error":"#N/A"}},{"$f":"IF($A$7=TRUE, IF($A$5= TRUE, IF($H$1=2, IF($F$1 = 1, Data!P81, NA()), NA()), NA()), NA())","v":{"$error":"#N/A"}},{"$f":"IF($A$7 = TRUE, IF($A$5=TRUE, IF($H$1=1, IF($F$1 = 1, Data!Q81, NA()), NA()), NA()), NA())","v":{"$error":"#N/A"}},{"$f":"IF($A$7 = TRUE, IF($A$5=TRUE, IF($H$1=1, IF($F$1 = 1, Data!R81, NA()), NA()), NA()), NA())","v":{"$error":"#N/A"}},{"$f":"IF($A$5=TRUE, IF($A$7=TRUE, IF($F$1=1, IF($H$1=2, Data!S81, NA()), NA()), NA()), NA())","v":{"$error":"#N/A"}},{"$f":"IF($A$5 = TRUE, IF($A$7=TRUE, IF($F$1=1, IF($H$1=1, Data!T81, NA()), NA()),NA()), NA())","v":{"$error":"#N/A"}}]
[null,{"$f":"Data!B80","v":"Bioremediation"},{"$f":"Data!C82","v":"Semi-Soluble / Slow-Release"},{"$f":"Data!E82","v":"Full"},{"$f":"Data!H82","v":"Coarse-grained"},{"$f":"IF($A$7=TRUE, IF($A$5=TRUE, IF($H$1=2, IF($F$1 = 2, Data!I82, NA()), NA()), NA()), NA())","v":0.65477229999999997},{"$f":"IF($A$7=TRUE, IF($A$5=TRUE, IF($H$1=2, IF($F$1 = 2, Data!J82, NA()), NA()), NA()), NA())","v":5.7759400000000002E-2},{"$f":"IF($A$7=TRUE, IF($A$5=TRUE, IF($H$1=1, IF($F$1 = 2, Data!K82, NA()), NA()), NA()), NA())","v":{"$error":"#N/A"}},{"$f":"IF($A$7=TRUE, IF($A$5=TRUE, IF($H$1=1, IF($F$1 = 2, Data!L82, NA()), NA()), NA()), NA())","v":{"$error":"#N/A"}},{"$f":"IF($A$5=TRUE, IF($A$7=TRUE, IF($F$1=2, IF($H$1=2, Data!M82, NA()), NA()), NA()), NA())","v":1.0544675999999999},{"$f":"IF($A$5 = TRUE, IF($A$7=TRUE, IF($F$1=2, IF($H$1=1, Data!N82, NA()), NA()),NA()), NA())","v":{"$error":"#N/A"}},{"$f":"IF($A$7=TRUE, IF($A$5= TRUE, IF($H$1=2, IF($F$1 = 1, Data!O82, NA()), NA()), NA()), NA())","v":{"$error":"#N/A"}},{"$f":"IF($A$7=TRUE, IF($A$5= TRUE, IF($H$1=2, IF($F$1 = 1, Data!P82, NA()), NA()), NA()), NA())","v":{"$error":"#N/A"}},{"$f":"IF($A$7 = TRUE, IF($A$5=TRUE, IF($H$1=1, IF($F$1 = 1, Data!Q82, NA()), NA()), NA()), NA())","v":{"$error":"#N/A"}},{"$f":"IF($A$7 = TRUE, IF($A$5=TRUE, IF($H$1=1, IF($F$1 = 1, Data!R82, NA()), NA()), NA()), NA())","v":{"$error":"#N/A"}},{"$f":"IF($A$5=TRUE, IF($A$7=TRUE, IF($F$1=1, IF($H$1=2, Data!S82, NA()), NA()), NA()), NA())","v":{"$error":"#N/A"}},{"$f":"IF($A$5 = TRUE, IF($A$7=TRUE, IF($F$1=1, IF($H$1=1, Data!T82, NA()), NA()),NA()), NA())","v":{"$error":"#N/A"}}]
[null,{"$f":"Data!B81","v":"Bioremediation"},{"$f":"Data!C83","v":"Semi-Soluble / Slow-Release"},{"$f":"Data!E83","v":"Full"},{"$f":"Data!H83","v":"Coarse-grained"},{"$f":"IF($A$7=TRUE, IF($A$5=TRUE, IF($H$1=2, IF($F$1 = 2, Data!I83, NA()), NA()), NA()), NA())","v":1.6968915},{"$f":"IF($A$7=TRUE, IF($A$5=TRUE, IF($H$1=2, IF($F$1 = 2, Data!J83, NA()), NA()), NA()), NA())","v":1E-3},{"$f":"IF($A$7=TRUE, IF($A$5=TRUE, IF($H$1=1, IF($F$1 = 2, Data!K83, NA()), NA()), NA()), NA())","v":{"$error":"#N/A"}},{"$f":"IF($A$7=TRUE, IF($A$5=TRUE, IF($H$1=1, IF($F$1 = 2, Data!L83, NA()), NA()), NA()), NA())","v":{"$error":"#N/A"}},{"$f":"IF($A$5=TRUE, IF($A$7=TRUE, IF($F$1=2, IF($H$1=2, Data!M83, NA()), NA()), NA()), NA())","v":3.2296540999999999},{"$f":"IF($A$5 = TRUE, IF($A$7=TRUE, IF($F$1=2, IF($H$1=1, Data!N83, NA()), NA()),NA()), NA())","v":{"$error":"#N/A"}},{"$f":"IF($A$7=TRUE, IF($A$5= TRUE, IF($H$1=2, IF($F$1 = 1, Data!O83, NA()), NA()), NA()), NA())","v":{"$error":"#N/A"}},{"$f":"IF($A$7=TRUE, IF($A$5= TRUE, IF($H$1=2, IF($F$1 = 1, Data!P83, NA()), NA()), NA()), NA())","v":{"$error":"#N/A"}},{"$f":"IF($A$7 = TRUE, IF($A$5=TRUE, IF($H$1=1, IF($F$1 = 1, Data!Q83, NA()), NA()), NA()), NA())","v":{"$error":"#N/A"}},{"$f":"IF($A$7 = TRUE, IF($A$5=TRUE, IF($H$1=1, IF($F$1 = 1, Data!R83, NA()), NA()), NA()), NA())","v":{"$error":"#N/A"}},{"$f":"IF($A$5=TRUE, IF($A$7=TRUE, IF($F$1=1, IF($H$1=2, Data!S83, NA()), NA()), NA()), NA())","v":{"$error":"#N/A"}},{"$f":"IF($A$5 = TRUE, IF($A$7=TRUE, IF($F$1=1, IF($H$1=1, Data!T83, NA()), NA()),NA()), NA())","v":{"$error":"#N/A"}}]
[null,{"$f":"Data!B90","v":"Bioremediation"},{"$f":"Data!C84","v":"Semi-Soluble / Slow-Release"},{"$f":"Data!E84","v":"Full"},{"$f":"Data!H84","v":"Coarse-grained"},{"$f":"IF($A$7=TRUE, IF($A$5=TRUE, IF($H$1=2, IF($F$1 = 2, Data!I84, NA()), NA()), NA()), NA())","v":19.331878},{"$f":"IF($A$7=TRUE, IF($A$5=TRUE, IF($H$1=2, IF($F$1 = 2, Data!J84, NA()), NA()), NA()), NA())","v":3.2456899999999997E-2},{"$f":"IF($A$7=TRUE, IF($A$5=TRUE, IF($H$1=1, IF($F$1 = 2, Data!K84, NA()), NA()), NA()), NA())","v":{"$error":"#N/A"}},{"$f":"IF($A$7=TRUE, IF($A$5=TRUE, IF($H$1=1, IF($F$1 = 2, Data!L84, NA()), NA()), NA()), NA())","v":{"$error":"#N/A"}},{"$f":"IF($A$5=TRUE, IF($A$7=TRUE, IF($F$1=2, IF($H$1=2, Data!M84, NA()), NA()), NA()), NA())","v":2.7749663999999998},{"$f":"IF($A$5 = TRUE, IF($A$7=TRUE, IF($F$1=2, IF($H$1=1, Data!N84, NA()), NA()),NA()), NA())","v":{"$error":"#N/A"}},{"$f":"IF($A$7=TRUE, IF($A$5= TRUE, IF($H$1=2, IF($F$1 = 1, Data!O84, NA()), NA()), NA()), NA())","v":{"$error":"#N/A"}},{"$f":"IF($A$7=TRUE, IF($A$5= TRUE, IF($H$1=2, IF($F$1 = 1, Data!P84, NA()), NA()), NA()), NA())","v":{"$error":"#N/A"}},{"$f":"IF($A$7 = TRUE, IF($A$5=TRUE, IF($H$1=1, IF($F$1 = 1, Data!Q84, NA()), NA()), NA()), NA())","v":{"$error":"#N/A"}},{"$f":"IF($A$7 = TRUE, IF($A$5=TRUE, IF($H$1=1, IF($F$1 = 1, Data!R84, NA()), NA()), NA()), NA())","v":{"$error":"#N/A"}},{"$f":"IF($A$5=TRUE, IF($A$7=TRUE, IF($F$1=1, IF($H$1=2, Data!S84, NA()), NA()), NA()), NA())","v":{"$error":"#N/A"}},{"$f":"IF($A$5 = TRUE, IF($A$7=TRUE, IF($F$1=1, IF($H$1=1, Data!T84, NA()), NA()),NA()), NA())","v":{"$error":"#N/A"}}]
[null,{"$f":"Data!B102","v":"Bioremediation"},{"$f":"Data!C85","v":"Semi-Soluble / Slow-Release"},{"$f":"Data!E85","v":"Full"},{"$f":"Data!H85","v":"Fine-grained"},{"$f":"IF($A$7=TRUE, IF($A$5=TRUE, IF($H$1=2, IF($F$1 = 2, Data!I85, NA()), NA()), NA()), NA())","v":0.42490050000000001},{"$f":"IF($A$7=TRUE, IF($A$5=TRUE, IF($H$1=2, IF($F$1 = 2, Data!J85, NA()), NA()), NA()), NA())","v":1E-3},{"$f":"IF($A$7=TRUE, IF($A$5=TRUE, IF($H$1=1, IF($F$1 = 2, Data!K85, NA()), NA()), NA()), NA())","v":{"$error":"#N/A"}},{"$f":"IF($A$7=TRUE, IF($A$5=TRUE, IF($H$1=1, IF($F$1 = 2, Data!L85, NA()), NA()), NA()), NA())","v":{"$error":"#N/A"}},{"$f":"IF($A$5=TRUE, IF($A$7=TRUE, IF($F$1=2, IF($H$1=2, Data!M85, NA()), NA()), NA()), NA())","v":3.0642619999999998},{"$f":"IF($A$5 = TRUE, IF($A$7=TRUE, IF($F$1=2, IF($H$1=1, Data!N85, NA()), NA()),NA()), NA())","v":{"$error":"#N/A"}},{"$f":"IF($A$7=TRUE, IF($A$5= TRUE, IF($H$1=2, IF($F$1 = 1, Data!O85, NA()), NA()), NA()), NA())","v":{"$error":"#N/A"}},{"$f":"IF($A$7=TRUE, IF($A$5= TRUE, IF($H$1=2, IF($F$1 = 1, Data!P85, NA()), NA()), NA()), NA())","v":{"$error":"#N/A"}},{"$f":"IF($A$7 = TRUE, IF($A$5=TRUE, IF($H$1=1, IF($F$1 = 1, Data!Q85, NA()), NA()), NA()), NA())","v":{"$error":"#N/A"}},{"$f":"IF($A$7 = TRUE, IF($A$5=TRUE, IF($H$1=1, IF($F$1 = 1, Data!R85, NA()), NA()), NA()), NA())","v":{"$error":"#N/A"}},{"$f":"IF($A$5=TRUE, IF($A$7=TRUE, IF($F$1=1, IF($H$1=2, Data!S85, NA()), NA()), NA()), NA())","v":{"$error":"#N/A"}},{"$f":"IF($A$5 = TRUE, IF($A$7=TRUE, IF($F$1=1, IF($H$1=1, Data!T85, NA()), NA()),NA()), NA())","v":{"$error":"#N/A"}}]
[null,{"$f":"Data!B103","v":"Bioremediation"},{"$f":"Data!C86","v":"Semi-Soluble / Slow-Release"},{"$f":"Data!E86","v":"Full"},{"$f":"Data!H86","v":"Coarse-grained"},{"$f":"IF($A$7=TRUE, IF($A$5=TRUE, IF($H$1=2, IF($F$1 = 2, Data!I86, NA()), NA()), NA()), NA())","v":0.73799999999999999},{"$f":"IF($A$7=TRUE, IF($A$5=TRUE, IF($H$1=2, IF($F$1 = 2, Data!J86, NA()), NA()), NA()), NA())","v":0.34698699999999999},{"$f":"IF($A$7=TRUE, IF($A$5=TRUE, IF($H$1=1, IF($F$1 = 2, Data!K86, NA()), NA()), NA()), NA())","v":{"$error":"#N/A"}},{"$f":"IF($A$7=TRUE, IF($A$5=TRUE, IF($H$1=1, IF($F$1 = 2, Data!L86, NA()), NA()), NA()), NA())","v":{"$error":"#N/A"}},{"$f":"IF($A$5=TRUE, IF($A$7=TRUE, IF($F$1=2, IF($H$1=2, Data!M86, NA()), NA()), NA()), NA())","v":0.32774310000000001},{"$f":"IF($A$5 = TRUE, IF($A$7=TRUE, IF($F$1=2, IF($H$1=1, Data!N86, NA()), NA()),NA()), NA())","v":{"$error":"#N/A"}},{"$f":"IF($A$7=TRUE, IF($A$5= TRUE, IF($H$1=2, IF($F$1 = 1, Data!O86, NA()), NA()), NA()), NA())","v":{"$error":"#N/A"}},{"$f":"IF($A$7=TRUE, IF($A$5= TRUE, IF($H$1=2, IF($F$1 = 1, Data!P86, NA()), NA()), NA()), NA())","v":{"$error":"#N/A"}},{"$f":"IF($A$7 = TRUE, IF($A$5=TRUE, IF($H$1=1, IF($F$1 = 1, Data!Q86, NA()), NA()), NA()), NA())","v":{"$error":"#N/A"}},{"$f":"IF($A$7 = TRUE, IF($A$5=TRUE, IF($H$1=1, IF($F$1 = 1, Data!R86, NA()), NA()), NA()), NA())","v":{"$error":"#N/A"}},{"$f":"IF($A$5=TRUE, IF($A$7=TRUE, IF($F$1=1, IF($H$1=2, Data!S86, NA()), NA()), NA()), NA())","v":{"$error":"#N/A"}},{"$f":"IF($A$5 = TRUE, IF($A$7=TRUE, IF($F$1=1, IF($H$1=1, Data!T86, NA()), NA()),NA()), NA())","v":{"$error":"#N/A"}}]
[null,{"$f":"Data!B44","v":"Bioremediation"},{"$f":"Data!C87","v":"Semi-Soluble / Slow-Release"},{"$f":"Data!E87","v":"Pilot"},{"$f":"Data!H87","v":"Coarse-grained"},{"$f":"IF($A$7=TRUE, IF($A$5=TRUE, IF($H$1=2, IF($F$1 = 2, Data!I87, NA()), NA()), NA()), NA())","v":4.5636400000000001E-2},{"$f":"IF($A$7=TRUE, IF($A$5=TRUE, IF($H$1=2, IF($F$1 = 2, Data!J87, NA()), NA()), NA()), NA())","v":1.29108E-2},{"$f":"IF($A$7=TRUE, IF($A$5=TRUE, IF($H$1=1, IF($F$1 = 2, Data!K87, NA()), NA()), NA()), NA())","v":{"$error":"#N/A"}},{"$f":"IF($A$7=TRUE, IF($A$5=TRUE, IF($H$1=1, IF($F$1 = 2, Data!L87, NA()), NA()), NA()), NA())","v":{"$error":"#N/A"}},{"$f":"IF($A$5=TRUE, IF($A$7=TRUE, IF($F$1=2, IF($H$1=2, Data!M87, NA()), NA()), NA()), NA())","v":0.54835900000000004},{"$f":"IF($A$5 = TRUE, IF($A$7=TRUE, IF($F$1=2, IF($H$1=1, Data!N87, NA()), NA()),NA()), NA())","v":{"$error":"#N/A"}},{"$f":"IF($A$7=TRUE, IF($A$5= TRUE, IF($H$1=2, IF($F$1 = 1, Data!O87, NA()), NA()), NA()), NA())","v":{"$error":"#N/A"}},{"$f":"IF($A$7=TRUE, IF($A$5= TRUE, IF($H$1=2, IF($F$1 = 1, Data!P87, NA()), NA()), NA()), NA())","v":{"$error":"#N/A"}},{"$f":"IF($A$7 = TRUE, IF($A$5=TRUE, IF($H$1=1, IF($F$1 = 1, Data!Q87, NA()), NA()), NA()), NA())","v":{"$error":"#N/A"}},{"$f":"IF($A$7 = TRUE, IF($A$5=TRUE, IF($H$1=1, IF($F$1 = 1, Data!R87, NA()), NA()), NA()), NA())","v":{"$error":"#N/A"}},{"$f":"IF($A$5=TRUE, IF($A$7=TRUE, IF($F$1=1, IF($H$1=2, Data!S87, NA()), NA()), NA()), NA())","v":{"$error":"#N/A"}},{"$f":"IF($A$5 = TRUE, IF($A$7=TRUE, IF($F$1=1, IF($H$1=1, Data!T87, NA()), NA()),NA()), NA())","v":{"$error":"#N/A"}}]
[null,{"$f":"Data!B64","v":"Bioremediation"},{"$f":"Data!C88","v":"Semi-Soluble / Slow-Release"},{"$f":"Data!E88","v":"Pilot"},{"$f":"Data!H88","v":"Fine-grained"},{"$f":"IF($A$7=TRUE, IF($A$5=TRUE, IF($H$1=2, IF($F$1 = 2, Data!I88, NA()), NA()), NA()), NA())","v":2.0789081999999999},{"$f":"IF($A$7=TRUE, IF($A$5=TRUE, IF($H$1=2, IF($F$1 = 2, Data!J88, NA()), NA()), NA()), NA())","v":1.0834216999999999},{"$f":"IF($A$7=TRUE, IF($A$5=TRUE, IF($H$1=1, IF($F$1 = 2, Data!K88, NA()), NA()), NA()), NA())","v":{"$error":"#N/A"}},{"$f":"IF($A$7=TRUE, IF($A$5=TRUE, IF($H$1=1, IF($F$1 = 2, Data!L88, NA()), NA()), NA()), NA())","v":{"$error":"#N/A"}},{"$f":"IF($A$5=TRUE, IF($A$7=TRUE, IF($F$1=2, IF($H$1=2, Data!M88, NA()), NA()), NA()), NA())","v":0.28303780000000001},{"$f":"IF($A$5 = TRUE, IF($A$7=TRUE, IF($F$1=2, IF($H$1=1, Data!N88, NA()), NA()),NA()), NA())","v":{"$error":"#N/A"}},{"$f":"IF($A$7=TRUE, IF($A$5= TRUE, IF($H$1=2, IF($F$1 = 1, Data!O88, NA()), NA()), NA()), NA())","v":{"$error":"#N/A"}},{"$f":"IF($A$7=TRUE, IF($A$5= TRUE, IF($H$1=2, IF($F$1 = 1, Data!P88, NA()), NA()), NA()), NA())","v":{"$error":"#N/A"}},{"$f":"IF($A$7 = TRUE, IF($A$5=TRUE, IF($H$1=1, IF($F$1 = 1, Data!Q88, NA()), NA()), NA()), NA())","v":{"$error":"#N/A"}},{"$f":"IF($A$7 = TRUE, IF($A$5=TRUE, IF($H$1=1, IF($F$1 = 1, Data!R88, NA()), NA()), NA()), NA())","v":{"$error":"#N/A"}},{"$f":"IF($A$5=TRUE, IF($A$7=TRUE, IF($F$1=1, IF($H$1=2, Data!S88, NA()), NA()), NA()), NA())","v":{"$error":"#N/A"}},{"$f":"IF($A$5 = TRUE, IF($A$7=TRUE, IF($F$1=1, IF($H$1=1, Data!T88, NA()), NA()),NA()), NA())","v":{"$error":"#N/A"}}]
[null,{"$f":"Data!B75","v":"Bioremediation"},{"$f":"Data!C89","v":"Semi-Soluble / Slow-Release"},{"$f":"Data!E89","v":"Full"},{"$f":"Data!H89","v":"Coarse-grained"},{"$f":"IF($A$7=TRUE, IF($A$5=TRUE, IF($H$1=2, IF($F$1 = 2, Data!I89, NA()), NA()), NA()), NA())","v":2.2358E-3},{"$f":"IF($A$7=TRUE, IF($A$5=TRUE, IF($H$1=2, IF($F$1 = 2, Data!J89, NA()), NA()), NA()), NA())","v":1E-3},{"$f":"IF($A$7=TRUE, IF($A$5=TRUE, IF($H$1=1, IF($F$1 = 2, Data!K89, NA()), NA()), NA()), NA())","v":{"$error":"#N/A"}},{"$f":"IF($A$7=TRUE, IF($A$5=TRUE, IF($H$1=1, IF($F$1 = 2, Data!L89, NA()), NA()), NA()), NA())","v":{"$error":"#N/A"}},{"$f":"IF($A$5=TRUE, IF($A$7=TRUE, IF($F$1=2, IF($H$1=2, Data!M89, NA()), NA()), NA()), NA())","v":0.34943800000000003},{"$f":"IF($A$5 = TRUE, IF($A$7=TRUE, IF($F$1=2, IF($H$1=1, Data!N89, NA()), NA()),NA()), NA())","v":{"$error":"#N/A"}},{"$f":"IF($A$7=TRUE, IF($A$5= TRUE, IF($H$1=2, IF($F$1 = 1, Data!O89, NA()), NA()), NA()), NA())","v":{"$error":"#N/A"}},{"$f":"IF($A$7=TRUE, IF($A$5= TRUE, IF($H$1=2, IF($F$1 = 1, Data!P89, NA()), NA()), NA()), NA())","v":{"$error":"#N/A"}},{"$f":"IF($A$7 = TRUE, IF($A$5=TRUE, IF($H$1=1, IF($F$1 = 1, Data!Q89, NA()), NA()), NA()), NA())","v":{"$error":"#N/A"}},{"$f":"IF($A$7 = TRUE, IF($A$5=TRUE, IF($H$1=1, IF($F$1 = 1, Data!R89, NA()), NA()), NA()), NA())","v":{"$error":"#N/A"}},{"$f":"IF($A$5=TRUE, IF($A$7=TRUE, IF($F$1=1, IF($H$1=2, Data!S89, NA()), NA()), NA()), NA())","v":{"$error":"#N/A"}},{"$f":"IF($A$5 = TRUE, IF($A$7=TRUE, IF($F$1=1, IF($H$1=1, Data!T89, NA()), NA()),NA()), NA())","v":{"$error":"#N/A"}}]
[null,{"$f":"Data!B77","v":"Bioremediation"},{"$f":"Data!C90","v":"Semi-Soluble / Slow-Release"},{"$f":"Data!E90","v":"Full"},{"$f":"Data!H90","v":"Coarse-grained"},{"$f":"IF($A$7=TRUE, IF($A$5=TRUE, IF($H$1=2, IF($F$1 = 2, Data!I90, NA()), NA()), NA()), NA())","v":1.5914809000000001},{"$f":"IF($A$7=TRUE, IF($A$5=TRUE, IF($H$1=2, IF($F$1 = 2, Data!J90, NA()), NA()), NA()), NA())","v":2.5499999999999998E-2},{"$f":"IF($A$7=TRUE, IF($A$5=TRUE, IF($H$1=1, IF($F$1 = 2, Data!K90, NA()), NA()), NA()), NA())","v":{"$error":"#N/A"}},{"$f":"IF($A$7=TRUE, IF($A$5=TRUE, IF($H$1=1, IF($F$1 = 2, Data!L90, NA()), NA()), NA()), NA())","v":{"$error":"#N/A"}},{"$f":"IF($A$5=TRUE, IF($A$7=TRUE, IF($F$1=2, IF($H$1=2, Data!M90, NA()), NA()), NA()), NA())","v":1.7952611999999999},{"$f":"IF($A$5 = TRUE, IF($A$7=TRUE, IF($F$1=2, IF($H$1=1, Data!N90, NA()), NA()),NA()), NA())","v":{"$error":"#N/A"}},{"$f":"IF($A$7=TRUE, IF($A$5= TRUE, IF($H$1=2, IF($F$1 = 1, Data!O90, NA()), NA()), NA()), NA())","v":{"$error":"#N/A"}},{"$f":"IF($A$7=TRUE, IF($A$5= TRUE, IF($H$1=2, IF($F$1 = 1, Data!P90, NA()), NA()), NA()), NA())","v":{"$error":"#N/A"}},{"$f":"IF($A$7 = TRUE, IF($A$5=TRUE, IF($H$1=1, IF($F$1 = 1, Data!Q90, NA()), NA()), NA()), NA())","v":{"$error":"#N/A"}},{"$f":"IF($A$7 = TRUE, IF($A$5=TRUE, IF($H$1=1, IF($F$1 = 1, Data!R90, NA()), NA()), NA()), NA())","v":{"$error":"#N/A"}},{"$f":"IF($A$5=TRUE, IF($A$7=TRUE, IF($F$1=1, IF($H$1=2, Data!S90, NA()), NA()), NA()), NA())","v":{"$error":"#N/A"}},{"$f":"IF($A$5 = TRUE, IF($A$7=TRUE, IF($F$1=1, IF($H$1=1, Data!T90, NA()), NA()),NA()), NA())","v":{"$error":"#N/A"}}]
[null,{"$f":"Data!B97","v":"Bioremediation"},{"$f":"Data!C91","v":"Semi-Soluble / Slow-Release"},{"$f":"Data!E91","v":"Full"},{"$f":"Data!H91","v":0},{"$f":"IF($A$7=TRUE, IF($A$5=TRUE, IF($H$1=2, IF($F$1 = 2, Data!I91, NA()), NA()), NA()), NA())","v":0.34250000000000003},{"$f":"IF($A$7=TRUE, IF($A$5=TRUE, IF($H$1=2, IF($F$1 = 2, Data!J91, NA()), NA()), NA()), NA())","v":1.47268E-2},{"$f":"IF($A$7=TRUE, IF($A$5=TRUE, IF($H$1=1, IF($F$1 = 2, Data!K91, NA()), NA()), NA()), NA())","v":{"$error":"#N/A"}},{"$f":"IF($A$7=TRUE, IF($A$5=TRUE, IF($H$1=1, IF($F$1 = 2, Data!L91, NA()), NA()), NA()), NA())","v":{"$error":"#N/A"}},{"$f":"IF($A$5=TRUE, IF($A$7=TRUE, IF($F$1=2, IF($H$1=2, Data!M91, NA()), NA()), NA()), NA())","v":1.3665527},{"$f":"IF($A$5 = TRUE, IF($A$7=TRUE, IF($F$1=2, IF($H$1=1, Data!N91, NA()), NA()),NA()), NA())","v":{"$error":"#N/A"}},{"$f":"IF($A$7=TRUE, IF($A$5= TRUE, IF($H$1=2, IF($F$1 = 1, Data!O91, NA()), NA()), NA()), NA())","v":{"$error":"#N/A"}},{"$f":"IF($A$7=TRUE, IF($A$5= TRUE, IF($H$1=2, IF($F$1 = 1, Data!P91, NA()), NA()), NA()), NA())","v":{"$error":"#N/A"}},{"$f":"IF($A$7 = TRUE, IF($A$5=TRUE, IF($H$1=1, IF($F$1 = 1, Data!Q91, NA()), NA()), NA()), NA())","v":{"$error":"#N/A"}},{"$f":"IF($A$7 = TRUE, IF($A$5=TRUE, IF($H$1=1, IF($F$1 = 1, Data!R91, NA()), NA()), NA()), NA())","v":{"$error":"#N/A"}},{"$f":"IF($A$5=TRUE, IF($A$7=TRUE, IF($F$1=1, IF($H$1=2, Data!S91, NA()), NA()), NA()), NA())","v":{"$error":"#N/A"}},{"$f":"IF($A$5 = TRUE, IF($A$7=TRUE, IF($F$1=1, IF($H$1=1, Data!T91, NA()), NA()),NA()), NA())","v":{"$error":"#N/A"}}]
[null,{"$f":"Data!B18","v":"Bioremediation"},{"$f":"Data!C92","v":"Semi-Soluble / Slow-Release"},{"$f":"Data!E92","v":"Pilot"},{"$f":"Data!H92","v":"Fine-grained"},{"$f":"IF($A$7=TRUE, IF($A$5=TRUE, IF($H$1=2, IF($F$1 = 2, Data!I92, NA()), NA()), NA()), NA())","v":0.37870619999999999},{"$f":"IF($A$7=TRUE, IF($A$5=TRUE, IF($H$1=2, IF($F$1 = 2, Data!J92, NA()), NA()), NA()), NA())","v":6.7860500000000004E-2},{"$f":"IF($A$7=TRUE, IF($A$5=TRUE, IF($H$1=1, IF($F$1 = 2, Data!K92, NA()), NA()), NA()), NA())","v":{"$error":"#N/A"}},{"$f":"IF($A$7=TRUE, IF($A$5=TRUE, IF($H$1=1, IF($F$1 = 2, Data!L92, NA()), NA()), NA()), NA())","v":{"$error":"#N/A"}},{"$f":"IF($A$5=TRUE, IF($A$7=TRUE, IF($F$1=2, IF($H$1=2, Data!M92, NA()), NA()), NA()), NA())","v":0.7466853},{"$f":"IF($A$5 = TRUE, IF($A$7=TRUE, IF($F$1=2, IF($H$1=1, Data!N92, NA()), NA()),NA()), NA())","v":{"$error":"#N/A"}},{"$f":"IF($A$7=TRUE, IF($A$5= TRUE, IF($H$1=2, IF($F$1 = 1, Data!O92, NA()), NA()), NA()), NA())","v":{"$error":"#N/A"}},{"$f":"IF($A$7=TRUE, IF($A$5= TRUE, IF($H$1=2, IF($F$1 = 1, Data!P92, NA()), NA()), NA()), NA())","v":{"$error":"#N/A"}},{"$f":"IF($A$7 = TRUE, IF($A$5=TRUE, IF($H$1=1, IF($F$1 = 1, Data!Q92, NA()), NA()), NA()), NA())","v":{"$error":"#N/A"}},{"$f":"IF($A$7 = TRUE, IF($A$5=TRUE, IF($H$1=1, IF($F$1 = 1, Data!R92, NA()), NA()), NA()), NA())","v":{"$error":"#N/A"}},{"$f":"IF($A$5=TRUE, IF($A$7=TRUE, IF($F$1=1, IF($H$1=2, Data!S92, NA()), NA()), NA()), NA())","v":{"$error":"#N/A"}},{"$f":"IF($A$5 = TRUE, IF($A$7=TRUE, IF($F$1=1, IF($H$1=1, Data!T92, NA()), NA()),NA()), NA())","v":{"$error":"#N/A"}}]
[null,{"$f":"Data!B19","v":"Bioremediation"},{"$f":"Data!C93","v":"Semi-Soluble / Slow-Release"},{"$f":"Data!E93","v":"Full"},{"$f":"Data!H93","v":"Fractured rock"},{"$f":"IF($A$7=TRUE, IF($A$5=TRUE, IF($H$1=2, IF($F$1 = 2, Data!I93, NA()), NA()), NA()), NA())","v":1.3},{"$f":"IF($A$7=TRUE, IF($A$5=TRUE, IF($H$1=2, IF($F$1 = 2, Data!J93, NA()), NA()), NA()), NA())","v":0.1004688},{"$f":"IF($A$7=TRUE, IF($A$5=TRUE, IF($H$1=1, IF($F$1 = 2, Data!K93, NA()), NA()), NA()), NA())","v":{"$error":"#N/A"}},{"$f":"IF($A$7=TRUE, IF($A$5=TRUE, IF($H$1=1, IF($F$1 = 2, Data!L93, NA()), NA()), NA()), NA())","v":{"$error":"#N/A"}},{"$f":"IF($A$5=TRUE, IF($A$7=TRUE, IF($F$1=2, IF($H$1=2, Data!M93, NA()), NA()), NA()), NA())","v":1.1119121999999999},{"$f":"IF($A$5 = TRUE, IF($A$7=TRUE, IF($F$1=2, IF($H$1=1, Data!N93, NA()), NA()),NA()), NA())","v":{"$error":"#N/A"}},{"$f":"IF($A$7=TRUE, IF($A$5= TRUE, IF($H$1=2, IF($F$1 = 1, Data!O93, NA()), NA()), NA()), NA())","v":{"$error":"#N/A"}},{"$f":"IF($A$7=TRUE, IF($A$5= TRUE, IF($H$1=2, IF($F$1 = 1, Data!P93, NA()), NA()), NA()), NA())","v":{"$error":"#N/A"}},{"$f":"IF($A$7 = TRUE, IF($A$5=TRUE, IF($H$1=1, IF($F$1 = 1, Data!Q93, NA()), NA()), NA()), NA())","v":{"$error":"#N/A"}},{"$f":"IF($A$7 = TRUE, IF($A$5=TRUE, IF($H$1=1, IF($F$1 = 1, Data!R93, NA()), NA()), NA()), NA())","v":{"$error":"#N/A"}},{"$f":"IF($A$5=TRUE, IF($A$7=TRUE, IF($F$1=1, IF($H$1=2, Data!S93, NA()), NA()), NA()), NA())","v":{"$error":"#N/A"}},{"$f":"IF($A$5 = TRUE, IF($A$7=TRUE, IF($F$1=1, IF($H$1=1, Data!T93, NA()), NA()),NA()), NA())","v":{"$error":"#N/A"}}]
[null,{"$f":"Data!B20","v":"Bioremediation"},{"$f":"Data!C94","v":"Soluble"},{"$f":"Data!E94","v":"Full"},{"$f":"Data!H94","v":0},{"$f":"IF($A$6=TRUE, IF($A$5=TRUE, IF($H$1=2, IF($F$1 = 2, Data!I94, NA()), NA()), NA()), NA())","v":4.0720000000000001E-3},{"$f":"IF($A$6=TRUE, IF($A$5=TRUE, IF($H$1=2, IF($F$1 = 2, Data!J94, NA()), NA()), NA()), NA())","v":5.3711000000000002E-3},{"$f":"IF($A$6=TRUE, IF($A$5=TRUE, IF($H$1=1, IF($F$1 = 2, Data!K94, NA()), NA()), NA()), NA())","v":{"$error":"#N/A"}},{"$f":"IF($A$6=TRUE, IF($A$5=TRUE, IF($H$1=1, IF($F$1 = 2, Data!L94, NA()), NA()), NA()), NA())","v":{"$error":"#N/A"}},{"$f":"IF($A$5=TRUE, IF($A$6=TRUE, IF($F$1=2, IF($H$1=2, Data!M94, NA()), NA()), NA()), NA())","v":-0.1202541},{"$f":"IF($A$5 = TRUE, IF($A$6=TRUE, IF($F$1=2, IF($H$1=1, Data!N94, NA()), NA()),NA()), NA())","v":{"$error":"#N/A"}},{"$f":"IF($A$6=TRUE, IF($A$5= TRUE, IF($H$1=2, IF($F$1 = 1, Data!O94, NA()), NA()), NA()), NA())","v":{"$error":"#N/A"}},{"$f":"IF($A$6=TRUE, IF($A$5= TRUE, IF($H$1=2, IF($F$1 = 1, Data!P94, NA()), NA()), NA()), NA())","v":{"$error":"#N/A"}},{"$f":"IF($A$6 = TRUE, IF($A$5=TRUE, IF($H$1=1, IF($F$1 = 1, Data!Q94, NA()), NA()), NA()), NA())","v":{"$error":"#N/A"}},{"$f":"IF($A$6 = TRUE, IF($A$5=TRUE, IF($H$1=1, IF($F$1 = 1, Data!R94, NA()), NA()), NA()), NA())","v":{"$error":"#N/A"}},{"$f":"IF($A$5=TRUE, IF($A$6=TRUE, IF($F$1=1, IF($H$1=2, Data!S94, NA()), NA()), NA()), NA())","v":{"$error":"#N/A"}},{"$f":"IF($A$5 = TRUE, IF($A$6=TRUE, IF($F$1=1, IF($H$1=1, Data!T94, NA()), NA()),NA()), NA())","v":{"$error":"#N/A"}}]
[null,{"$f":"Data!B21","v":"Bioremediation"},{"$f":"Data!C95","v":"Soluble"},{"$f":"Data!E95","v":"Full"},{"$f":"Data!H95","v":0},{"$f":"IF($A$6=TRUE, IF($A$5=TRUE, IF($H$1=2, IF($F$1 = 2, Data!I95, NA()), NA()), NA()), NA())","v":3.4681200000000002E-2},{"$f":"IF($A$6=TRUE, IF($A$5=TRUE, IF($H$1=2, IF($F$1 = 2, Data!J95, NA()), NA()), NA()), NA())","v":4.7482000000000002E-3},{"$f":"IF($A$6=TRUE, IF($A$5=TRUE, IF($H$1=1, IF($F$1 = 2, Data!K95, NA()), NA()), NA()), NA())","v":{"$error":"#N/A"}},{"$f":"IF($A$6=TRUE, IF($A$5=TRUE, IF($H$1=1, IF($F$1 = 2, Data!L95, NA()), NA()), NA()), NA())","v":{"$error":"#N/A"}},{"$f":"IF($A$5=TRUE, IF($A$6=TRUE, IF($F$1=2, IF($H$1=2, Data!M95, NA()), NA()), NA()), NA())","v":0.8635621},{"$f":"IF($A$5 = TRUE, IF($A$6=TRUE, IF($F$1=2, IF($H$1=1, Data!N95, NA()), NA()),NA()), NA())","v":{"$error":"#N/A"}},{"$f":"IF($A$6=TRUE, IF($A$5= TRUE, IF($H$1=2, IF($F$1 = 1, Data!O95, NA()), NA()), NA()), NA())","v":{"$error":"#N/A"}},{"$f":"IF($A$6=TRUE, IF($A$5= TRUE, IF($H$1=2, IF($F$1 = 1, Data!P95, NA()), NA()), NA()), NA())","v":{"$error":"#N/A"}},{"$f":"IF($A$6 = TRUE, IF($A$5=TRUE, IF($H$1=1, IF($F$1 = 1, Data!Q95, NA()), NA()), NA()), NA())","v":{"$error":"#N/A"}},{"$f":"IF($A$6 = TRUE, IF($A$5=TRUE, IF($H$1=1, IF($F$1 = 1, Data!R95, NA()), NA()), NA()), NA())","v":{"$error":"#N/A"}},{"$f":"IF($A$5=TRUE, IF($A$6=TRUE, IF($F$1=1, IF($H$1=2, Data!S95, NA()), NA()), NA()), NA())","v":{"$error":"#N/A"}},{"$f":"IF($A$5 = TRUE, IF($A$6=TRUE, IF($F$1=1, IF($H$1=1, Data!T95, NA()), NA()),NA()), NA())","v":{"$error":"#N/A"}}]
[null,{"$f":"Data!B22","v":"Bioremediation"},{"$f":"Data!C96","v":"Semi-Soluble / Slow-Release"},{"$f":"Data!E96","v":"Full"},{"$f":"Data!H96","v":"Fine-grained"},{"$f":"IF($A$7=TRUE, IF($A$5=TRUE, IF($H$1=2, IF($F$1 = 2, Data!I96, NA()), NA()), NA()), NA())","v":4.1184100000000001E-2},{"$f":"IF($A$7=TRUE, IF($A$5=TRUE, IF($H$1=2, IF($F$1 = 2, Data!J96, NA()), NA()), NA()), NA())","v":1.3144999999999999E-3},{"$f":"IF($A$7=TRUE, IF($A$5=TRUE, IF($H$1=1, IF($F$1 = 2, Data!K96, NA()), NA()), NA()), NA())","v":{"$error":"#N/A"}},{"$f":"IF($A$7=TRUE, IF($A$5=TRUE, IF($H$1=1, IF($F$1 = 2, Data!L96, NA()), NA()), NA()), NA())","v":{"$error":"#N/A"}},{"$f":"IF($A$5=TRUE, IF($A$7=TRUE, IF($F$1=2, IF($H$1=2, Data!M96, NA()), NA()), NA()), NA())","v":1.4959827999999999},{"$f":"IF($A$5 = TRUE, IF($A$7=TRUE, IF($F$1=2, IF($H$1=1, Data!N96, NA()), NA()),NA()), NA())","v":{"$error":"#N/A"}},{"$f":"IF($A$7=TRUE, IF($A$5= TRUE, IF($H$1=2, IF($F$1 = 1, Data!O96, NA()), NA()), NA()), NA())","v":{"$error":"#N/A"}},{"$f":"IF($A$7=TRUE, IF($A$5= TRUE, IF($H$1=2, IF($F$1 = 1, Data!P96, NA()), NA()), NA()), NA())","v":{"$error":"#N/A"}},{"$f":"IF($A$7 = TRUE, IF($A$5=TRUE, IF($H$1=1, IF($F$1 = 1, Data!Q96, NA()), NA()), NA()), NA())","v":{"$error":"#N/A"}},{"$f":"IF($A$7 = TRUE, IF($A$5=TRUE, IF($H$1=1, IF($F$1 = 1, Data!R96, NA()), NA()), NA()), NA())","v":{"$error":"#N/A"}},{"$f":"IF($A$5=TRUE, IF($A$7=TRUE, IF($F$1=1, IF($H$1=2, Data!S96, NA()), NA()), NA()), NA())","v":{"$error":"#N/A"}},{"$f":"IF($A$5 = TRUE, IF($A$7=TRUE, IF($F$1=1, IF($H$1=1, Data!T96, NA()), NA()),NA()), NA())","v":{"$error":"#N/A"}}]
[null,{"$f":"Data!B23","v":"Bioremediation"},{"$f":"Data!C97","v":"Soluble"},{"$f":"Data!E97","v":"Full"},{"$f":"Data!H97","v":0},{"$f":"IF($A$6=TRUE, IF($A$5=TRUE, IF($H$1=2, IF($F$1 = 2, Data!I97, NA()), NA()), NA()), NA())","v":0.61478469999999996},{"$f":"IF($A$6=TRUE, IF($A$5=TRUE, IF($H$1=2, IF($F$1 = 2, Data!J97, NA()), NA()), NA()), NA())","v":1E-3},{"$f":"IF($A$6=TRUE, IF($A$5=TRUE, IF($H$1=1, IF($F$1 = 2, Data!K97, NA()), NA()), NA()), NA())","v":{"$error":"#N/A"}},{"$f":"IF($A$6=TRUE, IF($A$5=TRUE, IF($H$1=1, IF($F$1 = 2, Data!L97, NA()), NA()), NA()), NA())","v":{"$error":"#N/A"}},{"$f":"IF($A$5=TRUE, IF($A$6=TRUE, IF($F$1=2, IF($H$1=2, Data!M97, NA()), NA()), NA()), NA())","v":3.3337311999999999},{"$f":"IF($A$5 = TRUE, IF($A$6=TRUE, IF($F$1=2, IF($H$1=1, Data!N97, NA()), NA()),NA()), NA())","v":{"$error":"#N/A"}},{"$f":"IF($A$6=TRUE, IF($A$5= TRUE, IF($H$1=2, IF($F$1 = 1, Data!O97, NA()), NA()), NA()), NA())","v":{"$error":"#N/A"}},{"$f":"IF($A$6=TRUE, IF($A$5= TRUE, IF($H$1=2, IF($F$1 = 1, Data!P97, NA()), NA()), NA()), NA())","v":{"$error":"#N/A"}},{"$f":"IF($A$6 = TRUE, IF($A$5=TRUE, IF($H$1=1, IF($F$1 = 1, Data!Q97, NA()), NA()), NA()), NA())","v":{"$error":"#N/A"}},{"$f":"IF($A$6 = TRUE, IF($A$5=TRUE, IF($H$1=1, IF($F$1 = 1, Data!R97, NA()), NA()), NA()), NA())","v":{"$error":"#N/A"}},{"$f":"IF($A$5=TRUE, IF($A$6=TRUE, IF($F$1=1, IF($H$1=2, Data!S97, NA()), NA()), NA()), NA())","v":{"$error":"#N/A"}},{"$f":"IF($A$5 = TRUE, IF($A$6=TRUE, IF($F$1=1, IF($H$1=1, Data!T97, NA()), NA()),NA()), NA())","v":{"$error":"#N/A"}}]
[null,{"$f":"Data!B27","v":"Bioremediation"},{"$f":"Data!C98","v":"Semi-Soluble / Slow-Release"},{"$f":"Data!E98","v":0},{"$f":"Data!H98","v":0},{"$f":"IF($A$7=TRUE, IF($A$5=TRUE, IF($H$1=2, IF($F$1 = 2, Data!I98, NA()), NA()), NA()), NA())","v":5.4373715999999996},{"$f":"IF($A$7=TRUE, IF($A$5=TRUE, IF($H$1=2, IF($F$1 = 2, Data!J98, NA()), NA()), NA()), NA())","v":5.5330200000000003E-2},{"$f":"IF($A$7=TRUE, IF($A$5=TRUE, IF($H$1=1, IF($F$1 = 2, Data!K98, NA()), NA()), NA()), NA())","v":{"$error":"#N/A"}},{"$f":"IF($A$7=TRUE, IF($A$5=TRUE, IF($H$1=1, IF($F$1 = 2, Data!L98, NA()), NA()), NA()), NA())","v":{"$error":"#N/A"}},{"$f":"IF($A$5=TRUE, IF($A$7=TRUE, IF($F$1=2, IF($H$1=2, Data!M98, NA()), NA()), NA()), NA())","v":1.9924271},{"$f":"IF($A$5 = TRUE, IF($A$7=TRUE, IF($F$1=2, IF($H$1=1, Data!N98, NA()), NA()),NA()), NA())","v":{"$error":"#N/A"}},{"$f":"IF($A$7=TRUE, IF($A$5= TRUE, IF($H$1=2, IF($F$1 = 1, Data!O98, NA()), NA()), NA()), NA())","v":{"$error":"#N/A"}},{"$f":"IF($A$7=TRUE, IF($A$5= TRUE, IF($H$1=2, IF($F$1 = 1, Data!P98, NA()), NA()), NA()), NA())","v":{"$error":"#N/A"}},{"$f":"IF($A$7 = TRUE, IF($A$5=TRUE, IF($H$1=1, IF($F$1 = 1, Data!Q98, NA()), NA()), NA()), NA())","v":{"$error":"#N/A"}},{"$f":"IF($A$7 = TRUE, IF($A$5=TRUE, IF($H$1=1, IF($F$1 = 1, Data!R98, NA()), NA()), NA()), NA())","v":{"$error":"#N/A"}},{"$f":"IF($A$5=TRUE, IF($A$7=TRUE, IF($F$1=1, IF($H$1=2, Data!S98, NA()), NA()), NA()), NA())","v":{"$error":"#N/A"}},{"$f":"IF($A$5 = TRUE, IF($A$7=TRUE, IF($F$1=1, IF($H$1=1, Data!T98, NA()), NA()),NA()), NA())","v":{"$error":"#N/A"}}]
[null,{"$f":"Data!B28","v":"Bioremediation"},{"$f":"Data!C99","v":"Soluble"},{"$f":"Data!E99","v":"Full"},{"$f":"Data!H99","v":"Fine-grained"},{"$f":"IF($A$6=TRUE, IF($A$5=TRUE, IF($H$1=2, IF($F$1 = 2, Data!I99, NA()), NA()), NA()), NA())","v":0.10782659999999999},{"$f":"IF($A$6=TRUE, IF($A$5=TRUE, IF($H$1=2, IF($F$1 = 2, Data!J99, NA()), NA()), NA()), NA())","v":1E-3},{"$f":"IF($A$6=TRUE, IF($A$5=TRUE, IF($H$1=1, IF($F$1 = 2, Data!K99, NA()), NA()), NA()), NA())","v":{"$error":"#N/A"}},{"$f":"IF($A$6=TRUE, IF($A$5=TRUE, IF($H$1=1, IF($F$1 = 2, Data!L99, NA()), NA()), NA()), NA())","v":{"$error":"#N/A"}},{"$f":"IF($A$5=TRUE, IF($A$6=TRUE, IF($F$1=2, IF($H$1=2, Data!M99, NA()), NA()), NA()), NA())","v":2.0327259999999998},{"$f":"IF($A$5 = TRUE, IF($A$6=TRUE, IF($F$1=2, IF($H$1=1, Data!N99, NA()), NA()),NA()), NA())","v":{"$error":"#N/A"}},{"$f":"IF($A$6=TRUE, IF($A$5= TRUE, IF($H$1=2, IF($F$1 = 1, Data!O99, NA()), NA()), NA()), NA())","v":{"$error":"#N/A"}},{"$f":"IF($A$6=TRUE, IF($A$5= TRUE, IF($H$1=2, IF($F$1 = 1, Data!P99, NA()), NA()), NA()), NA())","v":{"$error":"#N/A"}},{"$f":"IF($A$6 = TRUE, IF($A$5=TRUE, IF($H$1=1, IF($F$1 = 1, Data!Q99, NA()), NA()), NA()), NA())","v":{"$error":"#N/A"}},{"$f":"IF($A$6 = TRUE, IF($A$5=TRUE, IF($H$1=1, IF($F$1 = 1, Data!R99, NA()), NA()), NA()), NA())","v":{"$error":"#N/A"}},{"$f":"IF($A$5=TRUE, IF($A$6=TRUE, IF($F$1=1, IF($H$1=2, Data!S99, NA()), NA()), NA()), NA())","v":{"$error":"#N/A"}},{"$f":"IF($A$5 = TRUE, IF($A$6=TRUE, IF($F$1=1, IF($H$1=1, Data!T99, NA()), NA()),NA()), NA())","v":{"$error":"#N/A"}}]
[null,{"$f":"Data!B29","v":"Bioremediation"},{"$f":"Data!C100","v":"Soluble"},{"$f":"Data!E100","v":"Full"},{"$f":"Data!H100","v":0},{"$f":"IF($A$6=TRUE, IF($A$5=TRUE, IF($H$1=2, IF($F$1 = 2, Data!I100, NA()), NA()), NA()), NA())","v":5.1811000000000001E-3},{"$f":"IF($A$6=TRUE, IF($A$5=TRUE, IF($H$1=2, IF($F$1 = 2, Data!J100, NA()), NA()), NA()), NA())","v":1.2509999999999999E-3},{"$f":"IF($A$6=TRUE, IF($A$5=TRUE, IF($H$1=1, IF($F$1 = 2, Data!K100, NA()), NA()), NA()), NA())","v":{"$error":"#N/A"}},{"$f":"IF($A$6=TRUE, IF($A$5=TRUE, IF($H$1=1, IF($F$1 = 2, Data!L100, NA()), NA()), NA()), NA())","v":{"$error":"#N/A"}},{"$f":"IF($A$5=TRUE, IF($A$6=TRUE, IF($F$1=2, IF($H$1=2, Data!M100, NA()), NA()), NA()), NA())","v":0.61717319999999998},{"$f":"IF($A$5 = TRUE, IF($A$6=TRUE, IF($F$1=2, IF($H$1=1, Data!N100, NA()), NA()),NA()), NA())","v":{"$error":"#N/A"}},{"$f":"IF($A$6=TRUE, IF($A$5= TRUE, IF($H$1=2, IF($F$1 = 1, Data!O100, NA()), NA()), NA()), NA())","v":{"$error":"#N/A"}},{"$f":"IF($A$6=TRUE, IF($A$5= TRUE, IF($H$1=2, IF($F$1 = 1, Data!P100, NA()), NA()), NA()), NA())","v":{"$error":"#N/A"}},{"$f":"IF($A$6 = TRUE, IF($A$5=TRUE, IF($H$1=1, IF($F$1 = 1, Data!Q100, NA()), NA()), NA()), NA())","v":{"$error":"#N/A"}},{"$f":"IF($A$6 = TRUE, IF($A$5=TRUE, IF($H$1=1, IF($F$1 = 1, Data!R100, NA()), NA()), NA()), NA())","v":{"$error":"#N/A"}},{"$f":"IF($A$5=TRUE, IF($A$6=TRUE, IF($F$1=1, IF($H$1=2, Data!S100, NA()), NA()), NA()), NA())","v":{"$error":"#N/A"}},{"$f":"IF($A$5 = TRUE, IF($A$6=TRUE, IF($F$1=1, IF($H$1=1, Data!T100, NA()), NA()),NA()), NA())","v":{"$error":"#N/A"}}]
[null,{"$f":"Data!B54","v":"Bioremediation"},{"$f":"Data!C101","v":"Soluble"},{"$f":"Data!E101","v":"Full"},{"$f":"Data!H101","v":"Fine-grained"},{"$f":"IF($A$6=TRUE, IF($A$5=TRUE, IF($H$1=2, IF($F$1 = 2, Data!I101, NA()), NA()), NA()), NA())","v":1.7731169},{"$f":"IF($A$6=TRUE, IF($A$5=TRUE, IF($H$1=2, IF($F$1 = 2, Data!J101, NA()), NA()), NA()), NA())","v":0.1587027},{"$f":"IF($A$6=TRUE, IF($A$5=TRUE, IF($H$1=1, IF($F$1 = 2, Data!K101, NA()), NA()), NA()), NA())","v":{"$error":"#N/A"}},{"$f":"IF($A$6=TRUE, IF($A$5=TRUE, IF($H$1=1, IF($F$1 = 2, Data!L101, NA()), NA()), NA()), NA())","v":{"$error":"#N/A"}},{"$f":"IF($A$5=TRUE, IF($A$6=TRUE, IF($F$1=2, IF($H$1=2, Data!M101, NA()), NA()), NA()), NA())","v":1.0481532},{"$f":"IF($A$5 = TRUE, IF($A$6=TRUE, IF($F$1=2, IF($H$1=1, Data!N101, NA()), NA()),NA()), NA())","v":{"$error":"#N/A"}},{"$f":"IF($A$6=TRUE, IF($A$5= TRUE, IF($H$1=2, IF($F$1 = 1, Data!O101, NA()), NA()), NA()), NA())","v":{"$error":"#N/A"}},{"$f":"IF($A$6=TRUE, IF($A$5= TRUE, IF($H$1=2, IF($F$1 = 1, Data!P101, NA()), NA()), NA()), NA())","v":{"$error":"#N/A"}},{"$f":"IF($A$6 = TRUE, IF($A$5=TRUE, IF($H$1=1, IF($F$1 = 1, Data!Q101, NA()), NA()), NA()), NA())","v":{"$error":"#N/A"}},{"$f":"IF($A$6 = TRUE, IF($A$5=TRUE, IF($H$1=1, IF($F$1 = 1, Data!R101, NA()), NA()), NA()), NA())","v":{"$error":"#N/A"}},{"$f":"IF($A$5=TRUE, IF($A$6=TRUE, IF($F$1=1, IF($H$1=2, Data!S101, NA()), NA()), NA()), NA())","v":{"$error":"#N/A"}},{"$f":"IF($A$5 = TRUE, IF($A$6=TRUE, IF($F$1=1, IF($H$1=1, Data!T101, NA()), NA()),NA()), NA())","v":{"$error":"#N/A"}}]
[null,{"$f":"Data!B55","v":"Bioremediation"},{"$f":"Data!C102","v":"Soluble"},{"$f":"Data!E102","v":"Full"},{"$f":"Data!H102","v":"Fine-grained"},{"$f":"IF($A$6=TRUE, IF($A$5=TRUE, IF($H$1=2, IF($F$1 = 2, Data!I102, NA()), NA()), NA()), NA())","v":6.7208100000000007E-2},{"$f":"IF($A$6=TRUE, IF($A$5=TRUE, IF($H$1=2, IF($F$1 = 2, Data!J102, NA()), NA()), NA()), NA())","v":3.8820800000000003E-2},{"$f":"IF($A$6=TRUE, IF($A$5=TRUE, IF($H$1=1, IF($F$1 = 2, Data!K102, NA()), NA()), NA()), NA())","v":{"$error":"#N/A"}},{"$f":"IF($A$6=TRUE, IF($A$5=TRUE, IF($H$1=1, IF($F$1 = 2, Data!L102, NA()), NA()), NA()), NA())","v":{"$error":"#N/A"}},{"$f":"IF($A$5=TRUE, IF($A$6=TRUE, IF($F$1=2, IF($H$1=2, Data!M102, NA()), NA()), NA()), NA())","v":0.23835690000000001},{"$f":"IF($A$5 = TRUE, IF($A$6=TRUE, IF($F$1=2, IF($H$1=1, Data!N102, NA()), NA()),NA()), NA())","v":{"$error":"#N/A"}},{"$f":"IF($A$6=TRUE, IF($A$5= TRUE, IF($H$1=2, IF($F$1 = 1, Data!O102, NA()), NA()), NA()), NA())","v":{"$error":"#N/A"}},{"$f":"IF($A$6=TRUE, IF($A$5= TRUE, IF($H$1=2, IF($F$1 = 1, Data!P102, NA()), NA()), NA()), NA())","v":{"$error":"#N/A"}},{"$f":"IF($A$6 = TRUE, IF($A$5=TRUE, IF($H$1=1, IF($F$1 = 1, Data!Q102, NA()), NA()), NA()), NA())","v":{"$error":"#N/A"}},{"$f":"IF($A$6 = TRUE, IF($A$5=TRUE, IF($H$1=1, IF($F$1 = 1, Data!R102, NA()), NA()), NA()), NA())","v":{"$error":"#N/A"}},{"$f":"IF($A$5=TRUE, IF($A$6=TRUE, IF($F$1=1, IF($H$1=2, Data!S102, NA()), NA()), NA()), NA())","v":{"$error":"#N/A"}},{"$f":"IF($A$5 = TRUE, IF($A$6=TRUE, IF($F$1=1, IF($H$1=1, Data!T102, NA()), NA()),NA()), NA())","v":{"$error":"#N/A"}}]
[null,{"$f":"Data!B66","v":"Bioremediation"},{"$f":"Data!C103","v":"Soluble"},{"$f":"Data!E103","v":"Full"},{"$f":"Data!H103","v":"Fine-grained"},{"$f":"IF($A$6=TRUE, IF($A$5=TRUE, IF($H$1=2, IF($F$1 = 2, Data!I103, NA()), NA()), NA()), NA())","v":1.8669290000000001},{"$f":"IF($A$6=TRUE, IF($A$5=TRUE, IF($H$1=2, IF($F$1 = 2, Data!J103, NA()), NA()), NA()), NA())","v":1.2031095999999999},{"$f":"IF($A$6=TRUE, IF($A$5=TRUE, IF($H$1=1, IF($F$1 = 2, Data!K103, NA()), NA()), NA()), NA())","v":{"$error":"#N/A"}},{"$f":"IF($A$6=TRUE, IF($A$5=TRUE, IF($H$1=1, IF($F$1 = 2, Data!L103, NA()), NA()), NA()), NA())","v":{"$error":"#N/A"}},{"$f":"IF($A$5=TRUE, IF($A$6=TRUE, IF($F$1=2, IF($H$1=2, Data!M103, NA()), NA()), NA()), NA())","v":0.19082260000000001},{"$f":"IF($A$5 = TRUE, IF($A$6=TRUE, IF($F$1=2, IF($H$1=1, Data!N103, NA()), NA()),NA()), NA())","v":{"$error":"#N/A"}},{"$f":"IF($A$6=TRUE, IF($A$5= TRUE, IF($H$1=2, IF($F$1 = 1, Data!O103, NA()), NA()), NA()), NA())","v":{"$error":"#N/A"}},{"$f":"IF($A$6=TRUE, IF($A$5= TRUE, IF($H$1=2, IF($F$1 = 1, Data!P103, NA()), NA()), NA()), NA())","v":{"$error":"#N/A"}},{"$f":"IF($A$6 = TRUE, IF($A$5=TRUE, IF($H$1=1, IF($F$1 = 1, Data!Q103, NA()), NA()), NA()), NA())","v":{"$error":"#N/A"}},{"$f":"IF($A$6 = TRUE, IF($A$5=TRUE, IF($H$1=1, IF($F$1 = 1, Data!R103, NA()), NA()), NA()), NA())","v":{"$error":"#N/A"}},{"$f":"IF($A$5=TRUE, IF($A$6=TRUE, IF($F$1=1, IF($H$1=2, Data!S103, NA()), NA()), NA()), NA())","v":{"$error":"#N/A"}},{"$f":"IF($A$5 = TRUE, IF($A$6=TRUE, IF($F$1=1, IF($H$1=1, Data!T103, NA()), NA()),NA()), NA())","v":{"$error":"#N/A"}}]
[null,{"$f":"Data!B106","v":"Bioremediation"},{"$f":"Data!C104","v":"Soluble"},{"$f":"Data!E104","v":0},{"$f":"Data!H104","v":0},{"$f":"IF($A$6=TRUE, IF($A$5=TRUE, IF($H$1=2, IF($F$1 = 2, Data!I104, NA()), NA()), NA()), NA())","v":0.19347739999999999},{"$f":"IF($A$6=TRUE, IF($A$5=TRUE, IF($H$1=2, IF($F$1 = 2, Data!J104, NA()), NA()), NA()), NA())","v":1.8253399999999999E-2},{"$f":"IF($A$6=TRUE, IF($A$5=TRUE, IF($H$1=1, IF($F$1 = 2, Data!K104, NA()), NA()), NA()), NA())","v":{"$error":"#N/A"}},{"$f":"IF($A$6=TRUE, IF($A$5=TRUE, IF($H$1=1, IF($F$1 = 2, Data!L104, NA()), NA()), NA()), NA())","v":{"$error":"#N/A"}},{"$f":"IF($A$5=TRUE, IF($A$6=TRUE, IF($F$1=2, IF($H$1=2, Data!M104, NA()), NA()), NA()), NA())","v":1.0252859000000001},{"$f":"IF($A$5 = TRUE, IF($A$6=TRUE, IF($F$1=2, IF($H$1=1, Data!N104, NA()), NA()),NA()), NA())","v":{"$error":"#N/A"}},{"$f":"IF($A$6=TRUE, IF($A$5= TRUE, IF($H$1=2, IF($F$1 = 1, Data!O104, NA()), NA()), NA()), NA())","v":{"$error":"#N/A"}},{"$f":"IF($A$6=TRUE, IF($A$5= TRUE, IF($H$1=2, IF($F$1 = 1, Data!P104, NA()), NA()), NA()), NA())","v":{"$error":"#N/A"}},{"$f":"IF($A$6 = TRUE, IF($A$5=TRUE, IF($H$1=1, IF($F$1 = 1, Data!Q104, NA()), NA()), NA()), NA())","v":{"$error":"#N/A"}},{"$f":"IF($A$6 = TRUE, IF($A$5=TRUE, IF($H$1=1, IF($F$1 = 1, Data!R104, NA()), NA()), NA()), NA())","v":{"$error":"#N/A"}},{"$f":"IF($A$5=TRUE, IF($A$6=TRUE, IF($F$1=1, IF($H$1=2, Data!S104, NA()), NA()), NA()), NA())","v":{"$error":"#N/A"}},{"$f":"IF($A$5 = TRUE, IF($A$6=TRUE, IF($F$1=1, IF($H$1=1, Data!T104, NA()), NA()),NA()), NA())","v":{"$error":"#N/A"}}]
[null,{"$f":"Data!B108","v":"Bioremediation"},{"$f":"Data!C105","v":"Soluble"},{"$f":"Data!E105","v":0},{"$f":"Data!H105","v":0},{"$f":"IF($A$6=TRUE, IF($A$5=TRUE, IF($H$1=2, IF($F$1 = 2, Data!I105, NA()), NA()), NA()), NA())","v":16.635979899999999},{"$f":"IF($A$6=TRUE, IF($A$5=TRUE, IF($H$1=2, IF($F$1 = 2, Data!J105, NA()), NA()), NA()), NA())","v":7.9242552999999996},{"$f":"IF($A$6=TRUE, IF($A$5=TRUE, IF($H$1=1, IF($F$1 = 2, Data!K105, NA()), NA()), NA()), NA())","v":{"$error":"#N/A"}},{"$f":"IF($A$6=TRUE, IF($A$5=TRUE, IF($H$1=1, IF($F$1 = 2, Data!L105, NA()), NA()), NA()), NA())","v":{"$error":"#N/A"}},{"$f":"IF($A$5=TRUE, IF($A$6=TRUE, IF($F$1=2, IF($H$1=2, Data!M105, NA()), NA()), NA()), NA())","v":0.32208989999999998},{"$f":"IF($A$5 = TRUE, IF($A$6=TRUE, IF($F$1=2, IF($H$1=1, Data!N105, NA()), NA()),NA()), NA())","v":{"$error":"#N/A"}},{"$f":"IF($A$6=TRUE, IF($A$5= TRUE, IF($H$1=2, IF($F$1 = 1, Data!O105, NA()), NA()), NA()), NA())","v":{"$error":"#N/A"}},{"$f":"IF($A$6=TRUE, IF($A$5= TRUE, IF($H$1=2, IF($F$1 = 1, Data!P105, NA()), NA()), NA()), NA())","v":{"$error":"#N/A"}},{"$f":"IF($A$6 = TRUE, IF($A$5=TRUE, IF($H$1=1, IF($F$1 = 1, Data!Q105, NA()), NA()), NA()), NA())","v":{"$error":"#N/A"}},{"$f":"IF($A$6 = TRUE, IF($A$5=TRUE, IF($H$1=1, IF($F$1 = 1, Data!R105, NA()), NA()), NA()), NA())","v":{"$error":"#N/A"}},{"$f":"IF($A$5=TRUE, IF($A$6=TRUE, IF($F$1=1, IF($H$1=2, Data!S105, NA()), NA()), NA()), NA())","v":{"$error":"#N/A"}},{"$f":"IF($A$5 = TRUE, IF($A$6=TRUE, IF($F$1=1, IF($H$1=1, Data!T105, NA()), NA()),NA()), NA())","v":{"$error":"#N/A"}}]
[null,{"$f":"Data!B109","v":"Bioremediation"},{"$f":"Data!C106","v":"Soluble"},{"$f":"Data!E106","v":0},{"$f":"Data!H106","v":0},{"$f":"IF($A$6=TRUE, IF($A$5=TRUE, IF($H$1=2, IF($F$1 = 2, Data!I106, NA()), NA()), NA()), NA())","v":1.4145E-3},{"$f":"IF($A$6=TRUE, IF($A$5=TRUE, IF($H$1=2, IF($F$1 = 2, Data!J106, NA()), NA()), NA()), NA())","v":1E-3},{"$f":"IF($A$6=TRUE, IF($A$5=TRUE, IF($H$1=1, IF($F$1 = 2, Data!K106, NA()), NA()), NA()), NA())","v":{"$error":"#N/A"}},{"$f":"IF($A$6=TRUE, IF($A$5=TRUE, IF($H$1=1, IF($F$1 = 2, Data!L106, NA()), NA()), NA()), NA())","v":{"$error":"#N/A"}},{"$f":"IF($A$5=TRUE, IF($A$6=TRUE, IF($F$1=2, IF($H$1=2, Data!M106, NA()), NA()), NA()), NA())","v":0.45162550000000001},{"$f":"IF($A$5 = TRUE, IF($A$6=TRUE, IF($F$1=2, IF($H$1=1, Data!N106, NA()), NA()),NA()), NA())","v":{"$error":"#N/A"}},{"$f":"IF($A$6=TRUE, IF($A$5= TRUE, IF($H$1=2, IF($F$1 = 1, Data!O106, NA()), NA()), NA()), NA())","v":{"$error":"#N/A"}},{"$f":"IF($A$6=TRUE, IF($A$5= TRUE, IF($H$1=2, IF($F$1 = 1, Data!P106, NA()), NA()), NA()), NA())","v":{"$error":"#N/A"}},{"$f":"IF($A$6 = TRUE, IF($A$5=TRUE, IF($H$1=1, IF($F$1 = 1, Data!Q106, NA()), NA()), NA()), NA())","v":{"$error":"#N/A"}},{"$f":"IF($A$6 = TRUE, IF($A$5=TRUE, IF($H$1=1, IF($F$1 = 1, Data!R106, NA()), NA()), NA()), NA())","v":{"$error":"#N/A"}},{"$f":"IF($A$5=TRUE, IF($A$6=TRUE, IF($F$1=1, IF($H$1=2, Data!S106, NA()), NA()), NA()), NA())","v":{"$error":"#N/A"}},{"$f":"IF($A$5 = TRUE, IF($A$6=TRUE, IF($F$1=1, IF($H$1=1, Data!T106, NA()), NA()),NA()), NA())","v":{"$error":"#N/A"}}]
[null,{"$f":"Data!B110","v":"Bioremediation"},{"$f":"Data!C107","v":"Soluble"},{"$f":"Data!E107","v":0},{"$f":"Data!H107","v":0},{"$f":"IF($A$6=TRUE, IF($A$5=TRUE, IF($H$1=2, IF($F$1 = 2, Data!I107, NA()), NA()), NA()), NA())","v":1.6875888999999999},{"$f":"IF($A$6=TRUE, IF($A$5=TRUE, IF($H$1=2, IF($F$1 = 2, Data!J107, NA()), NA()), NA()), NA())","v":3.71854E-2},{"$f":"IF($A$6=TRUE, IF($A$5=TRUE, IF($H$1=1, IF($F$1 = 2, Data!K107, NA()), NA()), NA()), NA())","v":{"$error":"#N/A"}},{"$f":"IF($A$6=TRUE, IF($A$5=TRUE, IF($H$1=1, IF($F$1 = 2, Data!L107, NA()), NA()), NA()), NA())","v":{"$error":"#N/A"}},{"$f":"IF($A$5=TRUE, IF($A$6=TRUE, IF($F$1=2, IF($H$1=2, Data!M107, NA()), NA()), NA()), NA())","v":1.6568943},{"$f":"IF($A$5 = TRUE, IF($A$6=TRUE, IF($F$1=2, IF($H$1=1, Data!N107, NA()), NA()),NA()), NA())","v":{"$error":"#N/A"}},{"$f":"IF($A$6=TRUE, IF($A$5= TRUE, IF($H$1=2, IF($F$1 = 1, Data!O107, NA()), NA()), NA()), NA())","v":{"$error":"#N/A"}},{"$f":"IF($A$6=TRUE, IF($A$5= TRUE, IF($H$1=2, IF($F$1 = 1, Data!P107, NA()), NA()), NA()), NA())","v":{"$error":"#N/A"}},{"$f":"IF($A$6 = TRUE, IF($A$5=TRUE, IF($H$1=1, IF($F$1 = 1, Data!Q107, NA()), NA()), NA()), NA())","v":{"$error":"#N/A"}},{"$f":"IF($A$6 = TRUE, IF($A$5=TRUE, IF($H$1=1, IF($F$1 = 1, Data!R107, NA()), NA()), NA()), NA())","v":{"$error":"#N/A"}},{"$f":"IF($A$5=TRUE, IF($A$6=TRUE, IF($F$1=1, IF($H$1=2, Data!S107, NA()), NA()), NA()), NA())","v":{"$error":"#N/A"}},{"$f":"IF($A$5 = TRUE, IF($A$6=TRUE, IF($F$1=1, IF($H$1=1, Data!T107, NA()), NA()),NA()), NA())","v":{"$error":"#N/A"}}]
[null,{"$f":"Data!B114","v":"Bioremediation"},{"$f":"Data!C108","v":"Soluble"},{"$f":"Data!E108","v":0},{"$f":"Data!H108","v":0},{"$f":"IF($A$6=TRUE, IF($A$5=TRUE, IF($H$1=2, IF($F$1 = 2, Data!I108, NA()), NA()), NA()), NA())","v":0.2939388},{"$f":"IF($A$6=TRUE, IF($A$5=TRUE, IF($H$1=2, IF($F$1 = 2, Data!J108, NA()), NA()), NA()), NA())","v":1.1999999999999999E-3},{"$f":"IF($A$6=TRUE, IF($A$5=TRUE, IF($H$1=1, IF($F$1 = 2, Data!K108, NA()), NA()), NA()), NA())","v":{"$error":"#N/A"}},{"$f":"IF($A$6=TRUE, IF($A$5=TRUE, IF($H$1=1, IF($F$1 = 2, Data!L108, NA()), NA()), NA()), NA())","v":{"$error":"#N/A"}},{"$f":"IF($A$5=TRUE, IF($A$6=TRUE, IF($F$1=2, IF($H$1=2, Data!M108, NA()), NA()), NA()), NA())","v":2.3890756},{"$f":"IF($A$5 = TRUE, IF($A$6=TRUE, IF($F$1=2, IF($H$1=1, Data!N108, NA()), NA()),NA()), NA())","v":{"$error":"#N/A"}},{"$f":"IF($A$6=TRUE, IF($A$5= TRUE, IF($H$1=2, IF($F$1 = 1, Data!O108, NA()), NA()), NA()), NA())","v":{"$error":"#N/A"}},{"$f":"IF($A$6=TRUE, IF($A$5= TRUE, IF($H$1=2, IF($F$1 = 1, Data!P108, NA()), NA()), NA()), NA())","v":{"$error":"#N/A"}},{"$f":"IF($A$6 = TRUE, IF($A$5=TRUE, IF($H$1=1, IF($F$1 = 1, Data!Q108, NA()), NA()), NA()), NA())","v":{"$error":"#N/A"}},{"$f":"IF($A$6 = TRUE, IF($A$5=TRUE, IF($H$1=1, IF($F$1 = 1, Data!R108, NA()), NA()), NA()), NA())","v":{"$error":"#N/A"}},{"$f":"IF($A$5=TRUE, IF($A$6=TRUE, IF($F$1=1, IF($H$1=2, Data!S108, NA()), NA()), NA()), NA())","v":{"$error":"#N/A"}},{"$f":"IF($A$5 = TRUE, IF($A$6=TRUE, IF($F$1=1, IF($H$1=1, Data!T108, NA()), NA()),NA()), NA())","v":{"$error":"#N/A"}}]
[null,{"$f":"Data!B117","v":"Bioremediation"},{"$f":"Data!C109","v":"Soluble"},{"$f":"Data!E109","v":0},{"$f":"Data!H109","v":0},{"$f":"IF($A$6=TRUE, IF($A$5=TRUE, IF($H$1=2, IF($F$1 = 2, Data!I109, NA()), NA()), NA()), NA())","v":1.3607256000000001},{"$f":"IF($A$6=TRUE, IF($A$5=TRUE, IF($H$1=2, IF($F$1 = 2, Data!J109, NA()), NA()), NA()), NA())","v":5.1249999999999997E-2},{"$f":"IF($A$6=TRUE, IF($A$5=TRUE, IF($H$1=1, IF($F$1 = 2, Data!K109, NA()), NA()), NA()), NA())","v":{"$error":"#N/A"}},{"$f":"IF($A$6=TRUE, IF($A$5=TRUE, IF($H$1=1, IF($F$1 = 2, Data!L109, NA()), NA()), NA()), NA())","v":{"$error":"#N/A"}},{"$f":"IF($A$5=TRUE, IF($A$6=TRUE, IF($F$1=2, IF($H$1=2, Data!M109, NA()), NA()), NA()), NA())","v":1.4240767000000001},{"$f":"IF($A$5 = TRUE, IF($A$6=TRUE, IF($F$1=2, IF($H$1=1, Data!N109, NA()), NA()),NA()), NA())","v":{"$error":"#N/A"}},{"$f":"IF($A$6=TRUE, IF($A$5= TRUE, IF($H$1=2, IF($F$1 = 1, Data!O109, NA()), NA()), NA()), NA())","v":{"$error":"#N/A"}},{"$f":"IF($A$6=TRUE, IF($A$5= TRUE, IF($H$1=2, IF($F$1 = 1, Data!P109, NA()), NA()), NA()), NA())","v":{"$error":"#N/A"}},{"$f":"IF($A$6 = TRUE, IF($A$5=TRUE, IF($H$1=1, IF($F$1 = 1, Data!Q109, NA()), NA()), NA()), NA())","v":{"$error":"#N/A"}},{"$f":"IF($A$6 = TRUE, IF($A$5=TRUE, IF($H$1=1, IF($F$1 = 1, Data!R109, NA()), NA()), NA()), NA())","v":{"$error":"#N/A"}},{"$f":"IF($A$5=TRUE, IF($A$6=TRUE, IF($F$1=1, IF($H$1=2, Data!S109, NA()), NA()), NA()), NA())","v":{"$error":"#N/A"}},{"$f":"IF($A$5 = TRUE, IF($A$6=TRUE, IF($F$1=1, IF($H$1=1, Data!T109, NA()), NA()),NA()), NA())","v":{"$error":"#N/A"}}]
[null,{"$f":"Data!B120","v":"Bioremediation"},{"$f":"Data!C110","v":"Soluble"},{"$f":"Data!E110","v":0},{"$f":"Data!H110","v":"Fine-grained"},{"$f":"IF($A$6=TRUE, IF($A$5=TRUE, IF($H$1=2, IF($F$1 = 2, Data!I110, NA()), NA()), NA()), NA())","v":0.71277250000000003},{"$f":"IF($A$6=TRUE, IF($A$5=TRUE, IF($H$1=2, IF($F$1 = 2, Data!J110, NA()), NA()), NA()), NA())","v":8.0622600000000003E-2},{"$f":"IF($A$6=TRUE, IF($A$5=TRUE, IF($H$1=1, IF($F$1 = 2, Data!K110, NA()), NA()), NA()), NA())","v":{"$error":"#N/A"}},{"$f":"IF($A$6=TRUE, IF($A$5=TRUE, IF($H$1=1, IF($F$1 = 2, Data!L110, NA()), NA()), NA()), NA())","v":{"$error":"#N/A"}},{"$f":"IF($A$5=TRUE, IF($A$6=TRUE, IF($F$1=2, IF($H$1=2, Data!M110, NA()), NA()), NA()), NA())","v":0.94649419999999995},{"$f":"IF($A$5 = TRUE, IF($A$6=TRUE, IF($F$1=2, IF($H$1=1, Data!N110, NA()), NA()),NA()), NA())","v":{"$error":"#N/A"}},{"$f":"IF($A$6=TRUE, IF($A$5= TRUE, IF($H$1=2, IF($F$1 = 1, Data!O110, NA()), NA()), NA()), NA())","v":{"$error":"#N/A"}},{"$f":"IF($A$6=TRUE, IF($A$5= TRUE, IF($H$1=2, IF($F$1 = 1, Data!P110, NA()), NA()), NA()), NA())","v":{"$error":"#N/A"}},{"$f":"IF($A$6 = TRUE, IF($A$5=TRUE, IF($H$1=1, IF($F$1 = 1, Data!Q110, NA()), NA()), NA()), NA())","v":{"$error":"#N/A"}},{"$f":"IF($A$6 = TRUE, IF($A$5=TRUE, IF($H$1=1, IF($F$1 = 1, Data!R110, NA()), NA()), NA()), NA())","v":{"$error":"#N/A"}},{"$f":"IF($A$5=TRUE, IF($A$6=TRUE, IF($F$1=1, IF($H$1=2, Data!S110, NA()), NA()), NA()), NA())","v":{"$error":"#N/A"}},{"$f":"IF($A$5 = TRUE, IF($A$6=TRUE, IF($F$1=1, IF($H$1=1, Data!T110, NA()), NA()),NA()), NA())","v":{"$error":"#N/A"}}]
[null,{"$f":"Data!B104","v":"Bioremediation"},{"$f":"Data!C111","v":"Semi-Soluble / Slow-Release"},{"$f":"Data!E111","v":0},{"$f":"Data!H111","v":0},{"$f":"IF($A$7=TRUE, IF($A$5=TRUE, IF($H$1=2, IF($F$1 = 2, Data!I111, NA()), NA()), NA()), NA())","v":14.824729700000001},{"$f":"IF($A$7=TRUE, IF($A$5=TRUE, IF($H$1=2, IF($F$1 = 2, Data!J111, NA()), NA()), NA()), NA())","v":0.64381829999999995},{"$f":"IF($A$7=TRUE, IF($A$5=TRUE, IF($H$1=1, IF($F$1 = 2, Data!K111, NA()), NA()), NA()), NA())","v":{"$error":"#N/A"}},{"$f":"IF($A$7=TRUE, IF($A$5=TRUE, IF($H$1=1, IF($F$1 = 2, Data!L111, NA()), NA()), NA()), NA())","v":{"$error":"#N/A"}},{"$f":"IF($A$5=TRUE, IF($A$7=TRUE, IF($F$1=2, IF($H$1=2, Data!M111, NA()), NA()), NA()), NA())","v":1.3622234},{"$f":"IF($A$5 = TRUE, IF($A$7=TRUE, IF($F$1=2, IF($H$1=1, Data!N111, NA()), NA()),NA()), NA())","v":{"$error":"#N/A"}},{"$f":"IF($A$7=TRUE, IF($A$5= TRUE, IF($H$1=2, IF($F$1 = 1, Data!O111, NA()), NA()), NA()), NA())","v":{"$error":"#N/A"}},{"$f":"IF($A$7=TRUE, IF($A$5= TRUE, IF($H$1=2, IF($F$1 = 1, Data!P111, NA()), NA()), NA()), NA())","v":{"$error":"#N/A"}},{"$f":"IF($A$7 = TRUE, IF($A$5=TRUE, IF($H$1=1, IF($F$1 = 1, Data!Q111, NA()), NA()), NA()), NA())","v":{"$error":"#N/A"}},{"$f":"IF($A$7 = TRUE, IF($A$5=TRUE, IF($H$1=1, IF($F$1 = 1, Data!R111, NA()), NA()), NA()), NA())","v":{"$error":"#N/A"}},{"$f":"IF($A$5=TRUE, IF($A$7=TRUE, IF($F$1=1, IF($H$1=2, Data!S111, NA()), NA()), NA()), NA())","v":{"$error":"#N/A"}},{"$f":"IF($A$5 = TRUE, IF($A$7=TRUE, IF($F$1=1, IF($H$1=1, Data!T111, NA()), NA()),NA()), NA())","v":{"$error":"#N/A"}}]
[null,{"$f":"Data!B105","v":"Bioremediation"},{"$f":"Data!C112","v":"Semi-Soluble / Slow-Release"},{"$f":"Data!E112","v":0},{"$f":"Data!H112","v":0},{"$f":"IF($A$7=TRUE, IF($A$5=TRUE, IF($H$1=2, IF($F$1 = 2, Data!I112, NA()), NA()), NA()), NA())","v":60.1317503},{"$f":"IF($A$7=TRUE, IF($A$5=TRUE, IF($H$1=2, IF($F$1 = 2, Data!J112, NA()), NA()), NA()), NA())","v":41.518199500000001},{"$f":"IF($A$7=TRUE, IF($A$5=TRUE, IF($H$1=1, IF($F$1 = 2, Data!K112, NA()), NA()), NA()), NA())","v":{"$error":"#N/A"}},{"$f":"IF($A$7=TRUE, IF($A$5=TRUE, IF($H$1=1, IF($F$1 = 2, Data!L112, NA()), NA()), NA()), NA())","v":{"$error":"#N/A"}},{"$f":"IF($A$5=TRUE, IF($A$7=TRUE, IF($F$1=2, IF($H$1=2, Data!M112, NA()), NA()), NA()), NA())","v":0.16086529999999999},{"$f":"IF($A$5 = TRUE, IF($A$7=TRUE, IF($F$1=2, IF($H$1=1, Data!N112, NA()), NA()),NA()), NA())","v":{"$error":"#N/A"}},{"$f":"IF($A$7=TRUE, IF($A$5= TRUE, IF($H$1=2, IF($F$1 = 1, Data!O112, NA()), NA()), NA()), NA())","v":{"$error":"#N/A"}},{"$f":"IF($A$7=TRUE, IF($A$5= TRUE, IF($H$1=2, IF($F$1 = 1, Data!P112, NA()), NA()), NA()), NA())","v":{"$error":"#N/A"}},{"$f":"IF($A$7 = TRUE, IF($A$5=TRUE, IF($H$1=1, IF($F$1 = 1, Data!Q112, NA()), NA()), NA()), NA())","v":{"$error":"#N/A"}},{"$f":"IF($A$7 = TRUE, IF($A$5=TRUE, IF($H$1=1, IF($F$1 = 1, Data!R112, NA()), NA()), NA()), NA())","v":{"$error":"#N/A"}},{"$f":"IF($A$5=TRUE, IF($A$7=TRUE, IF($F$1=1, IF($H$1=2, Data!S112, NA()), NA()), NA()), NA())","v":{"$error":"#N/A"}},{"$f":"IF($A$5 = TRUE, IF($A$7=TRUE, IF($F$1=1, IF($H$1=1, Data!T112, NA()), NA()),NA()), NA())","v":{"$error":"#N/A"}}]
[null,{"$f":"Data!B107","v":"Bioremediation"},{"$f":"Data!C113","v":"Semi-Soluble / Slow-Release"},{"$f":"Data!E113","v":0},{"$f":"Data!H113","v":0},{"$f":"IF($A$7=TRUE, IF($A$5=TRUE, IF($H$1=2, IF($F$1 = 2, Data!I113, NA()), NA()), NA()), NA())","v":3.9541927000000001},{"$f":"IF($A$7=TRUE, IF($A$5=TRUE, IF($H$1=2, IF($F$1 = 2, Data!J113, NA()), NA()), NA()), NA())","v":1.47457E-2},{"$f":"IF($A$7=TRUE, IF($A$5=TRUE, IF($H$1=1, IF($F$1 = 2, Data!K113, NA()), NA()), NA()), NA())","v":{"$error":"#N/A"}},{"$f":"IF($A$7=TRUE, IF($A$5=TRUE, IF($H$1=1, IF($F$1 = 2, Data!L113, NA()), NA()), NA()), NA())","v":{"$error":"#N/A"}},{"$f":"IF($A$5=TRUE, IF($A$7=TRUE, IF($F$1=2, IF($H$1=2, Data!M113, NA()), NA()), NA()), NA())","v":2.4283926},{"$f":"IF($A$5 = TRUE, IF($A$7=TRUE, IF($F$1=2, IF($H$1=1, Data!N113, NA()), NA()),NA()), NA())","v":{"$error":"#N/A"}},{"$f":"IF($A$7=TRUE, IF($A$5= TRUE, IF($H$1=2, IF($F$1 = 1, Data!O113, NA()), NA()), NA()), NA())","v":{"$error":"#N/A"}},{"$f":"IF($A$7=TRUE, IF($A$5= TRUE, IF($H$1=2, IF($F$1 = 1, Data!P113, NA()), NA()), NA()), NA())","v":{"$error":"#N/A"}},{"$f":"IF($A$7 = TRUE, IF($A$5=TRUE, IF($H$1=1, IF($F$1 = 1, Data!Q113, NA()), NA()), NA()), NA())","v":{"$error":"#N/A"}},{"$f":"IF($A$7 = TRUE, IF($A$5=TRUE, IF($H$1=1, IF($F$1 = 1, Data!R113, NA()), NA()), NA()), NA())","v":{"$error":"#N/A"}},{"$f":"IF($A$5=TRUE, IF($A$7=TRUE, IF($F$1=1, IF($H$1=2, Data!S113, NA()), NA()), NA()), NA())","v":{"$error":"#N/A"}},{"$f":"IF($A$5 = TRUE, IF($A$7=TRUE, IF($F$1=1, IF($H$1=1, Data!T113, NA()), NA()),NA()), NA())","v":{"$error":"#N/A"}}]
[null,{"$f":"Data!B111","v":"Bioremediation"},{"$f":"Data!C114","v":"Semi-Soluble / Slow-Release"},{"$f":"Data!E114","v":0},{"$f":"Data!H114","v":0},{"$f":"IF($A$7=TRUE, IF($A$5=TRUE, IF($H$1=2, IF($F$1 = 2, Data!I114, NA()), NA()), NA()), NA())","v":2.2000000000000002},{"$f":"IF($A$7=TRUE, IF($A$5=TRUE, IF($H$1=2, IF($F$1 = 2, Data!J114, NA()), NA()), NA()), NA())","v":1.54272E-2},{"$f":"IF($A$7=TRUE, IF($A$5=TRUE, IF($H$1=1, IF($F$1 = 2, Data!K114, NA()), NA()), NA()), NA())","v":{"$error":"#N/A"}},{"$f":"IF($A$7=TRUE, IF($A$5=TRUE, IF($H$1=1, IF($F$1 = 2, Data!L114, NA()), NA()), NA()), NA())","v":{"$error":"#N/A"}},{"$f":"IF($A$5=TRUE, IF($A$7=TRUE, IF($F$1=2, IF($H$1=2, Data!M114, NA()), NA()), NA()), NA())","v":2.1541342000000001},{"$f":"IF($A$5 = TRUE, IF($A$7=TRUE, IF($F$1=2, IF($H$1=1, Data!N114, NA()), NA()),NA()), NA())","v":{"$error":"#N/A"}},{"$f":"IF($A$7=TRUE, IF($A$5= TRUE, IF($H$1=2, IF($F$1 = 1, Data!O114, NA()), NA()), NA()), NA())","v":{"$error":"#N/A"}},{"$f":"IF($A$7=TRUE, IF($A$5= TRUE, IF($H$1=2, IF($F$1 = 1, Data!P114, NA()), NA()), NA()), NA())","v":{"$error":"#N/A"}},{"$f":"IF($A$7 = TRUE, IF($A$5=TRUE, IF($H$1=1, IF($F$1 = 1, Data!Q114, NA()), NA()), NA()), NA())","v":{"$error":"#N/A"}},{"$f":"IF($A$7 = TRUE, IF($A$5=TRUE, IF($H$1=1, IF($F$1 = 1, Data!R114, NA()), NA()), NA()), NA())","v":{"$error":"#N/A"}},{"$f":"IF($A$5=TRUE, IF($A$7=TRUE, IF($F$1=1, IF($H$1=2, Data!S114, NA()), NA()), NA()), NA())","v":{"$error":"#N/A"}},{"$f":"IF($A$5 = TRUE, IF($A$7=TRUE, IF($F$1=1, IF($H$1=1, Data!T114, NA()), NA()),NA()), NA())","v":{"$error":"#N/A"}}]
[null,{"$f":"Data!B112","v":"Bioremediation"},{"$f":"Data!C115","v":"Semi-Soluble / Slow-Release"},{"$f":"Data!E115","v":0},{"$f":"Data!H115","v":0},{"$f":"IF($A$7=TRUE, IF($A$5=TRUE, IF($H$1=2, IF($F$1 = 2, Data!I115, NA()), NA()), NA()), NA())","v":1.3},{"$f":"IF($A$7=TRUE, IF($A$5=TRUE, IF($H$1=2, IF($F$1 = 2, Data!J115, NA()), NA()), NA()), NA())","v":0.1531545},{"$f":"IF($A$7=TRUE, IF($A$5=TRUE, IF($H$1=1, IF($F$1 = 2, Data!K115, NA()), NA()), NA()), NA())","v":{"$error":"#N/A"}},{"$f":"IF($A$7=TRUE, IF($A$5=TRUE, IF($H$1=1, IF($F$1 = 2, Data!L115, NA()), NA()), NA()), NA())","v":{"$error":"#N/A"}},{"$f":"IF($A$5=TRUE, IF($A$7=TRUE, IF($F$1=2, IF($H$1=2, Data!M115, NA()), NA()), NA()), NA())","v":0.92881349999999996},{"$f":"IF($A$5 = TRUE, IF($A$7=TRUE, IF($F$1=2, IF($H$1=1, Data!N115, NA()), NA()),NA()), NA())","v":{"$error":"#N/A"}},{"$f":"IF($A$7=TRUE, IF($A$5= TRUE, IF($H$1=2, IF($F$1 = 1, Data!O115, NA()), NA()), NA()), NA())","v":{"$error":"#N/A"}},{"$f":"IF($A$7=TRUE, IF($A$5= TRUE, IF($H$1=2, IF($F$1 = 1, Data!P115, NA()), NA()), NA()), NA())","v":{"$error":"#N/A"}},{"$f":"IF($A$7 = TRUE, IF($A$5=TRUE, IF($H$1=1, IF($F$1 = 1, Data!Q115, NA()), NA()), NA()), NA())","v":{"$error":"#N/A"}},{"$f":"IF($A$7 = TRUE, IF($A$5=TRUE, IF($H$1=1, IF($F$1 = 1, Data!R115, NA()), NA()), NA()), NA())","v":{"$error":"#N/A"}},{"$f":"IF($A$5=TRUE, IF($A$7=TRUE, IF($F$1=1, IF($H$1=2, Data!S115, NA()), NA()), NA()), NA())","v":{"$error":"#N/A"}},{"$f":"IF($A$5 = TRUE, IF($A$7=TRUE, IF($F$1=1, IF($H$1=1, Data!T115, NA()), NA()),NA()), NA())","v":{"$error":"#N/A"}}]
[null,{"$f":"Data!B113","v":"Bioremediation"},{"$f":"Data!C116","v":"Semi-Soluble / Slow-Release"},{"$f":"Data!E116","v":0},{"$f":"Data!H116","v":0},{"$f":"IF($A$7=TRUE, IF($A$5=TRUE, IF($H$1=2, IF($F$1 = 2, Data!I116, NA()), NA()), NA()), NA())","v":2.11},{"$f":"IF($A$7=TRUE, IF($A$5=TRUE, IF($H$1=2, IF($F$1 = 2, Data!J116, NA()), NA()), NA()), NA())","v":1E-3},{"$f":"IF($A$7=TRUE, IF($A$5=TRUE, IF($H$1=1, IF($F$1 = 2, Data!K116, NA()), NA()), NA()), NA())","v":{"$error":"#N/A"}},{"$f":"IF($A$7=TRUE, IF($A$5=TRUE, IF($H$1=1, IF($F$1 = 2, Data!L116, NA()), NA()), NA()), NA())","v":{"$error":"#N/A"}},{"$f":"IF($A$5=TRUE, IF($A$7=TRUE, IF($F$1=2, IF($H$1=2, Data!M116, NA()), NA()), NA()), NA())","v":3.6525786999999998},{"$f":"IF($A$5 = TRUE, IF($A$7=TRUE, IF($F$1=2, IF($H$1=1, Data!N116, NA()), NA()),NA()), NA())","v":{"$error":"#N/A"}},{"$f":"IF($A$7=TRUE, IF($A$5= TRUE, IF($H$1=2, IF($F$1 = 1, Data!O116, NA()), NA()), NA()), NA())","v":{"$error":"#N/A"}},{"$f":"IF($A$7=TRUE, IF($A$5= TRUE, IF($H$1=2, IF($F$1 = 1, Data!P116, NA()), NA()), NA()), NA())","v":{"$error":"#N/A"}},{"$f":"IF($A$7 = TRUE, IF($A$5=TRUE, IF($H$1=1, IF($F$1 = 1, Data!Q116, NA()), NA()), NA()), NA())","v":{"$error":"#N/A"}},{"$f":"IF($A$7 = TRUE, IF($A$5=TRUE, IF($H$1=1, IF($F$1 = 1, Data!R116, NA()), NA()), NA()), NA())","v":{"$error":"#N/A"}},{"$f":"IF($A$5=TRUE, IF($A$7=TRUE, IF($F$1=1, IF($H$1=2, Data!S116, NA()), NA()), NA()), NA())","v":{"$error":"#N/A"}},{"$f":"IF($A$5 = TRUE, IF($A$7=TRUE, IF($F$1=1, IF($H$1=1, Data!T116, NA()), NA()),NA()), NA())","v":{"$error":"#N/A"}}]
[null,{"$f":"Data!B115","v":"Bioremediation"},{"$f":"Data!C117","v":"Semi-Soluble / Slow-Release"},{"$f":"Data!E117","v":0},{"$f":"Data!H117","v":0},{"$f":"IF($A$7=TRUE, IF($A$5=TRUE, IF($H$1=2, IF($F$1 = 2, Data!I117, NA()), NA()), NA()), NA())","v":0.21964400000000001},{"$f":"IF($A$7=TRUE, IF($A$5=TRUE, IF($H$1=2, IF($F$1 = 2, Data!J117, NA()), NA()), NA()), NA())","v":3.5149199999999999E-2},{"$f":"IF($A$7=TRUE, IF($A$5=TRUE, IF($H$1=1, IF($F$1 = 2, Data!K117, NA()), NA()), NA()), NA())","v":{"$error":"#N/A"}},{"$f":"IF($A$7=TRUE, IF($A$5=TRUE, IF($H$1=1, IF($F$1 = 2, Data!L117, NA()), NA()), NA()), NA())","v":{"$error":"#N/A"}},{"$f":"IF($A$5=TRUE, IF($A$7=TRUE, IF($F$1=2, IF($H$1=2, Data!M117, NA()), NA()), NA()), NA())","v":0.79580390000000001},{"$f":"IF($A$5 = TRUE, IF($A$7=TRUE, IF($F$1=2, IF($H$1=1, Data!N117, NA()), NA()),NA()), NA())","v":{"$error":"#N/A"}},{"$f":"IF($A$7=TRUE, IF($A$5= TRUE, IF($H$1=2, IF($F$1 = 1, Data!O117, NA()), NA()), NA()), NA())","v":{"$error":"#N/A"}},{"$f":"IF($A$7=TRUE, IF($A$5= TRUE, IF($H$1=2, IF($F$1 = 1, Data!P117, NA()), NA()), NA()), NA())","v":{"$error":"#N/A"}},{"$f":"IF($A$7 = TRUE, IF($A$5=TRUE, IF($H$1=1, IF($F$1 = 1, Data!Q117, NA()), NA()), NA()), NA())","v":{"$error":"#N/A"}},{"$f":"IF($A$7 = TRUE, IF($A$5=TRUE, IF($H$1=1, IF($F$1 = 1, Data!R117, NA()), NA()), NA()), NA())","v":{"$error":"#N/A"}},{"$f":"IF($A$5=TRUE, IF($A$7=TRUE, IF($F$1=1, IF($H$1=2, Data!S117, NA()), NA()), NA()), NA())","v":{"$error":"#N/A"}},{"$f":"IF($A$5 = TRUE, IF($A$7=TRUE, IF($F$1=1, IF($H$1=1, Data!T117, NA()), NA()),NA()), NA())","v":{"$error":"#N/A"}}]
[null,{"$f":"Data!B116","v":"Bioremediation"},{"$f":"Data!C118","v":"Semi-Soluble / Slow-Release"},{"$f":"Data!E118","v":0},{"$f":"Data!H118","v":"Fine-grained"},{"$f":"IF($A$7=TRUE, IF($A$5=TRUE, IF($H$1=2, IF($F$1 = 2, Data!I118, NA()), NA()), NA()), NA())","v":0.11695999999999999},{"$f":"IF($A$7=TRUE, IF($A$5=TRUE, IF($H$1=2, IF($F$1 = 2, Data!J118, NA()), NA()), NA()), NA())","v":2.7298999999999999E-3},{"$f":"IF($A$7=TRUE, IF($A$5=TRUE, IF($H$1=1, IF($F$1 = 2, Data!K118, NA()), NA()), NA()), NA())","v":{"$error":"#N/A"}},{"$f":"IF($A$7=TRUE, IF($A$5=TRUE, IF($H$1=1, IF($F$1 = 2, Data!L118, NA()), NA()), NA()), NA())","v":{"$error":"#N/A"}},{"$f":"IF($A$5=TRUE, IF($A$7=TRUE, IF($F$1=2, IF($H$1=2, Data!M118, NA()), NA()), NA()), NA())","v":1.6318895},{"$f":"IF($A$5 = TRUE, IF($A$7=TRUE, IF($F$1=2, IF($H$1=1, Data!N118, NA()), NA()),NA()), NA())","v":{"$error":"#N/A"}},{"$f":"IF($A$7=TRUE, IF($A$5= TRUE, IF($H$1=2, IF($F$1 = 1, Data!O118, NA()), NA()), NA()), NA())","v":{"$error":"#N/A"}},{"$f":"IF($A$7=TRUE, IF($A$5= TRUE, IF($H$1=2, IF($F$1 = 1, Data!P118, NA()), NA()), NA()), NA())","v":{"$error":"#N/A"}},{"$f":"IF($A$7 = TRUE, IF($A$5=TRUE, IF($H$1=1, IF($F$1 = 1, Data!Q118, NA()), NA()), NA()), NA())","v":{"$error":"#N/A"}},{"$f":"IF($A$7 = TRUE, IF($A$5=TRUE, IF($H$1=1, IF($F$1 = 1, Data!R118, NA()), NA()), NA()), NA())","v":{"$error":"#N/A"}},{"$f":"IF($A$5=TRUE, IF($A$7=TRUE, IF($F$1=1, IF($H$1=2, Data!S118, NA()), NA()), NA()), NA())","v":{"$error":"#N/A"}},{"$f":"IF($A$5 = TRUE, IF($A$7=TRUE, IF($F$1=1, IF($H$1=1, Data!T118, NA()), NA()),NA()), NA())","v":{"$error":"#N/A"}}]
[null,{"$f":"Data!B118","v":"Bioremediation"},{"$f":"Data!C119","v":"Semi-Soluble / Slow-Release"},{"$f":"Data!E119","v":0},{"$f":"Data!H119","v":"Fine-grained"},{"$f":"IF($A$7=TRUE, IF($A$5=TRUE, IF($H$1=2, IF($F$1 = 2, Data!I119, NA()), NA()), NA()), NA())","v":39.049999999999997},{"$f":"IF($A$7=TRUE, IF($A$5=TRUE, IF($H$1=2, IF($F$1 = 2, Data!J119, NA()), NA()), NA()), NA())","v":0.43882139999999997},{"$f":"IF($A$7=TRUE, IF($A$5=TRUE, IF($H$1=1, IF($F$1 = 2, Data!K119, NA()), NA()), NA()), NA())","v":{"$error":"#N/A"}},{"$f":"IF($A$7=TRUE, IF($A$5=TRUE, IF($H$1=1, IF($F$1 = 2, Data!L119, NA()), NA()), NA()), NA())","v":{"$error":"#N/A"}},{"$f":"IF($A$5=TRUE, IF($A$7=TRUE, IF($F$1=2, IF($H$1=2, Data!M119, NA()), NA()), NA()), NA())","v":1.9493332000000001},{"$f":"IF($A$5 = TRUE, IF($A$7=TRUE, IF($F$1=2, IF($H$1=1, Data!N119, NA()), NA()),NA()), NA())","v":{"$error":"#N/A"}},{"$f":"IF($A$7=TRUE, IF($A$5= TRUE, IF($H$1=2, IF($F$1 = 1, Data!O119, NA()), NA()), NA()), NA())","v":{"$error":"#N/A"}},{"$f":"IF($A$7=TRUE, IF($A$5= TRUE, IF($H$1=2, IF($F$1 = 1, Data!P119, NA()), NA()), NA()), NA())","v":{"$error":"#N/A"}},{"$f":"IF($A$7 = TRUE, IF($A$5=TRUE, IF($H$1=1, IF($F$1 = 1, Data!Q119, NA()), NA()), NA()), NA())","v":{"$error":"#N/A"}},{"$f":"IF($A$7 = TRUE, IF($A$5=TRUE, IF($H$1=1, IF($F$1 = 1, Data!R119, NA()), NA()), NA()), NA())","v":{"$error":"#N/A"}},{"$f":"IF($A$5=TRUE, IF($A$7=TRUE, IF($F$1=1, IF($H$1=2, Data!S119, NA()), NA()), NA()), NA())","v":{"$error":"#N/A"}},{"$f":"IF($A$5 = TRUE, IF($A$7=TRUE, IF($F$1=1, IF($H$1=1, Data!T119, NA()), NA()),NA()), NA())","v":{"$error":"#N/A"}}]
[null,{"$f":"Data!B119","v":"Bioremediation"},{"$f":"Data!C120","v":"Semi-Soluble / Slow-Release"},{"$f":"Data!E120","v":0},{"$f":"Data!H120","v":"Fine-grained"},{"$f":"IF($A$7=TRUE, IF($A$5=TRUE, IF($H$1=2, IF($F$1 = 2, Data!I120, NA()), NA()), NA()), NA())","v":7.8},{"$f":"IF($A$7=TRUE, IF($A$5=TRUE, IF($H$1=2, IF($F$1 = 2, Data!J120, NA()), NA()), NA()), NA())","v":2.7265999999999999E-2},{"$f":"IF($A$7=TRUE, IF($A$5=TRUE, IF($H$1=1, IF($F$1 = 2, Data!K120, NA()), NA()), NA()), NA())","v":{"$error":"#N/A"}},{"$f":"IF($A$7=TRUE, IF($A$5=TRUE, IF($H$1=1, IF($F$1 = 2, Data!L120, NA()), NA()), NA()), NA())","v":{"$error":"#N/A"}},{"$f":"IF($A$5=TRUE, IF($A$7=TRUE, IF($F$1=2, IF($H$1=2, Data!M120, NA()), NA()), NA()), NA())","v":2.4564727},{"$f":"IF($A$5 = TRUE, IF($A$7=TRUE, IF($F$1=2, IF($H$1=1, Data!N120, NA()), NA()),NA()), NA())","v":{"$error":"#N/A"}},{"$f":"IF($A$7=TRUE, IF($A$5= TRUE, IF($H$1=2, IF($F$1 = 1, Data!O120, NA()), NA()), NA()), NA())","v":{"$error":"#N/A"}},{"$f":"IF($A$7=TRUE, IF($A$5= TRUE, IF($H$1=2, IF($F$1 = 1, Data!P120, NA()), NA()), NA()), NA())","v":{"$error":"#N/A"}},{"$f":"IF($A$7 = TRUE, IF($A$5=TRUE, IF($H$1=1, IF($F$1 = 1, Data!Q120, NA()), NA()), NA()), NA())","v":{"$error":"#N/A"}},{"$f":"IF($A$7 = TRUE, IF($A$5=TRUE, IF($H$1=1, IF($F$1 = 1, Data!R120, NA()), NA()), NA()), NA())","v":{"$error":"#N/A"}},{"$f":"IF($A$5=TRUE, IF($A$7=TRUE, IF($F$1=1, IF($H$1=2, Data!S120, NA()), NA()), NA()), NA())","v":{"$error":"#N/A"}},{"$f":"IF($A$5 = TRUE, IF($A$7=TRUE, IF($F$1=1, IF($H$1=1, Data!T120, NA()), NA()),NA()), NA())","v":{"$error":"#N/A"}}]
[true,{"$f":"Data!B121","v":"Chemical Oxidation"},{"$f":"Data!C121","v":"Permanganates"},{"$f":"Data!E121","v":"Full"},{"$f":"Data!H121","v":"Fine-grained"},{"$f":"IF($A$124=TRUE, IF($A$122=TRUE, IF($H$1=2, IF($F$1 = 2, Data!I121, NA()), NA()), NA()), NA())","v":5.3475099999999998E-2},{"$f":"IF($A$124=TRUE, IF($A$122=TRUE, IF($H$1=2, IF($F$1 = 2, Data!J121, NA()), NA()), NA()), NA())","v":4.9908000000000001E-3},{"$f":"IF($A$124=TRUE, IF($A$122=TRUE, IF($H$1=1, IF($F$1 = 2, Data!K121, NA()), NA()), NA()), NA())","v":{"$error":"#N/A"}},{"$f":"IF($A$124=TRUE, IF($A$122=TRUE, IF($H$1=1, IF($F$1 = 2, Data!L121, NA()), NA()), NA()), NA())","v":{"$error":"#N/A"}},{"$f":"IF($A$122=TRUE, IF($A$124=TRUE, IF($F$1=2, IF($H$1=2, Data!M121, NA()), NA()), NA()), NA())","v":1.0299769000000001},{"$f":"IF($A$122 = TRUE, IF($A$124=TRUE, IF($F$1=2, IF($H$1=1, Data!N121, NA()), NA()),NA()), NA())","v":{"$error":"#N/A"}},{"$f":"IF($A$124=TRUE, IF($A$122= TRUE, IF($H$1=2, IF($F$1 = 1, Data!O121, NA()), NA()), NA()), NA())","v":{"$error":"#N/A"}},{"$f":"IF($A$124=TRUE, IF($A$122= TRUE, IF($H$1=2, IF($F$1 = 1, Data!P121, NA()), NA()), NA()), NA())","v":{"$error":"#N/A"}},{"$f":"IF($A$124 = TRUE, IF($A$122=TRUE, IF($H$1=1, IF($F$1 = 1, Data!Q121, NA()), NA()), NA()), NA())","v":{"$error":"#N/A"}},{"$f":"IF($A$124 = TRUE, IF($A$122=TRUE, IF($H$1=1, IF($F$1 = 1, Data!R121, NA()), NA()), NA()), NA())","v":{"$error":"#N/A"}},{"$f":"IF($A$122=TRUE, IF($A$124=TRUE, IF($F$1=1, IF($H$1=2, Data!S121, NA()), NA()), NA()), NA())","v":{"$error":"#N/A"}},{"$f":"IF($A$122 = TRUE, IF($A$124=TRUE, IF($F$1=1, IF($H$1=1, Data!T121, NA()), NA()),NA()), NA())","v":{"$error":"#N/A"}}]
[true,{"$f":"Data!B122","v":"Chemical Oxidation"},{"$f":"Data!C122","v":"Peroxides / Fenton's"},{"$f":"Data!E122","v":"Full"},{"$f":"Data!H122","v":"Coarse-grained"},{"$f":"IF($A$126=TRUE, IF($A$122=TRUE, IF($H$1=2, IF($F$1 = 2, Data!I122, NA()), NA()), NA()), NA())","v":1.1168446000000001},{"$f":"IF($A$126=TRUE, IF($A$122=TRUE, IF($H$1=2, IF($F$1 = 2, Data!J122, NA()), NA()), NA()), NA())","v":0.43010870000000001},{"$f":"IF($A$126=TRUE, IF($A$122=TRUE, IF($H$1=1, IF($F$1 = 2, Data!K122, NA()), NA()), NA()), NA())","v":{"$error":"#N/A"}},{"$f":"IF($A$126=TRUE, IF($A$122=TRUE, IF($H$1=1, IF($F$1 = 2, Data!L122, NA()), NA()), NA()), NA())","v":{"$error":"#N/A"}},{"$f":"IF($A$122=TRUE, IF($A$126=TRUE, IF($F$1=2, IF($H$1=2, Data!M122, NA()), NA()), NA()), NA())","v":0.41441450000000002},{"$f":"IF($A$122 = TRUE, IF($A$126=TRUE, IF($F$1=2, IF($H$1=1, Data!N122, NA()), NA()),NA()), NA())","v":{"$error":"#N/A"}},{"$f":"IF($A$126=TRUE, IF($A$122= TRUE, IF($H$1=2, IF($F$1 = 1, Data!O122, NA()), NA()), NA()), NA())","v":{"$error":"#N/A"}},{"$f":"IF($A$126=TRUE, IF($A$122= TRUE, IF($H$1=2, IF($F$1 = 1, Data!P122, NA()), NA()), NA()), NA())","v":{"$error":"#N/A"}},{"$f":"IF($A$126 = TRUE, IF($A$122=TRUE, IF($H$1=1, IF($F$1 = 1, Data!Q122, NA()), NA()), NA()), NA())","v":{"$error":"#N/A"}},{"$f":"IF($A$126 = TRUE, IF($A$122=TRUE, IF($H$1=1, IF($F$1 = 1, Data!R122, NA()), NA()), NA()), NA())","v":{"$error":"#N/A"}},{"$f":"IF($A$122=TRUE, IF($A$126=TRUE, IF($F$1=1, IF($H$1=2, Data!S122, NA()), NA()), NA()), NA())","v":{"$error":"#N/A"}},{"$f":"IF($A$122 = TRUE, IF($A$126=TRUE, IF($F$1=1, IF($H$1=1, Data!T122, NA()), NA()),NA()), NA())","v":{"$error":"#N/A"}}]
[true,{"$f":"Data!B123","v":"Chemical Oxidation"},{"$f":"Data!C123","v":"Peroxides / Fenton's"},{"$f":"Data!E123","v":"Full"},{"$f":"Data!H123","v":"Fine-grained"},{"$f":"IF($A$126=TRUE, IF($A$122=TRUE, IF($H$1=2, IF($F$1 = 2, Data!I123, NA()), NA()), NA()), NA())","v":0.1187049},{"$f":"IF($A$126=TRUE, IF($A$122=TRUE, IF($H$1=2, IF($F$1 = 2, Data!J123, NA()), NA()), NA()), NA())","v":2.2320599999999999E-2},{"$f":"IF($A$126=TRUE, IF($A$122=TRUE, IF($H$1=1, IF($F$1 = 2, Data!K123, NA()), NA()), NA()), NA())","v":{"$error":"#N/A"}},{"$f":"IF($A$126=TRUE, IF($A$122=TRUE, IF($H$1=1, IF($F$1 = 2, Data!L123, NA()), NA()), NA()), NA())","v":{"$error":"#N/A"}},{"$f":"IF($A$122=TRUE, IF($A$126=TRUE, IF($F$1=2, IF($H$1=2, Data!M123, NA()), NA()), NA()), NA())","v":0.72576320000000005},{"$f":"IF($A$122 = TRUE, IF($A$126=TRUE, IF($F$1=2, IF($H$1=1, Data!N123, NA()), NA()),NA()), NA())","v":{"$error":"#N/A"}},{"$f":"IF($A$126=TRUE, IF($A$122= TRUE, IF($H$1=2, IF($F$1 = 1, Data!O123, NA()), NA()), NA()), NA())","v":{"$error":"#N/A"}},{"$f":"IF($A$126=TRUE, IF($A$122= TRUE, IF($H$1=2, IF($F$1 = 1, Data!P123, NA()), NA()), NA()), NA())","v":{"$error":"#N/A"}},{"$f":"IF($A$126 = TRUE, IF($A$122=TRUE, IF($H$1=1, IF($F$1 = 1, Data!Q123, NA()), NA()), NA()), NA())","v":{"$error":"#N/A"}},{"$f":"IF($A$126 = TRUE, IF($A$122=TRUE, IF($H$1=1, IF($F$1 = 1, Data!R123, NA()), NA()), NA()), NA())","v":{"$error":"#N/A"}},{"$f":"IF($A$122=TRUE, IF($A$126=TRUE, IF($F$1=1, IF($H$1=2, Data!S123, NA()), NA()), NA()), NA())","v":{"$error":"#N/A"}},{"$f":"IF($A$122 = TRUE, IF($A$126=TRUE, IF($F$1=1, IF($H$1=1, Data!T123, NA()), NA()),NA()), NA())","v":{"$error":"#N/A"}}]
[true,{"$f":"Data!B124","v":"Chemical Oxidation"},{"$f":"Data!C124","v":"Permanganates"},{"$f":"Data!E124","v":"Pilot"},{"$f":"Data!H124","v":"Fine-grained"},{"$f":"IF($A$124=TRUE, IF($A$122=TRUE, IF($H$1=2, IF($F$1 = 2, Data!I124, NA()), NA()), NA()), NA())","v":0.67119300000000004},{"$f":"IF($A$124=TRUE, IF($A$122=TRUE, IF($H$1=2, IF($F$1 = 2, Data!J124, NA()), NA()), NA()), NA())","v":9.6979399999999993E-2},{"$f":"IF($A$124=TRUE, IF($A$122=TRUE, IF($H$1=1, IF($F$1 = 2, Data!K124, NA()), NA()), NA()), NA())","v":{"$error":"#N/A"}},{"$f":"IF($A$124=TRUE, IF($A$122=TRUE, IF($H$1=1, IF($F$1 = 2, Data!L124, NA()), NA()), NA()), NA())","v":{"$error":"#N/A"}},{"$f":"IF($A$122=TRUE, IF($A$124=TRUE, IF($F$1=2, IF($H$1=2, Data!M124, NA()), NA()), NA()), NA())","v":0.84016800000000003},{"$f":"IF($A$122 = TRUE, IF($A$124=TRUE, IF($F$1=2, IF($H$1=1, Data!N124, NA()), NA()),NA()), NA())","v":{"$error":"#N/A"}},{"$f":"IF($A$124=TRUE, IF($A$122= TRUE, IF($H$1=2, IF($F$1 = 1, Data!O124, NA()), NA()), NA()), NA())","v":{"$error":"#N/A"}},{"$f":"IF($A$124=TRUE, IF($A$122= TRUE, IF($H$1=2, IF($F$1 = 1, Data!P124, NA()), NA()), NA()), NA())","v":{"$error":"#N/A"}},{"$f":"IF($A$124 = TRUE, IF($A$122=TRUE, IF($H$1=1, IF($F$1 = 1, Data!Q124, NA()), NA()), NA()), NA())","v":{"$error":"#N/A"}},{"$f":"IF($A$124 = TRUE, IF($A$122=TRUE, IF($H$1=1, IF($F$1 = 1, Data!R124, NA()), NA()), NA()), NA())","v":{"$error":"#N/A"}},{"$f":"IF($A$122=TRUE, IF($A$124=TRUE, IF($F$1=1, IF($H$1=2, Data!S124, NA()), NA()), NA()), NA())","v":{"$error":"#N/A"}},{"$f":"IF($A$122 = TRUE, IF($A$124=TRUE, IF($F$1=1, IF($H$1=1, Data!T124, NA()), NA()),NA()), NA())","v":{"$error":"#N/A"}}]
[true,{"$f":"Data!B125","v":"Chemical Oxidation"},{"$f":"Data!C125","v":"Permanganates"},{"$f":"Data!E125","v":"Pilot"},{"$f":"Data!H125","v":"Fine-grained"},{"$f":"IF($A$124=TRUE, IF($A$122=TRUE, IF($H$1=2, IF($F$1 = 2, Data!I125, NA()), NA()), NA()), NA())","v":28.6},{"$f":"IF($A$124=TRUE, IF($A$122=TRUE, IF($H$1=2, IF($F$1 = 2, Data!J125, NA()), NA()), NA()), NA())","v":4.5199965000000004},{"$f":"IF($A$124=TRUE, IF($A$122=TRUE, IF($H$1=1, IF($F$1 = 2, Data!K125, NA()), NA()), NA()), NA())","v":{"$error":"#N/A"}},{"$f":"IF($A$124=TRUE, IF($A$122=TRUE, IF($H$1=1, IF($F$1 = 2, Data!L125, NA()), NA()), NA()), NA())","v":{"$error":"#N/A"}},{"$f":"IF($A$122=TRUE, IF($A$124=TRUE, IF($F$1=2, IF($H$1=2, Data!M125, NA()), NA()), NA()), NA())","v":0.80122789999999999},{"$f":"IF($A$122 = TRUE, IF($A$124=TRUE, IF($F$1=2, IF($H$1=1, Data!N125, NA()), NA()),NA()), NA())","v":{"$error":"#N/A"}},{"$f":"IF($A$124=TRUE, IF($A$122= TRUE, IF($H$1=2, IF($F$1 = 1, Data!O125, NA()), NA()), NA()), NA())","v":{"$error":"#N/A"}},{"$f":"IF($A$124=TRUE, IF($A$122= TRUE, IF($H$1=2, IF($F$1 = 1, Data!P125, NA()), NA()), NA()), NA())","v":{"$error":"#N/A"}},{"$f":"IF($A$124 = TRUE, IF($A$122=TRUE, IF($H$1=1, IF($F$1 = 1, Data!Q125, NA()), NA()), NA()), NA())","v":{"$error":"#N/A"}},{"$f":"IF($A$124 = TRUE, IF($A$122=TRUE, IF($H$1=1, IF($F$1 = 1, Data!R125, NA()), NA()), NA()), NA())","v":{"$error":"#N/A"}},{"$f":"IF($A$122=TRUE, IF($A$124=TRUE, IF($F$1=1, IF($H$1=2, Data!S125, NA()), NA()), NA()), NA())","v":{"$error":"#N/A"}},{"$f":"IF($A$122 = TRUE, IF($A$124=TRUE, IF($F$1=1, IF($H$1=1, Data!T125, NA()), NA()),NA()), NA())","v":{"$error":"#N/A"}}]
[true,{"$f":"Data!B126","v":"Chemical Oxidation"},{"$f":"Data!C126","v":"Permanganates"},{"$f":"Data!E126","v":"Full"},{"$f":"Data!H126","v":"Coarse-grained"},{"$f":"IF($A$124=TRUE, IF($A$122=TRUE, IF($H$1=2, IF($F$1 = 2, Data!I126, NA()), NA()), NA()), NA())","v":9.2297866000000006},{"$f":"IF($A$124=TRUE, IF($A$122=TRUE, IF($H$1=2, IF($F$1 = 2, Data!J126, NA()), NA()), NA()), NA())","v":0.14524790000000001},{"$f":"IF($A$124=TRUE, IF($A$122=TRUE, IF($H$1=1, IF($F$1 = 2, Data!K126, NA()), NA()), NA()), NA())","v":{"$error":"#N/A"}},{"$f":"IF($A$124=TRUE, IF($A$122=TRUE, IF($H$1=1, IF($F$1 = 2, Data!L126, NA()), NA()), NA()), NA())","v":{"$error":"#N/A"}},{"$f":"IF($A$122=TRUE, IF($A$124=TRUE, IF($F$1=2, IF($H$1=2, Data!M126, NA()), NA()), NA()), NA())","v":1.8030819},{"$f":"IF($A$122 = TRUE, IF($A$124=TRUE, IF($F$1=2, IF($H$1=1, Data!N126, NA()), NA()),NA()), NA())","v":{"$error":"#N/A"}},{"$f":"IF($A$124=TRUE, IF($A$122= TRUE, IF($H$1=2, IF($F$1 = 1, Data!O126, NA()), NA()), NA()), NA())","v":{"$error":"#N/A"}},{"$f":"IF($A$124=TRUE, IF($A$122= TRUE, IF($H$1=2, IF($F$1 = 1, Data!P126, NA()), NA()), NA()), NA())","v":{"$error":"#N/A"}},{"$f":"IF($A$124 = TRUE, IF($A$122=TRUE, IF($H$1=1, IF($F$1 = 1, Data!Q126, NA()), NA()), NA()), NA())","v":{"$error":"#N/A"}},{"$f":"IF($A$124 = TRUE, IF($A$122=TRUE, IF($H$1=1, IF($F$1 = 1, Data!R126, NA()), NA()), NA()), NA())","v":{"$error":"#N/A"}},{"$f":"IF($A$122=TRUE, IF($A$124=TRUE, IF($F$1=1, IF($H$1=2, Data!S126, NA()), NA()), NA()), NA())","v":{"$error":"#N/A"}},{"$f":"IF($A$122 = TRUE, IF($A$124=TRUE, IF($F$1=1, IF($H$1=1, Data!T126, NA()), NA()),NA()), NA())","v":{"$error":"#N/A"}}]
[true,{"$f":"Data!B127","v":"Chemical Oxidation"},{"$f":"Data!C127","v":"Peroxides & Permanganates"},{"$f":"Data!E127","v":"Full"},{"$f":"Data!H127","v":"Fine-grained"},{"$f":"IF($A$127=TRUE, IF($A$122=TRUE, IF($H$1=2, IF($F$1 = 2, Data!I127, NA()), NA()), NA()), NA())","v":1.4372505},{"$f":"IF($A$127=TRUE, IF($A$122=TRUE, IF($H$1=2, IF($F$1 = 2, Data!J127, NA()), NA()), NA()), NA())","v":0.31358809999999998},{"$f":"IF($A$127=TRUE, IF($A$122=TRUE, IF($H$1=1, IF($F$1 = 2, Data!K127, NA()), NA()), NA()), NA())","v":{"$error":"#N/A"}},{"$f":"IF($A$127=TRUE, IF($A$122=TRUE, IF($H$1=1, IF($F$1 = 2, Data!L127, NA()), NA()), NA()), NA())","v":{"$error":"#N/A"}},{"$f":"IF($A$122=TRUE, IF($A$127=TRUE, IF($F$1=2, IF($H$1=2, Data!M127, NA()), NA()), NA()), NA())","v":0.6611728},{"$f":"IF($A$122 = TRUE, IF($A$127=TRUE, IF($F$1=2, IF($H$1=1, Data!N127, NA()), NA()),NA()), NA())","v":{"$error":"#N/A"}},{"$f":"IF($A$127=TRUE, IF($A$122= TRUE, IF($H$1=2, IF($F$1 = 1, Data!O127, NA()), NA()), NA()), NA())","v":{"$error":"#N/A"}},{"$f":"IF($A$127=TRUE, IF($A$122= TRUE, IF($H$1=2, IF($F$1 = 1, Data!P127, NA()), NA()), NA()), NA())","v":{"$error":"#N/A"}},{"$f":"IF($A$127 = TRUE, IF($A$122=TRUE, IF($H$1=1, IF($F$1 = 1, Data!Q127, NA()), NA()), NA()), NA())","v":{"$error":"#N/A"}},{"$f":"IF($A$127 = TRUE, IF($A$122=TRUE, IF($H$1=1, IF($F$1 = 1, Data!R127, NA()), NA()), NA()), NA())","v":{"$error":"#N/A"}},{"$f":"IF($A$122=TRUE, IF($A$127=TRUE, IF($F$1=1, IF($H$1=2, Data!S127, NA()), NA()), NA()), NA())","v":{"$error":"#N/A"}},{"$f":"IF($A$122 = TRUE, IF($A$127=TRUE, IF($F$1=1, IF($H$1=1, Data!T127, NA()), NA()),NA()), NA())","v":{"$error":"#N/A"}}]
[null,{"$f":"Data!B128","v":"Chemical Oxidation"},{"$f":"Data!C128","v":"Peroxides / Fenton's"},{"$f":"Data!E128","v":"Full"},{"$f":"Data!H128","v":"Fine-grained"},{"$f":"IF($A$126=TRUE, IF($A$122=TRUE, IF($H$1=2, IF($F$1 = 2, Data!I128, NA()), NA()), NA()), NA())","v":0.29189999999999999},{"$f":"IF($A$126=TRUE, IF($A$122=TRUE, IF($H$1=2, IF($F$1 = 2, Data!J128, NA()), NA()), NA()), NA())","v":3.1182999999999999E-2},{"$f":"IF($A$126=TRUE, IF($A$122=TRUE, IF($H$1=1, IF($F$1 = 2, Data!K128, NA()), NA()), NA()), NA())","v":{"$error":"#N/A"}},{"$f":"IF($A$126=TRUE, IF($A$122=TRUE, IF($H$1=1, IF($F$1 = 2, Data!L128, NA()), NA()), NA()), NA())","v":{"$error":"#N/A"}},{"$f":"IF($A$122=TRUE, IF($A$126=TRUE, IF($F$1=2, IF($H$1=2, Data!M128, NA()), NA()), NA()), NA())","v":0.97131690000000004},{"$f":"IF($A$122 = TRUE, IF($A$126=TRUE, IF($F$1=2, IF($H$1=1, Data!N128, NA()), NA()),NA()), NA())","v":{"$error":"#N/A"}},{"$f":"IF($A$126=TRUE, IF($A$122= TRUE, IF($H$1=2, IF($F$1 = 1, Data!O128, NA()), NA()), NA()), NA())","v":{"$error":"#N/A"}},{"$f":"IF($A$126=TRUE, IF($A$122= TRUE, IF($H$1=2, IF($F$1 = 1, Data!P128, NA()), NA()), NA()), NA())","v":{"$error":"#N/A"}},{"$f":"IF($A$126 = TRUE, IF($A$122=TRUE, IF($H$1=1, IF($F$1 = 1, Data!Q128, NA()), NA()), NA()), NA())","v":{"$error":"#N/A"}},{"$f":"IF($A$126 = TRUE, IF($A$122=TRUE, IF($H$1=1, IF($F$1 = 1, Data!R128, NA()), NA()), NA()), NA())","v":{"$error":"#N/A"}},{"$f":"IF($A$122=TRUE, IF($A$126=TRUE, IF($F$1=1, IF($H$1=2, Data!S128, NA()), NA()), NA()), NA())","v":{"$error":"#N/A"}},{"$f":"IF($A$122 = TRUE, IF($A$126=TRUE, IF($F$1=1, IF($H$1=1, Data!T128, NA()), NA()),NA()), NA())","v":{"$error":"#N/A"}}]
[null,{"$f":"Data!B133","v":"Chemical Oxidation"},{"$f":"Data!C129","v":"Peroxides / Fenton's"},{"$f":"Data!E129","v":"Full"},{"$f":"Data!H129","v":"Fine-grained"},{"$f":"IF($A$126=TRUE, IF($A$122=TRUE, IF($H$1=2, IF($F$1 = 2, Data!I129, NA()), NA()), NA()), NA())","v":25},{"$f":"IF($A$126=TRUE, IF($A$122=TRUE, IF($H$1=2, IF($F$1 = 2, Data!J129, NA()), NA()), NA()), NA())","v":4.0813864999999998},{"$f":"IF($A$126=TRUE, IF($A$122=TRUE, IF($H$1=1, IF($F$1 = 2, Data!K129, NA()), NA()), NA()), NA())","v":{"$error":"#N/A"}},{"$f":"IF($A$126=TRUE, IF($A$122=TRUE, IF($H$1=1, IF($F$1 = 2, Data!L129, NA()), NA()), NA()), NA())","v":{"$error":"#N/A"}},{"$f":"IF($A$122=TRUE, IF($A$126=TRUE, IF($F$1=2, IF($H$1=2, Data!M129, NA()), NA()), NA()), NA())","v":0.78713230000000001},{"$f":"IF($A$122 = TRUE, IF($A$126=TRUE, IF($F$1=2, IF($H$1=1, Data!N129, NA()), NA()),NA()), NA())","v":{"$error":"#N/A"}},{"$f":"IF($A$126=TRUE, IF($A$122= TRUE, IF($H$1=2, IF($F$1 = 1, Data!O129, NA()), NA()), NA()), NA())","v":{"$error":"#N/A"}},{"$f":"IF($A$126=TRUE, IF($A$122= TRUE, IF($H$1=2, IF($F$1 = 1, Data!P129, NA()), NA()), NA()), NA())","v":{"$error":"#N/A"}},{"$f":"IF($A$126 = TRUE, IF($A$122=TRUE, IF($H$1=1, IF($F$1 = 1, Data!Q129, NA()), NA()), NA()), NA())","v":{"$error":"#N/A"}},{"$f":"IF($A$126 = TRUE, IF($A$122=TRUE, IF($H$1=1, IF($F$1 = 1, Data!R129, NA()), NA()), NA()), NA())","v":{"$error":"#N/A"}},{"$f":"IF($A$122=TRUE, IF($A$126=TRUE, IF($F$1=1, IF($H$1=2, Data!S129, NA()), NA()), NA()), NA())","v":{"$error":"#N/A"}},{"$f":"IF($A$122 = TRUE, IF($A$126=TRUE, IF($F$1=1, IF($H$1=1, Data!T129, NA()), NA()),NA()), NA())","v":{"$error":"#N/A"}}]
[null,{"$f":"Data!B134","v":"Chemical Oxidation"},{"$f":"Data!C130","v":"Peroxides / Fenton's"},{"$f":"Data!E130","v":"Full"},{"$f":"Data!H130","v":"Fine-grained"},{"$f":"IF($A$126=TRUE, IF($A$122=TRUE, IF($H$1=2, IF($F$1 = 2, Data!I130, NA()), NA()), NA()), NA())","v":22.7},{"$f":"IF($A$126=TRUE, IF($A$122=TRUE, IF($H$1=2, IF($F$1 = 2, Data!J130, NA()), NA()), NA()), NA())","v":1.37},{"$f":"IF($A$126=TRUE, IF($A$122=TRUE, IF($H$1=1, IF($F$1 = 2, Data!K130, NA()), NA()), NA()), NA())","v":{"$error":"#N/A"}},{"$f":"IF($A$126=TRUE, IF($A$122=TRUE, IF($H$1=1, IF($F$1 = 2, Data!L130, NA()), NA()), NA()), NA())","v":{"$error":"#N/A"}},{"$f":"IF($A$122=TRUE, IF($A$126=TRUE, IF($F$1=2, IF($H$1=2, Data!M130, NA()), NA()), NA()), NA())","v":1.2193053},{"$f":"IF($A$122 = TRUE, IF($A$126=TRUE, IF($F$1=2, IF($H$1=1, Data!N130, NA()), NA()),NA()), NA())","v":{"$error":"#N/A"}},{"$f":"IF($A$126=TRUE, IF($A$122= TRUE, IF($H$1=2, IF($F$1 = 1, Data!O130, NA()), NA()), NA()), NA())","v":{"$error":"#N/A"}},{"$f":"IF($A$126=TRUE, IF($A$122= TRUE, IF($H$1=2, IF($F$1 = 1, Data!P130, NA()), NA()), NA()), NA())","v":{"$error":"#N/A"}},{"$f":"IF($A$126 = TRUE, IF($A$122=TRUE, IF($H$1=1, IF($F$1 = 1, Data!Q130, NA()), NA()), NA()), NA())","v":{"$error":"#N/A"}},{"$f":"IF($A$126 = TRUE, IF($A$122=TRUE, IF($H$1=1, IF($F$1 = 1, Data!R130, NA()), NA()), NA()), NA())","v":{"$error":"#N/A"}},{"$f":"IF($A$122=TRUE, IF($A$126=TRUE, IF($F$1=1, IF($H$1=2, Data!S130, NA()), NA()), NA()), NA())","v":{"$error":"#N/A"}},{"$f":"IF($A$122 = TRUE, IF($A$126=TRUE, IF($F$1=1, IF($H$1=1, Data!T130, NA()), NA()),NA()), NA())","v":{"$error":"#N/A"}}]
[null,{"$f":"Data!B135","v":"Chemical Oxidation"},{"$f":"Data!C131","v":"Peroxides / Fenton's"},{"$f":"Data!E131","v":"Full"},{"$f":"Data!H131","v":"Fine-grained"},{"$f":"IF($A$126=TRUE, IF($A$122=TRUE, IF($H$1=2, IF($F$1 = 2, Data!I131, NA()), NA()), NA()), NA())","v":121.5112213},{"$f":"IF($A$126=TRUE, IF($A$122=TRUE, IF($H$1=2, IF($F$1 = 2, Data!J131, NA()), NA()), NA()), NA())","v":10.9746863},{"$f":"IF($A$126=TRUE, IF($A$122=TRUE, IF($H$1=1, IF($F$1 = 2, Data!K131, NA()), NA()), NA()), NA())","v":{"$error":"#N/A"}},{"$f":"IF($A$126=TRUE, IF($A$122=TRUE, IF($H$1=1, IF($F$1 = 2, Data!L131, NA()), NA()), NA()), NA())","v":{"$error":"#N/A"}},{"$f":"IF($A$122=TRUE, IF($A$126=TRUE, IF($F$1=2, IF($H$1=2, Data!M131, NA()), NA()), NA()), NA())","v":1.0442243},{"$f":"IF($A$122 = TRUE, IF($A$126=TRUE, IF($F$1=2, IF($H$1=1, Data!N131, NA()), NA()),NA()), NA())","v":{"$error":"#N/A"}},{"$f":"IF($A$126=TRUE, IF($A$122= TRUE, IF($H$1=2, IF($F$1 = 1, Data!O131, NA()), NA()), NA()), NA())","v":{"$error":"#N/A"}},{"$f":"IF($A$126=TRUE, IF($A$122= TRUE, IF($H$1=2, IF($F$1 = 1, Data!P131, NA()), NA()), NA()), NA())","v":{"$error":"#N/A"}},{"$f":"IF($A$126 = TRUE, IF($A$122=TRUE, IF($H$1=1, IF($F$1 = 1, Data!Q131, NA()), NA()), NA()), NA())","v":{"$error":"#N/A"}},{"$f":"IF($A$126 = TRUE, IF($A$122=TRUE, IF($H$1=1, IF($F$1 = 1, Data!R131, NA()), NA()), NA()), NA())","v":{"$error":"#N/A"}},{"$f":"IF($A$122=TRUE, IF($A$126=TRUE, IF($F$1=1, IF($H$1=2, Data!S131, NA()), NA()), NA()), NA())","v":{"$error":"#N/A"}},{"$f":"IF($A$122 = TRUE, IF($A$126=TRUE, IF($F$1=1, IF($H$1=1, Data!T131, NA()), NA()),NA()), NA())","v":{"$error":"#N/A"}}]
[null,{"$f":"Data!B137","v":"Chemical Oxidation"},{"$f":"Data!C132","v":"Peroxides / Fenton's"},{"$f":"Data!E132","v":"Pilot"},{"$f":"Data!H132","v":"Coarse-grained"},{"$f":"IF($A$126=TRUE, IF($A$122=TRUE, IF($H$1=2, IF($F$1 = 2, Data!I132, NA()), NA()), NA()), NA())","v":0.46592699999999998},{"$f":"IF($A$126=TRUE, IF($A$122=TRUE, IF($H$1=2, IF($F$1 = 2, Data!J132, NA()), NA()), NA()), NA())","v":1.9595899999999999E-2},{"$f":"IF($A$126=TRUE, IF($A$122=TRUE, IF($H$1=1, IF($F$1 = 2, Data!K132, NA()), NA()), NA()), NA())","v":{"$error":"#N/A"}},{"$f":"IF($A$126=TRUE, IF($A$122=TRUE, IF($H$1=1, IF($F$1 = 2, Data!L132, NA()), NA()), NA()), NA())","v":{"$error":"#N/A"}},{"$f":"IF($A$122=TRUE, IF($A$126=TRUE, IF($F$1=2, IF($H$1=2, Data!M132, NA()), NA()), NA()), NA())","v":1.3761523},{"$f":"IF($A$122 = TRUE, IF($A$126=TRUE, IF($F$1=2, IF($H$1=1, Data!N132, NA()), NA()),NA()), NA())","v":{"$error":"#N/A"}},{"$f":"IF($A$126=TRUE, IF($A$122= TRUE, IF($H$1=2, IF($F$1 = 1, Data!O132, NA()), NA()), NA()), NA())","v":{"$error":"#N/A"}},{"$f":"IF($A$126=TRUE, IF($A$122= TRUE, IF($H$1=2, IF($F$1 = 1, Data!P132, NA()), NA()), NA()), NA())","v":{"$error":"#N/A"}},{"$f":"IF($A$126 = TRUE, IF($A$122=TRUE, IF($H$1=1, IF($F$1 = 1, Data!Q132, NA()), NA()), NA()), NA())","v":{"$error":"#N/A"}},{"$f":"IF($A$126 = TRUE, IF($A$122=TRUE, IF($H$1=1, IF($F$1 = 1, Data!R132, NA()), NA()), NA()), NA())","v":{"$error":"#N/A"}},{"$f":"IF($A$122=TRUE, IF($A$126=TRUE, IF($F$1=1, IF($H$1=2, Data!S132, NA()), NA()), NA()), NA())","v":{"$error":"#N/A"}},{"$f":"IF($A$122 = TRUE, IF($A$126=TRUE, IF($F$1=1, IF($H$1=1, Data!T132, NA()), NA()),NA()), NA())","v":{"$error":"#N/A"}}]
[null,{"$f":"Data!B149","v":"Chemical Oxidation"},{"$f":"Data!C133","v":"Peroxides / Fenton's"},{"$f":"Data!E133","v":"Full"},{"$f":"Data!H133","v":"Fine-grained"},{"$f":"IF($A$126=TRUE, IF($A$122=TRUE, IF($H$1=2, IF($F$1 = 2, Data!I133, NA()), NA()), NA()), NA())","v":0.51892769999999999},{"$f":"IF($A$126=TRUE, IF($A$122=TRUE, IF($H$1=2, IF($F$1 = 2, Data!J133, NA()), NA()), NA()), NA())","v":0.3549216},{"$f":"IF($A$126=TRUE, IF($A$122=TRUE, IF($H$1=1, IF($F$1 = 2, Data!K133, NA()), NA()), NA()), NA())","v":{"$error":"#N/A"}},{"$f":"IF($A$126=TRUE, IF($A$122=TRUE, IF($H$1=1, IF($F$1 = 2, Data!L133, NA()), NA()), NA()), NA())","v":{"$error":"#N/A"}},{"$f":"IF($A$122=TRUE, IF($A$126=TRUE, IF($F$1=2, IF($H$1=2, Data!M133, NA()), NA()), NA()), NA())","v":0.16497439999999999},{"$f":"IF($A$122 = TRUE, IF($A$126=TRUE, IF($F$1=2, IF($H$1=1, Data!N133, NA()), NA()),NA()), NA())","v":{"$error":"#N/A"}},{"$f":"IF($A$126=TRUE, IF($A$122= TRUE, IF($H$1=2, IF($F$1 = 1, Data!O133, NA()), NA()), NA()), NA())","v":{"$error":"#N/A"}},{"$f":"IF($A$126=TRUE, IF($A$122= TRUE, IF($H$1=2, IF($F$1 = 1, Data!P133, NA()), NA()), NA()), NA())","v":{"$error":"#N/A"}},{"$f":"IF($A$126 = TRUE, IF($A$122=TRUE, IF($H$1=1, IF($F$1 = 1, Data!Q133, NA()), NA()), NA()), NA())","v":{"$error":"#N/A"}},{"$f":"IF($A$126 = TRUE, IF($A$122=TRUE, IF($H$1=1, IF($F$1 = 1, Data!R133, NA()), NA()), NA()), NA())","v":{"$error":"#N/A"}},{"$f":"IF($A$122=TRUE, IF($A$126=TRUE, IF($F$1=1, IF($H$1=2, Data!S133, NA()), NA()), NA()), NA())","v":{"$error":"#N/A"}},{"$f":"IF($A$122 = TRUE, IF($A$126=TRUE, IF($F$1=1, IF($H$1=1, Data!T133, NA()), NA()),NA()), NA())","v":{"$error":"#N/A"}}]
[null,{"$f":"Data!B155","v":"Chemical Oxidation"},{"$f":"Data!C134","v":"Peroxides / Fenton's"},{"$f":"Data!E134","v":"Full"},{"$f":"Data!H134","v":"Fine-grained"},{"$f":"IF($A$126=TRUE, IF($A$122=TRUE, IF($H$1=2, IF($F$1 = 2, Data!I134, NA()), NA()), NA()), NA())","v":7.2003557999999996},{"$f":"IF($A$126=TRUE, IF($A$122=TRUE, IF($H$1=2, IF($F$1 = 2, Data!J134, NA()), NA()), NA()), NA())","v":40.9402568},{"$f":"IF($A$126=TRUE, IF($A$122=TRUE, IF($H$1=1, IF($F$1 = 2, Data!K134, NA()), NA()), NA()), NA())","v":{"$error":"#N/A"}},{"$f":"IF($A$126=TRUE, IF($A$122=TRUE, IF($H$1=1, IF($F$1 = 2, Data!L134, NA()), NA()), NA()), NA())","v":{"$error":"#N/A"}},{"$f":"IF($A$122=TRUE, IF($A$126=TRUE, IF($F$1=2, IF($H$1=2, Data!M134, NA()), NA()), NA()), NA())","v":-0.75479660000000004},{"$f":"IF($A$122 = TRUE, IF($A$126=TRUE, IF($F$1=2, IF($H$1=1, Data!N134, NA()), NA()),NA()), NA())","v":{"$error":"#N/A"}},{"$f":"IF($A$126=TRUE, IF($A$122= TRUE, IF($H$1=2, IF($F$1 = 1, Data!O134, NA()), NA()), NA()), NA())","v":{"$error":"#N/A"}},{"$f":"IF($A$126=TRUE, IF($A$122= TRUE, IF($H$1=2, IF($F$1 = 1, Data!P134, NA()), NA()), NA()), NA())","v":{"$error":"#N/A"}},{"$f":"IF($A$126 = TRUE, IF($A$122=TRUE, IF($H$1=1, IF($F$1 = 1, Data!Q134, NA()), NA()), NA()), NA())","v":{"$error":"#N/A"}},{"$f":"IF($A$126 = TRUE, IF($A$122=TRUE, IF($H$1=1, IF($F$1 = 1, Data!R134, NA()), NA()), NA()), NA())","v":{"$error":"#N/A"}},{"$f":"IF($A$122=TRUE, IF($A$126=TRUE, IF($F$1=1, IF($H$1=2, Data!S134, NA()), NA()), NA()), NA())","v":{"$error":"#N/A"}},{"$f":"IF($A$122 = TRUE, IF($A$126=TRUE, IF($F$1=1, IF($H$1=1, Data!T134, NA()), NA()),NA()), NA())","v":{"$error":"#N/A"}}]
[null,{"$f":"Data!B156","v":"Chemical Oxidation"},{"$f":"Data!C135","v":"Peroxides / Fenton's"},{"$f":"Data!E135","v":"Full"},{"$f":"Data!H135","v":0},{"$f":"IF($A$126=TRUE, IF($A$122=TRUE, IF($H$1=2, IF($F$1 = 2, Data!I135, NA()), NA()), NA()), NA())","v":10.1717017},{"$f":"IF($A$126=TRUE, IF($A$122=TRUE, IF($H$1=2, IF($F$1 = 2, Data!J135, NA()), NA()), NA()), NA())","v":0.80234179999999999},{"$f":"IF($A$126=TRUE, IF($A$122=TRUE, IF($H$1=1, IF($F$1 = 2, Data!K135, NA()), NA()), NA()), NA())","v":{"$error":"#N/A"}},{"$f":"IF($A$126=TRUE, IF($A$122=TRUE, IF($H$1=1, IF($F$1 = 2, Data!L135, NA()), NA()), NA()), NA())","v":{"$error":"#N/A"}},{"$f":"IF($A$122=TRUE, IF($A$126=TRUE, IF($F$1=2, IF($H$1=2, Data!M135, NA()), NA()), NA()), NA())","v":1.1030342},{"$f":"IF($A$122 = TRUE, IF($A$126=TRUE, IF($F$1=2, IF($H$1=1, Data!N135, NA()), NA()),NA()), NA())","v":{"$error":"#N/A"}},{"$f":"IF($A$126=TRUE, IF($A$122= TRUE, IF($H$1=2, IF($F$1 = 1, Data!O135, NA()), NA()), NA()), NA())","v":{"$error":"#N/A"}},{"$f":"IF($A$126=TRUE, IF($A$122= TRUE, IF($H$1=2, IF($F$1 = 1, Data!P135, NA()), NA()), NA()), NA())","v":{"$error":"#N/A"}},{"$f":"IF($A$126 = TRUE, IF($A$122=TRUE, IF($H$1=1, IF($F$1 = 1, Data!Q135, NA()), NA()), NA()), NA())","v":{"$error":"#N/A"}},{"$f":"IF($A$126 = TRUE, IF($A$122=TRUE, IF($H$1=1, IF($F$1 = 1, Data!R135, NA()), NA()), NA()), NA())","v":{"$error":"#N/A"}},{"$f":"IF($A$122=TRUE, IF($A$126=TRUE, IF($F$1=1, IF($H$1=2, Data!S135, NA()), NA()), NA()), NA())","v":{"$error":"#N/A"}},{"$f":"IF($A$122 = TRUE, IF($A$126=TRUE, IF($F$1=1, IF($H$1=1, Data!T135, NA()), NA()),NA()), NA())","v":{"$error":"#N/A"}}]
[null,{"$f":"Data!B158","v":"Chemical Oxidation"},{"$f":"Data!C136","v":"Peroxides / Fenton's"},{"$f":"Data!E136","v":"Full"},{"$f":"Data!H136","v":"Fine-grained"},{"$f":"IF($A$126=TRUE, IF($A$122=TRUE, IF($H$1=2, IF($F$1 = 2, Data!I136, NA()), NA()), NA()), NA())","v":0.50510770000000005},{"$f":"IF($A$126=TRUE, IF($A$122=TRUE, IF($H$1=2, IF($F$1 = 2, Data!J136, NA()), NA()), NA()), NA())","v":2.8048799999999999E-2},{"$f":"IF($A$126=TRUE, IF($A$122=TRUE, IF($H$1=1, IF($F$1 = 2, Data!K136, NA()), NA()), NA()), NA())","v":{"$error":"#N/A"}},{"$f":"IF($A$126=TRUE, IF($A$122=TRUE, IF($H$1=1, IF($F$1 = 2, Data!L136, NA()), NA()), NA()), NA())","v":{"$error":"#N/A"}},{"$f":"IF($A$122=TRUE, IF($A$126=TRUE, IF($F$1=2, IF($H$1=2, Data!M136, NA()), NA()), NA()), NA())","v":1.2554703},{"$f":"IF($A$122 = TRUE, IF($A$126=TRUE, IF($F$1=2, IF($H$1=1, Data!N136, NA()), NA()),NA()), NA())","v":{"$error":"#N/A"}},{"$f":"IF($A$126=TRUE, IF($A$122= TRUE, IF($H$1=2, IF($F$1 = 1, Data!O136, NA()), NA()), NA()), NA())","v":{"$error":"#N/A"}},{"$f":"IF($A$126=TRUE, IF($A$122= TRUE, IF($H$1=2, IF($F$1 = 1, Data!P136, NA()), NA()), NA()), NA())","v":{"$error":"#N/A"}},{"$f":"IF($A$126 = TRUE, IF($A$122=TRUE, IF($H$1=1, IF($F$1 = 1, Data!Q136, NA()), NA()), NA()), NA())","v":{"$error":"#N/A"}},{"$f":"IF($A$126 = TRUE, IF($A$122=TRUE, IF($H$1=1, IF($F$1 = 1, Data!R136, NA()), NA()), NA()), NA())","v":{"$error":"#N/A"}},{"$f":"IF($A$122=TRUE, IF($A$126=TRUE, IF($F$1=1, IF($H$1=2, Data!S136, NA()), NA()), NA()), NA())","v":{"$error":"#N/A"}},{"$f":"IF($A$122 = TRUE, IF($A$126=TRUE, IF($F$1=1, IF($H$1=1, Data!T136, NA()), NA()),NA()), NA())","v":{"$error":"#N/A"}}]
[null,{"$f":"Data!B161","v":"Chemical Oxidation"},{"$f":"Data!C137","v":"Peroxides / Fenton's"},{"$f":"Data!E137","v":"Full"},{"$f":"Data!H137","v":"Fine-grained"},{"$f":"IF($A$126=TRUE, IF($A$122=TRUE, IF($H$1=2, IF($F$1 = 2, Data!I137, NA()), NA()), NA()), NA())","v":0.16750000000000001},{"$f":"IF($A$126=TRUE, IF($A$122=TRUE, IF($H$1=2, IF($F$1 = 2, Data!J137, NA()), NA()), NA()), NA())","v":1.9650000000000001E-2},{"$f":"IF($A$126=TRUE, IF($A$122=TRUE, IF($H$1=1, IF($F$1 = 2, Data!K137, NA()), NA()), NA()), NA())","v":{"$error":"#N/A"}},{"$f":"IF($A$126=TRUE, IF($A$122=TRUE, IF($H$1=1, IF($F$1 = 2, Data!L137, NA()), NA()), NA()), NA())","v":{"$error":"#N/A"}},{"$f":"IF($A$122=TRUE, IF($A$126=TRUE, IF($F$1=2, IF($H$1=2, Data!M137, NA()), NA()), NA()), NA())","v":0.93065229999999999},{"$f":"IF($A$122 = TRUE, IF($A$126=TRUE, IF($F$1=2, IF($H$1=1, Data!N137, NA()), NA()),NA()), NA())","v":{"$error":"#N/A"}},{"$f":"IF($A$126=TRUE, IF($A$122= TRUE, IF($H$1=2, IF($F$1 = 1, Data!O137, NA()), NA()), NA()), NA())","v":{"$error":"#N/A"}},{"$f":"IF($A$126=TRUE, IF($A$122= TRUE, IF($H$1=2, IF($F$1 = 1, Data!P137, NA()), NA()), NA()), NA())","v":{"$error":"#N/A"}},{"$f":"IF($A$126 = TRUE, IF($A$122=TRUE, IF($H$1=1, IF($F$1 = 1, Data!Q137, NA()), NA()), NA()), NA())","v":{"$error":"#N/A"}},{"$f":"IF($A$126 = TRUE, IF($A$122=TRUE, IF($H$1=1, IF($F$1 = 1, Data!R137, NA()), NA()), NA()), NA())","v":{"$error":"#N/A"}},{"$f":"IF($A$122=TRUE, IF($A$126=TRUE, IF($F$1=1, IF($H$1=2, Data!S137, NA()), NA()), NA()), NA())","v":{"$error":"#N/A"}},{"$f":"IF($A$122 = TRUE, IF($A$126=TRUE, IF($F$1=1, IF($H$1=1, Data!T137, NA()), NA()),NA()), NA())","v":{"$error":"#N/A"}}]
[null,{"$f":"Data!B162","v":"Chemical Oxidation"},{"$f":"Data!C138","v":"Peroxides / Fenton's"},{"$f":"Data!E138","v":"Pilot"},{"$f":"Data!H138","v":"Coarse-grained"},{"$f":"IF($A$126=TRUE, IF($A$122=TRUE, IF($H$1=2, IF($F$1 = 2, Data!I138, NA()), NA()), NA()), NA())","v":309.1029231},{"$f":"IF($A$126=TRUE, IF($A$122=TRUE, IF($H$1=2, IF($F$1 = 2, Data!J138, NA()), NA()), NA()), NA())","v":342.08041120000001},{"$f":"IF($A$126=TRUE, IF($A$122=TRUE, IF($H$1=1, IF($F$1 = 2, Data!K138, NA()), NA()), NA()), NA())","v":{"$error":"#N/A"}},{"$f":"IF($A$126=TRUE, IF($A$122=TRUE, IF($H$1=1, IF($F$1 = 2, Data!L138, NA()), NA()), NA()), NA())","v":{"$error":"#N/A"}},{"$f":"IF($A$122=TRUE, IF($A$126=TRUE, IF($F$1=2, IF($H$1=2, Data!M138, NA()), NA()), NA()), NA())","v":-4.4025099999999998E-2},{"$f":"IF($A$122 = TRUE, IF($A$126=TRUE, IF($F$1=2, IF($H$1=1, Data!N138, NA()), NA()),NA()), NA())","v":{"$error":"#N/A"}},{"$f":"IF($A$126=TRUE, IF($A$122= TRUE, IF($H$1=2, IF($F$1 = 1, Data!O138, NA()), NA()), NA()), NA())","v":{"$error":"#N/A"}},{"$f":"IF($A$126=TRUE, IF($A$122= TRUE, IF($H$1=2, IF($F$1 = 1, Data!P138, NA()), NA()), NA()), NA())","v":{"$error":"#N/A"}},{"$f":"IF($A$126 = TRUE, IF($A$122=TRUE, IF($H$1=1, IF($F$1 = 1, Data!Q138, NA()), NA()), NA()), NA())","v":{"$error":"#N/A"}},{"$f":"IF($A$126 = TRUE, IF($A$122=TRUE, IF($H$1=1, IF($F$1 = 1, Data!R138, NA()), NA()), NA()), NA())","v":{"$error":"#N/A"}},{"$f":"IF($A$122=TRUE, IF($A$126=TRUE, IF($F$1=1, IF($H$1=2, Data!S138, NA()), NA()), NA()), NA())","v":{"$error":"#N/A"}},{"$f":"IF($A$122 = TRUE, IF($A$126=TRUE, IF($F$1=1, IF($H$1=1, Data!T138, NA()), NA()),NA()), NA())","v":{"$error":"#N/A"}}]
[null,{"$f":"Data!B163","v":"Chemical Oxidation"},{"$f":"Data!C139","v":"Peroxides / Fenton's"},{"$f":"Data!E139","v":"Full"},{"$f":"Data!H139","v":"Coarse-grained"},{"$f":"IF($A$126=TRUE, IF($A$122=TRUE, IF($H$1=2, IF($F$1 = 2, Data!I139, NA()), NA()), NA()), NA())","v":3.6927051},{"$f":"IF($A$126=TRUE, IF($A$122=TRUE, IF($H$1=2, IF($F$1 = 2, Data!J139, NA()), NA()), NA()), NA())","v":1.5153497},{"$f":"IF($A$126=TRUE, IF($A$122=TRUE, IF($H$1=1, IF($F$1 = 2, Data!K139, NA()), NA()), NA()), NA())","v":{"$error":"#N/A"}},{"$f":"IF($A$126=TRUE, IF($A$122=TRUE, IF($H$1=1, IF($F$1 = 2, Data!L139, NA()), NA()), NA()), NA())","v":{"$error":"#N/A"}},{"$f":"IF($A$122=TRUE, IF($A$126=TRUE, IF($F$1=2, IF($H$1=2, Data!M139, NA()), NA()), NA()), NA())","v":0.3868318},{"$f":"IF($A$122 = TRUE, IF($A$126=TRUE, IF($F$1=2, IF($H$1=1, Data!N139, NA()), NA()),NA()), NA())","v":{"$error":"#N/A"}},{"$f":"IF($A$126=TRUE, IF($A$122= TRUE, IF($H$1=2, IF($F$1 = 1, Data!O139, NA()), NA()), NA()), NA())","v":{"$error":"#N/A"}},{"$f":"IF($A$126=TRUE, IF($A$122= TRUE, IF($H$1=2, IF($F$1 = 1, Data!P139, NA()), NA()), NA()), NA())","v":{"$error":"#N/A"}},{"$f":"IF($A$126 = TRUE, IF($A$122=TRUE, IF($H$1=1, IF($F$1 = 1, Data!Q139, NA()), NA()), NA()), NA())","v":{"$error":"#N/A"}},{"$f":"IF($A$126 = TRUE, IF($A$122=TRUE, IF($H$1=1, IF($F$1 = 1, Data!R139, NA()), NA()), NA()), NA())","v":{"$error":"#N/A"}},{"$f":"IF($A$122=TRUE, IF($A$126=TRUE, IF($F$1=1, IF($H$1=2, Data!S139, NA()), NA()), NA()), NA())","v":{"$error":"#N/A"}},{"$f":"IF($A$122 = TRUE, IF($A$126=TRUE, IF($F$1=1, IF($H$1=1, Data!T139, NA()), NA()),NA()), NA())","v":{"$error":"#N/A"}}]
[null,{"$f":"Data!B164","v":"Chemical Oxidation"},{"$f":"Data!C140","v":"Peroxides / Fenton's"},{"$f":"Data!E140","v":0},{"$f":"Data!H140","v":0},{"$f":"IF($A$126=TRUE, IF($A$122=TRUE, IF($H$1=2, IF($F$1 = 2, Data!I140, NA()), NA()), NA()), NA())","v":140},{"$f":"IF($A$126=TRUE, IF($A$122=TRUE, IF($H$1=2, IF($F$1 = 2, Data!J140, NA()), NA()), NA()), NA())","v":160},{"$f":"IF($A$126=TRUE, IF($A$122=TRUE, IF($H$1=1, IF($F$1 = 2, Data!K140, NA()), NA()), NA()), NA())","v":{"$error":"#N/A"}},{"$f":"IF($A$126=TRUE, IF($A$122=TRUE, IF($H$1=1, IF($F$1 = 2, Data!L140, NA()), NA()), NA()), NA())","v":{"$error":"#N/A"}},{"$f":"IF($A$122=TRUE, IF($A$126=TRUE, IF($F$1=2, IF($H$1=2, Data!M140, NA()), NA()), NA()), NA())","v":-5.7991899999999999E-2},{"$f":"IF($A$122 = TRUE, IF($A$126=TRUE, IF($F$1=2, IF($H$1=1, Data!N140, NA()), NA()),NA()), NA())","v":{"$error":"#N/A"}},{"$f":"IF($A$126=TRUE, IF($A$122= TRUE, IF($H$1=2, IF($F$1 = 1, Data!O140, NA()), NA()), NA()), NA())","v":{"$error":"#N/A"}},{"$f":"IF($A$126=TRUE, IF($A$122= TRUE, IF($H$1=2, IF($F$1 = 1, Data!P140, NA()), NA()), NA()), NA())","v":{"$error":"#N/A"}},{"$f":"IF($A$126 = TRUE, IF($A$122=TRUE, IF($H$1=1, IF($F$1 = 1, Data!Q140, NA()), NA()), NA()), NA())","v":{"$error":"#N/A"}},{"$f":"IF($A$126 = TRUE, IF($A$122=TRUE, IF($H$1=1, IF($F$1 = 1, Data!R140, NA()), NA()), NA()), NA())","v":{"$error":"#N/A"}},{"$f":"IF($A$122=TRUE, IF($A$126=TRUE, IF($F$1=1, IF($H$1=2, Data!S140, NA()), NA()), NA()), NA())","v":{"$error":"#N/A"}},{"$f":"IF($A$122 = TRUE, IF($A$126=TRUE, IF($F$1=1, IF($H$1=1, Data!T140, NA()), NA()),NA()), NA())","v":{"$error":"#N/A"}}]
[null,{"$f":"Data!B175","v":"Chemical Oxidation"},{"$f":"Data!C141","v":"Peroxides / Fenton's"},{"$f":"Data!E141","v":0},{"$f":"Data!H141","v":0},{"$f":"IF($A$126=TRUE, IF($A$122=TRUE, IF($H$1=2, IF($F$1 = 2, Data!I141, NA()), NA()), NA()), NA())","v":0.37832339999999998},{"$f":"IF($A$126=TRUE, IF($A$122=TRUE, IF($H$1=2, IF($F$1 = 2, Data!J141, NA()), NA()), NA()), NA())","v":6.4806999999999998E-3},{"$f":"IF($A$126=TRUE, IF($A$122=TRUE, IF($H$1=1, IF($F$1 = 2, Data!K141, NA()), NA()), NA()), NA())","v":{"$error":"#N/A"}},{"$f":"IF($A$126=TRUE, IF($A$122=TRUE, IF($H$1=1, IF($F$1 = 2, Data!L141, NA()), NA()), NA()), NA())","v":{"$error":"#N/A"}},{"$f":"IF($A$122=TRUE, IF($A$126=TRUE, IF($F$1=2, IF($H$1=2, Data!M141, NA()), NA()), NA()), NA())","v":1.7662418},{"$f":"IF($A$122 = TRUE, IF($A$126=TRUE, IF($F$1=2, IF($H$1=1, Data!N141, NA()), NA()),NA()), NA())","v":{"$error":"#N/A"}},{"$f":"IF($A$126=TRUE, IF($A$122= TRUE, IF($H$1=2, IF($F$1 = 1, Data!O141, NA()), NA()), NA()), NA())","v":{"$error":"#N/A"}},{"$f":"IF($A$126=TRUE, IF($A$122= TRUE, IF($H$1=2, IF($F$1 = 1, Data!P141, NA()), NA()), NA()), NA())","v":{"$error":"#N/A"}},{"$f":"IF($A$126 = TRUE, IF($A$122=TRUE, IF($H$1=1, IF($F$1 = 1, Data!Q141, NA()), NA()), NA()), NA())","v":{"$error":"#N/A"}},{"$f":"IF($A$126 = TRUE, IF($A$122=TRUE, IF($H$1=1, IF($F$1 = 1, Data!R141, NA()), NA()), NA()), NA())","v":{"$error":"#N/A"}},{"$f":"IF($A$122=TRUE, IF($A$126=TRUE, IF($F$1=1, IF($H$1=2, Data!S141, NA()), NA()), NA()), NA())","v":{"$error":"#N/A"}},{"$f":"IF($A$122 = TRUE, IF($A$126=TRUE, IF($F$1=1, IF($H$1=1, Data!T141, NA()), NA()),NA()), NA())","v":{"$error":"#N/A"}}]
[null,{"$f":"Data!B181","v":"Chemical Oxidation"},{"$f":"Data!C142","v":"Peroxides / Fenton's"},{"$f":"Data!E142","v":"Full"},{"$f":"Data!H142","v":"Fine-grained"},{"$f":"IF($A$126=TRUE, IF($A$122=TRUE, IF($H$1=2, IF($F$1 = 2, Data!I142, NA()), NA()), NA()), NA())","v":7.9242552999999996},{"$f":"IF($A$126=TRUE, IF($A$122=TRUE, IF($H$1=2, IF($F$1 = 2, Data!J142, NA()), NA()), NA()), NA())","v":1.2466535999999999},{"$f":"IF($A$126=TRUE, IF($A$122=TRUE, IF($H$1=1, IF($F$1 = 2, Data!K142, NA()), NA()), NA()), NA())","v":{"$error":"#N/A"}},{"$f":"IF($A$126=TRUE, IF($A$122=TRUE, IF($H$1=1, IF($F$1 = 2, Data!L142, NA()), NA()), NA()), NA())","v":{"$error":"#N/A"}},{"$f":"IF($A$122=TRUE, IF($A$126=TRUE, IF($F$1=2, IF($H$1=2, Data!M142, NA()), NA()), NA()), NA())","v":0.8032127},{"$f":"IF($A$122 = TRUE, IF($A$126=TRUE, IF($F$1=2, IF($H$1=1, Data!N142, NA()), NA()),NA()), NA())","v":{"$error":"#N/A"}},{"$f":"IF($A$126=TRUE, IF($A$122= TRUE, IF($H$1=2, IF($F$1 = 1, Data!O142, NA()), NA()), NA()), NA())","v":{"$error":"#N/A"}},{"$f":"IF($A$126=TRUE, IF($A$122= TRUE, IF($H$1=2, IF($F$1 = 1, Data!P142, NA()), NA()), NA()), NA())","v":{"$error":"#N/A"}},{"$f":"IF($A$126 = TRUE, IF($A$122=TRUE, IF($H$1=1, IF($F$1 = 1, Data!Q142, NA()), NA()), NA()), NA())","v":{"$error":"#N/A"}},{"$f":"IF($A$126 = TRUE, IF($A$122=TRUE, IF($H$1=1, IF($F$1 = 1, Data!R142, NA()), NA()), NA()), NA())","v":{"$error":"#N/A"}},{"$f":"IF($A$122=TRUE, IF($A$126=TRUE, IF($F$1=1, IF($H$1=2, Data!S142, NA()), NA()), NA()), NA())","v":{"$error":"#N/A"}},{"$f":"IF($A$122 = TRUE, IF($A$126=TRUE, IF($F$1=1, IF($H$1=1, Data!T142, NA()), NA()),NA()), NA())","v":{"$error":"#N/A"}}]
[null,{"$f":"Data!B182","v":"Chemical Oxidation"},{"$f":"Data!C143","v":"Peroxides / Fenton's"},{"$f":"Data!E143","v":0},{"$f":"Data!H143","v":0},{"$f":"IF($A$126=TRUE, IF($A$122=TRUE, IF($H$1=2, IF($F$1 = 2, Data!I143, NA()), NA()), NA()), NA())","v":0.57999999999999996},{"$f":"IF($A$126=TRUE, IF($A$122=TRUE, IF($H$1=2, IF($F$1 = 2, Data!J143, NA()), NA()), NA()), NA())","v":1.4145E-3},{"$f":"IF($A$126=TRUE, IF($A$122=TRUE, IF($H$1=1, IF($F$1 = 2, Data!K143, NA()), NA()), NA()), NA())","v":{"$error":"#N/A"}},{"$f":"IF($A$126=TRUE, IF($A$122=TRUE, IF($H$1=1, IF($F$1 = 2, Data!L143, NA()), NA()), NA()), NA())","v":{"$error":"#N/A"}},{"$f":"IF($A$122=TRUE, IF($A$126=TRUE, IF($F$1=2, IF($H$1=2, Data!M143, NA()), NA()), NA()), NA())","v":2.6128325000000001},{"$f":"IF($A$122 = TRUE, IF($A$126=TRUE, IF($F$1=2, IF($H$1=1, Data!N143, NA()), NA()),NA()), NA())","v":{"$error":"#N/A"}},{"$f":"IF($A$126=TRUE, IF($A$122= TRUE, IF($H$1=2, IF($F$1 = 1, Data!O143, NA()), NA()), NA()), NA())","v":{"$error":"#N/A"}},{"$f":"IF($A$126=TRUE, IF($A$122= TRUE, IF($H$1=2, IF($F$1 = 1, Data!P143, NA()), NA()), NA()), NA())","v":{"$error":"#N/A"}},{"$f":"IF($A$126 = TRUE, IF($A$122=TRUE, IF($H$1=1, IF($F$1 = 1, Data!Q143, NA()), NA()), NA()), NA())","v":{"$error":"#N/A"}},{"$f":"IF($A$126 = TRUE, IF($A$122=TRUE, IF($H$1=1, IF($F$1 = 1, Data!R143, NA()), NA()), NA()), NA())","v":{"$error":"#N/A"}},{"$f":"IF($A$122=TRUE, IF($A$126=TRUE, IF($F$1=1, IF($H$1=2, Data!S143, NA()), NA()), NA()), NA())","v":{"$error":"#N/A"}},{"$f":"IF($A$122 = TRUE, IF($A$126=TRUE, IF($F$1=1, IF($H$1=1, Data!T143, NA()), NA()),NA()), NA())","v":{"$error":"#N/A"}}]
[null,{"$f":"Data!B184","v":"Chemical Oxidation"},{"$f":"Data!C144","v":"Peroxides / Fenton's"},{"$f":"Data!E144","v":0},{"$f":"Data!H144","v":0},{"$f":"IF($A$126=TRUE, IF($A$122=TRUE, IF($H$1=2, IF($F$1 = 2, Data!I144, NA()), NA()), NA()), NA())","v":0.44},{"$f":"IF($A$126=TRUE, IF($A$122=TRUE, IF($H$1=2, IF($F$1 = 2, Data!J144, NA()), NA()), NA()), NA())","v":2.2000000000000002},{"$f":"IF($A$126=TRUE, IF($A$122=TRUE, IF($H$1=1, IF($F$1 = 2, Data!K144, NA()), NA()), NA()), NA())","v":{"$error":"#N/A"}},{"$f":"IF($A$126=TRUE, IF($A$122=TRUE, IF($H$1=1, IF($F$1 = 2, Data!L144, NA()), NA()), NA()), NA())","v":{"$error":"#N/A"}},{"$f":"IF($A$122=TRUE, IF($A$126=TRUE, IF($F$1=2, IF($H$1=2, Data!M144, NA()), NA()), NA()), NA())","v":-0.69896999999999998},{"$f":"IF($A$122 = TRUE, IF($A$126=TRUE, IF($F$1=2, IF($H$1=1, Data!N144, NA()), NA()),NA()), NA())","v":{"$error":"#N/A"}},{"$f":"IF($A$126=TRUE, IF($A$122= TRUE, IF($H$1=2, IF($F$1 = 1, Data!O144, NA()), NA()), NA()), NA())","v":{"$error":"#N/A"}},{"$f":"IF($A$126=TRUE, IF($A$122= TRUE, IF($H$1=2, IF($F$1 = 1, Data!P144, NA()), NA()), NA()), NA())","v":{"$error":"#N/A"}},{"$f":"IF($A$126 = TRUE, IF($A$122=TRUE, IF($H$1=1, IF($F$1 = 1, Data!Q144, NA()), NA()), NA()), NA())","v":{"$error":"#N/A"}},{"$f":"IF($A$126 = TRUE, IF($A$122=TRUE, IF($H$1=1, IF($F$1 = 1, Data!R144, NA()), NA()), NA()), NA())","v":{"$error":"#N/A"}},{"$f":"IF($A$122=TRUE, IF($A$126=TRUE, IF($F$1=1, IF($H$1=2, Data!S144, NA()), NA()), NA()), NA())","v":{"$error":"#N/A"}},{"$f":"IF($A$122 = TRUE, IF($A$126=TRUE, IF($F$1=1, IF($H$1=1, Data!T144, NA()), NA()),NA()), NA())","v":{"$error":"#N/A"}}]
[null,{"$f":"Data!B186","v":"Chemical Oxidation"},{"$f":"Data!C145","v":"Peroxides / Fenton's"},{"$f":"Data!E145","v":0},{"$f":"Data!H145","v":0},{"$f":"IF($A$126=TRUE, IF($A$122=TRUE, IF($H$1=2, IF($F$1 = 2, Data!I145, NA()), NA()), NA()), NA())","v":10.199999999999999},{"$f":"IF($A$126=TRUE, IF($A$122=TRUE, IF($H$1=2, IF($F$1 = 2, Data!J145, NA()), NA()), NA()), NA())","v":2.11},{"$f":"IF($A$126=TRUE, IF($A$122=TRUE, IF($H$1=1, IF($F$1 = 2, Data!K145, NA()), NA()), NA()), NA())","v":{"$error":"#N/A"}},{"$f":"IF($A$126=TRUE, IF($A$122=TRUE, IF($H$1=1, IF($F$1 = 2, Data!L145, NA()), NA()), NA()), NA())","v":{"$error":"#N/A"}},{"$f":"IF($A$122=TRUE, IF($A$126=TRUE, IF($F$1=2, IF($H$1=2, Data!M145, NA()), NA()), NA()), NA())","v":0.68431770000000003},{"$f":"IF($A$122 = TRUE, IF($A$126=TRUE, IF($F$1=2, IF($H$1=1, Data!N145, NA()), NA()),NA()), NA())","v":{"$error":"#N/A"}},{"$f":"IF($A$126=TRUE, IF($A$122= TRUE, IF($H$1=2, IF($F$1 = 1, Data!O145, NA()), NA()), NA()), NA())","v":{"$error":"#N/A"}},{"$f":"IF($A$126=TRUE, IF($A$122= TRUE, IF($H$1=2, IF($F$1 = 1, Data!P145, NA()), NA()), NA()), NA())","v":{"$error":"#N/A"}},{"$f":"IF($A$126 = TRUE, IF($A$122=TRUE, IF($H$1=1, IF($F$1 = 1, Data!Q145, NA()), NA()), NA()), NA())","v":{"$error":"#N/A"}},{"$f":"IF($A$126 = TRUE, IF($A$122=TRUE, IF($H$1=1, IF($F$1 = 1, Data!R145, NA()), NA()), NA()), NA())","v":{"$error":"#N/A"}},{"$f":"IF($A$122=TRUE, IF($A$126=TRUE, IF($F$1=1, IF($H$1=2, Data!S145, NA()), NA()), NA()), NA())","v":{"$error":"#N/A"}},{"$f":"IF($A$122 = TRUE, IF($A$126=TRUE, IF($F$1=1, IF($H$1=1, Data!T145, NA()), NA()),NA()), NA())","v":{"$error":"#N/A"}}]
[null,{"$f":"Data!B187","v":"Chemical Oxidation"},{"$f":"Data!C146","v":"Peroxides / Fenton's"},{"$f":"Data!E146","v":0},{"$f":"Data!H146","v":"Fine-grained"},{"$f":"IF($A$126=TRUE, IF($A$122=TRUE, IF($H$1=2, IF($F$1 = 2, Data!I146, NA()), NA()), NA()), NA())","v":0.25585269999999999},{"$f":"IF($A$126=TRUE, IF($A$122=TRUE, IF($H$1=2, IF($F$1 = 2, Data!J146, NA()), NA()), NA()), NA())","v":0.2939388},{"$f":"IF($A$126=TRUE, IF($A$122=TRUE, IF($H$1=1, IF($F$1 = 2, Data!K146, NA()), NA()), NA()), NA())","v":{"$error":"#N/A"}},{"$f":"IF($A$126=TRUE, IF($A$122=TRUE, IF($H$1=1, IF($F$1 = 2, Data!L146, NA()), NA()), NA()), NA())","v":{"$error":"#N/A"}},{"$f":"IF($A$122=TRUE, IF($A$126=TRUE, IF($F$1=2, IF($H$1=2, Data!M146, NA()), NA()), NA()), NA())","v":-6.0266899999999998E-2},{"$f":"IF($A$122 = TRUE, IF($A$126=TRUE, IF($F$1=2, IF($H$1=1, Data!N146, NA()), NA()),NA()), NA())","v":{"$error":"#N/A"}},{"$f":"IF($A$126=TRUE, IF($A$122= TRUE, IF($H$1=2, IF($F$1 = 1, Data!O146, NA()), NA()), NA()), NA())","v":{"$error":"#N/A"}},{"$f":"IF($A$126=TRUE, IF($A$122= TRUE, IF($H$1=2, IF($F$1 = 1, Data!P146, NA()), NA()), NA()), NA())","v":{"$error":"#N/A"}},{"$f":"IF($A$126 = TRUE, IF($A$122=TRUE, IF($H$1=1, IF($F$1 = 1, Data!Q146, NA()), NA()), NA()), NA())","v":{"$error":"#N/A"}},{"$f":"IF($A$126 = TRUE, IF($A$122=TRUE, IF($H$1=1, IF($F$1 = 1, Data!R146, NA()), NA()), NA()), NA())","v":{"$error":"#N/A"}},{"$f":"IF($A$122=TRUE, IF($A$126=TRUE, IF($F$1=1, IF($H$1=2, Data!S146, NA()), NA()), NA()), NA())","v":{"$error":"#N/A"}},{"$f":"IF($A$122 = TRUE, IF($A$126=TRUE, IF($F$1=1, IF($H$1=1, Data!T146, NA()), NA()),NA()), NA())","v":{"$error":"#N/A"}}]
[null,{"$f":"Data!B189","v":"Chemical Oxidation"},{"$f":"Data!C147","v":"Peroxides / Fenton's"},{"$f":"Data!E147","v":"Full"},{"$f":"Data!H147","v":"Coarse-grained"},{"$f":"IF($A$126=TRUE, IF($A$122=TRUE, IF($H$1=2, IF($F$1 = 2, Data!I147, NA()), NA()), NA()), NA())","v":0.96541600000000005},{"$f":"IF($A$126=TRUE, IF($A$122=TRUE, IF($H$1=2, IF($F$1 = 2, Data!J147, NA()), NA()), NA()), NA())","v":0.1295511},{"$f":"IF($A$126=TRUE, IF($A$122=TRUE, IF($H$1=1, IF($F$1 = 2, Data!K147, NA()), NA()), NA()), NA())","v":{"$error":"#N/A"}},{"$f":"IF($A$126=TRUE, IF($A$122=TRUE, IF($H$1=1, IF($F$1 = 2, Data!L147, NA()), NA()), NA()), NA())","v":{"$error":"#N/A"}},{"$f":"IF($A$122=TRUE, IF($A$126=TRUE, IF($F$1=2, IF($H$1=2, Data!M147, NA()), NA()), NA()), NA())","v":0.87227330000000003},{"$f":"IF($A$122 = TRUE, IF($A$126=TRUE, IF($F$1=2, IF($H$1=1, Data!N147, NA()), NA()),NA()), NA())","v":{"$error":"#N/A"}},{"$f":"IF($A$126=TRUE, IF($A$122= TRUE, IF($H$1=2, IF($F$1 = 1, Data!O147, NA()), NA()), NA()), NA())","v":{"$error":"#N/A"}},{"$f":"IF($A$126=TRUE, IF($A$122= TRUE, IF($H$1=2, IF($F$1 = 1, Data!P147, NA()), NA()), NA()), NA())","v":{"$error":"#N/A"}},{"$f":"IF($A$126 = TRUE, IF($A$122=TRUE, IF($H$1=1, IF($F$1 = 1, Data!Q147, NA()), NA()), NA()), NA())","v":{"$error":"#N/A"}},{"$f":"IF($A$126 = TRUE, IF($A$122=TRUE, IF($H$1=1, IF($F$1 = 1, Data!R147, NA()), NA()), NA()), NA())","v":{"$error":"#N/A"}},{"$f":"IF($A$122=TRUE, IF($A$126=TRUE, IF($F$1=1, IF($H$1=2, Data!S147, NA()), NA()), NA()), NA())","v":{"$error":"#N/A"}},{"$f":"IF($A$122 = TRUE, IF($A$126=TRUE, IF($F$1=1, IF($H$1=1, Data!T147, NA()), NA()),NA()), NA())","v":{"$error":"#N/A"}}]
[null,{"$f":"Data!B129","v":"Chemical Oxidation"},{"$f":"Data!C148","v":"Permanganates"},{"$f":"Data!E148","v":"Full"},{"$f":"Data!H148","v":"Fine-grained"},{"$f":"IF($A$124=TRUE, IF($A$122=TRUE, IF($H$1=2, IF($F$1 = 2, Data!I148, NA()), NA()), NA()), NA())","v":1.0876243000000001},{"$f":"IF($A$124=TRUE, IF($A$122=TRUE, IF($H$1=2, IF($F$1 = 2, Data!J148, NA()), NA()), NA()), NA())","v":1.5356399999999999E-2},{"$f":"IF($A$124=TRUE, IF($A$122=TRUE, IF($H$1=1, IF($F$1 = 2, Data!K148, NA()), NA()), NA()), NA())","v":{"$error":"#N/A"}},{"$f":"IF($A$124=TRUE, IF($A$122=TRUE, IF($H$1=1, IF($F$1 = 2, Data!L148, NA()), NA()), NA()), NA())","v":{"$error":"#N/A"}},{"$f":"IF($A$122=TRUE, IF($A$124=TRUE, IF($F$1=2, IF($H$1=2, Data!M148, NA()), NA()), NA()), NA())","v":1.8501892},{"$f":"IF($A$122 = TRUE, IF($A$124=TRUE, IF($F$1=2, IF($H$1=1, Data!N148, NA()), NA()),NA()), NA())","v":{"$error":"#N/A"}},{"$f":"IF($A$124=TRUE, IF($A$122= TRUE, IF($H$1=2, IF($F$1 = 1, Data!O148, NA()), NA()), NA()), NA())","v":{"$error":"#N/A"}},{"$f":"IF($A$124=TRUE, IF($A$122= TRUE, IF($H$1=2, IF($F$1 = 1, Data!P148, NA()), NA()), NA()), NA())","v":{"$error":"#N/A"}},{"$f":"IF($A$124 = TRUE, IF($A$122=TRUE, IF($H$1=1, IF($F$1 = 1, Data!Q148, NA()), NA()), NA()), NA())","v":{"$error":"#N/A"}},{"$f":"IF($A$124 = TRUE, IF($A$122=TRUE, IF($H$1=1, IF($F$1 = 1, Data!R148, NA()), NA()), NA()), NA())","v":{"$error":"#N/A"}},{"$f":"IF($A$122=TRUE, IF($A$124=TRUE, IF($F$1=1, IF($H$1=2, Data!S148, NA()), NA()), NA()), NA())","v":{"$error":"#N/A"}},{"$f":"IF($A$122 = TRUE, IF($A$124=TRUE, IF($F$1=1, IF($H$1=1, Data!T148, NA()), NA()),NA()), NA())","v":{"$error":"#N/A"}}]
[null,{"$f":"Data!B130","v":"Chemical Oxidation"},{"$f":"Data!C149","v":"Permanganates"},{"$f":"Data!E149","v":"Full"},{"$f":"Data!H149","v":"Coarse-grained"},{"$f":"IF($A$124=TRUE, IF($A$122=TRUE, IF($H$1=2, IF($F$1 = 2, Data!I149, NA()), NA()), NA()), NA())","v":0.62549999999999994},{"$f":"IF($A$124=TRUE, IF($A$122=TRUE, IF($H$1=2, IF($F$1 = 2, Data!J149, NA()), NA()), NA()), NA())","v":3.5000000000000003E-2},{"$f":"IF($A$124=TRUE, IF($A$122=TRUE, IF($H$1=1, IF($F$1 = 2, Data!K149, NA()), NA()), NA()), NA())","v":{"$error":"#N/A"}},{"$f":"IF($A$124=TRUE, IF($A$122=TRUE, IF($H$1=1, IF($F$1 = 2, Data!L149, NA()), NA()), NA()), NA())","v":{"$error":"#N/A"}},{"$f":"IF($A$122=TRUE, IF($A$124=TRUE, IF($F$1=2, IF($H$1=2, Data!M149, NA()), NA()), NA()), NA())","v":1.2521593},{"$f":"IF($A$122 = TRUE, IF($A$124=TRUE, IF($F$1=2, IF($H$1=1, Data!N149, NA()), NA()),NA()), NA())","v":{"$error":"#N/A"}},{"$f":"IF($A$124=TRUE, IF($A$122= TRUE, IF($H$1=2, IF($F$1 = 1, Data!O149, NA()), NA()), NA()), NA())","v":{"$error":"#N/A"}},{"$f":"IF($A$124=TRUE, IF($A$122= TRUE, IF($H$1=2, IF($F$1 = 1, Data!P149, NA()), NA()), NA()), NA())","v":{"$error":"#N/A"}},{"$f":"IF($A$124 = TRUE, IF($A$122=TRUE, IF($H$1=1, IF($F$1 = 1, Data!Q149, NA()), NA()), NA()), NA())","v":{"$error":"#N/A"}},{"$f":"IF($A$124 = TRUE, IF($A$122=TRUE, IF($H$1=1, IF($F$1 = 1, Data!R149, NA()), NA()), NA()), NA())","v":{"$error":"#N/A"}},{"$f":"IF($A$122=TRUE, IF($A$124=TRUE, IF($F$1=1, IF($H$1=2, Data!S149, NA()), NA()), NA()), NA())","v":{"$error":"#N/A"}},{"$f":"IF($A$122 = TRUE, IF($A$124=TRUE, IF($F$1=1, IF($H$1=1, Data!T149, NA()), NA()),NA()), NA())","v":{"$error":"#N/A"}}]
[null,{"$f":"Data!B131","v":"Chemical Oxidation"},{"$f":"Data!C150","v":"Permanganates"},{"$f":"Data!E150","v":"Full"},{"$f":"Data!H150","v":"Fine-grained"},{"$f":"IF($A$124=TRUE, IF($A$122=TRUE, IF($H$1=2, IF($F$1 = 2, Data!I150, NA()), NA()), NA()), NA())","v":2.7731279999999998},{"$f":"IF($A$124=TRUE, IF($A$122=TRUE, IF($H$1=2, IF($F$1 = 2, Data!J150, NA()), NA()), NA()), NA())","v":0.77833070000000004},{"$f":"IF($A$124=TRUE, IF($A$122=TRUE, IF($H$1=1, IF($F$1 = 2, Data!K150, NA()), NA()), NA()), NA())","v":{"$error":"#N/A"}},{"$f":"IF($A$124=TRUE, IF($A$122=TRUE, IF($H$1=1, IF($F$1 = 2, Data!L150, NA()), NA()), NA()), NA())","v":{"$error":"#N/A"}},{"$f":"IF($A$122=TRUE, IF($A$124=TRUE, IF($F$1=2, IF($H$1=2, Data!M150, NA()), NA()), NA()), NA())","v":0.55180580000000001},{"$f":"IF($A$122 = TRUE, IF($A$124=TRUE, IF($F$1=2, IF($H$1=1, Data!N150, NA()), NA()),NA()), NA())","v":{"$error":"#N/A"}},{"$f":"IF($A$124=TRUE, IF($A$122= TRUE, IF($H$1=2, IF($F$1 = 1, Data!O150, NA()), NA()), NA()), NA())","v":{"$error":"#N/A"}},{"$f":"IF($A$124=TRUE, IF($A$122= TRUE, IF($H$1=2, IF($F$1 = 1, Data!P150, NA()), NA()), NA()), NA())","v":{"$error":"#N/A"}},{"$f":"IF($A$124 = TRUE, IF($A$122=TRUE, IF($H$1=1, IF($F$1 = 1, Data!Q150, NA()), NA()), NA()), NA())","v":{"$error":"#N/A"}},{"$f":"IF($A$124 = TRUE, IF($A$122=TRUE, IF($H$1=1, IF($F$1 = 1, Data!R150, NA()), NA()), NA()), NA())","v":{"$error":"#N/A"}},{"$f":"IF($A$122=TRUE, IF($A$124=TRUE, IF($F$1=1, IF($H$1=2, Data!S150, NA()), NA()), NA()), NA())","v":{"$error":"#N/A"}},{"$f":"IF($A$122 = TRUE, IF($A$124=TRUE, IF($F$1=1, IF($H$1=1, Data!T150, NA()), NA()),NA()), NA())","v":{"$error":"#N/A"}}]
[null,{"$f":"Data!B139","v":"Chemical Oxidation"},{"$f":"Data!C151","v":"Permanganates"},{"$f":"Data!E151","v":"Pilot"},{"$f":"Data!H151","v":"Coarse-grained"},{"$f":"IF($A$124=TRUE, IF($A$122=TRUE, IF($H$1=2, IF($F$1 = 2, Data!I151, NA()), NA()), NA()), NA())","v":143.56399999999999},{"$f":"IF($A$124=TRUE, IF($A$122=TRUE, IF($H$1=2, IF($F$1 = 2, Data!J151, NA()), NA()), NA()), NA())","v":0.92155140000000002},{"$f":"IF($A$124=TRUE, IF($A$122=TRUE, IF($H$1=1, IF($F$1 = 2, Data!K151, NA()), NA()), NA()), NA())","v":{"$error":"#N/A"}},{"$f":"IF($A$124=TRUE, IF($A$122=TRUE, IF($H$1=1, IF($F$1 = 2, Data!L151, NA()), NA()), NA()), NA())","v":{"$error":"#N/A"}},{"$f":"IF($A$122=TRUE, IF($A$124=TRUE, IF($F$1=2, IF($H$1=2, Data!M151, NA()), NA()), NA()), NA())","v":2.192526},{"$f":"IF($A$122 = TRUE, IF($A$124=TRUE, IF($F$1=2, IF($H$1=1, Data!N151, NA()), NA()),NA()), NA())","v":{"$error":"#N/A"}},{"$f":"IF($A$124=TRUE, IF($A$122= TRUE, IF($H$1=2, IF($F$1 = 1, Data!O151, NA()), NA()), NA()), NA())","v":{"$error":"#N/A"}},{"$f":"IF($A$124=TRUE, IF($A$122= TRUE, IF($H$1=2, IF($F$1 = 1, Data!P151, NA()), NA()), NA()), NA())","v":{"$error":"#N/A"}},{"$f":"IF($A$124 = TRUE, IF($A$122=TRUE, IF($H$1=1, IF($F$1 = 1, Data!Q151, NA()), NA()), NA()), NA())","v":{"$error":"#N/A"}},{"$f":"IF($A$124 = TRUE, IF($A$122=TRUE, IF($H$1=1, IF($F$1 = 1, Data!R151, NA()), NA()), NA()), NA())","v":{"$error":"#N/A"}},{"$f":"IF($A$122=TRUE, IF($A$124=TRUE, IF($F$1=1, IF($H$1=2, Data!S151, NA()), NA()), NA()), NA())","v":{"$error":"#N/A"}},{"$f":"IF($A$122 = TRUE, IF($A$124=TRUE, IF($F$1=1, IF($H$1=1, Data!T151, NA()), NA()),NA()), NA())","v":{"$error":"#N/A"}}]
[null,{"$f":"Data!B140","v":"Chemical Oxidation"},{"$f":"Data!C152","v":"Permanganates"},{"$f":"Data!E152","v":"Full"},{"$f":"Data!H152","v":"Fine-grained"},{"$f":"IF($A$124=TRUE, IF($A$122=TRUE, IF($H$1=2, IF($F$1 = 2, Data!I152, NA()), NA()), NA()), NA())","v":319},{"$f":"IF($A$124=TRUE, IF($A$122=TRUE, IF($H$1=2, IF($F$1 = 2, Data!J152, NA()), NA()), NA()), NA())","v":3.7},{"$f":"IF($A$124=TRUE, IF($A$122=TRUE, IF($H$1=1, IF($F$1 = 2, Data!K152, NA()), NA()), NA()), NA())","v":{"$error":"#N/A"}},{"$f":"IF($A$124=TRUE, IF($A$122=TRUE, IF($H$1=1, IF($F$1 = 2, Data!L152, NA()), NA()), NA()), NA())","v":{"$error":"#N/A"}},{"$f":"IF($A$122=TRUE, IF($A$124=TRUE, IF($F$1=2, IF($H$1=2, Data!M152, NA()), NA()), NA()), NA())","v":1.935589},{"$f":"IF($A$122 = TRUE, IF($A$124=TRUE, IF($F$1=2, IF($H$1=1, Data!N152, NA()), NA()),NA()), NA())","v":{"$error":"#N/A"}},{"$f":"IF($A$124=TRUE, IF($A$122= TRUE, IF($H$1=2, IF($F$1 = 1, Data!O152, NA()), NA()), NA()), NA())","v":{"$error":"#N/A"}},{"$f":"IF($A$124=TRUE, IF($A$122= TRUE, IF($H$1=2, IF($F$1 = 1, Data!P152, NA()), NA()), NA()), NA())","v":{"$error":"#N/A"}},{"$f":"IF($A$124 = TRUE, IF($A$122=TRUE, IF($H$1=1, IF($F$1 = 1, Data!Q152, NA()), NA()), NA()), NA())","v":{"$error":"#N/A"}},{"$f":"IF($A$124 = TRUE, IF($A$122=TRUE, IF($H$1=1, IF($F$1 = 1, Data!R152, NA()), NA()), NA()), NA())","v":{"$error":"#N/A"}},{"$f":"IF($A$122=TRUE, IF($A$124=TRUE, IF($F$1=1, IF($H$1=2, Data!S152, NA()), NA()), NA()), NA())","v":{"$error":"#N/A"}},{"$f":"IF($A$122 = TRUE, IF($A$124=TRUE, IF($F$1=1, IF($H$1=1, Data!T152, NA()), NA()),NA()), NA())","v":{"$error":"#N/A"}}]
[null,{"$f":"Data!B141","v":"Chemical Oxidation"},{"$f":"Data!C153","v":"Permanganates"},{"$f":"Data!E153","v":"Pilot"},{"$f":"Data!H153","v":"Fine-grained"},{"$f":"IF($A$124=TRUE, IF($A$122=TRUE, IF($H$1=2, IF($F$1 = 2, Data!I153, NA()), NA()), NA()), NA())","v":919},{"$f":"IF($A$124=TRUE, IF($A$122=TRUE, IF($H$1=2, IF($F$1 = 2, Data!J153, NA()), NA()), NA()), NA())","v":1.1211096},{"$f":"IF($A$124=TRUE, IF($A$122=TRUE, IF($H$1=1, IF($F$1 = 2, Data!K153, NA()), NA()), NA()), NA())","v":{"$error":"#N/A"}},{"$f":"IF($A$124=TRUE, IF($A$122=TRUE, IF($H$1=1, IF($F$1 = 2, Data!L153, NA()), NA()), NA()), NA())","v":{"$error":"#N/A"}},{"$f":"IF($A$122=TRUE, IF($A$124=TRUE, IF($F$1=2, IF($H$1=2, Data!M153, NA()), NA()), NA()), NA())","v":2.9136674},{"$f":"IF($A$122 = TRUE, IF($A$124=TRUE, IF($F$1=2, IF($H$1=1, Data!N153, NA()), NA()),NA()), NA())","v":{"$error":"#N/A"}},{"$f":"IF($A$124=TRUE, IF($A$122= TRUE, IF($H$1=2, IF($F$1 = 1, Data!O153, NA()), NA()), NA()), NA())","v":{"$error":"#N/A"}},{"$f":"IF($A$124=TRUE, IF($A$122= TRUE, IF($H$1=2, IF($F$1 = 1, Data!P153, NA()), NA()), NA()), NA())","v":{"$error":"#N/A"}},{"$f":"IF($A$124 = TRUE, IF($A$122=TRUE, IF($H$1=1, IF($F$1 = 1, Data!Q153, NA()), NA()), NA()), NA())","v":{"$error":"#N/A"}},{"$f":"IF($A$124 = TRUE, IF($A$122=TRUE, IF($H$1=1, IF($F$1 = 1, Data!R153, NA()), NA()), NA()), NA())","v":{"$error":"#N/A"}},{"$f":"IF($A$122=TRUE, IF($A$124=TRUE, IF($F$1=1, IF($H$1=2, Data!S153, NA()), NA()), NA()), NA())","v":{"$error":"#N/A"}},{"$f":"IF($A$122 = TRUE, IF($A$124=TRUE, IF($F$1=1, IF($H$1=1, Data!T153, NA()), NA()),NA()), NA())","v":{"$error":"#N/A"}}]
[null,{"$f":"Data!B143","v":"Chemical Oxidation"},{"$f":"Data!C154","v":"Permanganates"},{"$f":"Data!E154","v":"Pilot"},{"$f":"Data!H154","v":"Fine-grained"},{"$f":"IF($A$124=TRUE, IF($A$122=TRUE, IF($H$1=2, IF($F$1 = 2, Data!I154, NA()), NA()), NA()), NA())","v":0.8445589},{"$f":"IF($A$124=TRUE, IF($A$122=TRUE, IF($H$1=2, IF($F$1 = 2, Data!J154, NA()), NA()), NA()), NA())","v":0.40781800000000001},{"$f":"IF($A$124=TRUE, IF($A$122=TRUE, IF($H$1=1, IF($F$1 = 2, Data!K154, NA()), NA()), NA()), NA())","v":{"$error":"#N/A"}},{"$f":"IF($A$124=TRUE, IF($A$122=TRUE, IF($H$1=1, IF($F$1 = 2, Data!L154, NA()), NA()), NA()), NA())","v":{"$error":"#N/A"}},{"$f":"IF($A$122=TRUE, IF($A$124=TRUE, IF($F$1=2, IF($H$1=2, Data!M154, NA()), NA()), NA()), NA())","v":0.31616359999999999},{"$f":"IF($A$122 = TRUE, IF($A$124=TRUE, IF($F$1=2, IF($H$1=1, Data!N154, NA()), NA()),NA()), NA())","v":{"$error":"#N/A"}},{"$f":"IF($A$124=TRUE, IF($A$122= TRUE, IF($H$1=2, IF($F$1 = 1, Data!O154, NA()), NA()), NA()), NA())","v":{"$error":"#N/A"}},{"$f":"IF($A$124=TRUE, IF($A$122= TRUE, IF($H$1=2, IF($F$1 = 1, Data!P154, NA()), NA()), NA()), NA())","v":{"$error":"#N/A"}},{"$f":"IF($A$124 = TRUE, IF($A$122=TRUE, IF($H$1=1, IF($F$1 = 1, Data!Q154, NA()), NA()), NA()), NA())","v":{"$error":"#N/A"}},{"$f":"IF($A$124 = TRUE, IF($A$122=TRUE, IF($H$1=1, IF($F$1 = 1, Data!R154, NA()), NA()), NA()), NA())","v":{"$error":"#N/A"}},{"$f":"IF($A$122=TRUE, IF($A$124=TRUE, IF($F$1=1, IF($H$1=2, Data!S154, NA()), NA()), NA()), NA())","v":{"$error":"#N/A"}},{"$f":"IF($A$122 = TRUE, IF($A$124=TRUE, IF($F$1=1, IF($H$1=1, Data!T154, NA()), NA()),NA()), NA())","v":{"$error":"#N/A"}}]
[null,{"$f":"Data!B144","v":"Chemical Oxidation"},{"$f":"Data!C155","v":"Permanganates"},{"$f":"Data!E155","v":"Full"},{"$f":"Data!H155","v":"Fine-grained"},{"$f":"IF($A$124=TRUE, IF($A$122=TRUE, IF($H$1=2, IF($F$1 = 2, Data!I155, NA()), NA()), NA()), NA())","v":0.26775260000000001},{"$f":"IF($A$124=TRUE, IF($A$122=TRUE, IF($H$1=2, IF($F$1 = 2, Data!J155, NA()), NA()), NA()), NA())","v":4.4121000000000004E-3},{"$f":"IF($A$124=TRUE, IF($A$122=TRUE, IF($H$1=1, IF($F$1 = 2, Data!K155, NA()), NA()), NA()), NA())","v":{"$error":"#N/A"}},{"$f":"IF($A$124=TRUE, IF($A$122=TRUE, IF($H$1=1, IF($F$1 = 2, Data!L155, NA()), NA()), NA()), NA())","v":{"$error":"#N/A"}},{"$f":"IF($A$122=TRUE, IF($A$124=TRUE, IF($F$1=2, IF($H$1=2, Data!M155, NA()), NA()), NA()), NA())","v":1.7830908999999999},{"$f":"IF($A$122 = TRUE, IF($A$124=TRUE, IF($F$1=2, IF($H$1=1, Data!N155, NA()), NA()),NA()), NA())","v":{"$error":"#N/A"}},{"$f":"IF($A$124=TRUE, IF($A$122= TRUE, IF($H$1=2, IF($F$1 = 1, Data!O155, NA()), NA()), NA()), NA())","v":{"$error":"#N/A"}},{"$f":"IF($A$124=TRUE, IF($A$122= TRUE, IF($H$1=2, IF($F$1 = 1, Data!P155, NA()), NA()), NA()), NA())","v":{"$error":"#N/A"}},{"$f":"IF($A$124 = TRUE, IF($A$122=TRUE, IF($H$1=1, IF($F$1 = 1, Data!Q155, NA()), NA()), NA()), NA())","v":{"$error":"#N/A"}},{"$f":"IF($A$124 = TRUE, IF($A$122=TRUE, IF($H$1=1, IF($F$1 = 1, Data!R155, NA()), NA()), NA()), NA())","v":{"$error":"#N/A"}},{"$f":"IF($A$122=TRUE, IF($A$124=TRUE, IF($F$1=1, IF($H$1=2, Data!S155, NA()), NA()), NA()), NA())","v":{"$error":"#N/A"}},{"$f":"IF($A$122 = TRUE, IF($A$124=TRUE, IF($F$1=1, IF($H$1=1, Data!T155, NA()), NA()),NA()), NA())","v":{"$error":"#N/A"}}]
[null,{"$f":"Data!B146","v":"Chemical Oxidation"},{"$f":"Data!C156","v":"Permanganates"},{"$f":"Data!E156","v":"Pilot"},{"$f":"Data!H156","v":"Coarse-grained"},{"$f":"IF($A$124=TRUE, IF($A$122=TRUE, IF($H$1=2, IF($F$1 = 2, Data!I156, NA()), NA()), NA()), NA())","v":17.1238381},{"$f":"IF($A$124=TRUE, IF($A$122=TRUE, IF($H$1=2, IF($F$1 = 2, Data!J156, NA()), NA()), NA()), NA())","v":37.320241299999999},{"$f":"IF($A$124=TRUE, IF($A$122=TRUE, IF($H$1=1, IF($F$1 = 2, Data!K156, NA()), NA()), NA()), NA())","v":{"$error":"#N/A"}},{"$f":"IF($A$124=TRUE, IF($A$122=TRUE, IF($H$1=1, IF($F$1 = 2, Data!L156, NA()), NA()), NA()), NA())","v":{"$error":"#N/A"}},{"$f":"IF($A$122=TRUE, IF($A$124=TRUE, IF($F$1=2, IF($H$1=2, Data!M156, NA()), NA()), NA()), NA())","v":-0.33834330000000001},{"$f":"IF($A$122 = TRUE, IF($A$124=TRUE, IF($F$1=2, IF($H$1=1, Data!N156, NA()), NA()),NA()), NA())","v":{"$error":"#N/A"}},{"$f":"IF($A$124=TRUE, IF($A$122= TRUE, IF($H$1=2, IF($F$1 = 1, Data!O156, NA()), NA()), NA()), NA())","v":{"$error":"#N/A"}},{"$f":"IF($A$124=TRUE, IF($A$122= TRUE, IF($H$1=2, IF($F$1 = 1, Data!P156, NA()), NA()), NA()), NA())","v":{"$error":"#N/A"}},{"$f":"IF($A$124 = TRUE, IF($A$122=TRUE, IF($H$1=1, IF($F$1 = 1, Data!Q156, NA()), NA()), NA()), NA())","v":{"$error":"#N/A"}},{"$f":"IF($A$124 = TRUE, IF($A$122=TRUE, IF($H$1=1, IF($F$1 = 1, Data!R156, NA()), NA()), NA()), NA())","v":{"$error":"#N/A"}},{"$f":"IF($A$122=TRUE, IF($A$124=TRUE, IF($F$1=1, IF($H$1=2, Data!S156, NA()), NA()), NA()), NA())","v":{"$error":"#N/A"}},{"$f":"IF($A$122 = TRUE, IF($A$124=TRUE, IF($F$1=1, IF($H$1=1, Data!T156, NA()), NA()),NA()), NA())","v":{"$error":"#N/A"}}]
[null,{"$f":"Data!B147","v":"Chemical Oxidation"},{"$f":"Data!C157","v":"Permanganates"},{"$f":"Data!E157","v":"Full"},{"$f":"Data!H157","v":"Coarse-grained"},{"$f":"IF($A$124=TRUE, IF($A$122=TRUE, IF($H$1=2, IF($F$1 = 2, Data!I157, NA()), NA()), NA()), NA())","v":7.6700165},{"$f":"IF($A$124=TRUE, IF($A$122=TRUE, IF($H$1=2, IF($F$1 = 2, Data!J157, NA()), NA()), NA()), NA())","v":1.1237199999999999E-2},{"$f":"IF($A$124=TRUE, IF($A$122=TRUE, IF($H$1=1, IF($F$1 = 2, Data!K157, NA()), NA()), NA()), NA())","v":{"$error":"#N/A"}},{"$f":"IF($A$124=TRUE, IF($A$122=TRUE, IF($H$1=1, IF($F$1 = 2, Data!L157, NA()), NA()), NA()), NA())","v":{"$error":"#N/A"}},{"$f":"IF($A$122=TRUE, IF($A$124=TRUE, IF($F$1=2, IF($H$1=2, Data!M157, NA()), NA()), NA()), NA())","v":2.8341376},{"$f":"IF($A$122 = TRUE, IF($A$124=TRUE, IF($F$1=2, IF($H$1=1, Data!N157, NA()), NA()),NA()), NA())","v":{"$error":"#N/A"}},{"$f":"IF($A$124=TRUE, IF($A$122= TRUE, IF($H$1=2, IF($F$1 = 1, Data!O157, NA()), NA()), NA()), NA())","v":{"$error":"#N/A"}},{"$f":"IF($A$124=TRUE, IF($A$122= TRUE, IF($H$1=2, IF($F$1 = 1, Data!P157, NA()), NA()), NA()), NA())","v":{"$error":"#N/A"}},{"$f":"IF($A$124 = TRUE, IF($A$122=TRUE, IF($H$1=1, IF($F$1 = 1, Data!Q157, NA()), NA()), NA()), NA())","v":{"$error":"#N/A"}},{"$f":"IF($A$124 = TRUE, IF($A$122=TRUE, IF($H$1=1, IF($F$1 = 1, Data!R157, NA()), NA()), NA()), NA())","v":{"$error":"#N/A"}},{"$f":"IF($A$122=TRUE, IF($A$124=TRUE, IF($F$1=1, IF($H$1=2, Data!S157, NA()), NA()), NA()), NA())","v":{"$error":"#N/A"}},{"$f":"IF($A$122 = TRUE, IF($A$124=TRUE, IF($F$1=1, IF($H$1=1, Data!T157, NA()), NA()),NA()), NA())","v":{"$error":"#N/A"}}]
[null,{"$f":"Data!B148","v":"Chemical Oxidation"},{"$f":"Data!C158","v":"Permanganates"},{"$f":"Data!E158","v":"Full"},{"$f":"Data!H158","v":"Coarse-grained"},{"$f":"IF($A$124=TRUE, IF($A$122=TRUE, IF($H$1=2, IF($F$1 = 2, Data!I158, NA()), NA()), NA()), NA())","v":1.9952101},{"$f":"IF($A$124=TRUE, IF($A$122=TRUE, IF($H$1=2, IF($F$1 = 2, Data!J158, NA()), NA()), NA()), NA())","v":1.4187399999999999E-2},{"$f":"IF($A$124=TRUE, IF($A$122=TRUE, IF($H$1=1, IF($F$1 = 2, Data!K158, NA()), NA()), NA()), NA())","v":{"$error":"#N/A"}},{"$f":"IF($A$124=TRUE, IF($A$122=TRUE, IF($H$1=1, IF($F$1 = 2, Data!L158, NA()), NA()), NA()), NA())","v":{"$error":"#N/A"}},{"$f":"IF($A$122=TRUE, IF($A$124=TRUE, IF($F$1=2, IF($H$1=2, Data!M158, NA()), NA()), NA()), NA())","v":2.1480866000000001},{"$f":"IF($A$122 = TRUE, IF($A$124=TRUE, IF($F$1=2, IF($H$1=1, Data!N158, NA()), NA()),NA()), NA())","v":{"$error":"#N/A"}},{"$f":"IF($A$124=TRUE, IF($A$122= TRUE, IF($H$1=2, IF($F$1 = 1, Data!O158, NA()), NA()), NA()), NA())","v":{"$error":"#N/A"}},{"$f":"IF($A$124=TRUE, IF($A$122= TRUE, IF($H$1=2, IF($F$1 = 1, Data!P158, NA()), NA()), NA()), NA())","v":{"$error":"#N/A"}},{"$f":"IF($A$124 = TRUE, IF($A$122=TRUE, IF($H$1=1, IF($F$1 = 1, Data!Q158, NA()), NA()), NA()), NA())","v":{"$error":"#N/A"}},{"$f":"IF($A$124 = TRUE, IF($A$122=TRUE, IF($H$1=1, IF($F$1 = 1, Data!R158, NA()), NA()), NA()), NA())","v":{"$error":"#N/A"}},{"$f":"IF($A$122=TRUE, IF($A$124=TRUE, IF($F$1=1, IF($H$1=2, Data!S158, NA()), NA()), NA()), NA())","v":{"$error":"#N/A"}},{"$f":"IF($A$122 = TRUE, IF($A$124=TRUE, IF($F$1=1, IF($H$1=1, Data!T158, NA()), NA()),NA()), NA())","v":{"$error":"#N/A"}}]
[null,{"$f":"Data!B150","v":"Chemical Oxidation"},{"$f":"Data!C159","v":"Permanganates"},{"$f":"Data!E159","v":"Full"},{"$f":"Data!H159","v":"Coarse-grained"},{"$f":"IF($A$124=TRUE, IF($A$122=TRUE, IF($H$1=2, IF($F$1 = 2, Data!I159, NA()), NA()), NA()), NA())","v":0.99},{"$f":"IF($A$124=TRUE, IF($A$122=TRUE, IF($H$1=2, IF($F$1 = 2, Data!J159, NA()), NA()), NA()), NA())","v":0.37564170000000002},{"$f":"IF($A$124=TRUE, IF($A$122=TRUE, IF($H$1=1, IF($F$1 = 2, Data!K159, NA()), NA()), NA()), NA())","v":{"$error":"#N/A"}},{"$f":"IF($A$124=TRUE, IF($A$122=TRUE, IF($H$1=1, IF($F$1 = 2, Data!L159, NA()), NA()), NA()), NA())","v":{"$error":"#N/A"}},{"$f":"IF($A$122=TRUE, IF($A$124=TRUE, IF($F$1=2, IF($H$1=2, Data!M159, NA()), NA()), NA()), NA())","v":0.4208614},{"$f":"IF($A$122 = TRUE, IF($A$124=TRUE, IF($F$1=2, IF($H$1=1, Data!N159, NA()), NA()),NA()), NA())","v":{"$error":"#N/A"}},{"$f":"IF($A$124=TRUE, IF($A$122= TRUE, IF($H$1=2, IF($F$1 = 1, Data!O159, NA()), NA()), NA()), NA())","v":{"$error":"#N/A"}},{"$f":"IF($A$124=TRUE, IF($A$122= TRUE, IF($H$1=2, IF($F$1 = 1, Data!P159, NA()), NA()), NA()), NA())","v":{"$error":"#N/A"}},{"$f":"IF($A$124 = TRUE, IF($A$122=TRUE, IF($H$1=1, IF($F$1 = 1, Data!Q159, NA()), NA()), NA()), NA())","v":{"$error":"#N/A"}},{"$f":"IF($A$124 = TRUE, IF($A$122=TRUE, IF($H$1=1, IF($F$1 = 1, Data!R159, NA()), NA()), NA()), NA())","v":{"$error":"#N/A"}},{"$f":"IF($A$122=TRUE, IF($A$124=TRUE, IF($F$1=1, IF($H$1=2, Data!S159, NA()), NA()), NA()), NA())","v":{"$error":"#N/A"}},{"$f":"IF($A$122 = TRUE, IF($A$124=TRUE, IF($F$1=1, IF($H$1=1, Data!T159, NA()), NA()),NA()), NA())","v":{"$error":"#N/A"}}]
[null,{"$f":"Data!B151","v":"Chemical Oxidation"},{"$f":"Data!C160","v":"Permanganates"},{"$f":"Data!E160","v":"Full"},{"$f":"Data!H160","v":"Fractured rock"},{"$f":"IF($A$124=TRUE, IF($A$122=TRUE, IF($H$1=2, IF($F$1 = 2, Data!I160, NA()), NA()), NA()), NA())","v":5.7800600000000001E-2},{"$f":"IF($A$124=TRUE, IF($A$122=TRUE, IF($H$1=2, IF($F$1 = 2, Data!J160, NA()), NA()), NA()), NA())","v":1.2372299999999999E-2},{"$f":"IF($A$124=TRUE, IF($A$122=TRUE, IF($H$1=1, IF($F$1 = 2, Data!K160, NA()), NA()), NA()), NA())","v":{"$error":"#N/A"}},{"$f":"IF($A$124=TRUE, IF($A$122=TRUE, IF($H$1=1, IF($F$1 = 2, Data!L160, NA()), NA()), NA()), NA())","v":{"$error":"#N/A"}},{"$f":"IF($A$122=TRUE, IF($A$124=TRUE, IF($F$1=2, IF($H$1=2, Data!M160, NA()), NA()), NA()), NA())","v":0.6694812},{"$f":"IF($A$122 = TRUE, IF($A$124=TRUE, IF($F$1=2, IF($H$1=1, Data!N160, NA()), NA()),NA()), NA())","v":{"$error":"#N/A"}},{"$f":"IF($A$124=TRUE, IF($A$122= TRUE, IF($H$1=2, IF($F$1 = 1, Data!O160, NA()), NA()), NA()), NA())","v":{"$error":"#N/A"}},{"$f":"IF($A$124=TRUE, IF($A$122= TRUE, IF($H$1=2, IF($F$1 = 1, Data!P160, NA()), NA()), NA()), NA())","v":{"$error":"#N/A"}},{"$f":"IF($A$124 = TRUE, IF($A$122=TRUE, IF($H$1=1, IF($F$1 = 1, Data!Q160, NA()), NA()), NA()), NA())","v":{"$error":"#N/A"}},{"$f":"IF($A$124 = TRUE, IF($A$122=TRUE, IF($H$1=1, IF($F$1 = 1, Data!R160, NA()), NA()), NA()), NA())","v":{"$error":"#N/A"}},{"$f":"IF($A$122=TRUE, IF($A$124=TRUE, IF($F$1=1, IF($H$1=2, Data!S160, NA()), NA()), NA()), NA())","v":{"$error":"#N/A"}},{"$f":"IF($A$122 = TRUE, IF($A$124=TRUE, IF($F$1=1, IF($H$1=1, Data!T160, NA()), NA()),NA()), NA())","v":{"$error":"#N/A"}}]
[null,{"$f":"Data!B154","v":"Chemical Oxidation"},{"$f":"Data!C161","v":"Permanganates"},{"$f":"Data!E161","v":"Pilot"},{"$f":"Data!H161","v":"Fractured rock"},{"$f":"IF($A$124=TRUE, IF($A$122=TRUE, IF($H$1=2, IF($F$1 = 2, Data!I161, NA()), NA()), NA()), NA())","v":1.7315966},{"$f":"IF($A$124=TRUE, IF($A$122=TRUE, IF($H$1=2, IF($F$1 = 2, Data!J161, NA()), NA()), NA()), NA())","v":3.5168999999999999E-3},{"$f":"IF($A$124=TRUE, IF($A$122=TRUE, IF($H$1=1, IF($F$1 = 2, Data!K161, NA()), NA()), NA()), NA())","v":{"$error":"#N/A"}},{"$f":"IF($A$124=TRUE, IF($A$122=TRUE, IF($H$1=1, IF($F$1 = 2, Data!L161, NA()), NA()), NA()), NA())","v":{"$error":"#N/A"}},{"$f":"IF($A$122=TRUE, IF($A$124=TRUE, IF($F$1=2, IF($H$1=2, Data!M161, NA()), NA()), NA()), NA())","v":2.6922893000000001},{"$f":"IF($A$122 = TRUE, IF($A$124=TRUE, IF($F$1=2, IF($H$1=1, Data!N161, NA()), NA()),NA()), NA())","v":{"$error":"#N/A"}},{"$f":"IF($A$124=TRUE, IF($A$122= TRUE, IF($H$1=2, IF($F$1 = 1, Data!O161, NA()), NA()), NA()), NA())","v":{"$error":"#N/A"}},{"$f":"IF($A$124=TRUE, IF($A$122= TRUE, IF($H$1=2, IF($F$1 = 1, Data!P161, NA()), NA()), NA()), NA())","v":{"$error":"#N/A"}},{"$f":"IF($A$124 = TRUE, IF($A$122=TRUE, IF($H$1=1, IF($F$1 = 1, Data!Q161, NA()), NA()), NA()), NA())","v":{"$error":"#N/A"}},{"$f":"IF($A$124 = TRUE, IF($A$122=TRUE, IF($H$1=1, IF($F$1 = 1, Data!R161, NA()), NA()), NA()), NA())","v":{"$error":"#N/A"}},{"$f":"IF($A$122=TRUE, IF($A$124=TRUE, IF($F$1=1, IF($H$1=2, Data!S161, NA()), NA()), NA()), NA())","v":{"$error":"#N/A"}},{"$f":"IF($A$122 = TRUE, IF($A$124=TRUE, IF($F$1=1, IF($H$1=1, Data!T161, NA()), NA()),NA()), NA())","v":{"$error":"#N/A"}}]
[null,{"$f":"Data!B157","v":"Chemical Oxidation"},{"$f":"Data!C162","v":"Permanganates"},{"$f":"Data!E162","v":"Full"},{"$f":"Data!H162","v":"Fine-grained"},{"$f":"IF($A$124=TRUE, IF($A$122=TRUE, IF($H$1=2, IF($F$1 = 2, Data!I162, NA()), NA()), NA()), NA())","v":1.18},{"$f":"IF($A$124=TRUE, IF($A$122=TRUE, IF($H$1=2, IF($F$1 = 2, Data!J162, NA()), NA()), NA()), NA())","v":3.9328700000000001E-2},{"$f":"IF($A$124=TRUE, IF($A$122=TRUE, IF($H$1=1, IF($F$1 = 2, Data!K162, NA()), NA()), NA()), NA())","v":{"$error":"#N/A"}},{"$f":"IF($A$124=TRUE, IF($A$122=TRUE, IF($H$1=1, IF($F$1 = 2, Data!L162, NA()), NA()), NA()), NA())","v":{"$error":"#N/A"}},{"$f":"IF($A$122=TRUE, IF($A$124=TRUE, IF($F$1=2, IF($H$1=2, Data!M162, NA()), NA()), NA()), NA())","v":1.4771719999999999},{"$f":"IF($A$122 = TRUE, IF($A$124=TRUE, IF($F$1=2, IF($H$1=1, Data!N162, NA()), NA()),NA()), NA())","v":{"$error":"#N/A"}},{"$f":"IF($A$124=TRUE, IF($A$122= TRUE, IF($H$1=2, IF($F$1 = 1, Data!O162, NA()), NA()), NA()), NA())","v":{"$error":"#N/A"}},{"$f":"IF($A$124=TRUE, IF($A$122= TRUE, IF($H$1=2, IF($F$1 = 1, Data!P162, NA()), NA()), NA()), NA())","v":{"$error":"#N/A"}},{"$f":"IF($A$124 = TRUE, IF($A$122=TRUE, IF($H$1=1, IF($F$1 = 1, Data!Q162, NA()), NA()), NA()), NA())","v":{"$error":"#N/A"}},{"$f":"IF($A$124 = TRUE, IF($A$122=TRUE, IF($H$1=1, IF($F$1 = 1, Data!R162, NA()), NA()), NA()), NA())","v":{"$error":"#N/A"}},{"$f":"IF($A$122=TRUE, IF($A$124=TRUE, IF($F$1=1, IF($H$1=2, Data!S162, NA()), NA()), NA()), NA())","v":{"$error":"#N/A"}},{"$f":"IF($A$122 = TRUE, IF($A$124=TRUE, IF($F$1=1, IF($H$1=1, Data!T162, NA()), NA()),NA()), NA())","v":{"$error":"#N/A"}}]
[null,{"$f":"Data!B159","v":"Chemical Oxidation"},{"$f":"Data!C163","v":"Permanganates"},{"$f":"Data!E163","v":"Full"},{"$f":"Data!H163","v":"Fine-grained"},{"$f":"IF($A$124=TRUE, IF($A$122=TRUE, IF($H$1=2, IF($F$1 = 2, Data!I163, NA()), NA()), NA()), NA())","v":0.42739179999999999},{"$f":"IF($A$124=TRUE, IF($A$122=TRUE, IF($H$1=2, IF($F$1 = 2, Data!J163, NA()), NA()), NA()), NA())","v":0.11025600000000001},{"$f":"IF($A$124=TRUE, IF($A$122=TRUE, IF($H$1=1, IF($F$1 = 2, Data!K163, NA()), NA()), NA()), NA())","v":{"$error":"#N/A"}},{"$f":"IF($A$124=TRUE, IF($A$122=TRUE, IF($H$1=1, IF($F$1 = 2, Data!L163, NA()), NA()), NA()), NA())","v":{"$error":"#N/A"}},{"$f":"IF($A$122=TRUE, IF($A$124=TRUE, IF($F$1=2, IF($H$1=2, Data!M163, NA()), NA()), NA()), NA())","v":0.58842380000000005},{"$f":"IF($A$122 = TRUE, IF($A$124=TRUE, IF($F$1=2, IF($H$1=1, Data!N163, NA()), NA()),NA()), NA())","v":{"$error":"#N/A"}},{"$f":"IF($A$124=TRUE, IF($A$122= TRUE, IF($H$1=2, IF($F$1 = 1, Data!O163, NA()), NA()), NA()), NA())","v":{"$error":"#N/A"}},{"$f":"IF($A$124=TRUE, IF($A$122= TRUE, IF($H$1=2, IF($F$1 = 1, Data!P163, NA()), NA()), NA()), NA())","v":{"$error":"#N/A"}},{"$f":"IF($A$124 = TRUE, IF($A$122=TRUE, IF($H$1=1, IF($F$1 = 1, Data!Q163, NA()), NA()), NA()), NA())","v":{"$error":"#N/A"}},{"$f":"IF($A$124 = TRUE, IF($A$122=TRUE, IF($H$1=1, IF($F$1 = 1, Data!R163, NA()), NA()), NA()), NA())","v":{"$error":"#N/A"}},{"$f":"IF($A$122=TRUE, IF($A$124=TRUE, IF($F$1=1, IF($H$1=2, Data!S163, NA()), NA()), NA()), NA())","v":{"$error":"#N/A"}},{"$f":"IF($A$122 = TRUE, IF($A$124=TRUE, IF($F$1=1, IF($H$1=1, Data!T163, NA()), NA()),NA()), NA())","v":{"$error":"#N/A"}}]
[null,{"$f":"Data!B160","v":"Chemical Oxidation"},{"$f":"Data!C164","v":"Permanganates"},{"$f":"Data!E164","v":"Full"},{"$f":"Data!H164","v":"Coarse-grained"},{"$f":"IF($A$124=TRUE, IF($A$122=TRUE, IF($H$1=2, IF($F$1 = 2, Data!I164, NA()), NA()), NA()), NA())","v":1.8995849},{"$f":"IF($A$124=TRUE, IF($A$122=TRUE, IF($H$1=2, IF($F$1 = 2, Data!J164, NA()), NA()), NA()), NA())","v":2.3501899999999999E-2},{"$f":"IF($A$124=TRUE, IF($A$122=TRUE, IF($H$1=1, IF($F$1 = 2, Data!K164, NA()), NA()), NA()), NA())","v":{"$error":"#N/A"}},{"$f":"IF($A$124=TRUE, IF($A$122=TRUE, IF($H$1=1, IF($F$1 = 2, Data!L164, NA()), NA()), NA()), NA())","v":{"$error":"#N/A"}},{"$f":"IF($A$122=TRUE, IF($A$124=TRUE, IF($F$1=2, IF($H$1=2, Data!M164, NA()), NA()), NA()), NA())","v":1.907556},{"$f":"IF($A$122 = TRUE, IF($A$124=TRUE, IF($F$1=2, IF($H$1=1, Data!N164, NA()), NA()),NA()), NA())","v":{"$error":"#N/A"}},{"$f":"IF($A$124=TRUE, IF($A$122= TRUE, IF($H$1=2, IF($F$1 = 1, Data!O164, NA()), NA()), NA()), NA())","v":{"$error":"#N/A"}},{"$f":"IF($A$124=TRUE, IF($A$122= TRUE, IF($H$1=2, IF($F$1 = 1, Data!P164, NA()), NA()), NA()), NA())","v":{"$error":"#N/A"}},{"$f":"IF($A$124 = TRUE, IF($A$122=TRUE, IF($H$1=1, IF($F$1 = 1, Data!Q164, NA()), NA()), NA()), NA())","v":{"$error":"#N/A"}},{"$f":"IF($A$124 = TRUE, IF($A$122=TRUE, IF($H$1=1, IF($F$1 = 1, Data!R164, NA()), NA()), NA()), NA())","v":{"$error":"#N/A"}},{"$f":"IF($A$122=TRUE, IF($A$124=TRUE, IF($F$1=1, IF($H$1=2, Data!S164, NA()), NA()), NA()), NA())","v":{"$error":"#N/A"}},{"$f":"IF($A$122 = TRUE, IF($A$124=TRUE, IF($F$1=1, IF($H$1=1, Data!T164, NA()), NA()),NA()), NA())","v":{"$error":"#N/A"}}]
[null,{"$f":"Data!B165","v":"Chemical Oxidation"},{"$f":"Data!C165","v":"Permanganates"},{"$f":"Data!E165","v":"Pilot"},{"$f":"Data!H165","v":0},{"$f":"IF($A$124=TRUE, IF($A$122=TRUE, IF($H$1=2, IF($F$1 = 2, Data!I165, NA()), NA()), NA()), NA())","v":34},{"$f":"IF($A$124=TRUE, IF($A$122=TRUE, IF($H$1=2, IF($F$1 = 2, Data!J165, NA()), NA()), NA()), NA())","v":2.2000000000000002},{"$f":"IF($A$124=TRUE, IF($A$122=TRUE, IF($H$1=1, IF($F$1 = 2, Data!K165, NA()), NA()), NA()), NA())","v":{"$error":"#N/A"}},{"$f":"IF($A$124=TRUE, IF($A$122=TRUE, IF($H$1=1, IF($F$1 = 2, Data!L165, NA()), NA()), NA()), NA())","v":{"$error":"#N/A"}},{"$f":"IF($A$122=TRUE, IF($A$124=TRUE, IF($F$1=2, IF($H$1=2, Data!M165, NA()), NA()), NA()), NA())","v":1.1890562},{"$f":"IF($A$122 = TRUE, IF($A$124=TRUE, IF($F$1=2, IF($H$1=1, Data!N165, NA()), NA()),NA()), NA())","v":{"$error":"#N/A"}},{"$f":"IF($A$124=TRUE, IF($A$122= TRUE, IF($H$1=2, IF($F$1 = 1, Data!O165, NA()), NA()), NA()), NA())","v":{"$error":"#N/A"}},{"$f":"IF($A$124=TRUE, IF($A$122= TRUE, IF($H$1=2, IF($F$1 = 1, Data!P165, NA()), NA()), NA()), NA())","v":{"$error":"#N/A"}},{"$f":"IF($A$124 = TRUE, IF($A$122=TRUE, IF($H$1=1, IF($F$1 = 1, Data!Q165, NA()), NA()), NA()), NA())","v":{"$error":"#N/A"}},{"$f":"IF($A$124 = TRUE, IF($A$122=TRUE, IF($H$1=1, IF($F$1 = 1, Data!R165, NA()), NA()), NA()), NA())","v":{"$error":"#N/A"}},{"$f":"IF($A$122=TRUE, IF($A$124=TRUE, IF($F$1=1, IF($H$1=2, Data!S165, NA()), NA()), NA()), NA())","v":{"$error":"#N/A"}},{"$f":"IF($A$122 = TRUE, IF($A$124=TRUE, IF($F$1=1, IF($H$1=1, Data!T165, NA()), NA()),NA()), NA())","v":{"$error":"#N/A"}}]
[null,{"$f":"Data!B166","v":"Chemical Oxidation"},{"$f":"Data!C166","v":"Permanganates"},{"$f":"Data!E166","v":"Full"},{"$f":"Data!H166","v":"Fractured rock"},{"$f":"IF($A$124=TRUE, IF($A$122=TRUE, IF($H$1=2, IF($F$1 = 2, Data!I166, NA()), NA()), NA()), NA())","v":2.6944387000000001},{"$f":"IF($A$124=TRUE, IF($A$122=TRUE, IF($H$1=2, IF($F$1 = 2, Data!J166, NA()), NA()), NA()), NA())","v":0.68884310000000004},{"$f":"IF($A$124=TRUE, IF($A$122=TRUE, IF($H$1=1, IF($F$1 = 2, Data!K166, NA()), NA()), NA()), NA())","v":{"$error":"#N/A"}},{"$f":"IF($A$124=TRUE, IF($A$122=TRUE, IF($H$1=1, IF($F$1 = 2, Data!L166, NA()), NA()), NA()), NA())","v":{"$error":"#N/A"}},{"$f":"IF($A$122=TRUE, IF($A$124=TRUE, IF($F$1=2, IF($H$1=2, Data!M166, NA()), NA()), NA()), NA())","v":0.59234799999999999},{"$f":"IF($A$122 = TRUE, IF($A$124=TRUE, IF($F$1=2, IF($H$1=1, Data!N166, NA()), NA()),NA()), NA())","v":{"$error":"#N/A"}},{"$f":"IF($A$124=TRUE, IF($A$122= TRUE, IF($H$1=2, IF($F$1 = 1, Data!O166, NA()), NA()), NA()), NA())","v":{"$error":"#N/A"}},{"$f":"IF($A$124=TRUE, IF($A$122= TRUE, IF($H$1=2, IF($F$1 = 1, Data!P166, NA()), NA()), NA()), NA())","v":{"$error":"#N/A"}},{"$f":"IF($A$124 = TRUE, IF($A$122=TRUE, IF($H$1=1, IF($F$1 = 1, Data!Q166, NA()), NA()), NA()), NA())","v":{"$error":"#N/A"}},{"$f":"IF($A$124 = TRUE, IF($A$122=TRUE, IF($H$1=1, IF($F$1 = 1, Data!R166, NA()), NA()), NA()), NA())","v":{"$error":"#N/A"}},{"$f":"IF($A$122=TRUE, IF($A$124=TRUE, IF($F$1=1, IF($H$1=2, Data!S166, NA()), NA()), NA()), NA())","v":{"$error":"#N/A"}},{"$f":"IF($A$122 = TRUE, IF($A$124=TRUE, IF($F$1=1, IF($H$1=1, Data!T166, NA()), NA()),NA()), NA())","v":{"$error":"#N/A"}}]
[null,{"$f":"Data!B167","v":"Chemical Oxidation"},{"$f":"Data!C167","v":"Permanganates"},{"$f":"Data!E167","v":"Full"},{"$f":"Data!H167","v":"Fine-grained"},{"$f":"IF($A$124=TRUE, IF($A$122=TRUE, IF($H$1=2, IF($F$1 = 2, Data!I167, NA()), NA()), NA()), NA())","v":1.3341664},{"$f":"IF($A$124=TRUE, IF($A$122=TRUE, IF($H$1=2, IF($F$1 = 2, Data!J167, NA()), NA()), NA()), NA())","v":0.33},{"$f":"IF($A$124=TRUE, IF($A$122=TRUE, IF($H$1=1, IF($F$1 = 2, Data!K167, NA()), NA()), NA()), NA())","v":{"$error":"#N/A"}},{"$f":"IF($A$124=TRUE, IF($A$122=TRUE, IF($H$1=1, IF($F$1 = 2, Data!L167, NA()), NA()), NA()), NA())","v":{"$error":"#N/A"}},{"$f":"IF($A$122=TRUE, IF($A$124=TRUE, IF($F$1=2, IF($H$1=2, Data!M167, NA()), NA()), NA()), NA())","v":0.60669609999999996},{"$f":"IF($A$122 = TRUE, IF($A$124=TRUE, IF($F$1=2, IF($H$1=1, Data!N167, NA()), NA()),NA()), NA())","v":{"$error":"#N/A"}},{"$f":"IF($A$124=TRUE, IF($A$122= TRUE, IF($H$1=2, IF($F$1 = 1, Data!O167, NA()), NA()), NA()), NA())","v":{"$error":"#N/A"}},{"$f":"IF($A$124=TRUE, IF($A$122= TRUE, IF($H$1=2, IF($F$1 = 1, Data!P167, NA()), NA()), NA()), NA())","v":{"$error":"#N/A"}},{"$f":"IF($A$124 = TRUE, IF($A$122=TRUE, IF($H$1=1, IF($F$1 = 1, Data!Q167, NA()), NA()), NA()), NA())","v":{"$error":"#N/A"}},{"$f":"IF($A$124 = TRUE, IF($A$122=TRUE, IF($H$1=1, IF($F$1 = 1, Data!R167, NA()), NA()), NA()), NA())","v":{"$error":"#N/A"}},{"$f":"IF($A$122=TRUE, IF($A$124=TRUE, IF($F$1=1, IF($H$1=2, Data!S167, NA()), NA()), NA()), NA())","v":{"$error":"#N/A"}},{"$f":"IF($A$122 = TRUE, IF($A$124=TRUE, IF($F$1=1, IF($H$1=1, Data!T167, NA()), NA()),NA()), NA())","v":{"$error":"#N/A"}}]
[null,{"$f":"Data!B168","v":"Chemical Oxidation"},{"$f":"Data!C168","v":"Permanganates"},{"$f":"Data!E168","v":"Full"},{"$f":"Data!H168","v":"Fine-grained"},{"$f":"IF($A$124=TRUE, IF($A$122=TRUE, IF($H$1=2, IF($F$1 = 2, Data!I168, NA()), NA()), NA()), NA())","v":0.59326250000000003},{"$f":"IF($A$124=TRUE, IF($A$122=TRUE, IF($H$1=2, IF($F$1 = 2, Data!J168, NA()), NA()), NA()), NA())","v":0.68200000000000005},{"$f":"IF($A$124=TRUE, IF($A$122=TRUE, IF($H$1=1, IF($F$1 = 2, Data!K168, NA()), NA()), NA()), NA())","v":{"$error":"#N/A"}},{"$f":"IF($A$124=TRUE, IF($A$122=TRUE, IF($H$1=1, IF($F$1 = 2, Data!L168, NA()), NA()), NA()), NA())","v":{"$error":"#N/A"}},{"$f":"IF($A$122=TRUE, IF($A$124=TRUE, IF($F$1=2, IF($H$1=2, Data!M168, NA()), NA()), NA()), NA())","v":-6.0537500000000001E-2},{"$f":"IF($A$122 = TRUE, IF($A$124=TRUE, IF($F$1=2, IF($H$1=1, Data!N168, NA()), NA()),NA()), NA())","v":{"$error":"#N/A"}},{"$f":"IF($A$124=TRUE, IF($A$122= TRUE, IF($H$1=2, IF($F$1 = 1, Data!O168, NA()), NA()), NA()), NA())","v":{"$error":"#N/A"}},{"$f":"IF($A$124=TRUE, IF($A$122= TRUE, IF($H$1=2, IF($F$1 = 1, Data!P168, NA()), NA()), NA()), NA())","v":{"$error":"#N/A"}},{"$f":"IF($A$124 = TRUE, IF($A$122=TRUE, IF($H$1=1, IF($F$1 = 1, Data!Q168, NA()), NA()), NA()), NA())","v":{"$error":"#N/A"}},{"$f":"IF($A$124 = TRUE, IF($A$122=TRUE, IF($H$1=1, IF($F$1 = 1, Data!R168, NA()), NA()), NA()), NA())","v":{"$error":"#N/A"}},{"$f":"IF($A$122=TRUE, IF($A$124=TRUE, IF($F$1=1, IF($H$1=2, Data!S168, NA()), NA()), NA()), NA())","v":{"$error":"#N/A"}},{"$f":"IF($A$122 = TRUE, IF($A$124=TRUE, IF($F$1=1, IF($H$1=1, Data!T168, NA()), NA()),NA()), NA())","v":{"$error":"#N/A"}}]
[null,{"$f":"Data!B169","v":"Chemical Oxidation"},{"$f":"Data!C169","v":"Permanganates"},{"$f":"Data!E169","v":"Full"},{"$f":"Data!H169","v":"Fine-grained"},{"$f":"IF($A$124=TRUE, IF($A$122=TRUE, IF($H$1=2, IF($F$1 = 2, Data!I169, NA()), NA()), NA()), NA())","v":10.6244482},{"$f":"IF($A$124=TRUE, IF($A$122=TRUE, IF($H$1=2, IF($F$1 = 2, Data!J169, NA()), NA()), NA()), NA())","v":2.6914932},{"$f":"IF($A$124=TRUE, IF($A$122=TRUE, IF($H$1=1, IF($F$1 = 2, Data!K169, NA()), NA()), NA()), NA())","v":{"$error":"#N/A"}},{"$f":"IF($A$124=TRUE, IF($A$122=TRUE, IF($H$1=1, IF($F$1 = 2, Data!L169, NA()), NA()), NA()), NA())","v":{"$error":"#N/A"}},{"$f":"IF($A$122=TRUE, IF($A$124=TRUE, IF($F$1=2, IF($H$1=2, Data!M169, NA()), NA()), NA()), NA())","v":0.59631310000000004},{"$f":"IF($A$122 = TRUE, IF($A$124=TRUE, IF($F$1=2, IF($H$1=1, Data!N169, NA()), NA()),NA()), NA())","v":{"$error":"#N/A"}},{"$f":"IF($A$124=TRUE, IF($A$122= TRUE, IF($H$1=2, IF($F$1 = 1, Data!O169, NA()), NA()), NA()), NA())","v":{"$error":"#N/A"}},{"$f":"IF($A$124=TRUE, IF($A$122= TRUE, IF($H$1=2, IF($F$1 = 1, Data!P169, NA()), NA()), NA()), NA())","v":{"$error":"#N/A"}},{"$f":"IF($A$124 = TRUE, IF($A$122=TRUE, IF($H$1=1, IF($F$1 = 1, Data!Q169, NA()), NA()), NA()), NA())","v":{"$error":"#N/A"}},{"$f":"IF($A$124 = TRUE, IF($A$122=TRUE, IF($H$1=1, IF($F$1 = 1, Data!R169, NA()), NA()), NA()), NA())","v":{"$error":"#N/A"}},{"$f":"IF($A$122=TRUE, IF($A$124=TRUE, IF($F$1=1, IF($H$1=2, Data!S169, NA()), NA()), NA()), NA())","v":{"$error":"#N/A"}},{"$f":"IF($A$122 = TRUE, IF($A$124=TRUE, IF($F$1=1, IF($H$1=1, Data!T169, NA()), NA()),NA()), NA())","v":{"$error":"#N/A"}}]
[null,{"$f":"Data!B170","v":"Chemical Oxidation"},{"$f":"Data!C170","v":"Permanganates"},{"$f":"Data!E170","v":"Full"},{"$f":"Data!H170","v":"Fine-grained"},{"$f":"IF($A$124=TRUE, IF($A$122=TRUE, IF($H$1=2, IF($F$1 = 2, Data!I170, NA()), NA()), NA()), NA())","v":20.062963100000001},{"$f":"IF($A$124=TRUE, IF($A$122=TRUE, IF($H$1=2, IF($F$1 = 2, Data!J170, NA()), NA()), NA()), NA())","v":0.1196043},{"$f":"IF($A$124=TRUE, IF($A$122=TRUE, IF($H$1=1, IF($F$1 = 2, Data!K170, NA()), NA()), NA()), NA())","v":{"$error":"#N/A"}},{"$f":"IF($A$124=TRUE, IF($A$122=TRUE, IF($H$1=1, IF($F$1 = 2, Data!L170, NA()), NA()), NA()), NA())","v":{"$error":"#N/A"}},{"$f":"IF($A$122=TRUE, IF($A$124=TRUE, IF($F$1=2, IF($H$1=2, Data!M170, NA()), NA()), NA()), NA())","v":2.2246483000000001},{"$f":"IF($A$122 = TRUE, IF($A$124=TRUE, IF($F$1=2, IF($H$1=1, Data!N170, NA()), NA()),NA()), NA())","v":{"$error":"#N/A"}},{"$f":"IF($A$124=TRUE, IF($A$122= TRUE, IF($H$1=2, IF($F$1 = 1, Data!O170, NA()), NA()), NA()), NA())","v":{"$error":"#N/A"}},{"$f":"IF($A$124=TRUE, IF($A$122= TRUE, IF($H$1=2, IF($F$1 = 1, Data!P170, NA()), NA()), NA()), NA())","v":{"$error":"#N/A"}},{"$f":"IF($A$124 = TRUE, IF($A$122=TRUE, IF($H$1=1, IF($F$1 = 1, Data!Q170, NA()), NA()), NA()), NA())","v":{"$error":"#N/A"}},{"$f":"IF($A$124 = TRUE, IF($A$122=TRUE, IF($H$1=1, IF($F$1 = 1, Data!R170, NA()), NA()), NA()), NA())","v":{"$error":"#N/A"}},{"$f":"IF($A$122=TRUE, IF($A$124=TRUE, IF($F$1=1, IF($H$1=2, Data!S170, NA()), NA()), NA()), NA())","v":{"$error":"#N/A"}},{"$f":"IF($A$122 = TRUE, IF($A$124=TRUE, IF($F$1=1, IF($H$1=1, Data!T170, NA()), NA()),NA()), NA())","v":{"$error":"#N/A"}}]
[null,{"$f":"Data!B172","v":"Chemical Oxidation"},{"$f":"Data!C171","v":"Permanganates"},{"$f":"Data!E171","v":"Full"},{"$f":"Data!H171","v":"Fractured rock"},{"$f":"IF($A$124=TRUE, IF($A$122=TRUE, IF($H$1=2, IF($F$1 = 2, Data!I171, NA()), NA()), NA()), NA())","v":4.4621504999999999},{"$f":"IF($A$124=TRUE, IF($A$122=TRUE, IF($H$1=2, IF($F$1 = 2, Data!J171, NA()), NA()), NA()), NA())","v":0.29799999999999999},{"$f":"IF($A$124=TRUE, IF($A$122=TRUE, IF($H$1=1, IF($F$1 = 2, Data!K171, NA()), NA()), NA()), NA())","v":{"$error":"#N/A"}},{"$f":"IF($A$124=TRUE, IF($A$122=TRUE, IF($H$1=1, IF($F$1 = 2, Data!L171, NA()), NA()), NA()), NA())","v":{"$error":"#N/A"}},{"$f":"IF($A$122=TRUE, IF($A$124=TRUE, IF($F$1=2, IF($H$1=2, Data!M171, NA()), NA()), NA()), NA())","v":1.1753279000000001},{"$f":"IF($A$122 = TRUE, IF($A$124=TRUE, IF($F$1=2, IF($H$1=1, Data!N171, NA()), NA()),NA()), NA())","v":{"$error":"#N/A"}},{"$f":"IF($A$124=TRUE, IF($A$122= TRUE, IF($H$1=2, IF($F$1 = 1, Data!O171, NA()), NA()), NA()), NA())","v":{"$error":"#N/A"}},{"$f":"IF($A$124=TRUE, IF($A$122= TRUE, IF($H$1=2, IF($F$1 = 1, Data!P171, NA()), NA()), NA()), NA())","v":{"$error":"#N/A"}},{"$f":"IF($A$124 = TRUE, IF($A$122=TRUE, IF($H$1=1, IF($F$1 = 1, Data!Q171, NA()), NA()), NA()), NA())","v":{"$error":"#N/A"}},{"$f":"IF($A$124 = TRUE, IF($A$122=TRUE, IF($H$1=1, IF($F$1 = 1, Data!R171, NA()), NA()), NA()), NA())","v":{"$error":"#N/A"}},{"$f":"IF($A$122=TRUE, IF($A$124=TRUE, IF($F$1=1, IF($H$1=2, Data!S171, NA()), NA()), NA()), NA())","v":{"$error":"#N/A"}},{"$f":"IF($A$122 = TRUE, IF($A$124=TRUE, IF($F$1=1, IF($H$1=1, Data!T171, NA()), NA()),NA()), NA())","v":{"$error":"#N/A"}}]
[null,{"$f":"Data!B174","v":"Chemical Oxidation"},{"$f":"Data!C172","v":"Permanganates"},{"$f":"Data!E172","v":"Full"},{"$f":"Data!H172","v":"Fine-grained"},{"$f":"IF($A$124=TRUE, IF($A$122=TRUE, IF($H$1=2, IF($F$1 = 2, Data!I172, NA()), NA()), NA()), NA())","v":58.864250599999998},{"$f":"IF($A$124=TRUE, IF($A$122=TRUE, IF($H$1=2, IF($F$1 = 2, Data!J172, NA()), NA()), NA()), NA())","v":0.27502179999999998},{"$f":"IF($A$124=TRUE, IF($A$122=TRUE, IF($H$1=1, IF($F$1 = 2, Data!K172, NA()), NA()), NA()), NA())","v":{"$error":"#N/A"}},{"$f":"IF($A$124=TRUE, IF($A$122=TRUE, IF($H$1=1, IF($F$1 = 2, Data!L172, NA()), NA()), NA()), NA())","v":{"$error":"#N/A"}},{"$f":"IF($A$122=TRUE, IF($A$124=TRUE, IF($F$1=2, IF($H$1=2, Data!M172, NA()), NA()), NA()), NA())","v":2.3304844999999998},{"$f":"IF($A$122 = TRUE, IF($A$124=TRUE, IF($F$1=2, IF($H$1=1, Data!N172, NA()), NA()),NA()), NA())","v":{"$error":"#N/A"}},{"$f":"IF($A$124=TRUE, IF($A$122= TRUE, IF($H$1=2, IF($F$1 = 1, Data!O172, NA()), NA()), NA()), NA())","v":{"$error":"#N/A"}},{"$f":"IF($A$124=TRUE, IF($A$122= TRUE, IF($H$1=2, IF($F$1 = 1, Data!P172, NA()), NA()), NA()), NA())","v":{"$error":"#N/A"}},{"$f":"IF($A$124 = TRUE, IF($A$122=TRUE, IF($H$1=1, IF($F$1 = 1, Data!Q172, NA()), NA()), NA()), NA())","v":{"$error":"#N/A"}},{"$f":"IF($A$124 = TRUE, IF($A$122=TRUE, IF($H$1=1, IF($F$1 = 1, Data!R172, NA()), NA()), NA()), NA())","v":{"$error":"#N/A"}},{"$f":"IF($A$122=TRUE, IF($A$124=TRUE, IF($F$1=1, IF($H$1=2, Data!S172, NA()), NA()), NA()), NA())","v":{"$error":"#N/A"}},{"$f":"IF($A$122 = TRUE, IF($A$124=TRUE, IF($F$1=1, IF($H$1=1, Data!T172, NA()), NA()),NA()), NA())","v":{"$error":"#N/A"}}]
[null,{"$f":"Data!B176","v":"Chemical Oxidation"},{"$f":"Data!C173","v":"Permanganates"},{"$f":"Data!E173","v":"Full"},{"$f":"Data!H173","v":"Fine-grained"},{"$f":"IF($A$124=TRUE, IF($A$122=TRUE, IF($H$1=2, IF($F$1 = 2, Data!I173, NA()), NA()), NA()), NA())","v":5.1999999999999998E-3},{"$f":"IF($A$124=TRUE, IF($A$122=TRUE, IF($H$1=2, IF($F$1 = 2, Data!J173, NA()), NA()), NA()), NA())","v":1.6467900000000001E-2},{"$f":"IF($A$124=TRUE, IF($A$122=TRUE, IF($H$1=1, IF($F$1 = 2, Data!K173, NA()), NA()), NA()), NA())","v":{"$error":"#N/A"}},{"$f":"IF($A$124=TRUE, IF($A$122=TRUE, IF($H$1=1, IF($F$1 = 2, Data!L173, NA()), NA()), NA()), NA())","v":{"$error":"#N/A"}},{"$f":"IF($A$122=TRUE, IF($A$124=TRUE, IF($F$1=2, IF($H$1=2, Data!M173, NA()), NA()), NA()), NA())","v":-0.50063579999999996},{"$f":"IF($A$122 = TRUE, IF($A$124=TRUE, IF($F$1=2, IF($H$1=1, Data!N173, NA()), NA()),NA()), NA())","v":{"$error":"#N/A"}},{"$f":"IF($A$124=TRUE, IF($A$122= TRUE, IF($H$1=2, IF($F$1 = 1, Data!O173, NA()), NA()), NA()), NA())","v":{"$error":"#N/A"}},{"$f":"IF($A$124=TRUE, IF($A$122= TRUE, IF($H$1=2, IF($F$1 = 1, Data!P173, NA()), NA()), NA()), NA())","v":{"$error":"#N/A"}},{"$f":"IF($A$124 = TRUE, IF($A$122=TRUE, IF($H$1=1, IF($F$1 = 1, Data!Q173, NA()), NA()), NA()), NA())","v":{"$error":"#N/A"}},{"$f":"IF($A$124 = TRUE, IF($A$122=TRUE, IF($H$1=1, IF($F$1 = 1, Data!R173, NA()), NA()), NA()), NA())","v":{"$error":"#N/A"}},{"$f":"IF($A$122=TRUE, IF($A$124=TRUE, IF($F$1=1, IF($H$1=2, Data!S173, NA()), NA()), NA()), NA())","v":{"$error":"#N/A"}},{"$f":"IF($A$122 = TRUE, IF($A$124=TRUE, IF($F$1=1, IF($H$1=1, Data!T173, NA()), NA()),NA()), NA())","v":{"$error":"#N/A"}}]
[null,{"$f":"Data!B178","v":"Chemical Oxidation"},{"$f":"Data!C174","v":"Permanganates"},{"$f":"Data!E174","v":0},{"$f":"Data!H174","v":"Fine-grained"},{"$f":"IF($A$124=TRUE, IF($A$122=TRUE, IF($H$1=2, IF($F$1 = 2, Data!I174, NA()), NA()), NA()), NA())","v":41.518199500000001},{"$f":"IF($A$124=TRUE, IF($A$122=TRUE, IF($H$1=2, IF($F$1 = 2, Data!J174, NA()), NA()), NA()), NA())","v":1E-3},{"$f":"IF($A$124=TRUE, IF($A$122=TRUE, IF($H$1=1, IF($F$1 = 2, Data!K174, NA()), NA()), NA()), NA())","v":{"$error":"#N/A"}},{"$f":"IF($A$124=TRUE, IF($A$122=TRUE, IF($H$1=1, IF($F$1 = 2, Data!L174, NA()), NA()), NA()), NA())","v":{"$error":"#N/A"}},{"$f":"IF($A$122=TRUE, IF($A$124=TRUE, IF($F$1=2, IF($H$1=2, Data!M174, NA()), NA()), NA()), NA())","v":5.2130326},{"$f":"IF($A$122 = TRUE, IF($A$124=TRUE, IF($F$1=2, IF($H$1=1, Data!N174, NA()), NA()),NA()), NA())","v":{"$error":"#N/A"}},{"$f":"IF($A$124=TRUE, IF($A$122= TRUE, IF($H$1=2, IF($F$1 = 1, Data!O174, NA()), NA()), NA()), NA())","v":{"$error":"#N/A"}},{"$f":"IF($A$124=TRUE, IF($A$122= TRUE, IF($H$1=2, IF($F$1 = 1, Data!P174, NA()), NA()), NA()), NA())","v":{"$error":"#N/A"}},{"$f":"IF($A$124 = TRUE, IF($A$122=TRUE, IF($H$1=1, IF($F$1 = 1, Data!Q174, NA()), NA()), NA()), NA())","v":{"$error":"#N/A"}},{"$f":"IF($A$124 = TRUE, IF($A$122=TRUE, IF($H$1=1, IF($F$1 = 1, Data!R174, NA()), NA()), NA()), NA())","v":{"$error":"#N/A"}},{"$f":"IF($A$122=TRUE, IF($A$124=TRUE, IF($F$1=1, IF($H$1=2, Data!S174, NA()), NA()), NA()), NA())","v":{"$error":"#N/A"}},{"$f":"IF($A$122 = TRUE, IF($A$124=TRUE, IF($F$1=1, IF($H$1=1, Data!T174, NA()), NA()),NA()), NA())","v":{"$error":"#N/A"}}]
[null,{"$f":"Data!B179","v":"Chemical Oxidation"},{"$f":"Data!C175","v":"Permanganates"},{"$f":"Data!E175","v":0},{"$f":"Data!H175","v":0},{"$f":"IF($A$124=TRUE, IF($A$122=TRUE, IF($H$1=2, IF($F$1 = 2, Data!I175, NA()), NA()), NA()), NA())","v":1.8253399999999999E-2},{"$f":"IF($A$124=TRUE, IF($A$122=TRUE, IF($H$1=2, IF($F$1 = 2, Data!J175, NA()), NA()), NA()), NA())","v":1E-3},{"$f":"IF($A$124=TRUE, IF($A$122=TRUE, IF($H$1=1, IF($F$1 = 2, Data!K175, NA()), NA()), NA()), NA())","v":{"$error":"#N/A"}},{"$f":"IF($A$124=TRUE, IF($A$122=TRUE, IF($H$1=1, IF($F$1 = 2, Data!L175, NA()), NA()), NA()), NA())","v":{"$error":"#N/A"}},{"$f":"IF($A$122=TRUE, IF($A$124=TRUE, IF($F$1=2, IF($H$1=2, Data!M175, NA()), NA()), NA()), NA())","v":1.2613444},{"$f":"IF($A$122 = TRUE, IF($A$124=TRUE, IF($F$1=2, IF($H$1=1, Data!N175, NA()), NA()),NA()), NA())","v":{"$error":"#N/A"}},{"$f":"IF($A$124=TRUE, IF($A$122= TRUE, IF($H$1=2, IF($F$1 = 1, Data!O175, NA()), NA()), NA()), NA())","v":{"$error":"#N/A"}},{"$f":"IF($A$124=TRUE, IF($A$122= TRUE, IF($H$1=2, IF($F$1 = 1, Data!P175, NA()), NA()), NA()), NA())","v":{"$error":"#N/A"}},{"$f":"IF($A$124 = TRUE, IF($A$122=TRUE, IF($H$1=1, IF($F$1 = 1, Data!Q175, NA()), NA()), NA()), NA())","v":{"$error":"#N/A"}},{"$f":"IF($A$124 = TRUE, IF($A$122=TRUE, IF($H$1=1, IF($F$1 = 1, Data!R175, NA()), NA()), NA()), NA())","v":{"$error":"#N/A"}},{"$f":"IF($A$122=TRUE, IF($A$124=TRUE, IF($F$1=1, IF($H$1=2, Data!S175, NA()), NA()), NA()), NA())","v":{"$error":"#N/A"}},{"$f":"IF($A$122 = TRUE, IF($A$124=TRUE, IF($F$1=1, IF($H$1=1, Data!T175, NA()), NA()),NA()), NA())","v":{"$error":"#N/A"}}]
[null,{"$f":"Data!B183","v":"Chemical Oxidation"},{"$f":"Data!C176","v":"Permanganates"},{"$f":"Data!E176","v":0},{"$f":"Data!H176","v":0},{"$f":"IF($A$124=TRUE, IF($A$122=TRUE, IF($H$1=2, IF($F$1 = 2, Data!I176, NA()), NA()), NA()), NA())","v":3.7917700999999999},{"$f":"IF($A$124=TRUE, IF($A$122=TRUE, IF($H$1=2, IF($F$1 = 2, Data!J176, NA()), NA()), NA()), NA())","v":1.6875888999999999},{"$f":"IF($A$124=TRUE, IF($A$122=TRUE, IF($H$1=1, IF($F$1 = 2, Data!K176, NA()), NA()), NA()), NA())","v":{"$error":"#N/A"}},{"$f":"IF($A$124=TRUE, IF($A$122=TRUE, IF($H$1=1, IF($F$1 = 2, Data!L176, NA()), NA()), NA()), NA())","v":{"$error":"#N/A"}},{"$f":"IF($A$122=TRUE, IF($A$124=TRUE, IF($F$1=2, IF($H$1=2, Data!M176, NA()), NA()), NA()), NA())","v":0.35157529999999998},{"$f":"IF($A$122 = TRUE, IF($A$124=TRUE, IF($F$1=2, IF($H$1=1, Data!N176, NA()), NA()),NA()), NA())","v":{"$error":"#N/A"}},{"$f":"IF($A$124=TRUE, IF($A$122= TRUE, IF($H$1=2, IF($F$1 = 1, Data!O176, NA()), NA()), NA()), NA())","v":{"$error":"#N/A"}},{"$f":"IF($A$124=TRUE, IF($A$122= TRUE, IF($H$1=2, IF($F$1 = 1, Data!P176, NA()), NA()), NA()), NA())","v":{"$error":"#N/A"}},{"$f":"IF($A$124 = TRUE, IF($A$122=TRUE, IF($H$1=1, IF($F$1 = 1, Data!Q176, NA()), NA()), NA()), NA())","v":{"$error":"#N/A"}},{"$f":"IF($A$124 = TRUE, IF($A$122=TRUE, IF($H$1=1, IF($F$1 = 1, Data!R176, NA()), NA()), NA()), NA())","v":{"$error":"#N/A"}},{"$f":"IF($A$122=TRUE, IF($A$124=TRUE, IF($F$1=1, IF($H$1=2, Data!S176, NA()), NA()), NA()), NA())","v":{"$error":"#N/A"}},{"$f":"IF($A$122 = TRUE, IF($A$124=TRUE, IF($F$1=1, IF($H$1=1, Data!T176, NA()), NA()),NA()), NA())","v":{"$error":"#N/A"}}]
[null,{"$f":"Data!B185","v":"Chemical Oxidation"},{"$f":"Data!C177","v":"Permanganates"},{"$f":"Data!E177","v":0},{"$f":"Data!H177","v":0},{"$f":"IF($A$124=TRUE, IF($A$122=TRUE, IF($H$1=2, IF($F$1 = 2, Data!I177, NA()), NA()), NA()), NA())","v":1.8768590999999999},{"$f":"IF($A$124=TRUE, IF($A$122=TRUE, IF($H$1=2, IF($F$1 = 2, Data!J177, NA()), NA()), NA()), NA())","v":1.3},{"$f":"IF($A$124=TRUE, IF($A$122=TRUE, IF($H$1=1, IF($F$1 = 2, Data!K177, NA()), NA()), NA()), NA())","v":{"$error":"#N/A"}},{"$f":"IF($A$124=TRUE, IF($A$122=TRUE, IF($H$1=1, IF($F$1 = 2, Data!L177, NA()), NA()), NA()), NA())","v":{"$error":"#N/A"}},{"$f":"IF($A$122=TRUE, IF($A$124=TRUE, IF($F$1=2, IF($H$1=2, Data!M177, NA()), NA()), NA()), NA())","v":0.1594883},{"$f":"IF($A$122 = TRUE, IF($A$124=TRUE, IF($F$1=2, IF($H$1=1, Data!N177, NA()), NA()),NA()), NA())","v":{"$error":"#N/A"}},{"$f":"IF($A$124=TRUE, IF($A$122= TRUE, IF($H$1=2, IF($F$1 = 1, Data!O177, NA()), NA()), NA()), NA())","v":{"$error":"#N/A"}},{"$f":"IF($A$124=TRUE, IF($A$122= TRUE, IF($H$1=2, IF($F$1 = 1, Data!P177, NA()), NA()), NA()), NA())","v":{"$error":"#N/A"}},{"$f":"IF($A$124 = TRUE, IF($A$122=TRUE, IF($H$1=1, IF($F$1 = 1, Data!Q177, NA()), NA()), NA()), NA())","v":{"$error":"#N/A"}},{"$f":"IF($A$124 = TRUE, IF($A$122=TRUE, IF($H$1=1, IF($F$1 = 1, Data!R177, NA()), NA()), NA()), NA())","v":{"$error":"#N/A"}},{"$f":"IF($A$122=TRUE, IF($A$124=TRUE, IF($F$1=1, IF($H$1=2, Data!S177, NA()), NA()), NA()), NA())","v":{"$error":"#N/A"}},{"$f":"IF($A$122 = TRUE, IF($A$124=TRUE, IF($F$1=1, IF($H$1=1, Data!T177, NA()), NA()),NA()), NA())","v":{"$error":"#N/A"}}]
[null,{"$f":"Data!B188","v":"Chemical Oxidation"},{"$f":"Data!C178","v":"Permanganates"},{"$f":"Data!E178","v":0},{"$f":"Data!H178","v":0},{"$f":"IF($A$124=TRUE, IF($A$122=TRUE, IF($H$1=2, IF($F$1 = 2, Data!I178, NA()), NA()), NA()), NA())","v":0.45902569999999998},{"$f":"IF($A$124=TRUE, IF($A$122=TRUE, IF($H$1=2, IF($F$1 = 2, Data!J178, NA()), NA()), NA()), NA())","v":0.26390770000000002},{"$f":"IF($A$124=TRUE, IF($A$122=TRUE, IF($H$1=1, IF($F$1 = 2, Data!K178, NA()), NA()), NA()), NA())","v":{"$error":"#N/A"}},{"$f":"IF($A$124=TRUE, IF($A$122=TRUE, IF($H$1=1, IF($F$1 = 2, Data!L178, NA()), NA()), NA()), NA())","v":{"$error":"#N/A"}},{"$f":"IF($A$122=TRUE, IF($A$124=TRUE, IF($F$1=2, IF($H$1=2, Data!M178, NA()), NA()), NA()), NA())","v":0.24038490000000001},{"$f":"IF($A$122 = TRUE, IF($A$124=TRUE, IF($F$1=2, IF($H$1=1, Data!N178, NA()), NA()),NA()), NA())","v":{"$error":"#N/A"}},{"$f":"IF($A$124=TRUE, IF($A$122= TRUE, IF($H$1=2, IF($F$1 = 1, Data!O178, NA()), NA()), NA()), NA())","v":{"$error":"#N/A"}},{"$f":"IF($A$124=TRUE, IF($A$122= TRUE, IF($H$1=2, IF($F$1 = 1, Data!P178, NA()), NA()), NA()), NA())","v":{"$error":"#N/A"}},{"$f":"IF($A$124 = TRUE, IF($A$122=TRUE, IF($H$1=1, IF($F$1 = 1, Data!Q178, NA()), NA()), NA()), NA())","v":{"$error":"#N/A"}},{"$f":"IF($A$124 = TRUE, IF($A$122=TRUE, IF($H$1=1, IF($F$1 = 1, Data!R178, NA()), NA()), NA()), NA())","v":{"$error":"#N/A"}},{"$f":"IF($A$122=TRUE, IF($A$124=TRUE, IF($F$1=1, IF($H$1=2, Data!S178, NA()), NA()), NA()), NA())","v":{"$error":"#N/A"}},{"$f":"IF($A$122 = TRUE, IF($A$124=TRUE, IF($F$1=1, IF($H$1=1, Data!T178, NA()), NA()),NA()), NA())","v":{"$error":"#N/A"}}]
[null,{"$f":"Data!B190","v":"Chemical Oxidation"},{"$f":"Data!C179","v":"Permanganates"},{"$f":"Data!E179","v":0},{"$f":"Data!H179","v":0},{"$f":"IF($A$124=TRUE, IF($A$122=TRUE, IF($H$1=2, IF($F$1 = 2, Data!I179, NA()), NA()), NA()), NA())","v":0.41599999999999998},{"$f":"IF($A$124=TRUE, IF($A$122=TRUE, IF($H$1=2, IF($F$1 = 2, Data!J179, NA()), NA()), NA()), NA())","v":4.0006399999999998E-2},{"$f":"IF($A$124=TRUE, IF($A$122=TRUE, IF($H$1=1, IF($F$1 = 2, Data!K179, NA()), NA()), NA()), NA())","v":{"$error":"#N/A"}},{"$f":"IF($A$124=TRUE, IF($A$122=TRUE, IF($H$1=1, IF($F$1 = 2, Data!L179, NA()), NA()), NA()), NA())","v":{"$error":"#N/A"}},{"$f":"IF($A$122=TRUE, IF($A$124=TRUE, IF($F$1=2, IF($H$1=2, Data!M179, NA()), NA()), NA()), NA())","v":1.0169634000000001},{"$f":"IF($A$122 = TRUE, IF($A$124=TRUE, IF($F$1=2, IF($H$1=1, Data!N179, NA()), NA()),NA()), NA())","v":{"$error":"#N/A"}},{"$f":"IF($A$124=TRUE, IF($A$122= TRUE, IF($H$1=2, IF($F$1 = 1, Data!O179, NA()), NA()), NA()), NA())","v":{"$error":"#N/A"}},{"$f":"IF($A$124=TRUE, IF($A$122= TRUE, IF($H$1=2, IF($F$1 = 1, Data!P179, NA()), NA()), NA()), NA())","v":{"$error":"#N/A"}},{"$f":"IF($A$124 = TRUE, IF($A$122=TRUE, IF($H$1=1, IF($F$1 = 1, Data!Q179, NA()), NA()), NA()), NA())","v":{"$error":"#N/A"}},{"$f":"IF($A$124 = TRUE, IF($A$122=TRUE, IF($H$1=1, IF($F$1 = 1, Data!R179, NA()), NA()), NA()), NA())","v":{"$error":"#N/A"}},{"$f":"IF($A$122=TRUE, IF($A$124=TRUE, IF($F$1=1, IF($H$1=2, Data!S179, NA()), NA()), NA()), NA())","v":{"$error":"#N/A"}},{"$f":"IF($A$122 = TRUE, IF($A$124=TRUE, IF($F$1=1, IF($H$1=1, Data!T179, NA()), NA()),NA()), NA())","v":{"$error":"#N/A"}}]
[null,{"$f":"Data!B136","v":"Chemical Oxidation"},{"$f":"Data!C180","v":"Ozone"},{"$f":"Data!E180","v":"Pilot"},{"$f":"Data!H180","v":"Fine-grained"},{"$f":"IF($A$123=TRUE, IF($A$122=TRUE, IF($H$1=2, IF($F$1 = 2, Data!I180, NA()), NA()), NA()), NA())","v":3.4000000000000002E-2},{"$f":"IF($A$123=TRUE, IF($A$122=TRUE, IF($H$1=2, IF($F$1 = 2, Data!J180, NA()), NA()), NA()), NA())","v":3.0000000000000001E-3},{"$f":"IF($A$123=TRUE, IF($A$122=TRUE, IF($H$1=1, IF($F$1 = 2, Data!K180, NA()), NA()), NA()), NA())","v":{"$error":"#N/A"}},{"$f":"IF($A$123=TRUE, IF($A$122=TRUE, IF($H$1=1, IF($F$1 = 2, Data!L180, NA()), NA()), NA()), NA())","v":{"$error":"#N/A"}},{"$f":"IF($A$122=TRUE, IF($A$123=TRUE, IF($F$1=2, IF($H$1=2, Data!M180, NA()), NA()), NA()), NA())","v":1.0543577},{"$f":"IF($A$122 = TRUE, IF($A$123=TRUE, IF($F$1=2, IF($H$1=1, Data!N180, NA()), NA()),NA()), NA())","v":{"$error":"#N/A"}},{"$f":"IF($A$123=TRUE, IF($A$122= TRUE, IF($H$1=2, IF($F$1 = 1, Data!O180, NA()), NA()), NA()), NA())","v":{"$error":"#N/A"}},{"$f":"IF($A$123=TRUE, IF($A$122= TRUE, IF($H$1=2, IF($F$1 = 1, Data!P180, NA()), NA()), NA()), NA())","v":{"$error":"#N/A"}},{"$f":"IF($A$123 = TRUE, IF($A$122=TRUE, IF($H$1=1, IF($F$1 = 1, Data!Q180, NA()), NA()), NA()), NA())","v":{"$error":"#N/A"}},{"$f":"IF($A$123 = TRUE, IF($A$122=TRUE, IF($H$1=1, IF($F$1 = 1, Data!R180, NA()), NA()), NA()), NA())","v":{"$error":"#N/A"}},{"$f":"IF($A$122=TRUE, IF($A$123=TRUE, IF($F$1=1, IF($H$1=2, Data!S180, NA()), NA()), NA()), NA())","v":{"$error":"#N/A"}},{"$f":"IF($A$122 = TRUE, IF($A$123=TRUE, IF($F$1=1, IF($H$1=1, Data!T180, NA()), NA()),NA()), NA())","v":{"$error":"#N/A"}}]
[null,{"$f":"Data!B142","v":"Chemical Oxidation"},{"$f":"Data!C181","v":"Ozone"},{"$f":"Data!E181","v":"Full"},{"$f":"Data!H181","v":"Fine-grained"},{"$f":"IF($A$123=TRUE, IF($A$122=TRUE, IF($H$1=2, IF($F$1 = 2, Data!I181, NA()), NA()), NA()), NA())","v":0.30367680000000002},{"$f":"IF($A$123=TRUE, IF($A$122=TRUE, IF($H$1=2, IF($F$1 = 2, Data!J181, NA()), NA()), NA()), NA())","v":6.3017199999999995E-2},{"$f":"IF($A$123=TRUE, IF($A$122=TRUE, IF($H$1=1, IF($F$1 = 2, Data!K181, NA()), NA()), NA()), NA())","v":{"$error":"#N/A"}},{"$f":"IF($A$123=TRUE, IF($A$122=TRUE, IF($H$1=1, IF($F$1 = 2, Data!L181, NA()), NA()), NA()), NA())","v":{"$error":"#N/A"}},{"$f":"IF($A$122=TRUE, IF($A$123=TRUE, IF($F$1=2, IF($H$1=2, Data!M181, NA()), NA()), NA()), NA())","v":0.68295240000000002},{"$f":"IF($A$122 = TRUE, IF($A$123=TRUE, IF($F$1=2, IF($H$1=1, Data!N181, NA()), NA()),NA()), NA())","v":{"$error":"#N/A"}},{"$f":"IF($A$123=TRUE, IF($A$122= TRUE, IF($H$1=2, IF($F$1 = 1, Data!O181, NA()), NA()), NA()), NA())","v":{"$error":"#N/A"}},{"$f":"IF($A$123=TRUE, IF($A$122= TRUE, IF($H$1=2, IF($F$1 = 1, Data!P181, NA()), NA()), NA()), NA())","v":{"$error":"#N/A"}},{"$f":"IF($A$123 = TRUE, IF($A$122=TRUE, IF($H$1=1, IF($F$1 = 1, Data!Q181, NA()), NA()), NA()), NA())","v":{"$error":"#N/A"}},{"$f":"IF($A$123 = TRUE, IF($A$122=TRUE, IF($H$1=1, IF($F$1 = 1, Data!R181, NA()), NA()), NA()), NA())","v":{"$error":"#N/A"}},{"$f":"IF($A$122=TRUE, IF($A$123=TRUE, IF($F$1=1, IF($H$1=2, Data!S181, NA()), NA()), NA()), NA())","v":{"$error":"#N/A"}},{"$f":"IF($A$122 = TRUE, IF($A$123=TRUE, IF($F$1=1, IF($H$1=1, Data!T181, NA()), NA()),NA()), NA())","v":{"$error":"#N/A"}}]
[null,{"$f":"Data!B152","v":"Chemical Oxidation"},{"$f":"Data!C182","v":"Ozone"},{"$f":"Data!E182","v":"Full"},{"$f":"Data!H182","v":"Coarse-grained"},{"$f":"IF($A$123=TRUE, IF($A$122=TRUE, IF($H$1=2, IF($F$1 = 2, Data!I182, NA()), NA()), NA()), NA())","v":8.9035999999999994E-3},{"$f":"IF($A$123=TRUE, IF($A$122=TRUE, IF($H$1=2, IF($F$1 = 2, Data!J182, NA()), NA()), NA()), NA())","v":2.2699999999999999E-3},{"$f":"IF($A$123=TRUE, IF($A$122=TRUE, IF($H$1=1, IF($F$1 = 2, Data!K182, NA()), NA()), NA()), NA())","v":{"$error":"#N/A"}},{"$f":"IF($A$123=TRUE, IF($A$122=TRUE, IF($H$1=1, IF($F$1 = 2, Data!L182, NA()), NA()), NA()), NA())","v":{"$error":"#N/A"}},{"$f":"IF($A$122=TRUE, IF($A$123=TRUE, IF($F$1=2, IF($H$1=2, Data!M182, NA()), NA()), NA()), NA())","v":0.59354130000000005},{"$f":"IF($A$122 = TRUE, IF($A$123=TRUE, IF($F$1=2, IF($H$1=1, Data!N182, NA()), NA()),NA()), NA())","v":{"$error":"#N/A"}},{"$f":"IF($A$123=TRUE, IF($A$122= TRUE, IF($H$1=2, IF($F$1 = 1, Data!O182, NA()), NA()), NA()), NA())","v":{"$error":"#N/A"}},{"$f":"IF($A$123=TRUE, IF($A$122= TRUE, IF($H$1=2, IF($F$1 = 1, Data!P182, NA()), NA()), NA()), NA())","v":{"$error":"#N/A"}},{"$f":"IF($A$123 = TRUE, IF($A$122=TRUE, IF($H$1=1, IF($F$1 = 1, Data!Q182, NA()), NA()), NA()), NA())","v":{"$error":"#N/A"}},{"$f":"IF($A$123 = TRUE, IF($A$122=TRUE, IF($H$1=1, IF($F$1 = 1, Data!R182, NA()), NA()), NA()), NA())","v":{"$error":"#N/A"}},{"$f":"IF($A$122=TRUE, IF($A$123=TRUE, IF($F$1=1, IF($H$1=2, Data!S182, NA()), NA()), NA()), NA())","v":{"$error":"#N/A"}},{"$f":"IF($A$122 = TRUE, IF($A$123=TRUE, IF($F$1=1, IF($H$1=1, Data!T182, NA()), NA()),NA()), NA())","v":{"$error":"#N/A"}}]
[null,{"$f":"Data!B173","v":"Chemical Oxidation"},{"$f":"Data!C183","v":"Persulfates & Peroxides"},{"$f":"Data!E183","v":"Full"},{"$f":"Data!H183","v":"Coarse-grained"},{"$f":"IF($A$128=TRUE, IF($A$122=TRUE, IF($H$1=2, IF($F$1 = 2, Data!I183, NA()), NA()), NA()), NA())","v":0.97},{"$f":"IF($A$128=TRUE, IF($A$122=TRUE, IF($H$1=2, IF($F$1 = 2, Data!J183, NA()), NA()), NA()), NA())","v":0.1169997},{"$f":"IF($A$128=TRUE, IF($A$122=TRUE, IF($H$1=1, IF($F$1 = 2, Data!K183, NA()), NA()), NA()), NA())","v":{"$error":"#N/A"}},{"$f":"IF($A$128=TRUE, IF($A$122=TRUE, IF($H$1=1, IF($F$1 = 2, Data!L183, NA()), NA()), NA()), NA())","v":{"$error":"#N/A"}},{"$f":"IF($A$122=TRUE, IF($A$128=TRUE, IF($F$1=2, IF($H$1=2, Data!M183, NA()), NA()), NA()), NA())","v":0.91858700000000004},{"$f":"IF($A$122 = TRUE, IF($A$128=TRUE, IF($F$1=2, IF($H$1=1, Data!N183, NA()), NA()),NA()), NA())","v":{"$error":"#N/A"}},{"$f":"IF($A$128=TRUE, IF($A$122= TRUE, IF($H$1=2, IF($F$1 = 1, Data!O183, NA()), NA()), NA()), NA())","v":{"$error":"#N/A"}},{"$f":"IF($A$128=TRUE, IF($A$122= TRUE, IF($H$1=2, IF($F$1 = 1, Data!P183, NA()), NA()), NA()), NA())","v":{"$error":"#N/A"}},{"$f":"IF($A$128 = TRUE, IF($A$122=TRUE, IF($H$1=1, IF($F$1 = 1, Data!Q183, NA()), NA()), NA()), NA())","v":{"$error":"#N/A"}},{"$f":"IF($A$128 = TRUE, IF($A$122=TRUE, IF($H$1=1, IF($F$1 = 1, Data!R183, NA()), NA()), NA()), NA())","v":{"$error":"#N/A"}},{"$f":"IF($A$122=TRUE, IF($A$128=TRUE, IF($F$1=1, IF($H$1=2, Data!S183, NA()), NA()), NA()), NA())","v":{"$error":"#N/A"}},{"$f":"IF($A$122 = TRUE, IF($A$128=TRUE, IF($F$1=1, IF($H$1=1, Data!T183, NA()), NA()),NA()), NA())","v":{"$error":"#N/A"}}]
[null,{"$f":"Data!B153","v":"Chemical Oxidation"},{"$f":"Data!C184","v":"Persulfates & Peroxides"},{"$f":"Data!E184","v":"Full"},{"$f":"Data!H184","v":"Coarse-grained"},{"$f":"IF($A$128=TRUE, IF($A$122=TRUE, IF($H$1=2, IF($F$1 = 2, Data!I184, NA()), NA()), NA()), NA())","v":96.074037000000004},{"$f":"IF($A$128=TRUE, IF($A$122=TRUE, IF($H$1=2, IF($F$1 = 2, Data!J184, NA()), NA()), NA()), NA())","v":32.440483700000001},{"$f":"IF($A$128=TRUE, IF($A$122=TRUE, IF($H$1=1, IF($F$1 = 2, Data!K184, NA()), NA()), NA()), NA())","v":{"$error":"#N/A"}},{"$f":"IF($A$128=TRUE, IF($A$122=TRUE, IF($H$1=1, IF($F$1 = 2, Data!L184, NA()), NA()), NA()), NA())","v":{"$error":"#N/A"}},{"$f":"IF($A$122=TRUE, IF($A$128=TRUE, IF($F$1=2, IF($H$1=2, Data!M184, NA()), NA()), NA()), NA())","v":0.47151870000000001},{"$f":"IF($A$122 = TRUE, IF($A$128=TRUE, IF($F$1=2, IF($H$1=1, Data!N184, NA()), NA()),NA()), NA())","v":{"$error":"#N/A"}},{"$f":"IF($A$128=TRUE, IF($A$122= TRUE, IF($H$1=2, IF($F$1 = 1, Data!O184, NA()), NA()), NA()), NA())","v":{"$error":"#N/A"}},{"$f":"IF($A$128=TRUE, IF($A$122= TRUE, IF($H$1=2, IF($F$1 = 1, Data!P184, NA()), NA()), NA()), NA())","v":{"$error":"#N/A"}},{"$f":"IF($A$128 = TRUE, IF($A$122=TRUE, IF($H$1=1, IF($F$1 = 1, Data!Q184, NA()), NA()), NA()), NA())","v":{"$error":"#N/A"}},{"$f":"IF($A$128 = TRUE, IF($A$122=TRUE, IF($H$1=1, IF($F$1 = 1, Data!R184, NA()), NA()), NA()), NA())","v":{"$error":"#N/A"}},{"$f":"IF($A$122=TRUE, IF($A$128=TRUE, IF($F$1=1, IF($H$1=2, Data!S184, NA()), NA()), NA()), NA())","v":{"$error":"#N/A"}},{"$f":"IF($A$122 = TRUE, IF($A$128=TRUE, IF($F$1=1, IF($H$1=1, Data!T184, NA()), NA()),NA()), NA())","v":{"$error":"#N/A"}}]
[null,{"$f":"Data!B132","v":"Chemical Oxidation"},{"$f":"Data!C185","v":"Peroxides & Permanganates"},{"$f":"Data!E185","v":"Full"},{"$f":"Data!H185","v":"Fine-grained"},{"$f":"IF($A$127=TRUE, IF($A$122=TRUE, IF($H$1=2, IF($F$1 = 2, Data!I185, NA()), NA()), NA()), NA())","v":1.0832303999999999},{"$f":"IF($A$127=TRUE, IF($A$122=TRUE, IF($H$1=2, IF($F$1 = 2, Data!J185, NA()), NA()), NA()), NA())","v":0.82340789999999997},{"$f":"IF($A$127=TRUE, IF($A$122=TRUE, IF($H$1=1, IF($F$1 = 2, Data!K185, NA()), NA()), NA()), NA())","v":{"$error":"#N/A"}},{"$f":"IF($A$127=TRUE, IF($A$122=TRUE, IF($H$1=1, IF($F$1 = 2, Data!L185, NA()), NA()), NA()), NA())","v":{"$error":"#N/A"}},{"$f":"IF($A$122=TRUE, IF($A$127=TRUE, IF($F$1=2, IF($H$1=2, Data!M185, NA()), NA()), NA()), NA())","v":0.1191058},{"$f":"IF($A$122 = TRUE, IF($A$127=TRUE, IF($F$1=2, IF($H$1=1, Data!N185, NA()), NA()),NA()), NA())","v":{"$error":"#N/A"}},{"$f":"IF($A$127=TRUE, IF($A$122= TRUE, IF($H$1=2, IF($F$1 = 1, Data!O185, NA()), NA()), NA()), NA())","v":{"$error":"#N/A"}},{"$f":"IF($A$127=TRUE, IF($A$122= TRUE, IF($H$1=2, IF($F$1 = 1, Data!P185, NA()), NA()), NA()), NA())","v":{"$error":"#N/A"}},{"$f":"IF($A$127 = TRUE, IF($A$122=TRUE, IF($H$1=1, IF($F$1 = 1, Data!Q185, NA()), NA()), NA()), NA())","v":{"$error":"#N/A"}},{"$f":"IF($A$127 = TRUE, IF($A$122=TRUE, IF($H$1=1, IF($F$1 = 1, Data!R185, NA()), NA()), NA()), NA())","v":{"$error":"#N/A"}},{"$f":"IF($A$122=TRUE, IF($A$127=TRUE, IF($F$1=1, IF($H$1=2, Data!S185, NA()), NA()), NA()), NA())","v":{"$error":"#N/A"}},{"$f":"IF($A$122 = TRUE, IF($A$127=TRUE, IF($F$1=1, IF($H$1=1, Data!T185, NA()), NA()),NA()), NA())","v":{"$error":"#N/A"}}]
[null,{"$f":"Data!B138","v":"Chemical Oxidation"},{"$f":"Data!C186","v":"Peroxides & Permanganates"},{"$f":"Data!E186","v":"Full"},{"$f":"Data!H186","v":"Fractured Rock"},{"$f":"IF($A$127=TRUE, IF($A$122=TRUE, IF($H$1=2, IF($F$1 = 2, Data!I186, NA()), NA()), NA()), NA())","v":1.9861485000000001},{"$f":"IF($A$127=TRUE, IF($A$122=TRUE, IF($H$1=2, IF($F$1 = 2, Data!J186, NA()), NA()), NA()), NA())","v":1.1025},{"$f":"IF($A$127=TRUE, IF($A$122=TRUE, IF($H$1=1, IF($F$1 = 2, Data!K186, NA()), NA()), NA()), NA())","v":{"$error":"#N/A"}},{"$f":"IF($A$127=TRUE, IF($A$122=TRUE, IF($H$1=1, IF($F$1 = 2, Data!L186, NA()), NA()), NA()), NA())","v":{"$error":"#N/A"}},{"$f":"IF($A$122=TRUE, IF($A$127=TRUE, IF($F$1=2, IF($H$1=2, Data!M186, NA()), NA()), NA()), NA())","v":0.2556331},{"$f":"IF($A$122 = TRUE, IF($A$127=TRUE, IF($F$1=2, IF($H$1=1, Data!N186, NA()), NA()),NA()), NA())","v":{"$error":"#N/A"}},{"$f":"IF($A$127=TRUE, IF($A$122= TRUE, IF($H$1=2, IF($F$1 = 1, Data!O186, NA()), NA()), NA()), NA())","v":{"$error":"#N/A"}},{"$f":"IF($A$127=TRUE, IF($A$122= TRUE, IF($H$1=2, IF($F$1 = 1, Data!P186, NA()), NA()), NA()), NA())","v":{"$error":"#N/A"}},{"$f":"IF($A$127 = TRUE, IF($A$122=TRUE, IF($H$1=1, IF($F$1 = 1, Data!Q186, NA()), NA()), NA()), NA())","v":{"$error":"#N/A"}},{"$f":"IF($A$127 = TRUE, IF($A$122=TRUE, IF($H$1=1, IF($F$1 = 1, Data!R186, NA()), NA()), NA()), NA())","v":{"$error":"#N/A"}},{"$f":"IF($A$122=TRUE, IF($A$127=TRUE, IF($F$1=1, IF($H$1=2, Data!S186, NA()), NA()), NA()), NA())","v":{"$error":"#N/A"}},{"$f":"IF($A$122 = TRUE, IF($A$127=TRUE, IF($F$1=1, IF($H$1=1, Data!T186, NA()), NA()),NA()), NA())","v":{"$error":"#N/A"}}]
[null,{"$f":"Data!B145","v":"Chemical Oxidation"},{"$f":"Data!C187","v":"Peroxides & Permanganates"},{"$f":"Data!E187","v":"Full"},{"$f":"Data!H187","v":"Fine-grained"},{"$f":"IF($A$127=TRUE, IF($A$122=TRUE, IF($H$1=2, IF($F$1 = 2, Data!I187, NA()), NA()), NA()), NA())","v":0.46910020000000002},{"$f":"IF($A$127=TRUE, IF($A$122=TRUE, IF($H$1=2, IF($F$1 = 2, Data!J187, NA()), NA()), NA()), NA())","v":0.1530011},{"$f":"IF($A$127=TRUE, IF($A$122=TRUE, IF($H$1=1, IF($F$1 = 2, Data!K187, NA()), NA()), NA()), NA())","v":{"$error":"#N/A"}},{"$f":"IF($A$127=TRUE, IF($A$122=TRUE, IF($H$1=1, IF($F$1 = 2, Data!L187, NA()), NA()), NA()), NA())","v":{"$error":"#N/A"}},{"$f":"IF($A$122=TRUE, IF($A$127=TRUE, IF($F$1=2, IF($H$1=2, Data!M187, NA()), NA()), NA()), NA())","v":0.48657099999999998},{"$f":"IF($A$122 = TRUE, IF($A$127=TRUE, IF($F$1=2, IF($H$1=1, Data!N187, NA()), NA()),NA()), NA())","v":{"$error":"#N/A"}},{"$f":"IF($A$127=TRUE, IF($A$122= TRUE, IF($H$1=2, IF($F$1 = 1, Data!O187, NA()), NA()), NA()), NA())","v":{"$error":"#N/A"}},{"$f":"IF($A$127=TRUE, IF($A$122= TRUE, IF($H$1=2, IF($F$1 = 1, Data!P187, NA()), NA()), NA()), NA())","v":{"$error":"#N/A"}},{"$f":"IF($A$127 = TRUE, IF($A$122=TRUE, IF($H$1=1, IF($F$1 = 1, Data!Q187, NA()), NA()), NA()), NA())","v":{"$error":"#N/A"}},{"$f":"IF($A$127 = TRUE, IF($A$122=TRUE, IF($H$1=1, IF($F$1 = 1, Data!R187, NA()), NA()), NA()), NA())","v":{"$error":"#N/A"}},{"$f":"IF($A$122=TRUE, IF($A$127=TRUE, IF($F$1=1, IF($H$1=2, Data!S187, NA()), NA()), NA()), NA())","v":{"$error":"#N/A"}},{"$f":"IF($A$122 = TRUE, IF($A$127=TRUE, IF($F$1=1, IF($H$1=1, Data!T187, NA()), NA()),NA()), NA())","v":{"$error":"#N/A"}}]
[null,{"$f":"Data!B171","v":"Chemical Oxidation"},{"$f":"Data!C188","v":"Persulfates"},{"$f":"Data!E188","v":"Full"},{"$f":"Data!H188","v":"Fine-grained"},{"$f":"IF($A$124=TRUE, IF($A$122=TRUE, IF($H$1=2, IF($F$1 = 2, Data!I188, NA()), NA()), NA()), NA())","v":0.21718860000000001},{"$f":"IF($A$124=TRUE, IF($A$122=TRUE, IF($H$1=2, IF($F$1 = 2, Data!J188, NA()), NA()), NA()), NA())","v":8.5929999999999999E-3},{"$f":"IF($A$124=TRUE, IF($A$122=TRUE, IF($H$1=1, IF($F$1 = 2, Data!K188, NA()), NA()), NA()), NA())","v":{"$error":"#N/A"}},{"$f":"IF($A$124=TRUE, IF($A$122=TRUE, IF($H$1=1, IF($F$1 = 2, Data!L188, NA()), NA()), NA()), NA())","v":{"$error":"#N/A"}},{"$f":"IF($A$122=TRUE, IF($A$125=TRUE, IF($F$1=2, IF($H$1=2, Data!M188, NA()), NA()), NA()), NA())","v":1.4026912},{"$f":"IF($A$122 = TRUE, IF($A$125=TRUE, IF($F$1=2, IF($H$1=1, Data!N188, NA()), NA()),NA()), NA())","v":{"$error":"#N/A"}},{"$f":"IF($A$124=TRUE, IF($A$122= TRUE, IF($H$1=2, IF($F$1 = 1, Data!O188, NA()), NA()), NA()), NA())","v":{"$error":"#N/A"}},{"$f":"IF($A$124=TRUE, IF($A$122= TRUE, IF($H$1=2, IF($F$1 = 1, Data!P188, NA()), NA()), NA()), NA())","v":{"$error":"#N/A"}},{"$f":"IF($A$124 = TRUE, IF($A$122=TRUE, IF($H$1=1, IF($F$1 = 1, Data!Q188, NA()), NA()), NA()), NA())","v":{"$error":"#N/A"}},{"$f":"IF($A$124 = TRUE, IF($A$122=TRUE, IF($H$1=1, IF($F$1 = 1, Data!R188, NA()), NA()), NA()), NA())","v":{"$error":"#N/A"}},{"$f":"IF($A$122=TRUE, IF($A$125=TRUE, IF($F$1=1, IF($H$1=2, Data!S188, NA()), NA()), NA()), NA())","v":{"$error":"#N/A"}},{"$f":"IF($A$122 = TRUE, IF($A$125=TRUE, IF($F$1=1, IF($H$1=1, Data!T188, NA()), NA()),NA()), NA())","v":{"$error":"#N/A"}}]
[null,{"$f":"Data!B177","v":"Chemical Oxidation"},{"$f":"Data!C189","v":"Persulfates"},{"$f":"Data!E189","v":0},{"$f":"Data!H189","v":0},{"$f":"IF($A$124=TRUE, IF($A$122=TRUE, IF($H$1=2, IF($F$1 = 2, Data!I189, NA()), NA()), NA()), NA())","v":0.64381829999999995},{"$f":"IF($A$124=TRUE, IF($A$122=TRUE, IF($H$1=2, IF($F$1 = 2, Data!J189, NA()), NA()), NA()), NA())","v":0.22046669999999999},{"$f":"IF($A$124=TRUE, IF($A$122=TRUE, IF($H$1=1, IF($F$1 = 2, Data!K189, NA()), NA()), NA()), NA())","v":{"$error":"#N/A"}},{"$f":"IF($A$124=TRUE, IF($A$122=TRUE, IF($H$1=1, IF($F$1 = 2, Data!L189, NA()), NA()), NA()), NA())","v":{"$error":"#N/A"}},{"$f":"IF($A$122=TRUE, IF($A$125=TRUE, IF($F$1=2, IF($H$1=2, Data!M189, NA()), NA()), NA()), NA())","v":0.46542040000000001},{"$f":"IF($A$122 = TRUE, IF($A$125=TRUE, IF($F$1=2, IF($H$1=1, Data!N189, NA()), NA()),NA()), NA())","v":{"$error":"#N/A"}},{"$f":"IF($A$124=TRUE, IF($A$122= TRUE, IF($H$1=2, IF($F$1 = 1, Data!O189, NA()), NA()), NA()), NA())","v":{"$error":"#N/A"}},{"$f":"IF($A$124=TRUE, IF($A$122= TRUE, IF($H$1=2, IF($F$1 = 1, Data!P189, NA()), NA()), NA()), NA())","v":{"$error":"#N/A"}},{"$f":"IF($A$124 = TRUE, IF($A$122=TRUE, IF($H$1=1, IF($F$1 = 1, Data!Q189, NA()), NA()), NA()), NA())","v":{"$error":"#N/A"}},{"$f":"IF($A$124 = TRUE, IF($A$122=TRUE, IF($H$1=1, IF($F$1 = 1, Data!R189, NA()), NA()), NA()), NA())","v":{"$error":"#N/A"}},{"$f":"IF($A$122=TRUE, IF($A$125=TRUE, IF($F$1=1, IF($H$1=2, Data!S189, NA()), NA()), NA()), NA())","v":{"$error":"#N/A"}},{"$f":"IF($A$122 = TRUE, IF($A$125=TRUE, IF($F$1=1, IF($H$1=1, Data!T189, NA()), NA()),NA()), NA())","v":{"$error":"#N/A"}}]
[null,{"$f":"Data!B180","v":"Chemical Oxidation"},{"$f":"Data!C190","v":"Persulfates"},{"$f":"Data!E190","v":0},{"$f":"Data!H190","v":0},{"$f":"IF($A$124=TRUE, IF($A$122=TRUE, IF($H$1=2, IF($F$1 = 2, Data!I190, NA()), NA()), NA()), NA())","v":1.47457E-2},{"$f":"IF($A$124=TRUE, IF($A$122=TRUE, IF($H$1=2, IF($F$1 = 2, Data!J190, NA()), NA()), NA()), NA())","v":9.1293999999999993E-3},{"$f":"IF($A$124=TRUE, IF($A$122=TRUE, IF($H$1=1, IF($F$1 = 2, Data!K190, NA()), NA()), NA()), NA())","v":{"$error":"#N/A"}},{"$f":"IF($A$124=TRUE, IF($A$122=TRUE, IF($H$1=1, IF($F$1 = 2, Data!L190, NA()), NA()), NA()), NA())","v":{"$error":"#N/A"}},{"$f":"IF($A$122=TRUE, IF($A$125=TRUE, IF($F$1=2, IF($H$1=2, Data!M190, NA()), NA()), NA()), NA())","v":0.2082233},{"$f":"IF($A$122 = TRUE, IF($A$125=TRUE, IF($F$1=2, IF($H$1=1, Data!N190, NA()), NA()),NA()), NA())","v":{"$error":"#N/A"}},{"$f":"IF($A$124=TRUE, IF($A$122= TRUE, IF($H$1=2, IF($F$1 = 1, Data!O190, NA()), NA()), NA()), NA())","v":{"$error":"#N/A"}},{"$f":"IF($A$124=TRUE, IF($A$122= TRUE, IF($H$1=2, IF($F$1 = 1, Data!P190, NA()), NA()), NA()), NA())","v":{"$error":"#N/A"}},{"$f":"IF($A$124 = TRUE, IF($A$122=TRUE, IF($H$1=1, IF($F$1 = 1, Data!Q190, NA()), NA()), NA()), NA())","v":{"$error":"#N/A"}},{"$f":"IF($A$124 = TRUE, IF($A$122=TRUE, IF($H$1=1, IF($F$1 = 1, Data!R190, NA()), NA()), NA()), NA())","v":{"$error":"#N/A"}},{"$f":"IF($A$122=TRUE, IF($A$125=TRUE, IF($F$1=1, IF($H$1=2, Data!S190, NA()), NA()), NA()), NA())","v":{"$error":"#N/A"}},{"$f":"IF($A$122 = TRUE, IF($A$125=TRUE, IF($F$1=1, IF($H$1=1, Data!T190, NA()), NA()),NA()), NA())","v":{"$error":"#N/A"}}]
[true,{"$f":"Data!B191","v":"Chemical Reduction"},{"$f":"Data!C191","v":"Nanoscale ZVI"},{"$f":"Data!E191","v":"Pilot"},{"$f":"Data!H191","v":"Fine-grained"},{"$f":"IF($A$194=TRUE, IF($A$192=TRUE, IF($H$1=2, IF($F$1 = 2, Data!I191, NA()), NA()), NA()), NA())","v":2.6825000000000001},{"$f":"IF($A$194=TRUE, IF($A$192=TRUE, IF($H$1=2, IF($F$1 = 2, Data!J191, NA()), NA()), NA()), NA())","v":3.85E-2},{"$f":"IF($A$194=TRUE, IF($A$192=TRUE, IF($H$1=1, IF($F$1 = 2, Data!K191, NA()), NA()), NA()), NA())","v":{"$error":"#N/A"}},{"$f":"IF($A$194=TRUE, IF($A$192=TRUE, IF($H$1=1, IF($F$1 = 2, Data!L191, NA()), NA()), NA()), NA())","v":{"$error":"#N/A"}},{"$f":"IF($A$192= TRUE, IF($A$194=TRUE, IF($F$1=2, IF($H$1=2, Data!M191, NA()), NA()), NA()), NA())","v":1.8430789999999999},{"$f":"IF($A$192=TRUE, IF($A$194=TRUE, IF($F$1=2, IF($H$1=1, Data!N191, NA()), NA()),NA()), NA())","v":{"$error":"#N/A"}},{"$f":"IF($A$194=TRUE, IF($A$192= TRUE, IF($H$1=2, IF($F$1 = 1, Data!O191, NA()), NA()), NA()), NA())","v":{"$error":"#N/A"}},{"$f":"IF($A$194=TRUE, IF($A$192= TRUE, IF($H$1=2, IF($F$1 = 1, Data!P191, NA()), NA()), NA()), NA())","v":{"$error":"#N/A"}},{"$f":"IF($A$194 = TRUE, IF($A$192=TRUE, IF($H$1=1, IF($F$1 = 1, Data!Q191, NA()), NA()), NA()), NA())","v":{"$error":"#N/A"}},{"$f":"IF($A$194 = TRUE, IF($A$192=TRUE, IF($H$1=1, IF($F$1 = 1, Data!R191, NA()), NA()), NA()), NA())","v":{"$error":"#N/A"}},{"$f":"IF($A$192=TRUE, IF($A$194=TRUE, IF($F$1=1, IF($H$1=2, Data!S191, NA()), NA()), NA()), NA())","v":{"$error":"#N/A"}},{"$f":"IF($A$192 = TRUE, IF($A$194=TRUE, IF($F$1=1, IF($H$1=1, Data!T191, NA()), NA()),NA()), NA())","v":{"$error":"#N/A"}}]
[true,{"$f":"Data!B192","v":"Chemical Reduction"},{"$f":"Data!C192","v":"Nanoscale ZVI"},{"$f":"Data!E192","v":0},{"$f":"Data!H192","v":"Fine-grained"},{"$f":"IF($A$194=TRUE, IF($A$192=TRUE, IF($H$1=2, IF($F$1 = 2, Data!I192, NA()), NA()), NA()), NA())","v":3},{"$f":"IF($A$194=TRUE, IF($A$192=TRUE, IF($H$1=2, IF($F$1 = 2, Data!J192, NA()), NA()), NA()), NA())","v":0.3},{"$f":"IF($A$194=TRUE, IF($A$192=TRUE, IF($H$1=1, IF($F$1 = 2, Data!K192, NA()), NA()), NA()), NA())","v":{"$error":"#N/A"}},{"$f":"IF($A$194=TRUE, IF($A$192=TRUE, IF($H$1=1, IF($F$1 = 2, Data!L192, NA()), NA()), NA()), NA())","v":{"$error":"#N/A"}},{"$f":"IF($A$192= TRUE, IF($A$194=TRUE, IF($F$1=2, IF($H$1=2, Data!M192, NA()), NA()), NA()), NA())","v":1},{"$f":"IF($A$192=TRUE, IF($A$194=TRUE, IF($F$1=2, IF($H$1=1, Data!N192, NA()), NA()),NA()), NA())","v":{"$error":"#N/A"}},{"$f":"IF($A$194=TRUE, IF($A$192= TRUE, IF($H$1=2, IF($F$1 = 1, Data!O192, NA()), NA()), NA()), NA())","v":{"$error":"#N/A"}},{"$f":"IF($A$194=TRUE, IF($A$192= TRUE, IF($H$1=2, IF($F$1 = 1, Data!P192, NA()), NA()), NA()), NA())","v":{"$error":"#N/A"}},{"$f":"IF($A$194 = TRUE, IF($A$192=TRUE, IF($H$1=1, IF($F$1 = 1, Data!Q192, NA()), NA()), NA()), NA())","v":{"$error":"#N/A"}},{"$f":"IF($A$194 = TRUE, IF($A$192=TRUE, IF($H$1=1, IF($F$1 = 1, Data!R192, NA()), NA()), NA()), NA())","v":{"$error":"#N/A"}},{"$f":"IF($A$192=TRUE, IF($A$194=TRUE, IF($F$1=1, IF($H$1=2, Data!S192, NA()), NA()), NA()), NA())","v":{"$error":"#N/A"}},{"$f":"IF($A$192 = TRUE, IF($A$194=TRUE, IF($F$1=1, IF($H$1=1, Data!T192, NA()), NA()),NA()), NA())","v":{"$error":"#N/A"}}]
[true,{"$f":"Data!B193","v":"Chemical Reduction"},{"$f":"Data!C193","v":"Nanoscale ZVI"},{"$f":"Data!E193","v":"Pilot"},{"$f":"Data!H193","v":"Fractured rock"},{"$f":"IF($A$194=TRUE, IF($A$192=TRUE, IF($H$1=2, IF($F$1 = 2, Data!I193, NA()), NA()), NA()), NA())","v":5.47},{"$f":"IF($A$194=TRUE, IF($A$192=TRUE, IF($H$1=2, IF($F$1 = 2, Data!J193, NA()), NA()), NA()), NA())","v":3.3500000000000002E-2},{"$f":"IF($A$194=TRUE, IF($A$192=TRUE, IF($H$1=1, IF($F$1 = 2, Data!K193, NA()), NA()), NA()), NA())","v":{"$error":"#N/A"}},{"$f":"IF($A$194=TRUE, IF($A$192=TRUE, IF($H$1=1, IF($F$1 = 2, Data!L193, NA()), NA()), NA()), NA())","v":{"$error":"#N/A"}},{"$f":"IF($A$192= TRUE, IF($A$194=TRUE, IF($F$1=2, IF($H$1=2, Data!M193, NA()), NA()), NA()), NA())","v":2.2129425},{"$f":"IF($A$192=TRUE, IF($A$194=TRUE, IF($F$1=2, IF($H$1=1, Data!N193, NA()), NA()),NA()), NA())","v":{"$error":"#N/A"}},{"$f":"IF($A$194=TRUE, IF($A$192= TRUE, IF($H$1=2, IF($F$1 = 1, Data!O193, NA()), NA()), NA()), NA())","v":{"$error":"#N/A"}},{"$f":"IF($A$194=TRUE, IF($A$192= TRUE, IF($H$1=2, IF($F$1 = 1, Data!P193, NA()), NA()), NA()), NA())","v":{"$error":"#N/A"}},{"$f":"IF($A$194 = TRUE, IF($A$192=TRUE, IF($H$1=1, IF($F$1 = 1, Data!Q193, NA()), NA()), NA()), NA())","v":{"$error":"#N/A"}},{"$f":"IF($A$194 = TRUE, IF($A$192=TRUE, IF($H$1=1, IF($F$1 = 1, Data!R193, NA()), NA()), NA()), NA())","v":{"$error":"#N/A"}},{"$f":"IF($A$192=TRUE, IF($A$194=TRUE, IF($F$1=1, IF($H$1=2, Data!S193, NA()), NA()), NA()), NA())","v":{"$error":"#N/A"}},{"$f":"IF($A$192 = TRUE, IF($A$194=TRUE, IF($F$1=1, IF($H$1=1, Data!T193, NA()), NA()),NA()), NA())","v":{"$error":"#N/A"}}]
[true,{"$f":"Data!B194","v":"Chemical Reduction"},{"$f":"Data!C194","v":"Nanoscale ZVI"},{"$f":"Data!E194","v":"Full"},{"$f":"Data!H194","v":"Fine-grained"},{"$f":"IF($A$194=TRUE, IF($A$192=TRUE, IF($H$1=2, IF($F$1 = 2, Data!I194, NA()), NA()), NA()), NA())","v":0.93808320000000001},{"$f":"IF($A$194=TRUE, IF($A$192=TRUE, IF($H$1=2, IF($F$1 = 2, Data!J194, NA()), NA()), NA()), NA())","v":4.8972E-3},{"$f":"IF($A$194=TRUE, IF($A$192=TRUE, IF($H$1=1, IF($F$1 = 2, Data!K194, NA()), NA()), NA()), NA())","v":{"$error":"#N/A"}},{"$f":"IF($A$194=TRUE, IF($A$192=TRUE, IF($H$1=1, IF($F$1 = 2, Data!L194, NA()), NA()), NA()), NA())","v":{"$error":"#N/A"}},{"$f":"IF($A$192= TRUE, IF($A$194=TRUE, IF($F$1=2, IF($H$1=2, Data!M194, NA()), NA()), NA()), NA())","v":2.2822952000000001},{"$f":"IF($A$192=TRUE, IF($A$194=TRUE, IF($F$1=2, IF($H$1=1, Data!N194, NA()), NA()),NA()), NA())","v":{"$error":"#N/A"}},{"$f":"IF($A$194=TRUE, IF($A$192= TRUE, IF($H$1=2, IF($F$1 = 1, Data!O194, NA()), NA()), NA()), NA())","v":{"$error":"#N/A"}},{"$f":"IF($A$194=TRUE, IF($A$192= TRUE, IF($H$1=2, IF($F$1 = 1, Data!P194, NA()), NA()), NA()), NA())","v":{"$error":"#N/A"}},{"$f":"IF($A$194 = TRUE, IF($A$192=TRUE, IF($H$1=1, IF($F$1 = 1, Data!Q194, NA()), NA()), NA()), NA())","v":{"$error":"#N/A"}},{"$f":"IF($A$194 = TRUE, IF($A$192=TRUE, IF($H$1=1, IF($F$1 = 1, Data!R194, NA()), NA()), NA()), NA())","v":{"$error":"#N/A"}},{"$f":"IF($A$192=TRUE, IF($A$194=TRUE, IF($F$1=1, IF($H$1=2, Data!S194, NA()), NA()), NA()), NA())","v":{"$error":"#N/A"}},{"$f":"IF($A$192 = TRUE, IF($A$194=TRUE, IF($F$1=1, IF($H$1=1, Data!T194, NA()), NA()),NA()), NA())","v":{"$error":"#N/A"}}]
[null,{"$f":"Data!B195","v":"Chemical Reduction"},{"$f":"Data!C195","v":"Nanoscale ZVI"},{"$f":"Data!E195","v":"Pilot"},{"$f":"Data!H195","v":"Coarse-grained"},{"$f":"IF($A$194=TRUE, IF($A$192=TRUE, IF($H$1=2, IF($F$1 = 2, Data!I195, NA()), NA()), NA()), NA())","v":1.18E-2},{"$f":"IF($A$194=TRUE, IF($A$192=TRUE, IF($H$1=2, IF($F$1 = 2, Data!J195, NA()), NA()), NA()), NA())","v":4.9892000000000001E-3},{"$f":"IF($A$194=TRUE, IF($A$192=TRUE, IF($H$1=1, IF($F$1 = 2, Data!K195, NA()), NA()), NA()), NA())","v":{"$error":"#N/A"}},{"$f":"IF($A$194=TRUE, IF($A$192=TRUE, IF($H$1=1, IF($F$1 = 2, Data!L195, NA()), NA()), NA()), NA())","v":{"$error":"#N/A"}},{"$f":"IF($A$192= TRUE, IF($A$194=TRUE, IF($F$1=2, IF($H$1=2, Data!M195, NA()), NA()), NA()), NA())","v":0.3738554},{"$f":"IF($A$192=TRUE, IF($A$194=TRUE, IF($F$1=2, IF($H$1=1, Data!N195, NA()), NA()),NA()), NA())","v":{"$error":"#N/A"}},{"$f":"IF($A$194=TRUE, IF($A$192= TRUE, IF($H$1=2, IF($F$1 = 1, Data!O195, NA()), NA()), NA()), NA())","v":{"$error":"#N/A"}},{"$f":"IF($A$194=TRUE, IF($A$192= TRUE, IF($H$1=2, IF($F$1 = 1, Data!P195, NA()), NA()), NA()), NA())","v":{"$error":"#N/A"}},{"$f":"IF($A$194 = TRUE, IF($A$192=TRUE, IF($H$1=1, IF($F$1 = 1, Data!Q195, NA()), NA()), NA()), NA())","v":{"$error":"#N/A"}},{"$f":"IF($A$194 = TRUE, IF($A$192=TRUE, IF($H$1=1, IF($F$1 = 1, Data!R195, NA()), NA()), NA()), NA())","v":{"$error":"#N/A"}},{"$f":"IF($A$192=TRUE, IF($A$194=TRUE, IF($F$1=1, IF($H$1=2, Data!S195, NA()), NA()), NA()), NA())","v":{"$error":"#N/A"}},{"$f":"IF($A$192 = TRUE, IF($A$194=TRUE, IF($F$1=1, IF($H$1=1, Data!T195, NA()), NA()),NA()), NA())","v":{"$error":"#N/A"}}]
[null,{"$f":"Data!B196","v":"Chemical Reduction"},{"$f":"Data!C196","v":"Nanoscale ZVI"},{"$f":"Data!E196","v":"Pilot"},{"$f":"Data!H196","v":"Fine-grained"},{"$f":"IF($A$194=TRUE, IF($A$192=TRUE, IF($H$1=2, IF($F$1 = 2, Data!I196, NA()), NA()), NA()), NA())","v":10},{"$f":"IF($A$194=TRUE, IF($A$192=TRUE, IF($H$1=2, IF($F$1 = 2, Data!J196, NA()), NA()), NA()), NA())","v":6},{"$f":"IF($A$194=TRUE, IF($A$192=TRUE, IF($H$1=1, IF($F$1 = 2, Data!K196, NA()), NA()), NA()), NA())","v":{"$error":"#N/A"}},{"$f":"IF($A$194=TRUE, IF($A$192=TRUE, IF($H$1=1, IF($F$1 = 2, Data!L196, NA()), NA()), NA()), NA())","v":{"$error":"#N/A"}},{"$f":"IF($A$192= TRUE, IF($A$194=TRUE, IF($F$1=2, IF($H$1=2, Data!M196, NA()), NA()), NA()), NA())","v":0.22184870000000001},{"$f":"IF($A$192=TRUE, IF($A$194=TRUE, IF($F$1=2, IF($H$1=1, Data!N196, NA()), NA()),NA()), NA())","v":{"$error":"#N/A"}},{"$f":"IF($A$194=TRUE, IF($A$192= TRUE, IF($H$1=2, IF($F$1 = 1, Data!O196, NA()), NA()), NA()), NA())","v":{"$error":"#N/A"}},{"$f":"IF($A$194=TRUE, IF($A$192= TRUE, IF($H$1=2, IF($F$1 = 1, Data!P196, NA()), NA()), NA()), NA())","v":{"$error":"#N/A"}},{"$f":"IF($A$194 = TRUE, IF($A$192=TRUE, IF($H$1=1, IF($F$1 = 1, Data!Q196, NA()), NA()), NA()), NA())","v":{"$error":"#N/A"}},{"$f":"IF($A$194 = TRUE, IF($A$192=TRUE, IF($H$1=1, IF($F$1 = 1, Data!R196, NA()), NA()), NA()), NA())","v":{"$error":"#N/A"}},{"$f":"IF($A$192=TRUE, IF($A$194=TRUE, IF($F$1=1, IF($H$1=2, Data!S196, NA()), NA()), NA()), NA())","v":{"$error":"#N/A"}},{"$f":"IF($A$192 = TRUE, IF($A$194=TRUE, IF($F$1=1, IF($H$1=1, Data!T196, NA()), NA()),NA()), NA())","v":{"$error":"#N/A"}}]
[null,{"$f":"Data!B197","v":"Chemical Reduction"},{"$f":"Data!C197","v":"Nanoscale ZVI"},{"$f":"Data!E197","v":"Pilot"},{"$f":"Data!H197","v":"Fine-grained"},{"$f":"IF($A$194=TRUE, IF($A$192=TRUE, IF($H$1=2, IF($F$1 = 2, Data!I197, NA()), NA()), NA()), NA())","v":14},{"$f":"IF($A$194=TRUE, IF($A$192=TRUE, IF($H$1=2, IF($F$1 = 2, Data!J197, NA()), NA()), NA()), NA())","v":0.20601639999999999},{"$f":"IF($A$194=TRUE, IF($A$192=TRUE, IF($H$1=1, IF($F$1 = 2, Data!K197, NA()), NA()), NA()), NA())","v":{"$error":"#N/A"}},{"$f":"IF($A$194=TRUE, IF($A$192=TRUE, IF($H$1=1, IF($F$1 = 2, Data!L197, NA()), NA()), NA()), NA())","v":{"$error":"#N/A"}},{"$f":"IF($A$192= TRUE, IF($A$194=TRUE, IF($F$1=2, IF($H$1=2, Data!M197, NA()), NA()), NA()), NA())","v":1.8322262},{"$f":"IF($A$192=TRUE, IF($A$194=TRUE, IF($F$1=2, IF($H$1=1, Data!N197, NA()), NA()),NA()), NA())","v":{"$error":"#N/A"}},{"$f":"IF($A$194=TRUE, IF($A$192= TRUE, IF($H$1=2, IF($F$1 = 1, Data!O197, NA()), NA()), NA()), NA())","v":{"$error":"#N/A"}},{"$f":"IF($A$194=TRUE, IF($A$192= TRUE, IF($H$1=2, IF($F$1 = 1, Data!P197, NA()), NA()), NA()), NA())","v":{"$error":"#N/A"}},{"$f":"IF($A$194 = TRUE, IF($A$192=TRUE, IF($H$1=1, IF($F$1 = 1, Data!Q197, NA()), NA()), NA()), NA())","v":{"$error":"#N/A"}},{"$f":"IF($A$194 = TRUE, IF($A$192=TRUE, IF($H$1=1, IF($F$1 = 1, Data!R197, NA()), NA()), NA()), NA())","v":{"$error":"#N/A"}},{"$f":"IF($A$192=TRUE, IF($A$194=TRUE, IF($F$1=1, IF($H$1=2, Data!S197, NA()), NA()), NA()), NA())","v":{"$error":"#N/A"}},{"$f":"IF($A$192 = TRUE, IF($A$194=TRUE, IF($F$1=1, IF($H$1=1, Data!T197, NA()), NA()),NA()), NA())","v":{"$error":"#N/A"}}]
[null,{"$f":"Data!B198","v":"Chemical Reduction"},{"$f":"Data!C198","v":"Nanoscale ZVI"},{"$f":"Data!E198","v":0},{"$f":"Data!H198","v":"Fine-grained"},{"$f":"IF($A$194=TRUE, IF($A$192=TRUE, IF($H$1=2, IF($F$1 = 2, Data!I198, NA()), NA()), NA()), NA())","v":1.5},{"$f":"IF($A$194=TRUE, IF($A$192=TRUE, IF($H$1=2, IF($F$1 = 2, Data!J198, NA()), NA()), NA()), NA())","v":0.1},{"$f":"IF($A$194=TRUE, IF($A$192=TRUE, IF($H$1=1, IF($F$1 = 2, Data!K198, NA()), NA()), NA()), NA())","v":{"$error":"#N/A"}},{"$f":"IF($A$194=TRUE, IF($A$192=TRUE, IF($H$1=1, IF($F$1 = 2, Data!L198, NA()), NA()), NA()), NA())","v":{"$error":"#N/A"}},{"$f":"IF($A$192= TRUE, IF($A$194=TRUE, IF($F$1=2, IF($H$1=2, Data!M198, NA()), NA()), NA()), NA())","v":1.1760913},{"$f":"IF($A$192=TRUE, IF($A$194=TRUE, IF($F$1=2, IF($H$1=1, Data!N198, NA()), NA()),NA()), NA())","v":{"$error":"#N/A"}},{"$f":"IF($A$194=TRUE, IF($A$192= TRUE, IF($H$1=2, IF($F$1 = 1, Data!O198, NA()), NA()), NA()), NA())","v":{"$error":"#N/A"}},{"$f":"IF($A$194=TRUE, IF($A$192= TRUE, IF($H$1=2, IF($F$1 = 1, Data!P198, NA()), NA()), NA()), NA())","v":{"$error":"#N/A"}},{"$f":"IF($A$194 = TRUE, IF($A$192=TRUE, IF($H$1=1, IF($F$1 = 1, Data!Q198, NA()), NA()), NA()), NA())","v":{"$error":"#N/A"}},{"$f":"IF($A$194 = TRUE, IF($A$192=TRUE, IF($H$1=1, IF($F$1 = 1, Data!R198, NA()), NA()), NA()), NA())","v":{"$error":"#N/A"}},{"$f":"IF($A$192=TRUE, IF($A$194=TRUE, IF($F$1=1, IF($H$1=2, Data!S198, NA()), NA()), NA()), NA())","v":{"$error":"#N/A"}},{"$f":"IF($A$192 = TRUE, IF($A$194=TRUE, IF($F$1=1, IF($H$1=1, Data!T198, NA()), NA()),NA()), NA())","v":{"$error":"#N/A"}}]
[null,{"$f":"Data!B199","v":"Chemical Reduction"},{"$f":"Data!C199","v":"Nanoscale ZVI"},{"$f":"Data!E199","v":"Pilot"},{"$f":"Data!H199","v":"Coarse-grained"},{"$f":"IF($A$194=TRUE, IF($A$192=TRUE, IF($H$1=2, IF($F$1 = 2, Data!I199, NA()), NA()), NA()), NA())","v":0.28000000000000003},{"$f":"IF($A$194=TRUE, IF($A$192=TRUE, IF($H$1=2, IF($F$1 = 2, Data!J199, NA()), NA()), NA()), NA())","v":1.8719699999999999E-2},{"$f":"IF($A$194=TRUE, IF($A$192=TRUE, IF($H$1=1, IF($F$1 = 2, Data!K199, NA()), NA()), NA()), NA())","v":{"$error":"#N/A"}},{"$f":"IF($A$194=TRUE, IF($A$192=TRUE, IF($H$1=1, IF($F$1 = 2, Data!L199, NA()), NA()), NA()), NA())","v":{"$error":"#N/A"}},{"$f":"IF($A$192= TRUE, IF($A$194=TRUE, IF($F$1=2, IF($H$1=2, Data!M199, NA()), NA()), NA()), NA())","v":1.1748593000000001},{"$f":"IF($A$192=TRUE, IF($A$194=TRUE, IF($F$1=2, IF($H$1=1, Data!N199, NA()), NA()),NA()), NA())","v":{"$error":"#N/A"}},{"$f":"IF($A$194=TRUE, IF($A$192= TRUE, IF($H$1=2, IF($F$1 = 1, Data!O199, NA()), NA()), NA()), NA())","v":{"$error":"#N/A"}},{"$f":"IF($A$194=TRUE, IF($A$192= TRUE, IF($H$1=2, IF($F$1 = 1, Data!P199, NA()), NA()), NA()), NA())","v":{"$error":"#N/A"}},{"$f":"IF($A$194 = TRUE, IF($A$192=TRUE, IF($H$1=1, IF($F$1 = 1, Data!Q199, NA()), NA()), NA()), NA())","v":{"$error":"#N/A"}},{"$f":"IF($A$194 = TRUE, IF($A$192=TRUE, IF($H$1=1, IF($F$1 = 1, Data!R199, NA()), NA()), NA()), NA())","v":{"$error":"#N/A"}},{"$f":"IF($A$192=TRUE, IF($A$194=TRUE, IF($F$1=1, IF($H$1=2, Data!S199, NA()), NA()), NA()), NA())","v":{"$error":"#N/A"}},{"$f":"IF($A$192 = TRUE, IF($A$194=TRUE, IF($F$1=1, IF($H$1=1, Data!T199, NA()), NA()),NA()), NA())","v":{"$error":"#N/A"}}]
[null,{"$f":"Data!B200","v":"Chemical Reduction"},{"$f":"Data!C200","v":"Nanoscale ZVI"},{"$f":"Data!E200","v":"Pilot"},{"$f":"Data!H200","v":"Fine-grained"},{"$f":"IF($A$194=TRUE, IF($A$192=TRUE, IF($H$1=2, IF($F$1 = 2, Data!I200, NA()), NA()), NA()), NA())","v":241},{"$f":"IF($A$194=TRUE, IF($A$192=TRUE, IF($H$1=2, IF($F$1 = 2, Data!J200, NA()), NA()), NA()), NA())","v":1.2489996000000001},{"$f":"IF($A$194=TRUE, IF($A$192=TRUE, IF($H$1=1, IF($F$1 = 2, Data!K200, NA()), NA()), NA()), NA())","v":{"$error":"#N/A"}},{"$f":"IF($A$194=TRUE, IF($A$192=TRUE, IF($H$1=1, IF($F$1 = 2, Data!L200, NA()), NA()), NA()), NA())","v":{"$error":"#N/A"}},{"$f":"IF($A$192= TRUE, IF($A$194=TRUE, IF($F$1=2, IF($H$1=2, Data!M200, NA()), NA()), NA()), NA())","v":2.2854546999999998},{"$f":"IF($A$192=TRUE, IF($A$194=TRUE, IF($F$1=2, IF($H$1=1, Data!N200, NA()), NA()),NA()), NA())","v":{"$error":"#N/A"}},{"$f":"IF($A$194=TRUE, IF($A$192= TRUE, IF($H$1=2, IF($F$1 = 1, Data!O200, NA()), NA()), NA()), NA())","v":{"$error":"#N/A"}},{"$f":"IF($A$194=TRUE, IF($A$192= TRUE, IF($H$1=2, IF($F$1 = 1, Data!P200, NA()), NA()), NA()), NA())","v":{"$error":"#N/A"}},{"$f":"IF($A$194 = TRUE, IF($A$192=TRUE, IF($H$1=1, IF($F$1 = 1, Data!Q200, NA()), NA()), NA()), NA())","v":{"$error":"#N/A"}},{"$f":"IF($A$194 = TRUE, IF($A$192=TRUE, IF($H$1=1, IF($F$1 = 1, Data!R200, NA()), NA()), NA()), NA())","v":{"$error":"#N/A"}},{"$f":"IF($A$192=TRUE, IF($A$194=TRUE, IF($F$1=1, IF($H$1=2, Data!S200, NA()), NA()), NA()), NA())","v":{"$error":"#N/A"}},{"$f":"IF($A$192 = TRUE, IF($A$194=TRUE, IF($F$1=1, IF($H$1=1, Data!T200, NA()), NA()),NA()), NA())","v":{"$error":"#N/A"}}]
[null,{"$f":"Data!B206","v":"Chemical Reduction"},{"$f":"Data!C201","v":"Microscale ZVI"},{"$f":"Data!E201","v":"Pilot"},{"$f":"Data!H201","v":"Fractured rock"},{"$f":"IF($A$194=TRUE, IF($A$192=TRUE, IF($H$1=2, IF($F$1 = 2, Data!I201, NA()), NA()), NA()), NA())","v":58.5},{"$f":"IF($A$194=TRUE, IF($A$192=TRUE, IF($H$1=2, IF($F$1 = 2, Data!J201, NA()), NA()), NA()), NA())","v":0.23819299999999999},{"$f":"IF($A$194=TRUE, IF($A$192=TRUE, IF($H$1=1, IF($F$1 = 2, Data!K201, NA()), NA()), NA()), NA())","v":{"$error":"#N/A"}},{"$f":"IF($A$194=TRUE, IF($A$192=TRUE, IF($H$1=1, IF($F$1 = 2, Data!L201, NA()), NA()), NA()), NA())","v":{"$error":"#N/A"}},{"$f":"IF($A$192= TRUE, IF($A$193=TRUE, IF($F$1=2, IF($H$1=2, Data!M201, NA()), NA()), NA()), NA())","v":2.3902269},{"$f":"IF($A$192=TRUE, IF($A$193=TRUE, IF($F$1=2, IF($H$1=1, Data!N201, NA()), NA()),NA()), NA())","v":{"$error":"#N/A"}},{"$f":"IF($A$194=TRUE, IF($A$192= TRUE, IF($H$1=2, IF($F$1 = 1, Data!O201, NA()), NA()), NA()), NA())","v":{"$error":"#N/A"}},{"$f":"IF($A$194=TRUE, IF($A$192= TRUE, IF($H$1=2, IF($F$1 = 1, Data!P201, NA()), NA()), NA()), NA())","v":{"$error":"#N/A"}},{"$f":"IF($A$194 = TRUE, IF($A$192=TRUE, IF($H$1=1, IF($F$1 = 1, Data!Q201, NA()), NA()), NA()), NA())","v":{"$error":"#N/A"}},{"$f":"IF($A$194 = TRUE, IF($A$192=TRUE, IF($H$1=1, IF($F$1 = 1, Data!R201, NA()), NA()), NA()), NA())","v":{"$error":"#N/A"}},{"$f":"IF($A$192=TRUE, IF($A$193=TRUE, IF($F$1=1, IF($H$1=2, Data!S201, NA()), NA()), NA()), NA())","v":{"$error":"#N/A"}},{"$f":"IF($A$192 = TRUE, IF($A$193=TRUE, IF($F$1=1, IF($H$1=1, Data!T201, NA()), NA()),NA()), NA())","v":{"$error":"#N/A"}}]
[null,{"$f":"Data!B201","v":"Chemical Reduction"},{"$f":"Data!C202","v":"Microscale ZVI"},{"$f":"Data!E202","v":"Full"},{"$f":"Data!H202","v":"Coarse-grained"},{"$f":"IF($A$193=TRUE, IF($A$192=TRUE, IF($H$1=2, IF($F$1 = 2, Data!I202, NA()), NA()), NA()), NA())","v":0.21299999999999999},{"$f":"IF($A$193=TRUE, IF($A$192=TRUE, IF($H$1=2, IF($F$1 = 2, Data!J202, NA()), NA()), NA()), NA())","v":0.2759953},{"$f":"IF($A$193=TRUE, IF($A$192=TRUE, IF($H$1=1, IF($F$1 = 2, Data!K202, NA()), NA()), NA()), NA())","v":{"$error":"#N/A"}},{"$f":"IF($A$193=TRUE, IF($A$192=TRUE, IF($H$1=1, IF($F$1 = 2, Data!L202, NA()), NA()), NA()), NA())","v":{"$error":"#N/A"}},{"$f":"IF($A$192= TRUE, IF($A$193=TRUE, IF($F$1=2, IF($H$1=2, Data!M202, NA()), NA()), NA()), NA())","v":-0.1125221},{"$f":"IF($A$192=TRUE, IF($A$193=TRUE, IF($F$1=2, IF($H$1=1, Data!N202, NA()), NA()),NA()), NA())","v":{"$error":"#N/A"}},{"$f":"IF($A$193=TRUE, IF($A$192= TRUE, IF($H$1=2, IF($F$1 = 1, Data!O202, NA()), NA()), NA()), NA())","v":{"$error":"#N/A"}},{"$f":"IF($A$193=TRUE, IF($A$192= TRUE, IF($H$1=2, IF($F$1 = 1, Data!P202, NA()), NA()), NA()), NA())","v":{"$error":"#N/A"}},{"$f":"IF($A$193 = TRUE, IF($A$192=TRUE, IF($H$1=1, IF($F$1 = 1, Data!Q202, NA()), NA()), NA()), NA())","v":{"$error":"#N/A"}},{"$f":"IF($A$193 = TRUE, IF($A$192=TRUE, IF($H$1=1, IF($F$1 = 1, Data!R202, NA()), NA()), NA()), NA())","v":{"$error":"#N/A"}},{"$f":"IF($A$192=TRUE, IF($A$193=TRUE, IF($F$1=1, IF($H$1=2, Data!S202, NA()), NA()), NA()), NA())","v":{"$error":"#N/A"}},{"$f":"IF($A$192 = TRUE, IF($A$193=TRUE, IF($F$1=1, IF($H$1=1, Data!T202, NA()), NA()),NA()), NA())","v":{"$error":"#N/A"}}]
[null,{"$f":"Data!B202","v":"Chemical Reduction"},{"$f":"Data!C203","v":"Microscale ZVI"},{"$f":"Data!E203","v":"Full"},{"$f":"Data!H203","v":"Fractured rock"},{"$f":"IF($A$193=TRUE, IF($A$192=TRUE, IF($H$1=2, IF($F$1 = 2, Data!I203, NA()), NA()), NA()), NA())","v":1.1000000000000001},{"$f":"IF($A$193=TRUE, IF($A$192=TRUE, IF($H$1=2, IF($F$1 = 2, Data!J203, NA()), NA()), NA()), NA())","v":4.6416000000000001E-3},{"$f":"IF($A$193=TRUE, IF($A$192=TRUE, IF($H$1=1, IF($F$1 = 2, Data!K203, NA()), NA()), NA()), NA())","v":{"$error":"#N/A"}},{"$f":"IF($A$193=TRUE, IF($A$192=TRUE, IF($H$1=1, IF($F$1 = 2, Data!L203, NA()), NA()), NA()), NA())","v":{"$error":"#N/A"}},{"$f":"IF($A$192= TRUE, IF($A$193=TRUE, IF($F$1=2, IF($H$1=2, Data!M203, NA()), NA()), NA()), NA())","v":2.3747259999999999},{"$f":"IF($A$192=TRUE, IF($A$193=TRUE, IF($F$1=2, IF($H$1=1, Data!N203, NA()), NA()),NA()), NA())","v":{"$error":"#N/A"}},{"$f":"IF($A$193=TRUE, IF($A$192= TRUE, IF($H$1=2, IF($F$1 = 1, Data!O203, NA()), NA()), NA()), NA())","v":{"$error":"#N/A"}},{"$f":"IF($A$193=TRUE, IF($A$192= TRUE, IF($H$1=2, IF($F$1 = 1, Data!P203, NA()), NA()), NA()), NA())","v":{"$error":"#N/A"}},{"$f":"IF($A$193 = TRUE, IF($A$192=TRUE, IF($H$1=1, IF($F$1 = 1, Data!Q203, NA()), NA()), NA()), NA())","v":{"$error":"#N/A"}},{"$f":"IF($A$193 = TRUE, IF($A$192=TRUE, IF($H$1=1, IF($F$1 = 1, Data!R203, NA()), NA()), NA()), NA())","v":{"$error":"#N/A"}},{"$f":"IF($A$192=TRUE, IF($A$193=TRUE, IF($F$1=1, IF($H$1=2, Data!S203, NA()), NA()), NA()), NA())","v":{"$error":"#N/A"}},{"$f":"IF($A$192 = TRUE, IF($A$193=TRUE, IF($F$1=1, IF($H$1=1, Data!T203, NA()), NA()),NA()), NA())","v":{"$error":"#N/A"}}]
[null,{"$f":"Data!B203","v":"Chemical Reduction"},{"$f":"Data!C204","v":"Microscale ZVI"},{"$f":"Data!E204","v":"Full"},{"$f":"Data!H204","v":0},{"$f":"IF($A$193=TRUE, IF($A$192=TRUE, IF($H$1=2, IF($F$1 = 2, Data!I204, NA()), NA()), NA()), NA())","v":0.15},{"$f":"IF($A$193=TRUE, IF($A$192=TRUE, IF($H$1=2, IF($F$1 = 2, Data!J204, NA()), NA()), NA()), NA())","v":1.4409699999999999E-2},{"$f":"IF($A$193=TRUE, IF($A$192=TRUE, IF($H$1=1, IF($F$1 = 2, Data!K204, NA()), NA()), NA()), NA())","v":{"$error":"#N/A"}},{"$f":"IF($A$193=TRUE, IF($A$192=TRUE, IF($H$1=1, IF($F$1 = 2, Data!L204, NA()), NA()), NA()), NA())","v":{"$error":"#N/A"}},{"$f":"IF($A$192= TRUE, IF($A$193=TRUE, IF($F$1=2, IF($H$1=2, Data!M204, NA()), NA()), NA()), NA())","v":1.0174373999999999},{"$f":"IF($A$192=TRUE, IF($A$193=TRUE, IF($F$1=2, IF($H$1=1, Data!N204, NA()), NA()),NA()), NA())","v":{"$error":"#N/A"}},{"$f":"IF($A$193=TRUE, IF($A$192= TRUE, IF($H$1=2, IF($F$1 = 1, Data!O204, NA()), NA()), NA()), NA())","v":{"$error":"#N/A"}},{"$f":"IF($A$193=TRUE, IF($A$192= TRUE, IF($H$1=2, IF($F$1 = 1, Data!P204, NA()), NA()), NA()), NA())","v":{"$error":"#N/A"}},{"$f":"IF($A$193 = TRUE, IF($A$192=TRUE, IF($H$1=1, IF($F$1 = 1, Data!Q204, NA()), NA()), NA()), NA())","v":{"$error":"#N/A"}},{"$f":"IF($A$193 = TRUE, IF($A$192=TRUE, IF($H$1=1, IF($F$1 = 1, Data!R204, NA()), NA()), NA()), NA())","v":{"$error":"#N/A"}},{"$f":"IF($A$192=TRUE, IF($A$193=TRUE, IF($F$1=1, IF($H$1=2, Data!S204, NA()), NA()), NA()), NA())","v":{"$error":"#N/A"}},{"$f":"IF($A$192 = TRUE, IF($A$193=TRUE, IF($F$1=1, IF($H$1=1, Data!T204, NA()), NA()),NA()), NA())","v":{"$error":"#N/A"}}]
[null,{"$f":"Data!B204","v":"Chemical Reduction"},{"$f":"Data!C205","v":"Microscale ZVI"},{"$f":"Data!E205","v":"Pilot"},{"$f":"Data!H205","v":"Fractured rock"},{"$f":"IF($A$193=TRUE, IF($A$192=TRUE, IF($H$1=2, IF($F$1 = 2, Data!I205, NA()), NA()), NA()), NA())","v":1.0449999999999999},{"$f":"IF($A$193=TRUE, IF($A$192=TRUE, IF($H$1=2, IF($F$1 = 2, Data!J205, NA()), NA()), NA()), NA())","v":4.1658000000000001E-2},{"$f":"IF($A$193=TRUE, IF($A$192=TRUE, IF($H$1=1, IF($F$1 = 2, Data!K205, NA()), NA()), NA()), NA())","v":{"$error":"#N/A"}},{"$f":"IF($A$193=TRUE, IF($A$192=TRUE, IF($H$1=1, IF($F$1 = 2, Data!L205, NA()), NA()), NA()), NA())","v":{"$error":"#N/A"}},{"$f":"IF($A$192= TRUE, IF($A$193=TRUE, IF($F$1=2, IF($H$1=2, Data!M205, NA()), NA()), NA()), NA())","v":1.3994177999999999},{"$f":"IF($A$192=TRUE, IF($A$193=TRUE, IF($F$1=2, IF($H$1=1, Data!N205, NA()), NA()),NA()), NA())","v":{"$error":"#N/A"}},{"$f":"IF($A$193=TRUE, IF($A$192= TRUE, IF($H$1=2, IF($F$1 = 1, Data!O205, NA()), NA()), NA()), NA())","v":{"$error":"#N/A"}},{"$f":"IF($A$193=TRUE, IF($A$192= TRUE, IF($H$1=2, IF($F$1 = 1, Data!P205, NA()), NA()), NA()), NA())","v":{"$error":"#N/A"}},{"$f":"IF($A$193 = TRUE, IF($A$192=TRUE, IF($H$1=1, IF($F$1 = 1, Data!Q205, NA()), NA()), NA()), NA())","v":{"$error":"#N/A"}},{"$f":"IF($A$193 = TRUE, IF($A$192=TRUE, IF($H$1=1, IF($F$1 = 1, Data!R205, NA()), NA()), NA()), NA())","v":{"$error":"#N/A"}},{"$f":"IF($A$192=TRUE, IF($A$193=TRUE, IF($F$1=1, IF($H$1=2, Data!S205, NA()), NA()), NA()), NA())","v":{"$error":"#N/A"}},{"$f":"IF($A$192 = TRUE, IF($A$193=TRUE, IF($F$1=1, IF($H$1=1, Data!T205, NA()), NA()),NA()), NA())","v":{"$error":"#N/A"}}]
[null,{"$f":"Data!B205","v":"Chemical Reduction"},{"$f":"Data!C206","v":"Nanoscale ZVI"},{"$f":"Data!E206","v":"Full"},{"$f":"Data!H206","v":"Fine-grained"},{"$f":"IF($A$193=TRUE, IF($A$192=TRUE, IF($H$1=2, IF($F$1 = 2, Data!I206, NA()), NA()), NA()), NA())","v":0.4},{"$f":"IF($A$193=TRUE, IF($A$192=TRUE, IF($H$1=2, IF($F$1 = 2, Data!J206, NA()), NA()), NA()), NA())","v":0.43662889999999999},{"$f":"IF($A$193=TRUE, IF($A$192=TRUE, IF($H$1=1, IF($F$1 = 2, Data!K206, NA()), NA()), NA()), NA())","v":{"$error":"#N/A"}},{"$f":"IF($A$193=TRUE, IF($A$192=TRUE, IF($H$1=1, IF($F$1 = 2, Data!L206, NA()), NA()), NA()), NA())","v":{"$error":"#N/A"}},{"$f":"IF($A$192= TRUE, IF($A$194=TRUE, IF($F$1=2, IF($H$1=2, Data!M206, NA()), NA()), NA()), NA())","v":-3.8052500000000003E-2},{"$f":"IF($A$192=TRUE, IF($A$194=TRUE, IF($F$1=2, IF($H$1=1, Data!N206, NA()), NA()),NA()), NA())","v":{"$error":"#N/A"}},{"$f":"IF($A$193=TRUE, IF($A$192= TRUE, IF($H$1=2, IF($F$1 = 1, Data!O206, NA()), NA()), NA()), NA())","v":{"$error":"#N/A"}},{"$f":"IF($A$193=TRUE, IF($A$192= TRUE, IF($H$1=2, IF($F$1 = 1, Data!P206, NA()), NA()), NA()), NA())","v":{"$error":"#N/A"}},{"$f":"IF($A$193 = TRUE, IF($A$192=TRUE, IF($H$1=1, IF($F$1 = 1, Data!Q206, NA()), NA()), NA()), NA())","v":{"$error":"#N/A"}},{"$f":"IF($A$193 = TRUE, IF($A$192=TRUE, IF($H$1=1, IF($F$1 = 1, Data!R206, NA()), NA()), NA()), NA())","v":{"$error":"#N/A"}},{"$f":"IF($A$192=TRUE, IF($A$194=TRUE, IF($F$1=1, IF($H$1=2, Data!S206, NA()), NA()), NA()), NA())","v":{"$error":"#N/A"}},{"$f":"IF($A$192 = TRUE, IF($A$194=TRUE, IF($F$1=1, IF($H$1=1, Data!T206, NA()), NA()),NA()), NA())","v":{"$error":"#N/A"}}]
[null,{"$f":"Data!B207","v":"Chemical Reduction"},{"$f":"Data!C207","v":"Microscale ZVI"},{"$f":"Data!E207","v":"Full"},{"$f":"Data!H207","v":0},{"$f":"IF($A$193=TRUE, IF($A$192=TRUE, IF($H$1=2, IF($F$1 = 2, Data!I207, NA()), NA()), NA()), NA())","v":1.8},{"$f":"IF($A$193=TRUE, IF($A$192=TRUE, IF($H$1=2, IF($F$1 = 2, Data!J207, NA()), NA()), NA()), NA())","v":0.17},{"$f":"IF($A$193=TRUE, IF($A$192=TRUE, IF($H$1=1, IF($F$1 = 2, Data!K207, NA()), NA()), NA()), NA())","v":{"$error":"#N/A"}},{"$f":"IF($A$193=TRUE, IF($A$192=TRUE, IF($H$1=1, IF($F$1 = 2, Data!L207, NA()), NA()), NA()), NA())","v":{"$error":"#N/A"}},{"$f":"IF($A$192= TRUE, IF($A$193=TRUE, IF($F$1=2, IF($H$1=2, Data!M207, NA()), NA()), NA()), NA())","v":1.0248235999999999},{"$f":"IF($A$192=TRUE, IF($A$193=TRUE, IF($F$1=2, IF($H$1=1, Data!N207, NA()), NA()),NA()), NA())","v":{"$error":"#N/A"}},{"$f":"IF($A$193=TRUE, IF($A$192= TRUE, IF($H$1=2, IF($F$1 = 1, Data!O207, NA()), NA()), NA()), NA())","v":{"$error":"#N/A"}},{"$f":"IF($A$193=TRUE, IF($A$192= TRUE, IF($H$1=2, IF($F$1 = 1, Data!P207, NA()), NA()), NA()), NA())","v":{"$error":"#N/A"}},{"$f":"IF($A$193 = TRUE, IF($A$192=TRUE, IF($H$1=1, IF($F$1 = 1, Data!Q207, NA()), NA()), NA()), NA())","v":{"$error":"#N/A"}},{"$f":"IF($A$193 = TRUE, IF($A$192=TRUE, IF($H$1=1, IF($F$1 = 1, Data!R207, NA()), NA()), NA()), NA())","v":{"$error":"#N/A"}},{"$f":"IF($A$192=TRUE, IF($A$193=TRUE, IF($F$1=1, IF($H$1=2, Data!S207, NA()), NA()), NA()), NA())","v":{"$error":"#N/A"}},{"$f":"IF($A$192 = TRUE, IF($A$193=TRUE, IF($F$1=1, IF($H$1=1, Data!T207, NA()), NA()),NA()), NA())","v":{"$error":"#N/A"}}]
[true,{"$f":"Data!B208","v":"Surfactant"},{"$f":"Data!C208","v":"Cosolvent"},{"$f":"Data!E208","v":"Pilot"},{"$f":"Data!H208","v":"Fine-grained"},{"$f":"IF($A$209=TRUE, IF($H$1=2, IF($F$1 = 2, Data!I208, NA()), NA()), NA())","v":0.26},{"$f":"IF($A$209=TRUE, IF($H$1=2, IF($F$1 = 2, Data!J208, NA()), NA()), NA())","v":0.50404150000000003},{"$f":"IF($A$209=TRUE, IF($H$1=1, IF($F$1 = 2, Data!K208, NA()), NA()), NA())","v":{"$error":"#N/A"}},{"$f":"IF($A$209=TRUE, IF($H$1=1, IF($F$1 = 2, Data!L208, NA()), NA()), NA())","v":{"$error":"#N/A"}},{"$f":"IF($A$209= TRUE, IF($A$209=TRUE, IF($F$1=2, IF($H$1=2, Data!M208, NA()), NA()), NA()), NA())","v":-0.287493},{"$f":"IF($A$209= TRUE, IF($A$209=TRUE, IF($F$1=2, IF($H$1=1, Data!N208, NA()), NA()),NA()), NA())","v":{"$error":"#N/A"}},{"$f":"IF($A$209=TRUE,IF($H$1=2,IF($F$1=1,Data!O208,NA()),NA()),NA())","v":{"$error":"#N/A"}},{"$f":"IF($A$209=TRUE,IF($H$1=2,IF($F$1=1,Data!P208,NA()),NA()),NA())","v":{"$error":"#N/A"}},{"$f":"IF($A$6 = TRUE, IF($A$5=TRUE, IF($H$1=1, IF($F$1 = 1, Data!Q208, NA()), NA()), NA()), NA())","v":{"$error":"#N/A"}},{"$f":"IF($A$6 = TRUE, IF($A$5=TRUE, IF($H$1=1, IF($F$1 = 1, Data!R208, NA()), NA()), NA()), NA())","v":{"$error":"#N/A"}},{"$f":"IF($A$209=TRUE, IF($A$209=TRUE, IF($F$1=1, IF($H$1=2, Data!S208, NA()), NA()), NA()), NA())","v":{"$error":"#N/A"}},{"$f":"IF($A$209 = TRUE, IF($A$209=TRUE, IF($F$1=1, IF($H$1=1, Data!T208, NA()), NA()),NA()), NA())","v":{"$error":"#N/A"}}]
[null,{"$f":"Data!B209","v":"Surfactant"},{"$f":"Data!C209","v":"Anionic Surfactant"},{"$f":"Data!E209","v":"Full"},{"$f":"Data!H209","v":"Coarse-grained"},{"$f":"IF($A$209=TRUE, IF($H$1=2, IF($F$1 = 2, Data!I209, NA()), NA()), NA())","v":900},{"$f":"IF($A$209=TRUE, IF($H$1=2, IF($F$1 = 2, Data!J209, NA()), NA()), NA())","v":10},{"$f":"IF($A$209=TRUE, IF($H$1=1, IF($F$1 = 2, Data!K209, NA()), NA()), NA())","v":{"$error":"#N/A"}},{"$f":"IF($A$209=TRUE, IF($H$1=1, IF($F$1 = 2, Data!L209, NA()), NA()), NA())","v":{"$error":"#N/A"}},{"$f":"IF($A$209= TRUE, IF($A$209=TRUE, IF($F$1=2, IF($H$1=2, Data!M209, NA()), NA()), NA()), NA())","v":1.9542425000000001},{"$f":"IF($A$209= TRUE, IF($A$209=TRUE, IF($F$1=2, IF($H$1=1, Data!N209, NA()), NA()),NA()), NA())","v":{"$error":"#N/A"}},{"$f":" IF($A$209= TRUE, IF($H$1=2, IF($F$1 = 1, Data!O209, NA()), NA()), NA())","v":{"$error":"#N/A"}},{"$f":" IF($A$209= TRUE, IF($H$1=2, IF($F$1 = 1, Data!P209, NA()), NA()), NA())","v":{"$error":"#N/A"}},{"$f":" IF($A$209=TRUE, IF($H$1=1, IF($F$1 = 1, Data!Q209, NA()), NA()), NA())","v":{"$error":"#N/A"}},{"$f":" IF($A$209=TRUE, IF($H$1=1, IF($F$1 = 1, Data!R209, NA()), NA()), NA())","v":{"$error":"#N/A"}},{"$f":"IF($A$209=TRUE, IF($F$1=1, IF($H$1=2, Data!S209, NA()), NA()), NA())","v":{"$error":"#N/A"}},{"$f":"IF($A$209=TRUE, IF($F$1=1, IF($H$1=1, Data!T209, NA()), NA()), NA())","v":{"$error":"#N/A"}}]
[null,{"$f":"Data!B210","v":"Surfactant"},{"$f":"Data!C210","v":"Anionic Surfactant"},{"$f":"Data!E210","v":"Pilot"},{"$f":"Data!H210","v":"Fine-grained"},{"$f":"IF($A$209=TRUE, IF($H$1=2, IF($F$1 = 2, Data!I210, NA()), NA()), NA())","v":4},{"$f":"IF($A$209=TRUE, IF($H$1=2, IF($F$1 = 2, Data!J210, NA()), NA()), NA())","v":4.5999999999999999E-2},{"$f":"IF($A$209=TRUE, IF($H$1=1, IF($F$1 = 2, Data!K210, NA()), NA()), NA())","v":{"$error":"#N/A"}},{"$f":"IF($A$209=TRUE, IF($H$1=1, IF($F$1 = 2, Data!L210, NA()), NA()), NA())","v":{"$error":"#N/A"}},{"$f":"IF($A$209= TRUE, IF($A$209=TRUE, IF($F$1=2, IF($H$1=2, Data!M210, NA()), NA()), NA()), NA())","v":1.9393022},{"$f":"IF($A$209= TRUE, IF($A$209=TRUE, IF($F$1=2, IF($H$1=1, Data!N210, NA()), NA()),NA()), NA())","v":{"$error":"#N/A"}},{"$f":" IF($A$209= TRUE, IF($H$1=2, IF($F$1 = 1, Data!O210, NA()), NA()), NA())","v":{"$error":"#N/A"}},{"$f":" IF($A$209= TRUE, IF($H$1=2, IF($F$1 = 1, Data!P210, NA()), NA()), NA())","v":{"$error":"#N/A"}},{"$f":" IF($A$209=TRUE, IF($H$1=1, IF($F$1 = 1, Data!Q210, NA()), NA()), NA())","v":{"$error":"#N/A"}},{"$f":" IF($A$209=TRUE, IF($H$1=1, IF($F$1 = 1, Data!R210, NA()), NA()), NA())","v":{"$error":"#N/A"}},{"$f":"IF($A$209=TRUE, IF($F$1=1, IF($H$1=2, Data!S210, NA()), NA()), NA())","v":{"$error":"#N/A"}},{"$f":"IF($A$209=TRUE, IF($F$1=1, IF($H$1=1, Data!T210, NA()), NA()), NA())","v":{"$error":"#N/A"}}]
[null,{"$f":"Data!B211","v":"Surfactant"},{"$f":"Data!C211","v":"Nonionic Surfactant"},{"$f":"Data!E211","v":0},{"$f":"Data!H211","v":0},{"$f":"IF($A$209=TRUE, IF($H$1=2, IF($F$1 = 2, Data!I211, NA()), NA()), NA())","v":0.65502850000000001},{"$f":"IF($A$209=TRUE, IF($H$1=2, IF($F$1 = 2, Data!J211, NA()), NA()), NA())","v":0.11695999999999999},{"$f":"IF($A$209=TRUE, IF($H$1=1, IF($F$1 = 2, Data!K211, NA()), NA()), NA())","v":{"$error":"#N/A"}},{"$f":"IF($A$209=TRUE, IF($H$1=1, IF($F$1 = 2, Data!L211, NA()), NA()), NA())","v":{"$error":"#N/A"}},{"$f":"IF($A$209= TRUE, IF($A$209=TRUE, IF($F$1=2, IF($H$1=2, Data!M211, NA()), NA()), NA()), NA())","v":0.74822279999999997},{"$f":"IF($A$209= TRUE, IF($A$209=TRUE, IF($F$1=2, IF($H$1=1, Data!N211, NA()), NA()),NA()), NA())","v":{"$error":"#N/A"}},{"$f":" IF($A$209= TRUE, IF($H$1=2, IF($F$1 = 1, Data!O211, NA()), NA()), NA())","v":{"$error":"#N/A"}},{"$f":" IF($A$209= TRUE, IF($H$1=2, IF($F$1 = 1, Data!P211, NA()), NA()), NA())","v":{"$error":"#N/A"}},{"$f":" IF($A$209=TRUE, IF($H$1=1, IF($F$1 = 1, Data!Q211, NA()), NA()), NA())","v":{"$error":"#N/A"}},{"$f":" IF($A$209=TRUE, IF($H$1=1, IF($F$1 = 1, Data!R211, NA()), NA()), NA())","v":{"$error":"#N/A"}},{"$f":"IF($A$209=TRUE, IF($F$1=1, IF($H$1=2, Data!S211, NA()), NA()), NA())","v":{"$error":"#N/A"}},{"$f":"IF($A$209=TRUE, IF($F$1=1, IF($H$1=1, Data!T211, NA()), NA()), NA())","v":{"$error":"#N/A"}}]
[true,{"$f":"Data!B212","v":"Thermal Treatment"},{"$f":"Data!C212","v":"Electrical Resistance Heating"},{"$f":"Data!E212","v":"Full"},{"$f":"Data!H212","v":"Fine-grained"},{"$f":"IF($A$215=TRUE, IF($A$213=TRUE, IF($H$1=2, IF($F$1 = 2, Data!I212, NA()), NA()), NA()), NA())","v":0.18799930000000001},{"$f":"IF($A$215=TRUE, IF($A$213=TRUE, IF($H$1=2, IF($F$1 = 2, Data!J212, NA()), NA()), NA()), NA())","v":0.20100000000000001},{"$f":"IF($A$215=TRUE, IF($A$213=TRUE, IF($H$1=1, IF($F$1 = 2, Data!K212, NA()), NA()), NA()), NA())","v":{"$error":"#N/A"}},{"$f":"IF($A$215=TRUE, IF($A$213=TRUE, IF($H$1=1, IF($F$1 = 2, Data!L212, NA()), NA()), NA()), NA())","v":{"$error":"#N/A"}},{"$f":"IF($A$213= TRUE, IF($A$215=TRUE, IF($F$1=2, IF($H$1=2, Data!M212, NA()), NA()), NA()), NA())","v":-2.9039800000000001E-2},{"$f":"IF($A$213=TRUE, IF($A$215=TRUE, IF($F$1=2, IF($H$1=1, Data!N212, NA()), NA()),NA()), NA())","v":{"$error":"#N/A"}},{"$f":"IF($A$215=TRUE, IF($A$213= TRUE, IF($H$1=2, IF($F$1 = 1, Data!O212, NA()), NA()), NA()), NA())","v":{"$error":"#N/A"}},{"$f":"IF($A$215=TRUE, IF($A$213= TRUE, IF($H$1=2, IF($F$1 = 1, Data!P212, NA()), NA()), NA()), NA())","v":{"$error":"#N/A"}},{"$f":"IF($A$215 = TRUE, IF($A$213=TRUE, IF($H$1=1, IF($F$1 = 1, Data!Q212, NA()), NA()), NA()), NA())","v":{"$error":"#N/A"}},{"$f":"IF($A$215 = TRUE, IF($A$213=TRUE, IF($H$1=1, IF($F$1 = 1, Data!R212, NA()), NA()), NA()), NA())","v":{"$error":"#N/A"}},{"$f":"IF($A$213=TRUE, IF($A$215=TRUE, IF($F$1=1, IF($H$1=2, Data!S212, NA()), NA()), NA()), NA())","v":{"$error":"#N/A"}},{"$f":"IF($A$213 = TRUE, IF($A$215=TRUE, IF($F$1=1, IF($H$1=1, Data!T212, NA()), NA()), NA()), NA())","v":{"$error":"#N/A"}}]
[true,{"$f":"Data!B214","v":"Thermal Treatment"},{"$f":"Data!C213","v":"Electrical Resistance Heating"},{"$f":"Data!E213","v":"Full"},{"$f":"Data!H213","v":"Fine-grained"},{"$f":"IF($A$215=TRUE, IF($A$213=TRUE, IF($H$1=2, IF($F$1 = 2, Data!I213, NA()), NA()), NA()), NA())","v":150},{"$f":"IF($A$215=TRUE, IF($A$213=TRUE, IF($H$1=2, IF($F$1 = 2, Data!J213, NA()), NA()), NA()), NA())","v":2.8478099999999999E-2},{"$f":"IF($A$215=TRUE, IF($A$213=TRUE, IF($H$1=1, IF($F$1 = 2, Data!K213, NA()), NA()), NA()), NA())","v":{"$error":"#N/A"}},{"$f":"IF($A$215=TRUE, IF($A$213=TRUE, IF($H$1=1, IF($F$1 = 2, Data!L213, NA()), NA()), NA()), NA())","v":{"$error":"#N/A"}},{"$f":"IF($A$213= TRUE, IF($A$215=TRUE, IF($F$1=2, IF($H$1=2, Data!M213, NA()), NA()), NA()), NA())","v":3.7215807999999999},{"$f":"IF($A$213=TRUE, IF($A$215=TRUE, IF($F$1=2, IF($H$1=1, Data!N213, NA()), NA()),NA()), NA())","v":{"$error":"#N/A"}},{"$f":"IF($A$215=TRUE, IF($A$213= TRUE, IF($H$1=2, IF($F$1 = 1, Data!O213, NA()), NA()), NA()), NA())","v":{"$error":"#N/A"}},{"$f":"IF($A$215=TRUE, IF($A$213= TRUE, IF($H$1=2, IF($F$1 = 1, Data!P213, NA()), NA()), NA()), NA())","v":{"$error":"#N/A"}},{"$f":"IF($A$215 = TRUE, IF($A$213=TRUE, IF($H$1=1, IF($F$1 = 1, Data!Q213, NA()), NA()), NA()), NA())","v":{"$error":"#N/A"}},{"$f":"IF($A$215 = TRUE, IF($A$213=TRUE, IF($H$1=1, IF($F$1 = 1, Data!R213, NA()), NA()), NA()), NA())","v":{"$error":"#N/A"}},{"$f":"IF($A$213=TRUE, IF($A$215=TRUE, IF($F$1=1, IF($H$1=2, Data!S213, NA()), NA()), NA()), NA())","v":{"$error":"#N/A"}},{"$f":"IF($A$213 = TRUE, IF($A$215=TRUE, IF($F$1=1, IF($H$1=1, Data!T213, NA()), NA()), NA()), NA())","v":{"$error":"#N/A"}}]
[true,{"$f":"Data!B215","v":"Thermal Treatment"},{"$f":"Data!C214","v":"Electrical Resistance Heating"},{"$f":"Data!E214","v":"Pilot"},{"$f":"Data!H214","v":0},{"$f":"IF($A$215=TRUE, IF($A$213=TRUE, IF($H$1=2, IF($F$1 = 2, Data!I214, NA()), NA()), NA()), NA())","v":6.4},{"$f":"IF($A$215=TRUE, IF($A$213=TRUE, IF($H$1=2, IF($F$1 = 2, Data!J214, NA()), NA()), NA()), NA())","v":0.8184131},{"$f":"IF($A$215=TRUE, IF($A$213=TRUE, IF($H$1=1, IF($F$1 = 2, Data!K214, NA()), NA()), NA()), NA())","v":{"$error":"#N/A"}},{"$f":"IF($A$215=TRUE, IF($A$213=TRUE, IF($H$1=1, IF($F$1 = 2, Data!L214, NA()), NA()), NA()), NA())","v":{"$error":"#N/A"}},{"$f":"IF($A$213= TRUE, IF($A$215=TRUE, IF($F$1=2, IF($H$1=2, Data!M214, NA()), NA()), NA()), NA())","v":0.89320739999999998},{"$f":"IF($A$213=TRUE, IF($A$215=TRUE, IF($F$1=2, IF($H$1=1, Data!N214, NA()), NA()),NA()), NA())","v":{"$error":"#N/A"}},{"$f":"IF($A$215=TRUE, IF($A$213= TRUE, IF($H$1=2, IF($F$1 = 1, Data!O214, NA()), NA()), NA()), NA())","v":{"$error":"#N/A"}},{"$f":"IF($A$215=TRUE, IF($A$213= TRUE, IF($H$1=2, IF($F$1 = 1, Data!P214, NA()), NA()), NA()), NA())","v":{"$error":"#N/A"}},{"$f":"IF($A$215 = TRUE, IF($A$213=TRUE, IF($H$1=1, IF($F$1 = 1, Data!Q214, NA()), NA()), NA()), NA())","v":{"$error":"#N/A"}},{"$f":"IF($A$215 = TRUE, IF($A$213=TRUE, IF($H$1=1, IF($F$1 = 1, Data!R214, NA()), NA()), NA()), NA())","v":{"$error":"#N/A"}},{"$f":"IF($A$213=TRUE, IF($A$215=TRUE, IF($F$1=1, IF($H$1=2, Data!S214, NA()), NA()), NA()), NA())","v":{"$error":"#N/A"}},{"$f":"IF($A$213 = TRUE, IF($A$215=TRUE, IF($F$1=1, IF($H$1=1, Data!T214, NA()), NA()), NA()), NA())","v":{"$error":"#N/A"}}]
[true,{"$f":"Data!B216","v":"Thermal Treatment"},{"$f":"Data!C215","v":"Electrical Resistance Heating"},{"$f":"Data!E215","v":"Full"},{"$f":"Data!H215","v":"Fine-grained"},{"$f":"IF($A$215=TRUE, IF($A$213=TRUE, IF($H$1=2, IF($F$1 = 2, Data!I215, NA()), NA()), NA()), NA())","v":0.39},{"$f":"IF($A$215=TRUE, IF($A$213=TRUE, IF($H$1=2, IF($F$1 = 2, Data!J215, NA()), NA()), NA()), NA())","v":1.19468E-2},{"$f":"IF($A$215=TRUE, IF($A$213=TRUE, IF($H$1=1, IF($F$1 = 2, Data!K215, NA()), NA()), NA()), NA())","v":{"$error":"#N/A"}},{"$f":"IF($A$215=TRUE, IF($A$213=TRUE, IF($H$1=1, IF($F$1 = 2, Data!L215, NA()), NA()), NA()), NA())","v":{"$error":"#N/A"}},{"$f":"IF($A$213= TRUE, IF($A$215=TRUE, IF($F$1=2, IF($H$1=2, Data!M215, NA()), NA()), NA()), NA())","v":1.5138147},{"$f":"IF($A$213=TRUE, IF($A$215=TRUE, IF($F$1=2, IF($H$1=1, Data!N215, NA()), NA()),NA()), NA())","v":{"$error":"#N/A"}},{"$f":"IF($A$215=TRUE, IF($A$213= TRUE, IF($H$1=2, IF($F$1 = 1, Data!O215, NA()), NA()), NA()), NA())","v":{"$error":"#N/A"}},{"$f":"IF($A$215=TRUE, IF($A$213= TRUE, IF($H$1=2, IF($F$1 = 1, Data!P215, NA()), NA()), NA()), NA())","v":{"$error":"#N/A"}},{"$f":"IF($A$215 = TRUE, IF($A$213=TRUE, IF($H$1=1, IF($F$1 = 1, Data!Q215, NA()), NA()), NA()), NA())","v":{"$error":"#N/A"}},{"$f":"IF($A$215 = TRUE, IF($A$213=TRUE, IF($H$1=1, IF($F$1 = 1, Data!R215, NA()), NA()), NA()), NA())","v":{"$error":"#N/A"}},{"$f":"IF($A$213=TRUE, IF($A$215=TRUE, IF($F$1=1, IF($H$1=2, Data!S215, NA()), NA()), NA()), NA())","v":{"$error":"#N/A"}},{"$f":"IF($A$213 = TRUE, IF($A$215=TRUE, IF($F$1=1, IF($H$1=1, Data!T215, NA()), NA()), NA()), NA())","v":{"$error":"#N/A"}}]
[true,{"$f":"Data!B218","v":"Thermal Treatment"},{"$f":"Data!C216","v":"Conductive Heating & Steam"},{"$f":"Data!E216","v":"Full"},{"$f":"Data!H216","v":"Fine-grained"},{"$f":"IF($A$215=TRUE, IF($A$213=TRUE, IF($H$1=2, IF($F$1 = 2, Data!I216, NA()), NA()), NA()), NA())","v":25},{"$f":"IF($A$215=TRUE, IF($A$213=TRUE, IF($H$1=2, IF($F$1 = 2, Data!J216, NA()), NA()), NA()), NA())","v":1},{"$f":"IF($A$215=TRUE, IF($A$213=TRUE, IF($H$1=1, IF($F$1 = 2, Data!K216, NA()), NA()), NA()), NA())","v":{"$error":"#N/A"}},{"$f":"IF($A$215=TRUE, IF($A$213=TRUE, IF($H$1=1, IF($F$1 = 2, Data!L216, NA()), NA()), NA()), NA())","v":{"$error":"#N/A"}},{"$f":"IF($A$213= TRUE, IF($A$217=TRUE, IF($F$1=2, IF($H$1=2, Data!M216, NA()), NA()), NA()), NA())","v":1.39794},{"$f":"IF($A$213=TRUE, IF($A$217=TRUE, IF($F$1=2, IF($H$1=1, Data!N216, NA()), NA()),NA()), NA())","v":{"$error":"#N/A"}},{"$f":"IF($A$215=TRUE, IF($A$213= TRUE, IF($H$1=2, IF($F$1 = 1, Data!O216, NA()), NA()), NA()), NA())","v":{"$error":"#N/A"}},{"$f":"IF($A$215=TRUE, IF($A$213= TRUE, IF($H$1=2, IF($F$1 = 1, Data!P216, NA()), NA()), NA()), NA())","v":{"$error":"#N/A"}},{"$f":"IF($A$215 = TRUE, IF($A$213=TRUE, IF($H$1=1, IF($F$1 = 1, Data!Q216, NA()), NA()), NA()), NA())","v":{"$error":"#N/A"}},{"$f":"IF($A$215 = TRUE, IF($A$213=TRUE, IF($H$1=1, IF($F$1 = 1, Data!R216, NA()), NA()), NA()), NA())","v":{"$error":"#N/A"}},{"$f":"IF($A$213=TRUE, IF($A$217=TRUE, IF($F$1=1, IF($H$1=2, Data!S216, NA()), NA()), NA()), NA())","v":{"$error":"#N/A"}},{"$f":"IF($A$213 = TRUE, IF($A$217=TRUE, IF($F$1=1, IF($H$1=1, Data!T216, NA()), NA()), NA()), NA())","v":{"$error":"#N/A"}}]
[true,{"$f":"Data!B220","v":"Thermal Treatment"},{"$f":"Data!C217","v":"Electrical Resistance Heating"},{"$f":"Data!E217","v":"Full"},{"$f":"Data!H217","v":"Fine-grained"},{"$f":"IF($A$215=TRUE, IF($A$213=TRUE, IF($H$1=2, IF($F$1 = 2, Data!I217, NA()), NA()), NA()), NA())","v":3.6},{"$f":"IF($A$215=TRUE, IF($A$213=TRUE, IF($H$1=2, IF($F$1 = 2, Data!J217, NA()), NA()), NA()), NA())","v":2.75E-2},{"$f":"IF($A$215=TRUE, IF($A$213=TRUE, IF($H$1=1, IF($F$1 = 2, Data!K217, NA()), NA()), NA()), NA())","v":{"$error":"#N/A"}},{"$f":"IF($A$215=TRUE, IF($A$213=TRUE, IF($H$1=1, IF($F$1 = 2, Data!L217, NA()), NA()), NA()), NA())","v":{"$error":"#N/A"}},{"$f":"IF($A$213= TRUE, IF($A$215=TRUE, IF($F$1=2, IF($H$1=2, Data!M217, NA()), NA()), NA()), NA())","v":2.1169698000000001},{"$f":"IF($A$213=TRUE, IF($A$215=TRUE, IF($F$1=2, IF($H$1=1, Data!N217, NA()), NA()),NA()), NA())","v":{"$error":"#N/A"}},{"$f":"IF($A$215=TRUE, IF($A$213= TRUE, IF($H$1=2, IF($F$1 = 1, Data!O217, NA()), NA()), NA()), NA())","v":{"$error":"#N/A"}},{"$f":"IF($A$215=TRUE, IF($A$213= TRUE, IF($H$1=2, IF($F$1 = 1, Data!P217, NA()), NA()), NA()), NA())","v":{"$error":"#N/A"}},{"$f":"IF($A$215 = TRUE, IF($A$213=TRUE, IF($H$1=1, IF($F$1 = 1, Data!Q217, NA()), NA()), NA()), NA())","v":{"$error":"#N/A"}},{"$f":"IF($A$215 = TRUE, IF($A$213=TRUE, IF($H$1=1, IF($F$1 = 1, Data!R217, NA()), NA()), NA()), NA())","v":{"$error":"#N/A"}},{"$f":"IF($A$213=TRUE, IF($A$215=TRUE, IF($F$1=1, IF($H$1=2, Data!S217, NA()), NA()), NA()), NA())","v":{"$error":"#N/A"}},{"$f":"IF($A$213 = TRUE, IF($A$215=TRUE, IF($F$1=1, IF($H$1=1, Data!T217, NA()), NA()), NA()), NA())","v":{"$error":"#N/A"}}]
[null,{"$f":"Data!B221","v":"Thermal Treatment"},{"$f":"Data!C218","v":"Electrical Resistance Heating"},{"$f":"Data!E218","v":"Full"},{"$f":"Data!H218","v":"Coarse-grained"},{"$f":"IF($A$215=TRUE, IF($A$213=TRUE, IF($H$1=2, IF($F$1 = 2, Data!I218, NA()), NA()), NA()), NA())","v":4.1500000000000004},{"$f":"IF($A$215=TRUE, IF($A$213=TRUE, IF($H$1=2, IF($F$1 = 2, Data!J218, NA()), NA()), NA()), NA())","v":1.7392711000000001},{"$f":"IF($A$215=TRUE, IF($A$213=TRUE, IF($H$1=1, IF($F$1 = 2, Data!K218, NA()), NA()), NA()), NA())","v":{"$error":"#N/A"}},{"$f":"IF($A$215=TRUE, IF($A$213=TRUE, IF($H$1=1, IF($F$1 = 2, Data!L218, NA()), NA()), NA()), NA())","v":{"$error":"#N/A"}},{"$f":"IF($A$213= TRUE, IF($A$215=TRUE, IF($F$1=2, IF($H$1=2, Data!M218, NA()), NA()), NA()), NA())","v":0.37768079999999998},{"$f":"IF($A$213=TRUE, IF($A$215=TRUE, IF($F$1=2, IF($H$1=1, Data!N218, NA()), NA()),NA()), NA())","v":{"$error":"#N/A"}},{"$f":"IF($A$215=TRUE, IF($A$213= TRUE, IF($H$1=2, IF($F$1 = 1, Data!O218, NA()), NA()), NA()), NA())","v":{"$error":"#N/A"}},{"$f":"IF($A$215=TRUE, IF($A$213= TRUE, IF($H$1=2, IF($F$1 = 1, Data!P218, NA()), NA()), NA()), NA())","v":{"$error":"#N/A"}},{"$f":"IF($A$215 = TRUE, IF($A$213=TRUE, IF($H$1=1, IF($F$1 = 1, Data!Q218, NA()), NA()), NA()), NA())","v":{"$error":"#N/A"}},{"$f":"IF($A$215 = TRUE, IF($A$213=TRUE, IF($H$1=1, IF($F$1 = 1, Data!R218, NA()), NA()), NA()), NA())","v":{"$error":"#N/A"}},{"$f":"IF($A$213=TRUE, IF($A$215=TRUE, IF($F$1=1, IF($H$1=2, Data!S218, NA()), NA()), NA()), NA())","v":{"$error":"#N/A"}},{"$f":"IF($A$213 = TRUE, IF($A$215=TRUE, IF($F$1=1, IF($H$1=1, Data!T218, NA()), NA()), NA()), NA())","v":{"$error":"#N/A"}}]
[null,{"$f":"Data!B222","v":"Thermal Treatment"},{"$f":"Data!C219","v":"Electrical Resistance Heating"},{"$f":"Data!E219","v":"Full"},{"$f":"Data!H219","v":"Fine-grained"},{"$f":"IF($A$215=TRUE, IF($A$213=TRUE, IF($H$1=2, IF($F$1 = 2, Data!I219, NA()), NA()), NA()), NA())","v":336.25},{"$f":"IF($A$215=TRUE, IF($A$213=TRUE, IF($H$1=2, IF($F$1 = 2, Data!J219, NA()), NA()), NA()), NA())","v":3.17},{"$f":"IF($A$215=TRUE, IF($A$213=TRUE, IF($H$1=1, IF($F$1 = 2, Data!K219, NA()), NA()), NA()), NA())","v":{"$error":"#N/A"}},{"$f":"IF($A$215=TRUE, IF($A$213=TRUE, IF($H$1=1, IF($F$1 = 2, Data!L219, NA()), NA()), NA()), NA())","v":{"$error":"#N/A"}},{"$f":"IF($A$213= TRUE, IF($A$215=TRUE, IF($F$1=2, IF($H$1=2, Data!M219, NA()), NA()), NA()), NA())","v":2.0256029999999998},{"$f":"IF($A$213=TRUE, IF($A$215=TRUE, IF($F$1=2, IF($H$1=1, Data!N219, NA()), NA()),NA()), NA())","v":{"$error":"#N/A"}},{"$f":"IF($A$215=TRUE, IF($A$213= TRUE, IF($H$1=2, IF($F$1 = 1, Data!O219, NA()), NA()), NA()), NA())","v":{"$error":"#N/A"}},{"$f":"IF($A$215=TRUE, IF($A$213= TRUE, IF($H$1=2, IF($F$1 = 1, Data!P219, NA()), NA()), NA()), NA())","v":{"$error":"#N/A"}},{"$f":"IF($A$215 = TRUE, IF($A$213=TRUE, IF($H$1=1, IF($F$1 = 1, Data!Q219, NA()), NA()), NA()), NA())","v":{"$error":"#N/A"}},{"$f":"IF($A$215 = TRUE, IF($A$213=TRUE, IF($H$1=1, IF($F$1 = 1, Data!R219, NA()), NA()), NA()), NA())","v":{"$error":"#N/A"}},{"$f":"IF($A$213=TRUE, IF($A$215=TRUE, IF($F$1=1, IF($H$1=2, Data!S219, NA()), NA()), NA()), NA())","v":{"$error":"#N/A"}},{"$f":"IF($A$213 = TRUE, IF($A$215=TRUE, IF($F$1=1, IF($H$1=1, Data!T219, NA()), NA()), NA()), NA())","v":{"$error":"#N/A"}}]
[null,{"$f":"Data!B223","v":"Thermal Treatment"},{"$f":"Data!C220","v":"Electrical Resistance Heating"},{"$f":"Data!E220","v":"Full"},{"$f":"Data!H220","v":"Coarse-grained"},{"$f":"IF($A$215=TRUE, IF($A$213=TRUE, IF($H$1=2, IF($F$1 = 2, Data!I220, NA()), NA()), NA()), NA())","v":116.56953369999999},{"$f":"IF($A$215=TRUE, IF($A$213=TRUE, IF($H$1=2, IF($F$1 = 2, Data!J220, NA()), NA()), NA()), NA())","v":26.702729000000001},{"$f":"IF($A$215=TRUE, IF($A$213=TRUE, IF($H$1=1, IF($F$1 = 2, Data!K220, NA()), NA()), NA()), NA())","v":{"$error":"#N/A"}},{"$f":"IF($A$215=TRUE, IF($A$213=TRUE, IF($H$1=1, IF($F$1 = 2, Data!L220, NA()), NA()), NA()), NA())","v":{"$error":"#N/A"}},{"$f":"IF($A$213= TRUE, IF($A$215=TRUE, IF($F$1=2, IF($H$1=2, Data!M220, NA()), NA()), NA()), NA())","v":0.64002939999999997},{"$f":"IF($A$213=TRUE, IF($A$215=TRUE, IF($F$1=2, IF($H$1=1, Data!N220, NA()), NA()),NA()), NA())","v":{"$error":"#N/A"}},{"$f":"IF($A$215=TRUE, IF($A$213= TRUE, IF($H$1=2, IF($F$1 = 1, Data!O220, NA()), NA()), NA()), NA())","v":{"$error":"#N/A"}},{"$f":"IF($A$215=TRUE, IF($A$213= TRUE, IF($H$1=2, IF($F$1 = 1, Data!P220, NA()), NA()), NA()), NA())","v":{"$error":"#N/A"}},{"$f":"IF($A$215 = TRUE, IF($A$213=TRUE, IF($H$1=1, IF($F$1 = 1, Data!Q220, NA()), NA()), NA()), NA())","v":{"$error":"#N/A"}},{"$f":"IF($A$215 = TRUE, IF($A$213=TRUE, IF($H$1=1, IF($F$1 = 1, Data!R220, NA()), NA()), NA()), NA())","v":{"$error":"#N/A"}},{"$f":"IF($A$213=TRUE, IF($A$215=TRUE, IF($F$1=1, IF($H$1=2, Data!S220, NA()), NA()), NA()), NA())","v":{"$error":"#N/A"}},{"$f":"IF($A$213 = TRUE, IF($A$215=TRUE, IF($F$1=1, IF($H$1=1, Data!T220, NA()), NA()), NA()), NA())","v":{"$error":"#N/A"}}]
[null,{"$f":"Data!B224","v":"Thermal Treatment"},{"$f":"Data!C221","v":"Electrical Resistance Heating"},{"$f":"Data!E221","v":"Full"},{"$f":"Data!H221","v":"Coarse-grained"},{"$f":"IF($A$215=TRUE, IF($A$213=TRUE, IF($H$1=2, IF($F$1 = 2, Data!I221, NA()), NA()), NA()), NA())","v":39.9957256},{"$f":"IF($A$215=TRUE, IF($A$213=TRUE, IF($H$1=2, IF($F$1 = 2, Data!J221, NA()), NA()), NA()), NA())","v":0.17889050000000001},{"$f":"IF($A$215=TRUE, IF($A$213=TRUE, IF($H$1=1, IF($F$1 = 2, Data!K221, NA()), NA()), NA()), NA())","v":{"$error":"#N/A"}},{"$f":"IF($A$215=TRUE, IF($A$213=TRUE, IF($H$1=1, IF($F$1 = 2, Data!L221, NA()), NA()), NA()), NA())","v":{"$error":"#N/A"}},{"$f":"IF($A$213= TRUE, IF($A$215=TRUE, IF($F$1=2, IF($H$1=2, Data!M221, NA()), NA()), NA()), NA())","v":2.3494261999999999},{"$f":"IF($A$213=TRUE, IF($A$215=TRUE, IF($F$1=2, IF($H$1=1, Data!N221, NA()), NA()),NA()), NA())","v":{"$error":"#N/A"}},{"$f":"IF($A$215=TRUE, IF($A$213= TRUE, IF($H$1=2, IF($F$1 = 1, Data!O221, NA()), NA()), NA()), NA())","v":{"$error":"#N/A"}},{"$f":"IF($A$215=TRUE, IF($A$213= TRUE, IF($H$1=2, IF($F$1 = 1, Data!P221, NA()), NA()), NA()), NA())","v":{"$error":"#N/A"}},{"$f":"IF($A$215 = TRUE, IF($A$213=TRUE, IF($H$1=1, IF($F$1 = 1, Data!Q221, NA()), NA()), NA()), NA())","v":{"$error":"#N/A"}},{"$f":"IF($A$215 = TRUE, IF($A$213=TRUE, IF($H$1=1, IF($F$1 = 1, Data!R221, NA()), NA()), NA()), NA())","v":{"$error":"#N/A"}},{"$f":"IF($A$213=TRUE, IF($A$215=TRUE, IF($F$1=1, IF($H$1=2, Data!S221, NA()), NA()), NA()), NA())","v":{"$error":"#N/A"}},{"$f":"IF($A$213 = TRUE, IF($A$215=TRUE, IF($F$1=1, IF($H$1=1, Data!T221, NA()), NA()), NA()), NA())","v":{"$error":"#N/A"}}]
[null,{"$f":"Data!B225","v":"Thermal Treatment"},{"$f":"Data!C222","v":"Electrical Resistance Heating"},{"$f":"Data!E222","v":"Full"},{"$f":"Data!H222","v":"Fine-grained"},{"$f":"IF($A$215=TRUE, IF($A$213=TRUE, IF($H$1=2, IF($F$1 = 2, Data!I222, NA()), NA()), NA()), NA())","v":14.6},{"$f":"IF($A$215=TRUE, IF($A$213=TRUE, IF($H$1=2, IF($F$1 = 2, Data!J222, NA()), NA()), NA()), NA())","v":0.93},{"$f":"IF($A$215=TRUE, IF($A$213=TRUE, IF($H$1=1, IF($F$1 = 2, Data!K222, NA()), NA()), NA()), NA())","v":{"$error":"#N/A"}},{"$f":"IF($A$215=TRUE, IF($A$213=TRUE, IF($H$1=1, IF($F$1 = 2, Data!L222, NA()), NA()), NA()), NA())","v":{"$error":"#N/A"}},{"$f":"IF($A$213= TRUE, IF($A$215=TRUE, IF($F$1=2, IF($H$1=2, Data!M222, NA()), NA()), NA()), NA())","v":1.1958698999999999},{"$f":"IF($A$213=TRUE, IF($A$215=TRUE, IF($F$1=2, IF($H$1=1, Data!N222, NA()), NA()),NA()), NA())","v":{"$error":"#N/A"}},{"$f":"IF($A$215=TRUE, IF($A$213= TRUE, IF($H$1=2, IF($F$1 = 1, Data!O222, NA()), NA()), NA()), NA())","v":{"$error":"#N/A"}},{"$f":"IF($A$215=TRUE, IF($A$213= TRUE, IF($H$1=2, IF($F$1 = 1, Data!P222, NA()), NA()), NA()), NA())","v":{"$error":"#N/A"}},{"$f":"IF($A$215 = TRUE, IF($A$213=TRUE, IF($H$1=1, IF($F$1 = 1, Data!Q222, NA()), NA()), NA()), NA())","v":{"$error":"#N/A"}},{"$f":"IF($A$215 = TRUE, IF($A$213=TRUE, IF($H$1=1, IF($F$1 = 1, Data!R222, NA()), NA()), NA()), NA())","v":{"$error":"#N/A"}},{"$f":"IF($A$213=TRUE, IF($A$215=TRUE, IF($F$1=1, IF($H$1=2, Data!S222, NA()), NA()), NA()), NA())","v":{"$error":"#N/A"}},{"$f":"IF($A$213 = TRUE, IF($A$215=TRUE, IF($F$1=1, IF($H$1=1, Data!T222, NA()), NA()), NA()), NA())","v":{"$error":"#N/A"}}]
[null,{"$f":"Data!B226","v":"Thermal Treatment"},{"$f":"Data!C223","v":"Electrical Resistance Heating"},{"$f":"Data!E223","v":"Full"},{"$f":"Data!H223","v":"Fine-grained"},{"$f":"IF($A$215=TRUE, IF($A$213=TRUE, IF($H$1=2, IF($F$1 = 2, Data!I223, NA()), NA()), NA()), NA())","v":41.214075299999998},{"$f":"IF($A$215=TRUE, IF($A$213=TRUE, IF($H$1=2, IF($F$1 = 2, Data!J223, NA()), NA()), NA()), NA())","v":2.7694765000000001},{"$f":"IF($A$215=TRUE, IF($A$213=TRUE, IF($H$1=1, IF($F$1 = 2, Data!K223, NA()), NA()), NA()), NA())","v":{"$error":"#N/A"}},{"$f":"IF($A$215=TRUE, IF($A$213=TRUE, IF($H$1=1, IF($F$1 = 2, Data!L223, NA()), NA()), NA()), NA())","v":{"$error":"#N/A"}},{"$f":"IF($A$213= TRUE, IF($A$215=TRUE, IF($F$1=2, IF($H$1=2, Data!M223, NA()), NA()), NA()), NA())","v":1.1726479000000001},{"$f":"IF($A$213=TRUE, IF($A$215=TRUE, IF($F$1=2, IF($H$1=1, Data!N223, NA()), NA()),NA()), NA())","v":{"$error":"#N/A"}},{"$f":"IF($A$215=TRUE, IF($A$213= TRUE, IF($H$1=2, IF($F$1 = 1, Data!O223, NA()), NA()), NA()), NA())","v":{"$error":"#N/A"}},{"$f":"IF($A$215=TRUE, IF($A$213= TRUE, IF($H$1=2, IF($F$1 = 1, Data!P223, NA()), NA()), NA()), NA())","v":{"$error":"#N/A"}},{"$f":"IF($A$215 = TRUE, IF($A$213=TRUE, IF($H$1=1, IF($F$1 = 1, Data!Q223, NA()), NA()), NA()), NA())","v":{"$error":"#N/A"}},{"$f":"IF($A$215 = TRUE, IF($A$213=TRUE, IF($H$1=1, IF($F$1 = 1, Data!R223, NA()), NA()), NA()), NA())","v":{"$error":"#N/A"}},{"$f":"IF($A$213=TRUE, IF($A$215=TRUE, IF($F$1=1, IF($H$1=2, Data!S223, NA()), NA()), NA()), NA())","v":{"$error":"#N/A"}},{"$f":"IF($A$213 = TRUE, IF($A$215=TRUE, IF($F$1=1, IF($H$1=1, Data!T223, NA()), NA()), NA()), NA())","v":{"$error":"#N/A"}}]
[null,{"$f":"Data!B227","v":"Thermal Treatment"},{"$f":"Data!C224","v":"Electrical Resistance Heating"},{"$f":"Data!E224","v":"Full"},{"$f":"Data!H224","v":"Fine-grained"},{"$f":"IF($A$215=TRUE, IF($A$213=TRUE, IF($H$1=2, IF($F$1 = 2, Data!I224, NA()), NA()), NA()), NA())","v":2.8284299999999998E-2},{"$f":"IF($A$215=TRUE, IF($A$213=TRUE, IF($H$1=2, IF($F$1 = 2, Data!J224, NA()), NA()), NA()), NA())","v":2.7568100000000002E-2},{"$f":"IF($A$215=TRUE, IF($A$213=TRUE, IF($H$1=1, IF($F$1 = 2, Data!K224, NA()), NA()), NA()), NA())","v":{"$error":"#N/A"}},{"$f":"IF($A$215=TRUE, IF($A$213=TRUE, IF($H$1=1, IF($F$1 = 2, Data!L224, NA()), NA()), NA()), NA())","v":{"$error":"#N/A"}},{"$f":"IF($A$213= TRUE, IF($A$215=TRUE, IF($F$1=2, IF($H$1=2, Data!M224, NA()), NA()), NA()), NA())","v":1.1138199999999999E-2},{"$f":"IF($A$213=TRUE, IF($A$215=TRUE, IF($F$1=2, IF($H$1=1, Data!N224, NA()), NA()),NA()), NA())","v":{"$error":"#N/A"}},{"$f":"IF($A$215=TRUE, IF($A$213= TRUE, IF($H$1=2, IF($F$1 = 1, Data!O224, NA()), NA()), NA()), NA())","v":{"$error":"#N/A"}},{"$f":"IF($A$215=TRUE, IF($A$213= TRUE, IF($H$1=2, IF($F$1 = 1, Data!P224, NA()), NA()), NA()), NA())","v":{"$error":"#N/A"}},{"$f":"IF($A$215 = TRUE, IF($A$213=TRUE, IF($H$1=1, IF($F$1 = 1, Data!Q224, NA()), NA()), NA()), NA())","v":{"$error":"#N/A"}},{"$f":"IF($A$215 = TRUE, IF($A$213=TRUE, IF($H$1=1, IF($F$1 = 1, Data!R224, NA()), NA()), NA()), NA())","v":{"$error":"#N/A"}},{"$f":"IF($A$213=TRUE, IF($A$215=TRUE, IF($F$1=1, IF($H$1=2, Data!S224, NA()), NA()), NA()), NA())","v":{"$error":"#N/A"}},{"$f":"IF($A$213 = TRUE, IF($A$215=TRUE, IF($F$1=1, IF($H$1=1, Data!T224, NA()), NA()), NA()), NA())","v":{"$error":"#N/A"}}]
[null,{"$f":"Data!B228","v":"Thermal Treatment"},{"$f":"Data!C225","v":"Electrical Resistance Heating"},{"$f":"Data!E225","v":"Pilot"},{"$f":"Data!H225","v":"Fine-grained"},{"$f":"IF($A$215=TRUE, IF($A$213=TRUE, IF($H$1=2, IF($F$1 = 2, Data!I225, NA()), NA()), NA()), NA())","v":1.0401923},{"$f":"IF($A$215=TRUE, IF($A$213=TRUE, IF($H$1=2, IF($F$1 = 2, Data!J225, NA()), NA()), NA()), NA())","v":3.7416600000000001E-2},{"$f":"IF($A$215=TRUE, IF($A$213=TRUE, IF($H$1=1, IF($F$1 = 2, Data!K225, NA()), NA()), NA()), NA())","v":{"$error":"#N/A"}},{"$f":"IF($A$215=TRUE, IF($A$213=TRUE, IF($H$1=1, IF($F$1 = 2, Data!L225, NA()), NA()), NA()), NA())","v":{"$error":"#N/A"}},{"$f":"IF($A$213= TRUE, IF($A$215=TRUE, IF($F$1=2, IF($H$1=2, Data!M225, NA()), NA()), NA()), NA())","v":1.4440496},{"$f":"IF($A$213=TRUE, IF($A$215=TRUE, IF($F$1=2, IF($H$1=1, Data!N225, NA()), NA()),NA()), NA())","v":{"$error":"#N/A"}},{"$f":"IF($A$215=TRUE, IF($A$213= TRUE, IF($H$1=2, IF($F$1 = 1, Data!O225, NA()), NA()), NA()), NA())","v":{"$error":"#N/A"}},{"$f":"IF($A$215=TRUE, IF($A$213= TRUE, IF($H$1=2, IF($F$1 = 1, Data!P225, NA()), NA()), NA()), NA())","v":{"$error":"#N/A"}},{"$f":"IF($A$215 = TRUE, IF($A$213=TRUE, IF($H$1=1, IF($F$1 = 1, Data!Q225, NA()), NA()), NA()), NA())","v":{"$error":"#N/A"}},{"$f":"IF($A$215 = TRUE, IF($A$213=TRUE, IF($H$1=1, IF($F$1 = 1, Data!R225, NA()), NA()), NA()), NA())","v":{"$error":"#N/A"}},{"$f":"IF($A$213=TRUE, IF($A$215=TRUE, IF($F$1=1, IF($H$1=2, Data!S225, NA()), NA()), NA()), NA())","v":{"$error":"#N/A"}},{"$f":"IF($A$213 = TRUE, IF($A$215=TRUE, IF($F$1=1, IF($H$1=1, Data!T225, NA()), NA()), NA()), NA())","v":{"$error":"#N/A"}}]
[null,{"$f":"Data!B229","v":"Thermal Treatment"},{"$f":"Data!C226","v":"Electrical Resistance Heating"},{"$f":"Data!E226","v":"Full"},{"$f":"Data!H226","v":"Fine-grained"},{"$f":"IF($A$215=TRUE, IF($A$213=TRUE, IF($H$1=2, IF($F$1 = 2, Data!I226, NA()), NA()), NA()), NA())","v":0.1843909},{"$f":"IF($A$215=TRUE, IF($A$213=TRUE, IF($H$1=2, IF($F$1 = 2, Data!J226, NA()), NA()), NA()), NA())","v":4.69042E-2},{"$f":"IF($A$215=TRUE, IF($A$213=TRUE, IF($H$1=1, IF($F$1 = 2, Data!K226, NA()), NA()), NA()), NA())","v":{"$error":"#N/A"}},{"$f":"IF($A$215=TRUE, IF($A$213=TRUE, IF($H$1=1, IF($F$1 = 2, Data!L226, NA()), NA()), NA()), NA())","v":{"$error":"#N/A"}},{"$f":"IF($A$213= TRUE, IF($A$215=TRUE, IF($F$1=2, IF($H$1=2, Data!M226, NA()), NA()), NA()), NA())","v":0.5945281},{"$f":"IF($A$213=TRUE, IF($A$215=TRUE, IF($F$1=2, IF($H$1=1, Data!N226, NA()), NA()),NA()), NA())","v":{"$error":"#N/A"}},{"$f":"IF($A$215=TRUE, IF($A$213= TRUE, IF($H$1=2, IF($F$1 = 1, Data!O226, NA()), NA()), NA()), NA())","v":{"$error":"#N/A"}},{"$f":"IF($A$215=TRUE, IF($A$213= TRUE, IF($H$1=2, IF($F$1 = 1, Data!P226, NA()), NA()), NA()), NA())","v":{"$error":"#N/A"}},{"$f":"IF($A$215 = TRUE, IF($A$213=TRUE, IF($H$1=1, IF($F$1 = 1, Data!Q226, NA()), NA()), NA()), NA())","v":{"$error":"#N/A"}},{"$f":"IF($A$215 = TRUE, IF($A$213=TRUE, IF($H$1=1, IF($F$1 = 1, Data!R226, NA()), NA()), NA()), NA())","v":{"$error":"#N/A"}},{"$f":"IF($A$213=TRUE, IF($A$215=TRUE, IF($F$1=1, IF($H$1=2, Data!S226, NA()), NA()), NA()), NA())","v":{"$error":"#N/A"}},{"$f":"IF($A$213 = TRUE, IF($A$215=TRUE, IF($F$1=1, IF($H$1=1, Data!T226, NA()), NA()), NA()), NA())","v":{"$error":"#N/A"}}]
[null,{"$f":"Data!B230","v":"Thermal Treatment"},{"$f":"Data!C227","v":"Electrical Resistance Heating & Steam"},{"$f":"Data!E227","v":"Full"},{"$f":"Data!H227","v":"Fine-grained"},{"$f":"IF($A$218=TRUE, IF($A$213=TRUE, IF($H$1=2, IF($F$1 = 2, Data!I227, NA()), NA()), NA()), NA())","v":1.4183233},{"$f":"IF($A$218=TRUE, IF($A$213=TRUE, IF($H$1=2, IF($F$1 = 2, Data!J227, NA()), NA()), NA()), NA())","v":1E-3},{"$f":"IF($A$218=TRUE, IF($A$213=TRUE, IF($H$1=1, IF($F$1 = 2, Data!K227, NA()), NA()), NA()), NA())","v":{"$error":"#N/A"}},{"$f":"IF($A$218=TRUE, IF($A$213=TRUE, IF($H$1=1, IF($F$1 = 2, Data!L227, NA()), NA()), NA()), NA())","v":{"$error":"#N/A"}},{"$f":"IF($A$213= TRUE, IF($A$218=TRUE, IF($F$1=2, IF($H$1=2, Data!M227, NA()), NA()), NA()), NA())","v":3.4528051999999998},{"$f":"IF($A$213=TRUE, IF($A$218=TRUE, IF($F$1=2, IF($H$1=1, Data!N227, NA()), NA()),NA()), NA())","v":{"$error":"#N/A"}},{"$f":"IF($A$218=TRUE, IF($A$213= TRUE, IF($H$1=2, IF($F$1 = 1, Data!O227, NA()), NA()), NA()), NA())","v":{"$error":"#N/A"}},{"$f":"IF($A$218=TRUE, IF($A$213= TRUE, IF($H$1=2, IF($F$1 = 1, Data!P227, NA()), NA()), NA()), NA())","v":{"$error":"#N/A"}},{"$f":"IF($A$218 = TRUE, IF($A$213=TRUE, IF($H$1=1, IF($F$1 = 1, Data!Q227, NA()), NA()), NA()), NA())","v":{"$error":"#N/A"}},{"$f":"IF($A$218 = TRUE, IF($A$213=TRUE, IF($H$1=1, IF($F$1 = 1, Data!R227, NA()), NA()), NA()), NA())","v":{"$error":"#N/A"}},{"$f":"IF($A$213=TRUE, IF($A$218=TRUE, IF($F$1=1, IF($H$1=2, Data!S227, NA()), NA()), NA()), NA())","v":{"$error":"#N/A"}},{"$f":"IF($A$213 = TRUE, IF($A$218=TRUE, IF($F$1=1, IF($H$1=1, Data!T227, NA()), NA()), NA()), NA())","v":{"$error":"#N/A"}}]
[null,{"$f":"Data!B233","v":"Thermal Treatment"},{"$f":"Data!C228","v":"Electrical Resistance Heating"},{"$f":"Data!E228","v":"Full"},{"$f":"Data!H228","v":"Fine-grained"},{"$f":"IF($A$215=TRUE, IF($A$213=TRUE, IF($H$1=2, IF($F$1 = 2, Data!I228, NA()), NA()), NA()), NA())","v":28},{"$f":"IF($A$215=TRUE, IF($A$213=TRUE, IF($H$1=2, IF($F$1 = 2, Data!J228, NA()), NA()), NA()), NA())","v":1.95614E-2},{"$f":"IF($A$215=TRUE, IF($A$213=TRUE, IF($H$1=1, IF($F$1 = 2, Data!K228, NA()), NA()), NA()), NA())","v":{"$error":"#N/A"}},{"$f":"IF($A$215=TRUE, IF($A$213=TRUE, IF($H$1=1, IF($F$1 = 2, Data!L228, NA()), NA()), NA()), NA())","v":{"$error":"#N/A"}},{"$f":"IF($A$213= TRUE, IF($A$214=TRUE, IF($F$1=2, IF($H$1=2, Data!M228, NA()), NA()), NA()), NA())","v":3.1557574000000002},{"$f":"IF($A$213=TRUE, IF($A$214=TRUE, IF($F$1=2, IF($H$1=1, Data!N228, NA()), NA()),NA()), NA())","v":{"$error":"#N/A"}},{"$f":"IF($A$215=TRUE, IF($A$213= TRUE, IF($H$1=2, IF($F$1 = 1, Data!O228, NA()), NA()), NA()), NA())","v":{"$error":"#N/A"}},{"$f":"IF($A$215=TRUE, IF($A$213= TRUE, IF($H$1=2, IF($F$1 = 1, Data!P228, NA()), NA()), NA()), NA())","v":{"$error":"#N/A"}},{"$f":"IF($A$215 = TRUE, IF($A$213=TRUE, IF($H$1=1, IF($F$1 = 1, Data!Q228, NA()), NA()), NA()), NA())","v":{"$error":"#N/A"}},{"$f":"IF($A$215 = TRUE, IF($A$213=TRUE, IF($H$1=1, IF($F$1 = 1, Data!R228, NA()), NA()), NA()), NA())","v":{"$error":"#N/A"}},{"$f":"IF($A$213=TRUE, IF($A$215=TRUE, IF($F$1=1, IF($H$1=2, Data!S228, NA()), NA()), NA()), NA())","v":{"$error":"#N/A"}},{"$f":"IF($A$213 = TRUE, IF($A$215=TRUE, IF($F$1=1, IF($H$1=1, Data!T228, NA()), NA()), NA()), NA())","v":{"$error":"#N/A"}}]
[null,{"$f":"Data!B234","v":"Thermal Treatment"},{"$f":"Data!C229","v":"Electrical Resistance Heating"},{"$f":"Data!E229","v":"Full"},{"$f":"Data!H229","v":"Fine-grained"},{"$f":"IF($A$215=TRUE, IF($A$213=TRUE, IF($H$1=2, IF($F$1 = 2, Data!I229, NA()), NA()), NA()), NA())","v":995},{"$f":"IF($A$215=TRUE, IF($A$213=TRUE, IF($H$1=2, IF($F$1 = 2, Data!J229, NA()), NA()), NA()), NA())","v":387.5},{"$f":"IF($A$215=TRUE, IF($A$213=TRUE, IF($H$1=1, IF($F$1 = 2, Data!K229, NA()), NA()), NA()), NA())","v":{"$error":"#N/A"}},{"$f":"IF($A$215=TRUE, IF($A$213=TRUE, IF($H$1=1, IF($F$1 = 2, Data!L229, NA()), NA()), NA()), NA())","v":{"$error":"#N/A"}},{"$f":"IF($A$213= TRUE, IF($A$214=TRUE, IF($F$1=2, IF($H$1=2, Data!M229, NA()), NA()), NA()), NA())","v":0.40955140000000001},{"$f":"IF($A$213=TRUE, IF($A$214=TRUE, IF($F$1=2, IF($H$1=1, Data!N229, NA()), NA()),NA()), NA())","v":{"$error":"#N/A"}},{"$f":"IF($A$215=TRUE, IF($A$213= TRUE, IF($H$1=2, IF($F$1 = 1, Data!O229, NA()), NA()), NA()), NA())","v":{"$error":"#N/A"}},{"$f":"IF($A$215=TRUE, IF($A$213= TRUE, IF($H$1=2, IF($F$1 = 1, Data!P229, NA()), NA()), NA()), NA())","v":{"$error":"#N/A"}},{"$f":"IF($A$215 = TRUE, IF($A$213=TRUE, IF($H$1=1, IF($F$1 = 1, Data!Q229, NA()), NA()), NA()), NA())","v":{"$error":"#N/A"}},{"$f":"IF($A$215 = TRUE, IF($A$213=TRUE, IF($H$1=1, IF($F$1 = 1, Data!R229, NA()), NA()), NA()), NA())","v":{"$error":"#N/A"}},{"$f":"IF($A$213=TRUE, IF($A$215=TRUE, IF($F$1=1, IF($H$1=2, Data!S229, NA()), NA()), NA()), NA())","v":{"$error":"#N/A"}},{"$f":"IF($A$213 = TRUE, IF($A$215=TRUE, IF($F$1=1, IF($H$1=1, Data!T229, NA()), NA()), NA()), NA())","v":{"$error":"#N/A"}}]
[null,{"$f":"Data!B213","v":"Thermal Treatment"},{"$f":"Data!C230","v":"Conductive Heating"},{"$f":"Data!E230","v":"Full"},{"$f":"Data!H230","v":"Coarse-grained"},{"$f":"IF($A$214=TRUE, IF($A$213=TRUE, IF($H$1=2, IF($F$1 = 2, Data!I230, NA()), NA()), NA()), NA())","v":1.6997433},{"$f":"IF($A$214=TRUE, IF($A$213=TRUE, IF($H$1=2, IF($F$1 = 2, Data!J230, NA()), NA()), NA()), NA())","v":4.4704000000000002E-3},{"$f":"IF($A$214=TRUE, IF($A$213=TRUE, IF($H$1=1, IF($F$1 = 2, Data!K230, NA()), NA()), NA()), NA())","v":{"$error":"#N/A"}},{"$f":"IF($A$214=TRUE, IF($A$213=TRUE, IF($H$1=1, IF($F$1 = 2, Data!L230, NA()), NA()), NA()), NA())","v":{"$error":"#N/A"}},{"$f":"IF($A$213= TRUE, IF($A$214=TRUE, IF($F$1=2, IF($H$1=2, Data!M230, NA()), NA()), NA()), NA())","v":2.5800372999999999},{"$f":"IF($A$213=TRUE, IF($A$214=TRUE, IF($F$1=2, IF($H$1=1, Data!N230, NA()), NA()),NA()), NA())","v":{"$error":"#N/A"}},{"$f":"IF($A$214=TRUE, IF($A$213= TRUE, IF($H$1=2, IF($F$1 = 1, Data!O230, NA()), NA()), NA()), NA())","v":{"$error":"#N/A"}},{"$f":"IF($A$214=TRUE, IF($A$213= TRUE, IF($H$1=2, IF($F$1 = 1, Data!P230, NA()), NA()), NA()), NA())","v":{"$error":"#N/A"}},{"$f":"IF($A$214 = TRUE, IF($A$213=TRUE, IF($H$1=1, IF($F$1 = 1, Data!Q230, NA()), NA()), NA()), NA())","v":{"$error":"#N/A"}},{"$f":"IF($A$214 = TRUE, IF($A$213=TRUE, IF($H$1=1, IF($F$1 = 1, Data!R230, NA()), NA()), NA()), NA())","v":{"$error":"#N/A"}},{"$f":"IF($A$213=TRUE, IF($A$214=TRUE, IF($F$1=1, IF($H$1=2, Data!S230, NA()), NA()), NA()), NA())","v":{"$error":"#N/A"}},{"$f":"IF($A$213 = TRUE, IF($A$214=TRUE, IF($F$1=1, IF($H$1=1, Data!T230, NA()), NA()), NA()), NA())","v":{"$error":"#N/A"}}]
[null,{"$f":"Data!B217","v":"Thermal Treatment"},{"$f":"Data!C231","v":"Electrical Resistance Heating"},{"$f":"Data!E231","v":0},{"$f":"Data!H231","v":0},{"$f":"IF($A$217=TRUE, IF($A$213=TRUE, IF($H$1=2, IF($F$1 = 2, Data!I231, NA()), NA()), NA()), NA())","v":15.45},{"$f":"IF($A$217=TRUE, IF($A$213=TRUE, IF($H$1=2, IF($F$1 = 2, Data!J231, NA()), NA()), NA()), NA())","v":1.3607256000000001},{"$f":"IF($A$217=TRUE, IF($A$213=TRUE, IF($H$1=1, IF($F$1 = 2, Data!K231, NA()), NA()), NA()), NA())","v":{"$error":"#N/A"}},{"$f":"IF($A$217=TRUE, IF($A$213=TRUE, IF($H$1=1, IF($F$1 = 2, Data!L231, NA()), NA()), NA()), NA())","v":{"$error":"#N/A"}},{"$f":"IF($A$213= TRUE, IF($A$215=TRUE, IF($F$1=2, IF($H$1=2, Data!M231, NA()), NA()), NA()), NA())","v":1.0551579},{"$f":"IF($A$213=TRUE, IF($A$215=TRUE, IF($F$1=2, IF($H$1=1, Data!N231, NA()), NA()),NA()), NA())","v":{"$error":"#N/A"}},{"$f":"IF($A$217=TRUE, IF($A$213= TRUE, IF($H$1=2, IF($F$1 = 1, Data!O231, NA()), NA()), NA()), NA())","v":{"$error":"#N/A"}},{"$f":"IF($A$217=TRUE, IF($A$213= TRUE, IF($H$1=2, IF($F$1 = 1, Data!P231, NA()), NA()), NA()), NA())","v":{"$error":"#N/A"}},{"$f":"IF($A$217 = TRUE, IF($A$213=TRUE, IF($H$1=1, IF($F$1 = 1, Data!Q231, NA()), NA()), NA()), NA())","v":{"$error":"#N/A"}},{"$f":"IF($A$217 = TRUE, IF($A$213=TRUE, IF($H$1=1, IF($F$1 = 1, Data!R231, NA()), NA()), NA()), NA())","v":{"$error":"#N/A"}},{"$f":"IF($A$213=TRUE, IF($A$215=TRUE, IF($F$1=1, IF($H$1=2, Data!S231, NA()), NA()), NA()), NA())","v":{"$error":"#N/A"}},{"$f":"IF($A$213 = TRUE, IF($A$215=TRUE, IF($F$1=1, IF($H$1=1, Data!T231, NA()), NA()), NA()), NA())","v":{"$error":"#N/A"}}]
[null,{"$f":"Data!B219","v":"Thermal Treatment"},{"$f":"Data!C232","v":"Steam"},{"$f":"Data!E232","v":"Full"},{"$f":"Data!H232","v":0},{"$f":"IF($A$216=TRUE, IF($A$213=TRUE, IF($H$1=2, IF($F$1 = 2, Data!I232, NA()), NA()), NA()), NA())","v":10},{"$f":"IF($A$216=TRUE, IF($A$213=TRUE, IF($H$1=2, IF($F$1 = 2, Data!J232, NA()), NA()), NA()), NA())","v":0.11},{"$f":"IF($A$216=TRUE, IF($A$213=TRUE, IF($H$1=1, IF($F$1 = 2, Data!K232, NA()), NA()), NA()), NA())","v":{"$error":"#N/A"}},{"$f":"IF($A$216=TRUE, IF($A$213=TRUE, IF($H$1=1, IF($F$1 = 2, Data!L232, NA()), NA()), NA()), NA())","v":{"$error":"#N/A"}},{"$f":"IF($A$213= TRUE, IF($A$216=TRUE, IF($F$1=2, IF($H$1=2, Data!M232, NA()), NA()), NA()), NA())","v":1.9586072999999999},{"$f":"IF($A$213=TRUE, IF($A$216=TRUE, IF($F$1=2, IF($H$1=1, Data!N232, NA()), NA()),NA()), NA())","v":{"$error":"#N/A"}},{"$f":"IF($A$216=TRUE, IF($A$213= TRUE, IF($H$1=2, IF($F$1 = 1, Data!O232, NA()), NA()), NA()), NA())","v":{"$error":"#N/A"}},{"$f":"IF($A$216=TRUE, IF($A$213= TRUE, IF($H$1=2, IF($F$1 = 1, Data!P232, NA()), NA()), NA()), NA())","v":{"$error":"#N/A"}},{"$f":"IF($A$216 = TRUE, IF($A$213=TRUE, IF($H$1=1, IF($F$1 = 1, Data!Q232, NA()), NA()), NA()), NA())","v":{"$error":"#N/A"}},{"$f":"IF($A$216 = TRUE, IF($A$213=TRUE, IF($H$1=1, IF($F$1 = 1, Data!R232, NA()), NA()), NA()), NA())","v":{"$error":"#N/A"}},{"$f":"IF($A$213=TRUE, IF($A$216=TRUE, IF($F$1=1, IF($H$1=2, Data!S232, NA()), NA()), NA()), NA())","v":{"$error":"#N/A"}},{"$f":"IF($A$213 = TRUE, IF($A$216=TRUE, IF($F$1=1, IF($H$1=1, Data!T232, NA()), NA()), NA()), NA())","v":{"$error":"#N/A"}}]
[null,{"$f":"Data!B231","v":"Thermal Treatment"},{"$f":"Data!C233","v":"Steam"},{"$f":"Data!E233","v":"Full"},{"$f":"Data!H233","v":"Coarse-grained"},{"$f":"IF($A$216=TRUE, IF($A$213=TRUE, IF($H$1=2, IF($F$1 = 2, Data!I233, NA()), NA()), NA()), NA())","v":0.43910939999999998},{"$f":"IF($A$216=TRUE, IF($A$213=TRUE, IF($H$1=2, IF($F$1 = 2, Data!J233, NA()), NA()), NA()), NA())","v":2.6434000000000002E-3},{"$f":"IF($A$216=TRUE, IF($A$213=TRUE, IF($H$1=1, IF($F$1 = 2, Data!K233, NA()), NA()), NA()), NA())","v":{"$error":"#N/A"}},{"$f":"IF($A$216=TRUE, IF($A$213=TRUE, IF($H$1=1, IF($F$1 = 2, Data!L233, NA()), NA()), NA()), NA())","v":{"$error":"#N/A"}},{"$f":"IF($A$213= TRUE, IF($A$216=TRUE, IF($F$1=2, IF($H$1=2, Data!M233, NA()), NA()), NA()), NA())","v":2.2204049000000001},{"$f":"IF($A$213=TRUE, IF($A$216=TRUE, IF($F$1=2, IF($H$1=1, Data!N233, NA()), NA()),NA()), NA())","v":{"$error":"#N/A"}},{"$f":"IF($A$216=TRUE, IF($A$213= TRUE, IF($H$1=2, IF($F$1 = 1, Data!O233, NA()), NA()), NA()), NA())","v":{"$error":"#N/A"}},{"$f":"IF($A$216=TRUE, IF($A$213= TRUE, IF($H$1=2, IF($F$1 = 1, Data!P233, NA()), NA()), NA()), NA())","v":{"$error":"#N/A"}},{"$f":"IF($A$216 = TRUE, IF($A$213=TRUE, IF($H$1=1, IF($F$1 = 1, Data!Q233, NA()), NA()), NA()), NA())","v":{"$error":"#N/A"}},{"$f":"IF($A$216 = TRUE, IF($A$213=TRUE, IF($H$1=1, IF($F$1 = 1, Data!R233, NA()), NA()), NA()), NA())","v":{"$error":"#N/A"}},{"$f":"IF($A$213=TRUE, IF($A$216=TRUE, IF($F$1=1, IF($H$1=2, Data!S233, NA()), NA()), NA()), NA())","v":{"$error":"#N/A"}},{"$f":"IF($A$213 = TRUE, IF($A$216=TRUE, IF($F$1=1, IF($H$1=1, Data!T233, NA()), NA()), NA()), NA())","v":{"$error":"#N/A"}}]
[null,{"$f":"Data!B232","v":"Thermal Treatment"},{"$f":"Data!C234","v":"Steam"},{"$f":"Data!E234","v":"Full"},{"$f":"Data!H234","v":"Fine-grained"},{"$f":"IF($A$216=TRUE, IF($A$213=TRUE, IF($H$1=2, IF($F$1 = 2, Data!I234, NA()), NA()), NA()), NA())","v":20.2},{"$f":"IF($A$216=TRUE, IF($A$213=TRUE, IF($H$1=2, IF($F$1 = 2, Data!J234, NA()), NA()), NA()), NA())","v":2.7566231000000001},{"$f":"IF($A$216=TRUE, IF($A$213=TRUE, IF($H$1=1, IF($F$1 = 2, Data!K234, NA()), NA()), NA()), NA())","v":{"$error":"#N/A"}},{"$f":"IF($A$216=TRUE, IF($A$213=TRUE, IF($H$1=1, IF($F$1 = 2, Data!L234, NA()), NA()), NA()), NA())","v":{"$error":"#N/A"}},{"$f":"IF($A$213= TRUE, IF($A$216=TRUE, IF($F$1=2, IF($H$1=2, Data!M234, NA()), NA()), NA()), NA())","v":0.86497400000000002},{"$f":"IF($A$213=TRUE, IF($A$216=TRUE, IF($F$1=2, IF($H$1=1, Data!N234, NA()), NA()),NA()), NA())","v":{"$error":"#N/A"}},{"$f":"IF($A$216=TRUE, IF($A$213= TRUE, IF($H$1=2, IF($F$1 = 1, Data!O234, NA()), NA()), NA()), NA())","v":{"$error":"#N/A"}},{"$f":"IF($A$216=TRUE, IF($A$213= TRUE, IF($H$1=2, IF($F$1 = 1, Data!P234, NA()), NA()), NA()), NA())","v":{"$error":"#N/A"}},{"$f":"IF($A$216 = TRUE, IF($A$213=TRUE, IF($H$1=1, IF($F$1 = 1, Data!Q234, NA()), NA()), NA()), NA())","v":{"$error":"#N/A"}},{"$f":"IF($A$216 = TRUE, IF($A$213=TRUE, IF($H$1=1, IF($F$1 = 1, Data!R234, NA()), NA()), NA()), NA())","v":{"$error":"#N/A"}},{"$f":"IF($A$213=TRUE, IF($A$216=TRUE, IF($F$1=1, IF($H$1=2, Data!S234, NA()), NA()), NA()), NA())","v":{"$error":"#N/A"}},{"$f":"IF($A$213 = TRUE, IF($A$216=TRUE, IF($F$1=1, IF($H$1=1, Data!T234, NA()), NA()), NA()), NA())","v":{"$error":"#N/A"}}]
[true,{"$f":"Data!B235","v":"Natural Attenuation"},{"$f":"Data!C235","v":"None"},{"$f":"Data!E235","v":{"$error":"#N/A"}},{"$f":"Data!H235","v":{"$error":"#N/A"}},{"$f":" IF($A$236=TRUE, IF($H$1=2, IF($F$1 = 2, Data!I235, NA()), NA()), NA())","v":1.9834061999999999},{"$f":" IF($A$236=TRUE, IF($H$1=2, IF($F$1 = 2, Data!J235, NA()), NA()), NA())","v":1E-3},{"$f":"IF($A$236=TRUE, IF($H$1=1, IF($F$1 = 2, Data!K235, NA()), NA()), NA())","v":{"$error":"#N/A"}},{"$f":"IF($A$236=TRUE, IF($H$1=1, IF($F$1 = 2, Data!L235, NA()), NA()), NA())","v":{"$error":"#N/A"}},{"$f":"IF($A$236=TRUE, IF($F$1=2, IF($H$1=2, Data!M235, NA()), NA()), NA())","v":3.2974117000000001},{"$f":"IF($A$236=TRUE, IF($F$1=2, IF($H$1=1, Data!N235, NA()), NA()),NA())","v":{"$error":"#N/A"}},{"$f":"IF($A$236= TRUE, IF($H$1=2, IF($F$1 = 1, Data!O235, NA()), NA()), NA())","v":{"$error":"#N/A"}},{"$f":"IF($A$236= TRUE, IF($H$1=2, IF($F$1 = 1, Data!P235, NA()), NA()), NA())","v":{"$error":"#N/A"}},{"$f":"IF($A$236=TRUE, IF($H$1=1, IF($F$1 = 1, Data!Q235, NA()), NA()), NA())","v":{"$error":"#N/A"}},{"$f":"IF($A$236=TRUE, IF($H$1=1, IF($F$1 = 1, Data!R235, NA()), NA()), NA())","v":{"$error":"#N/A"}},{"$f":"IF($A$236=TRUE, IF($F$1=1, IF($H$1=2, Data!S235, NA()), NA()), NA())","v":{"$error":"#N/A"}},{"$f":"IF($A$236=TRUE, IF($F$1=1, IF($H$1=1, Data!T235, NA()), NA()), NA())","v":{"$error":"#N/A"}}]
[null,{"$f":"Data!B236","v":"Natural Attenuation"},{"$f":"Data!C236","v":"None"},{"$f":"Data!E236","v":{"$error":"#N/A"}},{"$f":"Data!H236","v":{"$error":"#N/A"}},{"$f":" IF($A$236=TRUE, IF($H$1=2, IF($F$1 = 2, Data!I236, NA()), NA()), NA())","v":8.3204000000000004E-3},{"$f":" IF($A$236=TRUE, IF($H$1=2, IF($F$1 = 2, Data!J236, NA()), NA()), NA())","v":1.3483E-3},{"$f":"IF($A$236=TRUE, IF($H$1=1, IF($F$1 = 2, Data!K236, NA()), NA()), NA())","v":{"$error":"#N/A"}},{"$f":"IF($A$236=TRUE, IF($H$1=1, IF($F$1 = 2, Data!L236, NA()), NA()), NA())","v":{"$error":"#N/A"}},{"$f":"IF($A$236=TRUE, IF($F$1=2, IF($H$1=2, Data!M236, NA()), NA()), NA())","v":0.79034870000000002},{"$f":"IF($A$236=TRUE, IF($F$1=2, IF($H$1=1, Data!N236, NA()), NA()),NA())","v":{"$error":"#N/A"}},{"$f":"IF($A$236= TRUE, IF($H$1=2, IF($F$1 = 1, Data!O236, NA()), NA()), NA())","v":{"$error":"#N/A"}},{"$f":"IF($A$236= TRUE, IF($H$1=2, IF($F$1 = 1, Data!P236, NA()), NA()), NA())","v":{"$error":"#N/A"}},{"$f":"IF($A$236=TRUE, IF($H$1=1, IF($F$1 = 1, Data!Q236, NA()), NA()), NA())","v":{"$error":"#N/A"}},{"$f":"IF($A$236=TRUE, IF($H$1=1, IF($F$1 = 1, Data!R236, NA()), NA()), NA())","v":{"$error":"#N/A"}},{"$f":"IF($A$236=TRUE, IF($F$1=1, IF($H$1=2, Data!S236, NA()), NA()), NA())","v":{"$error":"#N/A"}},{"$f":"IF($A$236=TRUE, IF($F$1=1, IF($H$1=1, Data!T236, NA()), NA()), NA())","v":{"$error":"#N/A"}}]
[true,{"$f":"Data!B237","v":"Natural Attenuation"},{"$f":"Data!C237","v":"None"},{"$f":"Data!E237","v":{"$error":"#N/A"}},{"$f":"Data!H237","v":{"$error":"#N/A"}},{"$f":" IF($A$236=TRUE, IF($H$1=2, IF($F$1 = 2, Data!I237, NA()), NA()), NA())","v":1.9047000000000001E-3},{"$f":" IF($A$236=TRUE, IF($H$1=2, IF($F$1 = 2, Data!J237, NA()), NA()), NA())","v":4.8127999999999999E-3},{"$f":"IF($A$236=TRUE, IF($H$1=1, IF($F$1 = 2, Data!K237, NA()), NA()), NA())","v":{"$error":"#N/A"}},{"$f":"IF($A$236=TRUE, IF($H$1=1, IF($F$1 = 2, Data!L237, NA()), NA()), NA())","v":{"$error":"#N/A"}},{"$f":"IF($A$236=TRUE, IF($F$1=2, IF($H$1=2, Data!M237, NA()), NA()), NA())","v":-0.40255819999999998},{"$f":"IF($A$236=TRUE, IF($F$1=2, IF($H$1=1, Data!N237, NA()), NA()),NA())","v":{"$error":"#N/A"}},{"$f":"IF($A$236= TRUE, IF($H$1=2, IF($F$1 = 1, Data!O237, NA()), NA()), NA())","v":{"$error":"#N/A"}},{"$f":"IF($A$236= TRUE, IF($H$1=2, IF($F$1 = 1, Data!P237, NA()), NA()), NA())","v":{"$error":"#N/A"}},{"$f":"IF($A$236=TRUE, IF($H$1=1, IF($F$1 = 1, Data!Q237, NA()), NA()), NA())","v":{"$error":"#N/A"}},{"$f":"IF($A$236=TRUE, IF($H$1=1, IF($F$1 = 1, Data!R237, NA()), NA()), NA())","v":{"$error":"#N/A"}},{"$f":"IF($A$236=TRUE, IF($F$1=1, IF($H$1=2, Data!S237, NA()), NA()), NA())","v":{"$error":"#N/A"}},{"$f":"IF($A$236=TRUE, IF($F$1=1, IF($H$1=1, Data!T237, NA()), NA()), NA())","v":{"$error":"#N/A"}}]
[null,{"$f":"Data!B238","v":"Natural Attenuation"},{"$f":"Data!C238","v":"None"},{"$f":"Data!E238","v":{"$error":"#N/A"}},{"$f":"Data!H238","v":{"$error":"#N/A"}},{"$f":" IF($A$236=TRUE, IF($H$1=2, IF($F$1 = 2, Data!I238, NA()), NA()), NA())","v":1.05},{"$f":" IF($A$236=TRUE, IF($H$1=2, IF($F$1 = 2, Data!J238, NA()), NA()), NA())","v":0.13},{"$f":"IF($A$236=TRUE, IF($H$1=1, IF($F$1 = 2, Data!K238, NA()), NA()), NA())","v":{"$error":"#N/A"}},{"$f":"IF($A$236=TRUE, IF($H$1=1, IF($F$1 = 2, Data!L238, NA()), NA()), NA())","v":{"$error":"#N/A"}},{"$f":"IF($A$236=TRUE, IF($F$1=2, IF($H$1=2, Data!M238, NA()), NA()), NA())","v":0.90724590000000005},{"$f":"IF($A$236=TRUE, IF($F$1=2, IF($H$1=1, Data!N238, NA()), NA()),NA())","v":{"$error":"#N/A"}},{"$f":"IF($A$236= TRUE, IF($H$1=2, IF($F$1 = 1, Data!O238, NA()), NA()), NA())","v":{"$error":"#N/A"}},{"$f":"IF($A$236= TRUE, IF($H$1=2, IF($F$1 = 1, Data!P238, NA()), NA()), NA())","v":{"$error":"#N/A"}},{"$f":"IF($A$236=TRUE, IF($H$1=1, IF($F$1 = 1, Data!Q238, NA()), NA()), NA())","v":{"$error":"#N/A"}},{"$f":"IF($A$236=TRUE, IF($H$1=1, IF($F$1 = 1, Data!R238, NA()), NA()), NA())","v":{"$error":"#N/A"}},{"$f":"IF($A$236=TRUE, IF($F$1=1, IF($H$1=2, Data!S238, NA()), NA()), NA())","v":{"$error":"#N/A"}},{"$f":"IF($A$236=TRUE, IF($F$1=1, IF($H$1=1, Data!T238, NA()), NA()), NA())","v":{"$error":"#N/A"}}]
[null,{"$f":"Data!B239","v":"Natural Attenuation"},{"$f":"Data!C239","v":"None"},{"$f":"Data!E239","v":{"$error":"#N/A"}},{"$f":"Data!H239","v":{"$error":"#N/A"}},{"$f":" IF($A$236=TRUE, IF($H$1=2, IF($F$1 = 2, Data!I239, NA()), NA()), NA())","v":0.47},{"$f":" IF($A$236=TRUE, IF($H$1=2, IF($F$1 = 2, Data!J239, NA()), NA()), NA())","v":9.6164399999999997E-2},{"$f":"IF($A$236=TRUE, IF($H$1=1, IF($F$1 = 2, Data!K239, NA()), NA()), NA())","v":{"$error":"#N/A"}},{"$f":"IF($A$236=TRUE, IF($H$1=1, IF($F$1 = 2, Data!L239, NA()), NA()), NA())","v":{"$error":"#N/A"}},{"$f":"IF($A$236=TRUE, IF($F$1=2, IF($H$1=2, Data!M239, NA()), NA()), NA())","v":0.68908329999999995},{"$f":"IF($A$236=TRUE, IF($F$1=2, IF($H$1=1, Data!N239, NA()), NA()),NA())","v":{"$error":"#N/A"}},{"$f":"IF($A$236= TRUE, IF($H$1=2, IF($F$1 = 1, Data!O239, NA()), NA()), NA())","v":{"$error":"#N/A"}},{"$f":"IF($A$236= TRUE, IF($H$1=2, IF($F$1 = 1, Data!P239, NA()), NA()), NA())","v":{"$error":"#N/A"}},{"$f":"IF($A$236=TRUE, IF($H$1=1, IF($F$1 = 1, Data!Q239, NA()), NA()), NA())","v":{"$error":"#N/A"}},{"$f":"IF($A$236=TRUE, IF($H$1=1, IF($F$1 = 1, Data!R239, NA()), NA()), NA())","v":{"$error":"#N/A"}},{"$f":"IF($A$236=TRUE, IF($F$1=1, IF($H$1=2, Data!S239, NA()), NA()), NA())","v":{"$error":"#N/A"}},{"$f":"IF($A$236=TRUE, IF($F$1=1, IF($H$1=1, Data!T239, NA()), NA()), NA())","v":{"$error":"#N/A"}}]
[null,{"$f":"Data!B240","v":"Natural Attenuation"},{"$f":"Data!C240","v":"None"},{"$f":"Data!E240","v":{"$error":"#N/A"}},{"$f":"Data!H240","v":{"$error":"#N/A"}},{"$f":" IF($A$236=TRUE, IF($H$1=2, IF($F$1 = 2, Data!I240, NA()), NA()), NA())","v":2.3749999999999999E-3},{"$f":" IF($A$236=TRUE, IF($H$1=2, IF($F$1 = 2, Data!J240, NA()), NA()), NA())","v":3.715E-3},{"$f":"IF($A$236=TRUE, IF($H$1=1, IF($F$1 = 2, Data!K240, NA()), NA()), NA())","v":{"$error":"#N/A"}},{"$f":"IF($A$236=TRUE, IF($H$1=1, IF($F$1 = 2, Data!L240, NA()), NA()), NA())","v":{"$error":"#N/A"}},{"$f":"IF($A$236=TRUE, IF($F$1=2, IF($H$1=2, Data!M240, NA()), NA()), NA())","v":-0.1942952},{"$f":"IF($A$236=TRUE, IF($F$1=2, IF($H$1=1, Data!N240, NA()), NA()),NA())","v":{"$error":"#N/A"}},{"$f":"IF($A$236= TRUE, IF($H$1=2, IF($F$1 = 1, Data!O240, NA()), NA()), NA())","v":{"$error":"#N/A"}},{"$f":"IF($A$236= TRUE, IF($H$1=2, IF($F$1 = 1, Data!P240, NA()), NA()), NA())","v":{"$error":"#N/A"}},{"$f":"IF($A$236=TRUE, IF($H$1=1, IF($F$1 = 1, Data!Q240, NA()), NA()), NA())","v":{"$error":"#N/A"}},{"$f":"IF($A$236=TRUE, IF($H$1=1, IF($F$1 = 1, Data!R240, NA()), NA()), NA())","v":{"$error":"#N/A"}},{"$f":"IF($A$236=TRUE, IF($F$1=1, IF($H$1=2, Data!S240, NA()), NA()), NA())","v":{"$error":"#N/A"}},{"$f":"IF($A$236=TRUE, IF($F$1=1, IF($H$1=1, Data!T240, NA()), NA()), NA())","v":{"$error":"#N/A"}}]
[null,{"$f":"Data!B241","v":"Natural Attenuation"},{"$f":"Data!C241","v":"None"},{"$f":"Data!E241","v":{"$error":"#N/A"}},{"$f":"Data!H241","v":{"$error":"#N/A"}},{"$f":" IF($A$236=TRUE, IF($H$1=2, IF($F$1 = 2, Data!I241, NA()), NA()), NA())","v":2.1642944000000002},{"$f":" IF($A$236=TRUE, IF($H$1=2, IF($F$1 = 2, Data!J241, NA()), NA()), NA())","v":1E-3},{"$f":"IF($A$236=TRUE, IF($H$1=1, IF($F$1 = 2, Data!K241, NA()), NA()), NA())","v":{"$error":"#N/A"}},{"$f":"IF($A$236=TRUE, IF($H$1=1, IF($F$1 = 2, Data!L241, NA()), NA()), NA())","v":{"$error":"#N/A"}},{"$f":"IF($A$236=TRUE, IF($F$1=2, IF($H$1=2, Data!M241, NA()), NA()), NA())","v":3.3485445999999999},{"$f":"IF($A$236=TRUE, IF($F$1=2, IF($H$1=1, Data!N241, NA()), NA()),NA())","v":{"$error":"#N/A"}},{"$f":"IF($A$236= TRUE, IF($H$1=2, IF($F$1 = 1, Data!O241, NA()), NA()), NA())","v":{"$error":"#N/A"}},{"$f":"IF($A$236= TRUE, IF($H$1=2, IF($F$1 = 1, Data!P241, NA()), NA()), NA())","v":{"$error":"#N/A"}},{"$f":"IF($A$236=TRUE, IF($H$1=1, IF($F$1 = 1, Data!Q241, NA()), NA()), NA())","v":{"$error":"#N/A"}},{"$f":"IF($A$236=TRUE, IF($H$1=1, IF($F$1 = 1, Data!R241, NA()), NA()), NA())","v":{"$error":"#N/A"}},{"$f":"IF($A$236=TRUE, IF($F$1=1, IF($H$1=2, Data!S241, NA()), NA()), NA())","v":{"$error":"#N/A"}},{"$f":"IF($A$236=TRUE, IF($F$1=1, IF($H$1=1, Data!T241, NA()), NA()), NA())","v":{"$error":"#N/A"}}]
[null,{"$f":"Data!B242","v":"Natural Attenuation"},{"$f":"Data!C242","v":"None"},{"$f":"Data!E242","v":{"$error":"#N/A"}},{"$f":"Data!H242","v":{"$error":"#N/A"}},{"$f":" IF($A$236=TRUE, IF($H$1=2, IF($F$1 = 2, Data!I242, NA()), NA()), NA())","v":9.1743999999999992E-3},{"$f":" IF($A$236=TRUE, IF($H$1=2, IF($F$1 = 2, Data!J242, NA()), NA()), NA())","v":3.0641000000000002E-3},{"$f":"IF($A$236=TRUE, IF($H$1=1, IF($F$1 = 2, Data!K242, NA()), NA()), NA())","v":{"$error":"#N/A"}},{"$f":"IF($A$236=TRUE, IF($H$1=1, IF($F$1 = 2, Data!L242, NA()), NA()), NA())","v":{"$error":"#N/A"}},{"$f":"IF($A$236=TRUE, IF($F$1=2, IF($H$1=2, Data!M242, NA()), NA()), NA())","v":0.47627340000000001},{"$f":"IF($A$236=TRUE, IF($F$1=2, IF($H$1=1, Data!N242, NA()), NA()),NA())","v":{"$error":"#N/A"}},{"$f":"IF($A$236= TRUE, IF($H$1=2, IF($F$1 = 1, Data!O242, NA()), NA()), NA())","v":{"$error":"#N/A"}},{"$f":"IF($A$236= TRUE, IF($H$1=2, IF($F$1 = 1, Data!P242, NA()), NA()), NA())","v":{"$error":"#N/A"}},{"$f":"IF($A$236=TRUE, IF($H$1=1, IF($F$1 = 1, Data!Q242, NA()), NA()), NA())","v":{"$error":"#N/A"}},{"$f":"IF($A$236=TRUE, IF($H$1=1, IF($F$1 = 1, Data!R242, NA()), NA()), NA())","v":{"$error":"#N/A"}},{"$f":"IF($A$236=TRUE, IF($F$1=1, IF($H$1=2, Data!S242, NA()), NA()), NA())","v":{"$error":"#N/A"}},{"$f":"IF($A$236=TRUE, IF($F$1=1, IF($H$1=1, Data!T242, NA()), NA()), NA())","v":{"$error":"#N/A"}}]
[null,{"$f":"Data!B243","v":"Natural Attenuation"},{"$f":"Data!C243","v":"None"},{"$f":"Data!E243","v":{"$error":"#N/A"}},{"$f":"Data!H243","v":{"$error":"#N/A"}},{"$f":" IF($A$236=TRUE, IF($H$1=2, IF($F$1 = 2, Data!I243, NA()), NA()), NA())","v":1.8331E-2},{"$f":" IF($A$236=TRUE, IF($H$1=2, IF($F$1 = 2, Data!J243, NA()), NA()), NA())","v":2.6200000000000001E-2},{"$f":"IF($A$236=TRUE, IF($H$1=1, IF($F$1 = 2, Data!K243, NA()), NA()), NA())","v":{"$error":"#N/A"}},{"$f":"IF($A$236=TRUE, IF($H$1=1, IF($F$1 = 2, Data!L243, NA()), NA()), NA())","v":{"$error":"#N/A"}},{"$f":"IF($A$236=TRUE, IF($F$1=2, IF($H$1=2, Data!M243, NA()), NA()), NA())","v":-0.1551159},{"$f":"IF($A$236=TRUE, IF($F$1=2, IF($H$1=1, Data!N243, NA()), NA()),NA())","v":{"$error":"#N/A"}},{"$f":"IF($A$236= TRUE, IF($H$1=2, IF($F$1 = 1, Data!O243, NA()), NA()), NA())","v":{"$error":"#N/A"}},{"$f":"IF($A$236= TRUE, IF($H$1=2, IF($F$1 = 1, Data!P243, NA()), NA()), NA())","v":{"$error":"#N/A"}},{"$f":"IF($A$236=TRUE, IF($H$1=1, IF($F$1 = 1, Data!Q243, NA()), NA()), NA())","v":{"$error":"#N/A"}},{"$f":"IF($A$236=TRUE, IF($H$1=1, IF($F$1 = 1, Data!R243, NA()), NA()), NA())","v":{"$error":"#N/A"}},{"$f":"IF($A$236=TRUE, IF($F$1=1, IF($H$1=2, Data!S243, NA()), NA()), NA())","v":{"$error":"#N/A"}},{"$f":"IF($A$236=TRUE, IF($F$1=1, IF($H$1=1, Data!T243, NA()), NA()), NA())","v":{"$error":"#N/A"}}]
[null,{"$f":"Data!B244","v":"Natural Attenuation"},{"$f":"Data!C244","v":"None"},{"$f":"Data!E244","v":{"$error":"#N/A"}},{"$f":"Data!H244","v":{"$error":"#N/A"}},{"$f":" IF($A$236=TRUE, IF($H$1=2, IF($F$1 = 2, Data!I244, NA()), NA()), NA())","v":0.34724919999999998},{"$f":" IF($A$236=TRUE, IF($H$1=2, IF($F$1 = 2, Data!J244, NA()), NA()), NA())","v":0.33802549999999998},{"$f":"IF($A$236=TRUE, IF($H$1=1, IF($F$1 = 2, Data!K244, NA()), NA()), NA())","v":{"$error":"#N/A"}},{"$f":"IF($A$236=TRUE, IF($H$1=1, IF($F$1 = 2, Data!L244, NA()), NA()), NA())","v":{"$error":"#N/A"}},{"$f":"IF($A$236=TRUE, IF($F$1=2, IF($H$1=2, Data!M244, NA()), NA()), NA())","v":1.16918E-2},{"$f":"IF($A$236=TRUE, IF($F$1=2, IF($H$1=1, Data!N244, NA()), NA()),NA())","v":{"$error":"#N/A"}},{"$f":"IF($A$236= TRUE, IF($H$1=2, IF($F$1 = 1, Data!O244, NA()), NA()), NA())","v":{"$error":"#N/A"}},{"$f":"IF($A$236= TRUE, IF($H$1=2, IF($F$1 = 1, Data!P244, NA()), NA()), NA())","v":{"$error":"#N/A"}},{"$f":"IF($A$236=TRUE, IF($H$1=1, IF($F$1 = 1, Data!Q244, NA()), NA()), NA())","v":{"$error":"#N/A"}},{"$f":"IF($A$236=TRUE, IF($H$1=1, IF($F$1 = 1, Data!R244, NA()), NA()), NA())","v":{"$error":"#N/A"}},{"$f":"IF($A$236=TRUE, IF($F$1=1, IF($H$1=2, Data!S244, NA()), NA()), NA())","v":{"$error":"#N/A"}},{"$f":"IF($A$236=TRUE, IF($F$1=1, IF($H$1=1, Data!T244, NA()), NA()), NA())","v":{"$error":"#N/A"}}]
[null,{"$f":"Data!B245","v":"Natural Attenuation"},{"$f":"Data!C245","v":"None"},{"$f":"Data!E245","v":{"$error":"#N/A"}},{"$f":"Data!H245","v":{"$error":"#N/A"}},{"$f":" IF($A$236=TRUE, IF($H$1=2, IF($F$1 = 2, Data!I245, NA()), NA()), NA())","v":1.9116999999999999E-2},{"$f":" IF($A$236=TRUE, IF($H$1=2, IF($F$1 = 2, Data!J245, NA()), NA()), NA())","v":2.8049999999999999E-2},{"$f":"IF($A$236=TRUE, IF($H$1=1, IF($F$1 = 2, Data!K245, NA()), NA()), NA())","v":{"$error":"#N/A"}},{"$f":"IF($A$236=TRUE, IF($H$1=1, IF($F$1 = 2, Data!L245, NA()), NA()), NA())","v":{"$error":"#N/A"}},{"$f":"IF($A$236=TRUE, IF($F$1=2, IF($H$1=2, Data!M245, NA()), NA()), NA())","v":-0.16651350000000001},{"$f":"IF($A$236=TRUE, IF($F$1=2, IF($H$1=1, Data!N245, NA()), NA()),NA())","v":{"$error":"#N/A"}},{"$f":"IF($A$236= TRUE, IF($H$1=2, IF($F$1 = 1, Data!O245, NA()), NA()), NA())","v":{"$error":"#N/A"}},{"$f":"IF($A$236= TRUE, IF($H$1=2, IF($F$1 = 1, Data!P245, NA()), NA()), NA())","v":{"$error":"#N/A"}},{"$f":"IF($A$236=TRUE, IF($H$1=1, IF($F$1 = 1, Data!Q245, NA()), NA()), NA())","v":{"$error":"#N/A"}},{"$f":"IF($A$236=TRUE, IF($H$1=1, IF($F$1 = 1, Data!R245, NA()), NA()), NA())","v":{"$error":"#N/A"}},{"$f":"IF($A$236=TRUE, IF($F$1=1, IF($H$1=2, Data!S245, NA()), NA()), NA())","v":{"$error":"#N/A"}},{"$f":"IF($A$236=TRUE, IF($F$1=1, IF($H$1=1, Data!T245, NA()), NA()), NA())","v":{"$error":"#N/A"}}]
[null,{"$f":"Data!B246","v":"Natural Attenuation"},{"$f":"Data!C246","v":"None"},{"$f":"Data!E246","v":{"$error":"#N/A"}},{"$f":"Data!H246","v":{"$error":"#N/A"}},{"$f":" IF($A$236=TRUE, IF($H$1=2, IF($F$1 = 2, Data!I246, NA()), NA()), NA())","v":1.26718E-2},{"$f":" IF($A$236=TRUE, IF($H$1=2, IF($F$1 = 2, Data!J246, NA()), NA()), NA())","v":1.3905900000000001E-2},{"$f":"IF($A$236=TRUE, IF($H$1=1, IF($F$1 = 2, Data!K246, NA()), NA()), NA())","v":{"$error":"#N/A"}},{"$f":"IF($A$236=TRUE, IF($H$1=1, IF($F$1 = 2, Data!L246, NA()), NA()), NA())","v":{"$error":"#N/A"}},{"$f":"IF($A$236=TRUE, IF($F$1=2, IF($H$1=2, Data!M246, NA()), NA()), NA())","v":-4.0359800000000001E-2},{"$f":"IF($A$236=TRUE, IF($F$1=2, IF($H$1=1, Data!N246, NA()), NA()),NA())","v":{"$error":"#N/A"}},{"$f":"IF($A$236= TRUE, IF($H$1=2, IF($F$1 = 1, Data!O246, NA()), NA()), NA())","v":{"$error":"#N/A"}},{"$f":"IF($A$236= TRUE, IF($H$1=2, IF($F$1 = 1, Data!P246, NA()), NA()), NA())","v":{"$error":"#N/A"}},{"$f":"IF($A$236=TRUE, IF($H$1=1, IF($F$1 = 1, Data!Q246, NA()), NA()), NA())","v":{"$error":"#N/A"}},{"$f":"IF($A$236=TRUE, IF($H$1=1, IF($F$1 = 1, Data!R246, NA()), NA()), NA())","v":{"$error":"#N/A"}},{"$f":"IF($A$236=TRUE, IF($F$1=1, IF($H$1=2, Data!S246, NA()), NA()), NA())","v":{"$error":"#N/A"}},{"$f":"IF($A$236=TRUE, IF($F$1=1, IF($H$1=1, Data!T246, NA()), NA()), NA())","v":{"$error":"#N/A"}}]
[null,{"$f":"Data!B247","v":"Natural Attenuation"},{"$f":"Data!C247","v":"None"},{"$f":"Data!E247","v":{"$error":"#N/A"}},{"$f":"Data!H247","v":{"$error":"#N/A"}},{"$f":" IF($A$236=TRUE, IF($H$1=2, IF($F$1 = 2, Data!I247, NA()), NA()), NA())","v":0.67147129999999999},{"$f":" IF($A$236=TRUE, IF($H$1=2, IF($F$1 = 2, Data!J247, NA()), NA()), NA())","v":9.2200000000000004E-2},{"$f":"IF($A$236=TRUE, IF($H$1=1, IF($F$1 = 2, Data!K247, NA()), NA()), NA())","v":{"$error":"#N/A"}},{"$f":"IF($A$236=TRUE, IF($H$1=1, IF($F$1 = 2, Data!L247, NA()), NA()), NA())","v":{"$error":"#N/A"}},{"$f":"IF($A$236=TRUE, IF($F$1=2, IF($H$1=2, Data!M247, NA()), NA()), NA())","v":0.86229650000000002},{"$f":"IF($A$236=TRUE, IF($F$1=2, IF($H$1=1, Data!N247, NA()), NA()),NA())","v":{"$error":"#N/A"}},{"$f":"IF($A$236= TRUE, IF($H$1=2, IF($F$1 = 1, Data!O247, NA()), NA()), NA())","v":{"$error":"#N/A"}},{"$f":"IF($A$236= TRUE, IF($H$1=2, IF($F$1 = 1, Data!P247, NA()), NA()), NA())","v":{"$error":"#N/A"}},{"$f":"IF($A$236=TRUE, IF($H$1=1, IF($F$1 = 1, Data!Q247, NA()), NA()), NA())","v":{"$error":"#N/A"}},{"$f":"IF($A$236=TRUE, IF($H$1=1, IF($F$1 = 1, Data!R247, NA()), NA()), NA())","v":{"$error":"#N/A"}},{"$f":"IF($A$236=TRUE, IF($F$1=1, IF($H$1=2, Data!S247, NA()), NA()), NA())","v":{"$error":"#N/A"}},{"$f":"IF($A$236=TRUE, IF($F$1=1, IF($H$1=1, Data!T247, NA()), NA()), NA())","v":{"$error":"#N/A"}}]
[null,{"$f":"Data!B248","v":"Natural Attenuation"},{"$f":"Data!C248","v":"None"},{"$f":"Data!E248","v":{"$error":"#N/A"}},{"$f":"Data!H248","v":{"$error":"#N/A"}},{"$f":" IF($A$236=TRUE, IF($H$1=2, IF($F$1 = 2, Data!I248, NA()), NA()), NA())","v":0.3251887},{"$f":" IF($A$236=TRUE, IF($H$1=2, IF($F$1 = 2, Data!J248, NA()), NA()), NA())","v":8.5422999999999992E-3},{"$f":"IF($A$236=TRUE, IF($H$1=1, IF($F$1 = 2, Data!K248, NA()), NA()), NA())","v":{"$error":"#N/A"}},{"$f":"IF($A$236=TRUE, IF($H$1=1, IF($F$1 = 2, Data!L248, NA()), NA()), NA())","v":{"$error":"#N/A"}},{"$f":"IF($A$236=TRUE, IF($F$1=2, IF($H$1=2, Data!M248, NA()), NA()), NA())","v":1.5805623},{"$f":"IF($A$236=TRUE, IF($F$1=2, IF($H$1=1, Data!N248, NA()), NA()),NA())","v":{"$error":"#N/A"}},{"$f":"IF($A$236= TRUE, IF($H$1=2, IF($F$1 = 1, Data!O248, NA()), NA()), NA())","v":{"$error":"#N/A"}},{"$f":"IF($A$236= TRUE, IF($H$1=2, IF($F$1 = 1, Data!P248, NA()), NA()), NA())","v":{"$error":"#N/A"}},{"$f":"IF($A$236=TRUE, IF($H$1=1, IF($F$1 = 1, Data!Q248, NA()), NA()), NA())","v":{"$error":"#N/A"}},{"$f":"IF($A$236=TRUE, IF($H$1=1, IF($F$1 = 1, Data!R248, NA()), NA()), NA())","v":{"$error":"#N/A"}},{"$f":"IF($A$236=TRUE, IF($F$1=1, IF($H$1=2, Data!S248, NA()), NA()), NA())","v":{"$error":"#N/A"}},{"$f":"IF($A$236=TRUE, IF($F$1=1, IF($H$1=1, Data!T248, NA()), NA()), NA())","v":{"$error":"#N/A"}}]
[null,{"$f":"Data!B249","v":"Natural Attenuation"},{"$f":"Data!C249","v":"None"},{"$f":"Data!E249","v":{"$error":"#N/A"}},{"$f":"Data!H249","v":{"$error":"#N/A"}},{"$f":" IF($A$236=TRUE, IF($H$1=2, IF($F$1 = 2, Data!I249, NA()), NA()), NA())","v":11.392899699999999},{"$f":" IF($A$236=TRUE, IF($H$1=2, IF($F$1 = 2, Data!J249, NA()), NA()), NA())","v":1.1252104999999999},{"$f":"IF($A$236=TRUE, IF($H$1=1, IF($F$1 = 2, Data!K249, NA()), NA()), NA())","v":{"$error":"#N/A"}},{"$f":"IF($A$236=TRUE, IF($H$1=1, IF($F$1 = 2, Data!L249, NA()), NA()), NA())","v":{"$error":"#N/A"}},{"$f":"IF($A$236=TRUE, IF($F$1=2, IF($H$1=2, Data!M249, NA()), NA()), NA())","v":1.0054004999999999},{"$f":"IF($A$236=TRUE, IF($F$1=2, IF($H$1=1, Data!N249, NA()), NA()),NA())","v":{"$error":"#N/A"}},{"$f":"IF($A$236= TRUE, IF($H$1=2, IF($F$1 = 1, Data!O249, NA()), NA()), NA())","v":{"$error":"#N/A"}},{"$f":"IF($A$236= TRUE, IF($H$1=2, IF($F$1 = 1, Data!P249, NA()), NA()), NA())","v":{"$error":"#N/A"}},{"$f":"IF($A$236=TRUE, IF($H$1=1, IF($F$1 = 1, Data!Q249, NA()), NA()), NA())","v":{"$error":"#N/A"}},{"$f":"IF($A$236=TRUE, IF($H$1=1, IF($F$1 = 1, Data!R249, NA()), NA()), NA())","v":{"$error":"#N/A"}},{"$f":"IF($A$236=TRUE, IF($F$1=1, IF($H$1=2, Data!S249, NA()), NA()), NA())","v":{"$error":"#N/A"}},{"$f":"IF($A$236=TRUE, IF($F$1=1, IF($H$1=1, Data!T249, NA()), NA()), NA())","v":{"$error":"#N/A"}}]
[null,{"$f":"Data!B250","v":"Natural Attenuation"},{"$f":"Data!C250","v":"None"},{"$f":"Data!E250","v":{"$error":"#N/A"}},{"$f":"Data!H250","v":{"$error":"#N/A"}},{"$f":" IF($A$236=TRUE, IF($H$1=2, IF($F$1 = 2, Data!I250, NA()), NA()), NA())","v":0.51145989999999997},{"$f":" IF($A$236=TRUE, IF($H$1=2, IF($F$1 = 2, Data!J250, NA()), NA()), NA())","v":0.2},{"$f":"IF($A$236=TRUE, IF($H$1=1, IF($F$1 = 2, Data!K250, NA()), NA()), NA())","v":{"$error":"#N/A"}},{"$f":"IF($A$236=TRUE, IF($H$1=1, IF($F$1 = 2, Data!L250, NA()), NA()), NA())","v":{"$error":"#N/A"}},{"$f":"IF($A$236=TRUE, IF($F$1=2, IF($H$1=2, Data!M250, NA()), NA()), NA())","v":0.40778160000000002},{"$f":"IF($A$236=TRUE, IF($F$1=2, IF($H$1=1, Data!N250, NA()), NA()),NA())","v":{"$error":"#N/A"}},{"$f":"IF($A$236= TRUE, IF($H$1=2, IF($F$1 = 1, Data!O250, NA()), NA()), NA())","v":{"$error":"#N/A"}},{"$f":"IF($A$236= TRUE, IF($H$1=2, IF($F$1 = 1, Data!P250, NA()), NA()), NA())","v":{"$error":"#N/A"}},{"$f":"IF($A$236=TRUE, IF($H$1=1, IF($F$1 = 1, Data!Q250, NA()), NA()), NA())","v":{"$error":"#N/A"}},{"$f":"IF($A$236=TRUE, IF($H$1=1, IF($F$1 = 1, Data!R250, NA()), NA()), NA())","v":{"$error":"#N/A"}},{"$f":"IF($A$236=TRUE, IF($F$1=1, IF($H$1=2, Data!S250, NA()), NA()), NA())","v":{"$error":"#N/A"}},{"$f":"IF($A$236=TRUE, IF($F$1=1, IF($H$1=1, Data!T250, NA()), NA()), NA())","v":{"$error":"#N/A"}}]
[null,{"$f":"Data!B251","v":"Natural Attenuation"},{"$f":"Data!C251","v":"None"},{"$f":"Data!E251","v":{"$error":"#N/A"}},{"$f":"Data!H251","v":{"$error":"#N/A"}},{"$f":" IF($A$236=TRUE, IF($H$1=2, IF($F$1 = 2, Data!I251, NA()), NA()), NA())","v":0.01},{"$f":" IF($A$236=TRUE, IF($H$1=2, IF($F$1 = 2, Data!J251, NA()), NA()), NA())","v":2.5},{"$f":"IF($A$236=TRUE, IF($H$1=1, IF($F$1 = 2, Data!K251, NA()), NA()), NA())","v":{"$error":"#N/A"}},{"$f":"IF($A$236=TRUE, IF($H$1=1, IF($F$1 = 2, Data!L251, NA()), NA()), NA())","v":{"$error":"#N/A"}},{"$f":"IF($A$236=TRUE, IF($F$1=2, IF($H$1=2, Data!M251, NA()), NA()), NA())","v":-2.3979400000000002},{"$f":"IF($A$236=TRUE, IF($F$1=2, IF($H$1=1, Data!N251, NA()), NA()),NA())","v":{"$error":"#N/A"}},{"$f":"IF($A$236= TRUE, IF($H$1=2, IF($F$1 = 1, Data!O251, NA()), NA()), NA())","v":{"$error":"#N/A"}},{"$f":"IF($A$236= TRUE, IF($H$1=2, IF($F$1 = 1, Data!P251, NA()), NA()), NA())","v":{"$error":"#N/A"}},{"$f":"IF($A$236=TRUE, IF($H$1=1, IF($F$1 = 1, Data!Q251, NA()), NA()), NA())","v":{"$error":"#N/A"}},{"$f":"IF($A$236=TRUE, IF($H$1=1, IF($F$1 = 1, Data!R251, NA()), NA()), NA())","v":{"$error":"#N/A"}},{"$f":"IF($A$236=TRUE, IF($F$1=1, IF($H$1=2, Data!S251, NA()), NA()), NA())","v":{"$error":"#N/A"}},{"$f":"IF($A$236=TRUE, IF($F$1=1, IF($H$1=1, Data!T251, NA()), NA()), NA())","v":{"$error":"#N/A"}}]
[null,{"$f":"Data!B252","v":"Natural Attenuation"},{"$f":"Data!C252","v":"None"},{"$f":"Data!E252","v":{"$error":"#N/A"}},{"$f":"Data!H252","v":{"$error":"#N/A"}},{"$f":" IF($A$236=TRUE, IF($H$1=2, IF($F$1 = 2, Data!I252, NA()), NA()), NA())","v":1.9370761999999999},{"$f":" IF($A$236=TRUE, IF($H$1=2, IF($F$1 = 2, Data!J252, NA()), NA()), NA())","v":2.4E-2},{"$f":"IF($A$236=TRUE, IF($H$1=1, IF($F$1 = 2, Data!K252, NA()), NA()), NA())","v":{"$error":"#N/A"}},{"$f":"IF($A$236=TRUE, IF($H$1=1, IF($F$1 = 2, Data!L252, NA()), NA()), NA())","v":{"$error":"#N/A"}},{"$f":"IF($A$236=TRUE, IF($F$1=2, IF($H$1=2, Data!M252, NA()), NA()), NA())","v":1.9069354999999999},{"$f":"IF($A$236=TRUE, IF($F$1=2, IF($H$1=1, Data!N252, NA()), NA()),NA())","v":{"$error":"#N/A"}},{"$f":"IF($A$236= TRUE, IF($H$1=2, IF($F$1 = 1, Data!O252, NA()), NA()), NA())","v":{"$error":"#N/A"}},{"$f":"IF($A$236= TRUE, IF($H$1=2, IF($F$1 = 1, Data!P252, NA()), NA()), NA())","v":{"$error":"#N/A"}},{"$f":"IF($A$236=TRUE, IF($H$1=1, IF($F$1 = 1, Data!Q252, NA()), NA()), NA())","v":{"$error":"#N/A"}},{"$f":"IF($A$236=TRUE, IF($H$1=1, IF($F$1 = 1, Data!R252, NA()), NA()), NA())","v":{"$error":"#N/A"}},{"$f":"IF($A$236=TRUE, IF($F$1=1, IF($H$1=2, Data!S252, NA()), NA()), NA())","v":{"$error":"#N/A"}},{"$f":"IF($A$236=TRUE, IF($F$1=1, IF($H$1=1, Data!T252, NA()), NA()), NA())","v":{"$error":"#N/A"}}]
[null,{"$f":"Data!B253","v":"Natural Attenuation"},{"$f":"Data!C253","v":"None"},{"$f":"Data!E253","v":{"$error":"#N/A"}},{"$f":"Data!H253","v":{"$error":"#N/A"}},{"$f":" IF($A$236=TRUE, IF($H$1=2, IF($F$1 = 2, Data!I253, NA()), NA()), NA())","v":0.34204630000000003},{"$f":" IF($A$236=TRUE, IF($H$1=2, IF($F$1 = 2, Data!J253, NA()), NA()), NA())","v":0.17706430000000001},{"$f":"IF($A$236=TRUE, IF($H$1=1, IF($F$1 = 2, Data!K253, NA()), NA()), NA())","v":{"$error":"#N/A"}},{"$f":"IF($A$236=TRUE, IF($H$1=1, IF($F$1 = 2, Data!L253, NA()), NA()), NA())","v":{"$error":"#N/A"}},{"$f":"IF($A$236=TRUE, IF($F$1=2, IF($H$1=2, Data!M253, NA()), NA()), NA())","v":0.28595379999999998},{"$f":"IF($A$236=TRUE, IF($F$1=2, IF($H$1=1, Data!N253, NA()), NA()),NA())","v":{"$error":"#N/A"}},{"$f":"IF($A$236= TRUE, IF($H$1=2, IF($F$1 = 1, Data!O253, NA()), NA()), NA())","v":{"$error":"#N/A"}},{"$f":"IF($A$236= TRUE, IF($H$1=2, IF($F$1 = 1, Data!P253, NA()), NA()), NA())","v":{"$error":"#N/A"}},{"$f":"IF($A$236=TRUE, IF($H$1=1, IF($F$1 = 1, Data!Q253, NA()), NA()), NA())","v":{"$error":"#N/A"}},{"$f":"IF($A$236=TRUE, IF($H$1=1, IF($F$1 = 1, Data!R253, NA()), NA()), NA())","v":{"$error":"#N/A"}},{"$f":"IF($A$236=TRUE, IF($F$1=1, IF($H$1=2, Data!S253, NA()), NA()), NA())","v":{"$error":"#N/A"}},{"$f":"IF($A$236=TRUE, IF($F$1=1, IF($H$1=1, Data!T253, NA()), NA()), NA())","v":{"$error":"#N/A"}}]
[null,{"$f":"Data!B254","v":"Natural Attenuation"},{"$f":"Data!C254","v":"None"},{"$f":"Data!E254","v":{"$error":"#N/A"}},{"$f":"Data!H254","v":{"$error":"#N/A"}},{"$f":" IF($A$236=TRUE, IF($H$1=2, IF($F$1 = 2, Data!I254, NA()), NA()), NA())","v":25.8721152},{"$f":" IF($A$236=TRUE, IF($H$1=2, IF($F$1 = 2, Data!J254, NA()), NA()), NA())","v":21.984358499999999},{"$f":"IF($A$236=TRUE, IF($H$1=1, IF($F$1 = 2, Data!K254, NA()), NA()), NA())","v":{"$error":"#N/A"}},{"$f":"IF($A$236=TRUE, IF($H$1=1, IF($F$1 = 2, Data!L254, NA()), NA()), NA())","v":{"$error":"#N/A"}},{"$f":"IF($A$236=TRUE, IF($F$1=2, IF($H$1=2, Data!M254, NA()), NA()), NA())","v":7.0718100000000006E-2},{"$f":"IF($A$236=TRUE, IF($F$1=2, IF($H$1=1, Data!N254, NA()), NA()),NA())","v":{"$error":"#N/A"}},{"$f":"IF($A$236= TRUE, IF($H$1=2, IF($F$1 = 1, Data!O254, NA()), NA()), NA())","v":{"$error":"#N/A"}},{"$f":"IF($A$236= TRUE, IF($H$1=2, IF($F$1 = 1, Data!P254, NA()), NA()), NA())","v":{"$error":"#N/A"}},{"$f":"IF($A$236=TRUE, IF($H$1=1, IF($F$1 = 1, Data!Q254, NA()), NA()), NA())","v":{"$error":"#N/A"}},{"$f":"IF($A$236=TRUE, IF($H$1=1, IF($F$1 = 1, Data!R254, NA()), NA()), NA())","v":{"$error":"#N/A"}},{"$f":"IF($A$236=TRUE, IF($F$1=1, IF($H$1=2, Data!S254, NA()), NA()), NA())","v":{"$error":"#N/A"}},{"$f":"IF($A$236=TRUE, IF($F$1=1, IF($H$1=1, Data!T254, NA()), NA()), NA())","v":{"$error":"#N/A"}}]
[null,{"$f":"Data!B255","v":"Natural Attenuation"},{"$f":"Data!C255","v":"None"},{"$f":"Data!E255","v":{"$error":"#N/A"}},{"$f":"Data!H255","v":{"$error":"#N/A"}},{"$f":" IF($A$236=TRUE, IF($H$1=2, IF($F$1 = 2, Data!I255, NA()), NA()), NA())","v":4.1212999999999996E-3},{"$f":" IF($A$236=TRUE, IF($H$1=2, IF($F$1 = 2, Data!J255, NA()), NA()), NA())","v":5.48955E-2},{"$f":"IF($A$236=TRUE, IF($H$1=1, IF($F$1 = 2, Data!K255, NA()), NA()), NA())","v":{"$error":"#N/A"}},{"$f":"IF($A$236=TRUE, IF($H$1=1, IF($F$1 = 2, Data!L255, NA()), NA()), NA())","v":{"$error":"#N/A"}},{"$f":"IF($A$236=TRUE, IF($F$1=2, IF($H$1=2, Data!M255, NA()), NA()), NA())","v":-1.1245041},{"$f":"IF($A$236=TRUE, IF($F$1=2, IF($H$1=1, Data!N255, NA()), NA()),NA())","v":{"$error":"#N/A"}},{"$f":"IF($A$236= TRUE, IF($H$1=2, IF($F$1 = 1, Data!O255, NA()), NA()), NA())","v":{"$error":"#N/A"}},{"$f":"IF($A$236= TRUE, IF($H$1=2, IF($F$1 = 1, Data!P255, NA()), NA()), NA())","v":{"$error":"#N/A"}},{"$f":"IF($A$236=TRUE, IF($H$1=1, IF($F$1 = 1, Data!Q255, NA()), NA()), NA())","v":{"$error":"#N/A"}},{"$f":"IF($A$236=TRUE, IF($H$1=1, IF($F$1 = 1, Data!R255, NA()), NA()), NA())","v":{"$error":"#N/A"}},{"$f":"IF($A$236=TRUE, IF($F$1=1, IF($H$1=2, Data!S255, NA()), NA()), NA())","v":{"$error":"#N/A"}},{"$f":"IF($A$236=TRUE, IF($F$1=1, IF($H$1=1, Data!T255, NA()), NA()), NA())","v":{"$error":"#N/A"}}]
[null,{"$f":"Data!B256","v":"Natural Attenuation"},{"$f":"Data!C256","v":"None"},{"$f":"Data!E256","v":{"$error":"#N/A"}},{"$f":"Data!H256","v":{"$error":"#N/A"}},{"$f":" IF($A$236=TRUE, IF($H$1=2, IF($F$1 = 2, Data!I256, NA()), NA()), NA())","v":185.5},{"$f":" IF($A$236=TRUE, IF($H$1=2, IF($F$1 = 2, Data!J256, NA()), NA()), NA())","v":6.0800131999999998},{"$f":"IF($A$236=TRUE, IF($H$1=1, IF($F$1 = 2, Data!K256, NA()), NA()), NA())","v":{"$error":"#N/A"}},{"$f":"IF($A$236=TRUE, IF($H$1=1, IF($F$1 = 2, Data!L256, NA()), NA()), NA())","v":{"$error":"#N/A"}},{"$f":"IF($A$236=TRUE, IF($F$1=2, IF($H$1=2, Data!M256, NA()), NA()), NA())","v":1.4844394000000001},{"$f":"IF($A$236=TRUE, IF($F$1=2, IF($H$1=1, Data!N256, NA()), NA()),NA())","v":{"$error":"#N/A"}},{"$f":"IF($A$236= TRUE, IF($H$1=2, IF($F$1 = 1, Data!O256, NA()), NA()), NA())","v":{"$error":"#N/A"}},{"$f":"IF($A$236= TRUE, IF($H$1=2, IF($F$1 = 1, Data!P256, NA()), NA()), NA())","v":{"$error":"#N/A"}},{"$f":"IF($A$236=TRUE, IF($H$1=1, IF($F$1 = 1, Data!Q256, NA()), NA()), NA())","v":{"$error":"#N/A"}},{"$f":"IF($A$236=TRUE, IF($H$1=1, IF($F$1 = 1, Data!R256, NA()), NA()), NA())","v":{"$error":"#N/A"}},{"$f":"IF($A$236=TRUE, IF($F$1=1, IF($H$1=2, Data!S256, NA()), NA()), NA())","v":{"$error":"#N/A"}},{"$f":"IF($A$236=TRUE, IF($F$1=1, IF($H$1=1, Data!T256, NA()), NA()), NA())","v":{"$error":"#N/A"}}]
[null,{"$f":"Data!B257","v":"Natural Attenuation"},{"$f":"Data!C257","v":"None"},{"$f":"Data!E257","v":{"$error":"#N/A"}},{"$f":"Data!H257","v":{"$error":"#N/A"}},{"$f":" IF($A$236=TRUE, IF($H$1=2, IF($F$1 = 2, Data!I257, NA()), NA()), NA())","v":15.047696999999999},{"$f":" IF($A$236=TRUE, IF($H$1=2, IF($F$1 = 2, Data!J257, NA()), NA()), NA())","v":0.12960940000000001},{"$f":"IF($A$236=TRUE, IF($H$1=1, IF($F$1 = 2, Data!K257, NA()), NA()), NA())","v":{"$error":"#N/A"}},{"$f":"IF($A$236=TRUE, IF($H$1=1, IF($F$1 = 2, Data!L257, NA()), NA()), NA())","v":{"$error":"#N/A"}},{"$f":"IF($A$236=TRUE, IF($F$1=2, IF($H$1=2, Data!M257, NA()), NA()), NA())","v":2.0648335000000002},{"$f":"IF($A$236=TRUE, IF($F$1=2, IF($H$1=1, Data!N257, NA()), NA()),NA())","v":{"$error":"#N/A"}},{"$f":"IF($A$236= TRUE, IF($H$1=2, IF($F$1 = 1, Data!O257, NA()), NA()), NA())","v":{"$error":"#N/A"}},{"$f":"IF($A$236= TRUE, IF($H$1=2, IF($F$1 = 1, Data!P257, NA()), NA()), NA())","v":{"$error":"#N/A"}},{"$f":"IF($A$236=TRUE, IF($H$1=1, IF($F$1 = 1, Data!Q257, NA()), NA()), NA())","v":{"$error":"#N/A"}},{"$f":"IF($A$236=TRUE, IF($H$1=1, IF($F$1 = 1, Data!R257, NA()), NA()), NA())","v":{"$error":"#N/A"}},{"$f":"IF($A$236=TRUE, IF($F$1=1, IF($H$1=2, Data!S257, NA()), NA()), NA())","v":{"$error":"#N/A"}},{"$f":"IF($A$236=TRUE, IF($F$1=1, IF($H$1=1, Data!T257, NA()), NA()), NA())","v":{"$error":"#N/A"}}]
[null,{"$f":"Data!B258","v":"Natural Attenuation"},{"$f":"Data!C258","v":"None"},{"$f":"Data!E258","v":{"$error":"#N/A"}},{"$f":"Data!H258","v":{"$error":"#N/A"}},{"$f":" IF($A$236=TRUE, IF($H$1=2, IF($F$1 = 2, Data!I258, NA()), NA()), NA())","v":8.0499965000000007},{"$f":" IF($A$236=TRUE, IF($H$1=2, IF($F$1 = 2, Data!J258, NA()), NA()), NA())","v":3.6949999999999998},{"$f":"IF($A$236=TRUE, IF($H$1=1, IF($F$1 = 2, Data!K258, NA()), NA()), NA())","v":{"$error":"#N/A"}},{"$f":"IF($A$236=TRUE, IF($H$1=1, IF($F$1 = 2, Data!L258, NA()), NA()), NA())","v":{"$error":"#N/A"}},{"$f":"IF($A$236=TRUE, IF($F$1=2, IF($H$1=2, Data!M258, NA()), NA()), NA())","v":0.33818120000000002},{"$f":"IF($A$236=TRUE, IF($F$1=2, IF($H$1=1, Data!N258, NA()), NA()),NA())","v":{"$error":"#N/A"}},{"$f":"IF($A$236= TRUE, IF($H$1=2, IF($F$1 = 1, Data!O258, NA()), NA()), NA())","v":{"$error":"#N/A"}},{"$f":"IF($A$236= TRUE, IF($H$1=2, IF($F$1 = 1, Data!P258, NA()), NA()), NA())","v":{"$error":"#N/A"}},{"$f":"IF($A$236=TRUE, IF($H$1=1, IF($F$1 = 1, Data!Q258, NA()), NA()), NA())","v":{"$error":"#N/A"}},{"$f":"IF($A$236=TRUE, IF($H$1=1, IF($F$1 = 1, Data!R258, NA()), NA()), NA())","v":{"$error":"#N/A"}},{"$f":"IF($A$236=TRUE, IF($F$1=1, IF($H$1=2, Data!S258, NA()), NA()), NA())","v":{"$error":"#N/A"}},{"$f":"IF($A$236=TRUE, IF($F$1=1, IF($H$1=1, Data!T258, NA()), NA()), NA())","v":{"$error":"#N/A"}}]
[null,{"$f":"Data!B259","v":"Natural Attenuation"},{"$f":"Data!C259","v":"None"},{"$f":"Data!E259","v":{"$error":"#N/A"}},{"$f":"Data!H259","v":{"$error":"#N/A"}},{"$f":" IF($A$236=TRUE, IF($H$1=2, IF($F$1 = 2, Data!I259, NA()), NA()), NA())","v":22.275943099999999},{"$f":" IF($A$236=TRUE, IF($H$1=2, IF($F$1 = 2, Data!J259, NA()), NA()), NA())","v":10.5},{"$f":"IF($A$236=TRUE, IF($H$1=1, IF($F$1 = 2, Data!K259, NA()), NA()), NA())","v":{"$error":"#N/A"}},{"$f":"IF($A$236=TRUE, IF($H$1=1, IF($F$1 = 2, Data!L259, NA()), NA()), NA())","v":{"$error":"#N/A"}},{"$f":"IF($A$236=TRUE, IF($F$1=2, IF($H$1=2, Data!M259, NA()), NA()), NA())","v":0.32664680000000001},{"$f":"IF($A$236=TRUE, IF($F$1=2, IF($H$1=1, Data!N259, NA()), NA()),NA())","v":{"$error":"#N/A"}},{"$f":"IF($A$236= TRUE, IF($H$1=2, IF($F$1 = 1, Data!O259, NA()), NA()), NA())","v":{"$error":"#N/A"}},{"$f":"IF($A$236= TRUE, IF($H$1=2, IF($F$1 = 1, Data!P259, NA()), NA()), NA())","v":{"$error":"#N/A"}},{"$f":"IF($A$236=TRUE, IF($H$1=1, IF($F$1 = 1, Data!Q259, NA()), NA()), NA())","v":{"$error":"#N/A"}},{"$f":"IF($A$236=TRUE, IF($H$1=1, IF($F$1 = 1, Data!R259, NA()), NA()), NA())","v":{"$error":"#N/A"}},{"$f":"IF($A$236=TRUE, IF($F$1=1, IF($H$1=2, Data!S259, NA()), NA()), NA())","v":{"$error":"#N/A"}},{"$f":"IF($A$236=TRUE, IF($F$1=1, IF($H$1=1, Data!T259, NA()), NA()), NA())","v":{"$error":"#N/A"}}]
[null,{"$f":"Data!B260","v":"Natural Attenuation"},{"$f":"Data!C260","v":"None"},{"$f":"Data!E260","v":{"$error":"#N/A"}},{"$f":"Data!H260","v":{"$error":"#N/A"}},{"$f":" IF($A$236=TRUE, IF($H$1=2, IF($F$1 = 2, Data!I260, NA()), NA()), NA())","v":20.45},{"$f":" IF($A$236=TRUE, IF($H$1=2, IF($F$1 = 2, Data!J260, NA()), NA()), NA())","v":1.0626399999999999E-2},{"$f":"IF($A$236=TRUE, IF($H$1=1, IF($F$1 = 2, Data!K260, NA()), NA()), NA())","v":{"$error":"#N/A"}},{"$f":"IF($A$236=TRUE, IF($H$1=1, IF($F$1 = 2, Data!L260, NA()), NA()), NA())","v":{"$error":"#N/A"}},{"$f":"IF($A$236=TRUE, IF($F$1=2, IF($H$1=2, Data!M260, NA()), NA()), NA())","v":3.2843092},{"$f":"IF($A$236=TRUE, IF($F$1=2, IF($H$1=1, Data!N260, NA()), NA()),NA())","v":{"$error":"#N/A"}},{"$f":"IF($A$236= TRUE, IF($H$1=2, IF($F$1 = 1, Data!O260, NA()), NA()), NA())","v":{"$error":"#N/A"}},{"$f":"IF($A$236= TRUE, IF($H$1=2, IF($F$1 = 1, Data!P260, NA()), NA()), NA())","v":{"$error":"#N/A"}},{"$f":"IF($A$236=TRUE, IF($H$1=1, IF($F$1 = 1, Data!Q260, NA()), NA()), NA())","v":{"$error":"#N/A"}},{"$f":"IF($A$236=TRUE, IF($H$1=1, IF($F$1 = 1, Data!R260, NA()), NA()), NA())","v":{"$error":"#N/A"}},{"$f":"IF($A$236=TRUE, IF($F$1=1, IF($H$1=2, Data!S260, NA()), NA()), NA())","v":{"$error":"#N/A"}},{"$f":"IF($A$236=TRUE, IF($F$1=1, IF($H$1=1, Data!T260, NA()), NA()), NA())","v":{"$error":"#N/A"}}]
[null,{"$f":"Data!B261","v":"Natural Attenuation"},{"$f":"Data!C261","v":"None"},{"$f":"Data!E261","v":{"$error":"#N/A"}},{"$f":"Data!H261","v":{"$error":"#N/A"}},{"$f":" IF($A$236=TRUE, IF($H$1=2, IF($F$1 = 2, Data!I261, NA()), NA()), NA())","v":6.4496478000000002},{"$f":" IF($A$236=TRUE, IF($H$1=2, IF($F$1 = 2, Data!J261, NA()), NA()), NA())","v":0.37590469999999998},{"$f":"IF($A$236=TRUE, IF($H$1=1, IF($F$1 = 2, Data!K261, NA()), NA()), NA())","v":{"$error":"#N/A"}},{"$f":"IF($A$236=TRUE, IF($H$1=1, IF($F$1 = 2, Data!L261, NA()), NA()), NA())","v":{"$error":"#N/A"}},{"$f":"IF($A$236=TRUE, IF($F$1=2, IF($H$1=2, Data!M261, NA()), NA()), NA())","v":1.2344581999999999},{"$f":"IF($A$236=TRUE, IF($F$1=2, IF($H$1=1, Data!N261, NA()), NA()),NA())","v":{"$error":"#N/A"}},{"$f":"IF($A$236= TRUE, IF($H$1=2, IF($F$1 = 1, Data!O261, NA()), NA()), NA())","v":{"$error":"#N/A"}},{"$f":"IF($A$236= TRUE, IF($H$1=2, IF($F$1 = 1, Data!P261, NA()), NA()), NA())","v":{"$error":"#N/A"}},{"$f":"IF($A$236=TRUE, IF($H$1=1, IF($F$1 = 1, Data!Q261, NA()), NA()), NA())","v":{"$error":"#N/A"}},{"$f":"IF($A$236=TRUE, IF($H$1=1, IF($F$1 = 1, Data!R261, NA()), NA()), NA())","v":{"$error":"#N/A"}},{"$f":"IF($A$236=TRUE, IF($F$1=1, IF($H$1=2, Data!S261, NA()), NA()), NA())","v":{"$error":"#N/A"}},{"$f":"IF($A$236=TRUE, IF($F$1=1, IF($H$1=1, Data!T261, NA()), NA()), NA())","v":{"$error":"#N/A"}}]
[null,{"$f":"Data!B262","v":"Natural Attenuation"},{"$f":"Data!C262","v":"None"},{"$f":"Data!E262","v":{"$error":"#N/A"}},{"$f":"Data!H262","v":{"$error":"#N/A"}},{"$f":" IF($A$236=TRUE, IF($H$1=2, IF($F$1 = 2, Data!I262, NA()), NA()), NA())","v":3.9555921999999999},{"$f":" IF($A$236=TRUE, IF($H$1=2, IF($F$1 = 2, Data!J262, NA()), NA()), NA())","v":3.6900000000000002E-2},{"$f":"IF($A$236=TRUE, IF($H$1=1, IF($F$1 = 2, Data!K262, NA()), NA()), NA())","v":{"$error":"#N/A"}},{"$f":"IF($A$236=TRUE, IF($H$1=1, IF($F$1 = 2, Data!L262, NA()), NA()), NA())","v":{"$error":"#N/A"}},{"$f":"IF($A$236=TRUE, IF($F$1=2, IF($H$1=2, Data!M262, NA()), NA()), NA())","v":2.0301851000000002},{"$f":"IF($A$236=TRUE, IF($F$1=2, IF($H$1=1, Data!N262, NA()), NA()),NA())","v":{"$error":"#N/A"}},{"$f":"IF($A$236= TRUE, IF($H$1=2, IF($F$1 = 1, Data!O262, NA()), NA()), NA())","v":{"$error":"#N/A"}},{"$f":"IF($A$236= TRUE, IF($H$1=2, IF($F$1 = 1, Data!P262, NA()), NA()), NA())","v":{"$error":"#N/A"}},{"$f":"IF($A$236=TRUE, IF($H$1=1, IF($F$1 = 1, Data!Q262, NA()), NA()), NA())","v":{"$error":"#N/A"}},{"$f":"IF($A$236=TRUE, IF($H$1=1, IF($F$1 = 1, Data!R262, NA()), NA()), NA())","v":{"$error":"#N/A"}},{"$f":"IF($A$236=TRUE, IF($F$1=1, IF($H$1=2, Data!S262, NA()), NA()), NA())","v":{"$error":"#N/A"}},{"$f":"IF($A$236=TRUE, IF($F$1=1, IF($H$1=1, Data!T262, NA()), NA()), NA())","v":{"$error":"#N/A"}}]
[null,{"$f":"Data!B263","v":"Natural Attenuation"},{"$f":"Data!C263","v":"None"},{"$f":"Data!E263","v":{"$error":"#N/A"}},{"$f":"Data!H263","v":{"$error":"#N/A"}},{"$f":" IF($A$236=TRUE, IF($H$1=2, IF($F$1 = 2, Data!I263, NA()), NA()), NA())","v":9.4024101000000009},{"$f":" IF($A$236=TRUE, IF($H$1=2, IF($F$1 = 2, Data!J263, NA()), NA()), NA())","v":1.9773719999999999},{"$f":"IF($A$236=TRUE, IF($H$1=1, IF($F$1 = 2, Data!K263, NA()), NA()), NA())","v":{"$error":"#N/A"}},{"$f":"IF($A$236=TRUE, IF($H$1=1, IF($F$1 = 2, Data!L263, NA()), NA()), NA())","v":{"$error":"#N/A"}},{"$f":"IF($A$236=TRUE, IF($F$1=2, IF($H$1=2, Data!M263, NA()), NA()), NA())","v":0.67715080000000005},{"$f":"IF($A$236=TRUE, IF($F$1=2, IF($H$1=1, Data!N263, NA()), NA()),NA())","v":{"$error":"#N/A"}},{"$f":"IF($A$236= TRUE, IF($H$1=2, IF($F$1 = 1, Data!O263, NA()), NA()), NA())","v":{"$error":"#N/A"}},{"$f":"IF($A$236= TRUE, IF($H$1=2, IF($F$1 = 1, Data!P263, NA()), NA()), NA())","v":{"$error":"#N/A"}},{"$f":"IF($A$236=TRUE, IF($H$1=1, IF($F$1 = 1, Data!Q263, NA()), NA()), NA())","v":{"$error":"#N/A"}},{"$f":"IF($A$236=TRUE, IF($H$1=1, IF($F$1 = 1, Data!R263, NA()), NA()), NA())","v":{"$error":"#N/A"}},{"$f":"IF($A$236=TRUE, IF($F$1=1, IF($H$1=2, Data!S263, NA()), NA()), NA())","v":{"$error":"#N/A"}},{"$f":"IF($A$236=TRUE, IF($F$1=1, IF($H$1=1, Data!T263, NA()), NA()), NA())","v":{"$error":"#N/A"}}]
[null,{"$f":"Data!B264","v":"Natural Attenuation"},{"$f":"Data!C264","v":"None"},{"$f":"Data!E264","v":{"$error":"#N/A"}},{"$f":"Data!H264","v":{"$error":"#N/A"}},{"$f":" IF($A$236=TRUE, IF($H$1=2, IF($F$1 = 2, Data!I264, NA()), NA()), NA())","v":25.509433600000001},{"$f":" IF($A$236=TRUE, IF($H$1=2, IF($F$1 = 2, Data!J264, NA()), NA()), NA())","v":4.4899889000000002},{"$f":"IF($A$236=TRUE, IF($H$1=1, IF($F$1 = 2, Data!K264, NA()), NA()), NA())","v":{"$error":"#N/A"}},{"$f":"IF($A$236=TRUE, IF($H$1=1, IF($F$1 = 2, Data!L264, NA()), NA()), NA())","v":{"$error":"#N/A"}},{"$f":"IF($A$236=TRUE, IF($F$1=2, IF($H$1=2, Data!M264, NA()), NA()), NA())","v":0.7544556},{"$f":"IF($A$236=TRUE, IF($F$1=2, IF($H$1=1, Data!N264, NA()), NA()),NA())","v":{"$error":"#N/A"}},{"$f":"IF($A$236= TRUE, IF($H$1=2, IF($F$1 = 1, Data!O264, NA()), NA()), NA())","v":{"$error":"#N/A"}},{"$f":"IF($A$236= TRUE, IF($H$1=2, IF($F$1 = 1, Data!P264, NA()), NA()), NA())","v":{"$error":"#N/A"}},{"$f":"IF($A$236=TRUE, IF($H$1=1, IF($F$1 = 1, Data!Q264, NA()), NA()), NA())","v":{"$error":"#N/A"}},{"$f":"IF($A$236=TRUE, IF($H$1=1, IF($F$1 = 1, Data!R264, NA()), NA()), NA())","v":{"$error":"#N/A"}},{"$f":"IF($A$236=TRUE, IF($F$1=1, IF($H$1=2, Data!S264, NA()), NA()), NA())","v":{"$error":"#N/A"}},{"$f":"IF($A$236=TRUE, IF($F$1=1, IF($H$1=1, Data!T264, NA()), NA()), NA())","v":{"$error":"#N/A"}}]
[null,{"$f":"Data!B265","v":"Natural Attenuation"},{"$f":"Data!C265","v":"None"},{"$f":"Data!E265","v":{"$error":"#N/A"}},{"$f":"Data!H265","v":{"$error":"#N/A"}},{"$f":" IF($A$236=TRUE, IF($H$1=2, IF($F$1 = 2, Data!I265, NA()), NA()), NA())","v":2.5},{"$f":" IF($A$236=TRUE, IF($H$1=2, IF($F$1 = 2, Data!J265, NA()), NA()), NA())","v":0.94},{"$f":"IF($A$236=TRUE, IF($H$1=1, IF($F$1 = 2, Data!K265, NA()), NA()), NA())","v":{"$error":"#N/A"}},{"$f":"IF($A$236=TRUE, IF($H$1=1, IF($F$1 = 2, Data!L265, NA()), NA()), NA())","v":{"$error":"#N/A"}},{"$f":"IF($A$236=TRUE, IF($F$1=2, IF($H$1=2, Data!M265, NA()), NA()), NA())","v":0.42481219999999997},{"$f":"IF($A$236=TRUE, IF($F$1=2, IF($H$1=1, Data!N265, NA()), NA()),NA())","v":{"$error":"#N/A"}},{"$f":"IF($A$236= TRUE, IF($H$1=2, IF($F$1 = 1, Data!O265, NA()), NA()), NA())","v":{"$error":"#N/A"}},{"$f":"IF($A$236= TRUE, IF($H$1=2, IF($F$1 = 1, Data!P265, NA()), NA()), NA())","v":{"$error":"#N/A"}},{"$f":"IF($A$236=TRUE, IF($H$1=1, IF($F$1 = 1, Data!Q265, NA()), NA()), NA())","v":{"$error":"#N/A"}},{"$f":"IF($A$236=TRUE, IF($H$1=1, IF($F$1 = 1, Data!R265, NA()), NA()), NA())","v":{"$error":"#N/A"}},{"$f":"IF($A$236=TRUE, IF($F$1=1, IF($H$1=2, Data!S265, NA()), NA()), NA())","v":{"$error":"#N/A"}},{"$f":"IF($A$236=TRUE, IF($F$1=1, IF($H$1=1, Data!T265, NA()), NA()), NA())","v":{"$error":"#N/A"}}]
[null,{"$f":"Data!B266","v":"Natural Attenuation"},{"$f":"Data!C266","v":"None"},{"$f":"Data!E266","v":{"$error":"#N/A"}},{"$f":"Data!H266","v":{"$error":"#N/A"}},{"$f":" IF($A$236=TRUE, IF($H$1=2, IF($F$1 = 2, Data!I266, NA()), NA()), NA())","v":9.9774399999999999E-2},{"$f":" IF($A$236=TRUE, IF($H$1=2, IF($F$1 = 2, Data!J266, NA()), NA()), NA())","v":1.8691900000000001E-2},{"$f":"IF($A$236=TRUE, IF($H$1=1, IF($F$1 = 2, Data!K266, NA()), NA()), NA())","v":{"$error":"#N/A"}},{"$f":"IF($A$236=TRUE, IF($H$1=1, IF($F$1 = 2, Data!L266, NA()), NA()), NA())","v":{"$error":"#N/A"}},{"$f":"IF($A$236=TRUE, IF($F$1=2, IF($H$1=2, Data!M266, NA()), NA()), NA())","v":0.72736670000000003},{"$f":"IF($A$236=TRUE, IF($F$1=2, IF($H$1=1, Data!N266, NA()), NA()),NA())","v":{"$error":"#N/A"}},{"$f":"IF($A$236= TRUE, IF($H$1=2, IF($F$1 = 1, Data!O266, NA()), NA()), NA())","v":{"$error":"#N/A"}},{"$f":"IF($A$236= TRUE, IF($H$1=2, IF($F$1 = 1, Data!P266, NA()), NA()), NA())","v":{"$error":"#N/A"}},{"$f":"IF($A$236=TRUE, IF($H$1=1, IF($F$1 = 1, Data!Q266, NA()), NA()), NA())","v":{"$error":"#N/A"}},{"$f":"IF($A$236=TRUE, IF($H$1=1, IF($F$1 = 1, Data!R266, NA()), NA()), NA())","v":{"$error":"#N/A"}},{"$f":"IF($A$236=TRUE, IF($F$1=1, IF($H$1=2, Data!S266, NA()), NA()), NA())","v":{"$error":"#N/A"}},{"$f":"IF($A$236=TRUE, IF($F$1=1, IF($H$1=1, Data!T266, NA()), NA()), NA())","v":{"$error":"#N/A"}}]
[null,{"$f":"Data!B267","v":"Natural Attenuation"},{"$f":"Data!C267","v":"None"},{"$f":"Data!E267","v":{"$error":"#N/A"}},{"$f":"Data!H267","v":{"$error":"#N/A"}},{"$f":" IF($A$236=TRUE, IF($H$1=2, IF($F$1 = 2, Data!I267, NA()), NA()), NA())","v":4.8291000000000002E-3},{"$f":" IF($A$236=TRUE, IF($H$1=2, IF($F$1 = 2, Data!J267, NA()), NA()), NA())","v":4.5877099999999997E-2},{"$f":"IF($A$236=TRUE, IF($H$1=1, IF($F$1 = 2, Data!K267, NA()), NA()), NA())","v":{"$error":"#N/A"}},{"$f":"IF($A$236=TRUE, IF($H$1=1, IF($F$1 = 2, Data!L267, NA()), NA()), NA())","v":{"$error":"#N/A"}},{"$f":"IF($A$236=TRUE, IF($F$1=2, IF($H$1=2, Data!M267, NA()), NA()), NA())","v":-0.97773180000000004},{"$f":"IF($A$236=TRUE, IF($F$1=2, IF($H$1=1, Data!N267, NA()), NA()),NA())","v":{"$error":"#N/A"}},{"$f":"IF($A$236= TRUE, IF($H$1=2, IF($F$1 = 1, Data!O267, NA()), NA()), NA())","v":{"$error":"#N/A"}},{"$f":"IF($A$236= TRUE, IF($H$1=2, IF($F$1 = 1, Data!P267, NA()), NA()), NA())","v":{"$error":"#N/A"}},{"$f":"IF($A$236=TRUE, IF($H$1=1, IF($F$1 = 1, Data!Q267, NA()), NA()), NA())","v":{"$error":"#N/A"}},{"$f":"IF($A$236=TRUE, IF($H$1=1, IF($F$1 = 1, Data!R267, NA()), NA()), NA())","v":{"$error":"#N/A"}},{"$f":"IF($A$236=TRUE, IF($F$1=1, IF($H$1=2, Data!S267, NA()), NA()), NA())","v":{"$error":"#N/A"}},{"$f":"IF($A$236=TRUE, IF($F$1=1, IF($H$1=1, Data!T267, NA()), NA()), NA())","v":{"$error":"#N/A"}}]
[null,{"$f":"Data!B268","v":"Natural Attenuation"},{"$f":"Data!C268","v":"None"},{"$f":"Data!E268","v":{"$error":"#N/A"}},{"$f":"Data!H268","v":{"$error":"#N/A"}},{"$f":" IF($A$236=TRUE, IF($H$1=2, IF($F$1 = 2, Data!I268, NA()), NA()), NA())","v":129.88868550000001},{"$f":" IF($A$236=TRUE, IF($H$1=2, IF($F$1 = 2, Data!J268, NA()), NA()), NA())","v":74.242388099999999},{"$f":"IF($A$236=TRUE, IF($H$1=1, IF($F$1 = 2, Data!K268, NA()), NA()), NA())","v":{"$error":"#N/A"}},{"$f":"IF($A$236=TRUE, IF($H$1=1, IF($F$1 = 2, Data!L268, NA()), NA()), NA())","v":{"$error":"#N/A"}},{"$f":"IF($A$236=TRUE, IF($F$1=2, IF($H$1=2, Data!M268, NA()), NA()), NA())","v":0.24291940000000001},{"$f":"IF($A$236=TRUE, IF($F$1=2, IF($H$1=1, Data!N268, NA()), NA()),NA())","v":{"$error":"#N/A"}},{"$f":"IF($A$236= TRUE, IF($H$1=2, IF($F$1 = 1, Data!O268, NA()), NA()), NA())","v":{"$error":"#N/A"}},{"$f":"IF($A$236= TRUE, IF($H$1=2, IF($F$1 = 1, Data!P268, NA()), NA()), NA())","v":{"$error":"#N/A"}},{"$f":"IF($A$236=TRUE, IF($H$1=1, IF($F$1 = 1, Data!Q268, NA()), NA()), NA())","v":{"$error":"#N/A"}},{"$f":"IF($A$236=TRUE, IF($H$1=1, IF($F$1 = 1, Data!R268, NA()), NA()), NA())","v":{"$error":"#N/A"}},{"$f":"IF($A$236=TRUE, IF($F$1=1, IF($H$1=2, Data!S268, NA()), NA()), NA())","v":{"$error":"#N/A"}},{"$f":"IF($A$236=TRUE, IF($F$1=1, IF($H$1=1, Data!T268, NA()), NA()), NA())","v":{"$error":"#N/A"}}]
[null,{"$f":"Data!B269","v":"Natural Attenuation"},{"$f":"Data!C269","v":"None"},{"$f":"Data!E269","v":{"$error":"#N/A"}},{"$f":"Data!H269","v":{"$error":"#N/A"}},{"$f":" IF($A$236=TRUE, IF($H$1=2, IF($F$1 = 2, Data!I269, NA()), NA()), NA())","v":0.60024219999999995},{"$f":" IF($A$236=TRUE, IF($H$1=2, IF($F$1 = 2, Data!J269, NA()), NA()), NA())","v":3.8813100000000003E-2},{"$f":"IF($A$236=TRUE, IF($H$1=1, IF($F$1 = 2, Data!K269, NA()), NA()), NA())","v":{"$error":"#N/A"}},{"$f":"IF($A$236=TRUE, IF($H$1=1, IF($F$1 = 2, Data!L269, NA()), NA()), NA())","v":{"$error":"#N/A"}},{"$f":"IF($A$236=TRUE, IF($F$1=2, IF($H$1=2, Data!M269, NA()), NA()), NA())","v":1.1893480000000001},{"$f":"IF($A$236=TRUE, IF($F$1=2, IF($H$1=1, Data!N269, NA()), NA()),NA())","v":{"$error":"#N/A"}},{"$f":"IF($A$236= TRUE, IF($H$1=2, IF($F$1 = 1, Data!O269, NA()), NA()), NA())","v":{"$error":"#N/A"}},{"$f":"IF($A$236= TRUE, IF($H$1=2, IF($F$1 = 1, Data!P269, NA()), NA()), NA())","v":{"$error":"#N/A"}},{"$f":"IF($A$236=TRUE, IF($H$1=1, IF($F$1 = 1, Data!Q269, NA()), NA()), NA())","v":{"$error":"#N/A"}},{"$f":"IF($A$236=TRUE, IF($H$1=1, IF($F$1 = 1, Data!R269, NA()), NA()), NA())","v":{"$error":"#N/A"}},{"$f":"IF($A$236=TRUE, IF($F$1=1, IF($H$1=2, Data!S269, NA()), NA()), NA())","v":{"$error":"#N/A"}},{"$f":"IF($A$236=TRUE, IF($F$1=1, IF($H$1=1, Data!T269, NA()), NA()), NA())","v":{"$error":"#N/A"}}]
[null,{"$f":"Data!B270","v":"Natural Attenuation"},{"$f":"Data!C270","v":"None"},{"$f":"Data!E270","v":{"$error":"#N/A"}},{"$f":"Data!H270","v":{"$error":"#N/A"}},{"$f":" IF($A$236=TRUE, IF($H$1=2, IF($F$1 = 2, Data!I270, NA()), NA()), NA())","v":0.65726709999999999},{"$f":" IF($A$236=TRUE, IF($H$1=2, IF($F$1 = 2, Data!J270, NA()), NA()), NA())","v":0.45277299999999998},{"$f":"IF($A$236=TRUE, IF($H$1=1, IF($F$1 = 2, Data!K270, NA()), NA()), NA())","v":{"$error":"#N/A"}},{"$f":"IF($A$236=TRUE, IF($H$1=1, IF($F$1 = 2, Data!L270, NA()), NA()), NA())","v":{"$error":"#N/A"}},{"$f":"IF($A$236=TRUE, IF($F$1=2, IF($H$1=2, Data!M270, NA()), NA()), NA())","v":0.16186139999999999},{"$f":"IF($A$236=TRUE, IF($F$1=2, IF($H$1=1, Data!N270, NA()), NA()),NA())","v":{"$error":"#N/A"}},{"$f":"IF($A$236= TRUE, IF($H$1=2, IF($F$1 = 1, Data!O270, NA()), NA()), NA())","v":{"$error":"#N/A"}},{"$f":"IF($A$236= TRUE, IF($H$1=2, IF($F$1 = 1, Data!P270, NA()), NA()), NA())","v":{"$error":"#N/A"}},{"$f":"IF($A$236=TRUE, IF($H$1=1, IF($F$1 = 1, Data!Q270, NA()), NA()), NA())","v":{"$error":"#N/A"}},{"$f":"IF($A$236=TRUE, IF($H$1=1, IF($F$1 = 1, Data!R270, NA()), NA()), NA())","v":{"$error":"#N/A"}},{"$f":"IF($A$236=TRUE, IF($F$1=1, IF($H$1=2, Data!S270, NA()), NA()), NA())","v":{"$error":"#N/A"}},{"$f":"IF($A$236=TRUE, IF($F$1=1, IF($H$1=1, Data!T270, NA()), NA()), NA())","v":{"$error":"#N/A"}}]
[null,{"$f":"Data!B271","v":"Natural Attenuation"},{"$f":"Data!C271","v":"None"},{"$f":"Data!E271","v":{"$error":"#N/A"}},{"$f":"Data!H271","v":{"$error":"#N/A"}},{"$f":" IF($A$236=TRUE, IF($H$1=2, IF($F$1 = 2, Data!I271, NA()), NA()), NA())","v":11},{"$f":" IF($A$236=TRUE, IF($H$1=2, IF($F$1 = 2, Data!J271, NA()), NA()), NA())","v":0.17356930000000001},{"$f":"IF($A$236=TRUE, IF($H$1=1, IF($F$1 = 2, Data!K271, NA()), NA()), NA())","v":{"$error":"#N/A"}},{"$f":"IF($A$236=TRUE, IF($H$1=1, IF($F$1 = 2, Data!L271, NA()), NA()), NA())","v":{"$error":"#N/A"}},{"$f":"IF($A$236=TRUE, IF($F$1=2, IF($H$1=2, Data!M271, NA()), NA()), NA())","v":1.8019198000000001},{"$f":"IF($A$236=TRUE, IF($F$1=2, IF($H$1=1, Data!N271, NA()), NA()),NA())","v":{"$error":"#N/A"}},{"$f":"IF($A$236= TRUE, IF($H$1=2, IF($F$1 = 1, Data!O271, NA()), NA()), NA())","v":{"$error":"#N/A"}},{"$f":"IF($A$236= TRUE, IF($H$1=2, IF($F$1 = 1, Data!P271, NA()), NA()), NA())","v":{"$error":"#N/A"}},{"$f":"IF($A$236=TRUE, IF($H$1=1, IF($F$1 = 1, Data!Q271, NA()), NA()), NA())","v":{"$error":"#N/A"}},{"$f":"IF($A$236=TRUE, IF($H$1=1, IF($F$1 = 1, Data!R271, NA()), NA()), NA())","v":{"$error":"#N/A"}},{"$f":"IF($A$236=TRUE, IF($F$1=1, IF($H$1=2, Data!S271, NA()), NA()), NA())","v":{"$error":"#N/A"}},{"$f":"IF($A$236=TRUE, IF($F$1=1, IF($H$1=1, Data!T271, NA()), NA()), NA())","v":{"$error":"#N/A"}}]
[null,{"$f":"Data!B272","v":"Natural Attenuation"},{"$f":"Data!C272","v":"None"},{"$f":"Data!E272","v":{"$error":"#N/A"}},{"$f":"Data!H272","v":{"$error":"#N/A"}},{"$f":" IF($A$236=TRUE, IF($H$1=2, IF($F$1 = 2, Data!I272, NA()), NA()), NA())","v":0.51},{"$f":" IF($A$236=TRUE, IF($H$1=2, IF($F$1 = 2, Data!J272, NA()), NA()), NA())","v":5.3110400000000002E-2},{"$f":"IF($A$236=TRUE, IF($H$1=1, IF($F$1 = 2, Data!K272, NA()), NA()), NA())","v":{"$error":"#N/A"}},{"$f":"IF($A$236=TRUE, IF($H$1=1, IF($F$1 = 2, Data!L272, NA()), NA()), NA())","v":{"$error":"#N/A"}},{"$f":"IF($A$236=TRUE, IF($F$1=2, IF($H$1=2, Data!M272, NA()), NA()), NA())","v":0.9823904},{"$f":"IF($A$236=TRUE, IF($F$1=2, IF($H$1=1, Data!N272, NA()), NA()),NA())","v":{"$error":"#N/A"}},{"$f":"IF($A$236= TRUE, IF($H$1=2, IF($F$1 = 1, Data!O272, NA()), NA()), NA())","v":{"$error":"#N/A"}},{"$f":"IF($A$236= TRUE, IF($H$1=2, IF($F$1 = 1, Data!P272, NA()), NA()), NA())","v":{"$error":"#N/A"}},{"$f":"IF($A$236=TRUE, IF($H$1=1, IF($F$1 = 1, Data!Q272, NA()), NA()), NA())","v":{"$error":"#N/A"}},{"$f":"IF($A$236=TRUE, IF($H$1=1, IF($F$1 = 1, Data!R272, NA()), NA()), NA())","v":{"$error":"#N/A"}},{"$f":"IF($A$236=TRUE, IF($F$1=1, IF($H$1=2, Data!S272, NA()), NA()), NA())","v":{"$error":"#N/A"}},{"$f":"IF($A$236=TRUE, IF($F$1=1, IF($H$1=1, Data!T272, NA()), NA()), NA())","v":{"$error":"#N/A"}}]
[null,{"$f":"Data!B273","v":"Natural Attenuation"},{"$f":"Data!C273","v":"None"},{"$f":"Data!E273","v":{"$error":"#N/A"}},{"$f":"Data!H273","v":{"$error":"#N/A"}},{"$f":" IF($A$236=TRUE, IF($H$1=2, IF($F$1 = 2, Data!I273, NA()), NA()), NA())","v":0.8626819},{"$f":" IF($A$236=TRUE, IF($H$1=2, IF($F$1 = 2, Data!J273, NA()), NA()), NA())","v":5.0000000000000001E-3},{"$f":"IF($A$236=TRUE, IF($H$1=1, IF($F$1 = 2, Data!K273, NA()), NA()), NA())","v":{"$error":"#N/A"}},{"$f":"IF($A$236=TRUE, IF($H$1=1, IF($F$1 = 2, Data!L273, NA()), NA()), NA())","v":{"$error":"#N/A"}},{"$f":"IF($A$236=TRUE, IF($F$1=2, IF($H$1=2, Data!M273, NA()), NA()), NA())","v":2.2368806999999999},{"$f":"IF($A$236=TRUE, IF($F$1=2, IF($H$1=1, Data!N273, NA()), NA()),NA())","v":{"$error":"#N/A"}},{"$f":"IF($A$236= TRUE, IF($H$1=2, IF($F$1 = 1, Data!O273, NA()), NA()), NA())","v":{"$error":"#N/A"}},{"$f":"IF($A$236= TRUE, IF($H$1=2, IF($F$1 = 1, Data!P273, NA()), NA()), NA())","v":{"$error":"#N/A"}},{"$f":"IF($A$236=TRUE, IF($H$1=1, IF($F$1 = 1, Data!Q273, NA()), NA()), NA())","v":{"$error":"#N/A"}},{"$f":"IF($A$236=TRUE, IF($H$1=1, IF($F$1 = 1, Data!R273, NA()), NA()), NA())","v":{"$error":"#N/A"}},{"$f":"IF($A$236=TRUE, IF($F$1=1, IF($H$1=2, Data!S273, NA()), NA()), NA())","v":{"$error":"#N/A"}},{"$f":"IF($A$236=TRUE, IF($F$1=1, IF($H$1=1, Data!T273, NA()), NA()), NA())","v":{"$error":"#N/A"}}]
[null,{"$f":"Data!B274","v":"Natural Attenuation"},{"$f":"Data!C274","v":"None"},{"$f":"Data!E274","v":{"$error":"#N/A"}},{"$f":"Data!H274","v":{"$error":"#N/A"}},{"$f":" IF($A$236=TRUE, IF($H$1=2, IF($F$1 = 2, Data!I274, NA()), NA()), NA())","v":11.3036736},{"$f":" IF($A$236=TRUE, IF($H$1=2, IF($F$1 = 2, Data!J274, NA()), NA()), NA())","v":3.2468751},{"$f":"IF($A$236=TRUE, IF($H$1=1, IF($F$1 = 2, Data!K274, NA()), NA()), NA())","v":{"$error":"#N/A"}},{"$f":"IF($A$236=TRUE, IF($H$1=1, IF($F$1 = 2, Data!L274, NA()), NA()), NA())","v":{"$error":"#N/A"}},{"$f":"IF($A$236=TRUE, IF($F$1=2, IF($H$1=2, Data!M274, NA()), NA()), NA())","v":0.54175399999999996},{"$f":"IF($A$236=TRUE, IF($F$1=2, IF($H$1=1, Data!N274, NA()), NA()),NA())","v":{"$error":"#N/A"}},{"$f":"IF($A$236= TRUE, IF($H$1=2, IF($F$1 = 1, Data!O274, NA()), NA()), NA())","v":{"$error":"#N/A"}},{"$f":"IF($A$236= TRUE, IF($H$1=2, IF($F$1 = 1, Data!P274, NA()), NA()), NA())","v":{"$error":"#N/A"}},{"$f":"IF($A$236=TRUE, IF($H$1=1, IF($F$1 = 1, Data!Q274, NA()), NA()), NA())","v":{"$error":"#N/A"}},{"$f":"IF($A$236=TRUE, IF($H$1=1, IF($F$1 = 1, Data!R274, NA()), NA()), NA())","v":{"$error":"#N/A"}},{"$f":"IF($A$236=TRUE, IF($F$1=1, IF($H$1=2, Data!S274, NA()), NA()), NA())","v":{"$error":"#N/A"}},{"$f":"IF($A$236=TRUE, IF($F$1=1, IF($H$1=1, Data!T274, NA()), NA()), NA())","v":{"$error":"#N/A"}}]
[null,{"$f":"Data!B275","v":"Natural Attenuation"},{"$f":"Data!C275","v":"None"},{"$f":"Data!E275","v":{"$error":"#N/A"}},{"$f":"Data!H275","v":{"$error":"#N/A"}},{"$f":" IF($A$236=TRUE, IF($H$1=2, IF($F$1 = 2, Data!I275, NA()), NA()), NA())","v":0.58416570000000001},{"$f":" IF($A$236=TRUE, IF($H$1=2, IF($F$1 = 2, Data!J275, NA()), NA()), NA())","v":0.31959399999999999},{"$f":"IF($A$236=TRUE, IF($H$1=1, IF($F$1 = 2, Data!K275, NA()), NA()), NA())","v":{"$error":"#N/A"}},{"$f":"IF($A$236=TRUE, IF($H$1=1, IF($F$1 = 2, Data!L275, NA()), NA()), NA())","v":{"$error":"#N/A"}},{"$f":"IF($A$236=TRUE, IF($F$1=2, IF($H$1=2, Data!M275, NA()), NA()), NA())","v":0.26193739999999999},{"$f":"IF($A$236=TRUE, IF($F$1=2, IF($H$1=1, Data!N275, NA()), NA()),NA())","v":{"$error":"#N/A"}},{"$f":"IF($A$236= TRUE, IF($H$1=2, IF($F$1 = 1, Data!O275, NA()), NA()), NA())","v":{"$error":"#N/A"}},{"$f":"IF($A$236= TRUE, IF($H$1=2, IF($F$1 = 1, Data!P275, NA()), NA()), NA())","v":{"$error":"#N/A"}},{"$f":"IF($A$236=TRUE, IF($H$1=1, IF($F$1 = 1, Data!Q275, NA()), NA()), NA())","v":{"$error":"#N/A"}},{"$f":"IF($A$236=TRUE, IF($H$1=1, IF($F$1 = 1, Data!R275, NA()), NA()), NA())","v":{"$error":"#N/A"}},{"$f":"IF($A$236=TRUE, IF($F$1=1, IF($H$1=2, Data!S275, NA()), NA()), NA())","v":{"$error":"#N/A"}},{"$f":"IF($A$236=TRUE, IF($F$1=1, IF($H$1=1, Data!T275, NA()), NA()), NA())","v":{"$error":"#N/A"}}]
[null,{"$f":"Data!B276","v":"Natural Attenuation"},{"$f":"Data!C276","v":"None"},{"$f":"Data!E276","v":{"$error":"#N/A"}},{"$f":"Data!H276","v":{"$error":"#N/A"}},{"$f":" IF($A$236=TRUE, IF($H$1=2, IF($F$1 = 2, Data!I276, NA()), NA()), NA())","v":1.4654617000000001},{"$f":" IF($A$236=TRUE, IF($H$1=2, IF($F$1 = 2, Data!J276, NA()), NA()), NA())","v":0.54145089999999996},{"$f":"IF($A$236=TRUE, IF($H$1=1, IF($F$1 = 2, Data!K276, NA()), NA()), NA())","v":{"$error":"#N/A"}},{"$f":"IF($A$236=TRUE, IF($H$1=1, IF($F$1 = 2, Data!L276, NA()), NA()), NA())","v":{"$error":"#N/A"}},{"$f":"IF($A$236=TRUE, IF($F$1=2, IF($H$1=2, Data!M276, NA()), NA()), NA())","v":0.43241540000000001},{"$f":"IF($A$236=TRUE, IF($F$1=2, IF($H$1=1, Data!N276, NA()), NA()),NA())","v":{"$error":"#N/A"}},{"$f":"IF($A$236= TRUE, IF($H$1=2, IF($F$1 = 1, Data!O276, NA()), NA()), NA())","v":{"$error":"#N/A"}},{"$f":"IF($A$236= TRUE, IF($H$1=2, IF($F$1 = 1, Data!P276, NA()), NA()), NA())","v":{"$error":"#N/A"}},{"$f":"IF($A$236=TRUE, IF($H$1=1, IF($F$1 = 1, Data!Q276, NA()), NA()), NA())","v":{"$error":"#N/A"}},{"$f":"IF($A$236=TRUE, IF($H$1=1, IF($F$1 = 1, Data!R276, NA()), NA()), NA())","v":{"$error":"#N/A"}},{"$f":"IF($A$236=TRUE, IF($F$1=1, IF($H$1=2, Data!S276, NA()), NA()), NA())","v":{"$error":"#N/A"}},{"$f":"IF($A$236=TRUE, IF($F$1=1, IF($H$1=1, Data!T276, NA()), NA()), NA())","v":{"$error":"#N/A"}}]
[null,{"$f":"Data!B277","v":"Natural Attenuation"},{"$f":"Data!C277","v":"None"},{"$f":"Data!E277","v":{"$error":"#N/A"}},{"$f":"Data!H277","v":{"$error":"#N/A"}},{"$f":" IF($A$236=TRUE, IF($H$1=2, IF($F$1 = 2, Data!I277, NA()), NA()), NA())","v":113.4932712},{"$f":" IF($A$236=TRUE, IF($H$1=2, IF($F$1 = 2, Data!J277, NA()), NA()), NA())","v":12.4475868},{"$f":"IF($A$236=TRUE, IF($H$1=1, IF($F$1 = 2, Data!K277, NA()), NA()), NA())","v":{"$error":"#N/A"}},{"$f":"IF($A$236=TRUE, IF($H$1=1, IF($F$1 = 2, Data!L277, NA()), NA()), NA())","v":{"$error":"#N/A"}},{"$f":"IF($A$236=TRUE, IF($F$1=2, IF($H$1=2, Data!M277, NA()), NA()), NA())","v":0.95988490000000004},{"$f":"IF($A$236=TRUE, IF($F$1=2, IF($H$1=1, Data!N277, NA()), NA()),NA())","v":{"$error":"#N/A"}},{"$f":"IF($A$236= TRUE, IF($H$1=2, IF($F$1 = 1, Data!O277, NA()), NA()), NA())","v":{"$error":"#N/A"}},{"$f":"IF($A$236= TRUE, IF($H$1=2, IF($F$1 = 1, Data!P277, NA()), NA()), NA())","v":{"$error":"#N/A"}},{"$f":"IF($A$236=TRUE, IF($H$1=1, IF($F$1 = 1, Data!Q277, NA()), NA()), NA())","v":{"$error":"#N/A"}},{"$f":"IF($A$236=TRUE, IF($H$1=1, IF($F$1 = 1, Data!R277, NA()), NA()), NA())","v":{"$error":"#N/A"}},{"$f":"IF($A$236=TRUE, IF($F$1=1, IF($H$1=2, Data!S277, NA()), NA()), NA())","v":{"$error":"#N/A"}},{"$f":"IF($A$236=TRUE, IF($F$1=1, IF($H$1=1, Data!T277, NA()), NA()), NA())","v":{"$error":"#N/A"}}]
[null,{"$f":"Data!B278","v":"Natural Attenuation"},{"$f":"Data!C278","v":"None"},{"$f":"Data!E278","v":{"$error":"#N/A"}},{"$f":"Data!H278","v":{"$error":"#N/A"}},{"$f":" IF($A$236=TRUE, IF($H$1=2, IF($F$1 = 2, Data!I278, NA()), NA()), NA())","v":0.60988659999999995},{"$f":" IF($A$236=TRUE, IF($H$1=2, IF($F$1 = 2, Data!J278, NA()), NA()), NA())","v":0.29113600000000001},{"$f":"IF($A$236=TRUE, IF($H$1=1, IF($F$1 = 2, Data!K278, NA()), NA()), NA())","v":{"$error":"#N/A"}},{"$f":"IF($A$236=TRUE, IF($H$1=1, IF($F$1 = 2, Data!L278, NA()), NA()), NA())","v":{"$error":"#N/A"}},{"$f":"IF($A$236=TRUE, IF($F$1=2, IF($H$1=2, Data!M278, NA()), NA()), NA())","v":0.32115310000000002},{"$f":"IF($A$236=TRUE, IF($F$1=2, IF($H$1=1, Data!N278, NA()), NA()),NA())","v":{"$error":"#N/A"}},{"$f":"IF($A$236= TRUE, IF($H$1=2, IF($F$1 = 1, Data!O278, NA()), NA()), NA())","v":{"$error":"#N/A"}},{"$f":"IF($A$236= TRUE, IF($H$1=2, IF($F$1 = 1, Data!P278, NA()), NA()), NA())","v":{"$error":"#N/A"}},{"$f":"IF($A$236=TRUE, IF($H$1=1, IF($F$1 = 1, Data!Q278, NA()), NA()), NA())","v":{"$error":"#N/A"}},{"$f":"IF($A$236=TRUE, IF($H$1=1, IF($F$1 = 1, Data!R278, NA()), NA()), NA())","v":{"$error":"#N/A"}},{"$f":"IF($A$236=TRUE, IF($F$1=1, IF($H$1=2, Data!S278, NA()), NA()), NA())","v":{"$error":"#N/A"}},{"$f":"IF($A$236=TRUE, IF($F$1=1, IF($H$1=1, Data!T278, NA()), NA()), NA())","v":{"$error":"#N/A"}}]
[null,{"$f":"Data!B279","v":"Natural Attenuation"},{"$f":"Data!C279","v":"None"},{"$f":"Data!E279","v":{"$error":"#N/A"}},{"$f":"Data!H279","v":{"$error":"#N/A"}},{"$f":" IF($A$236=TRUE, IF($H$1=2, IF($F$1 = 2, Data!I279, NA()), NA()), NA())","v":8.1890599999999994E-2},{"$f":" IF($A$236=TRUE, IF($H$1=2, IF($F$1 = 2, Data!J279, NA()), NA()), NA())","v":9.7698999999999998E-3},{"$f":"IF($A$236=TRUE, IF($H$1=1, IF($F$1 = 2, Data!K279, NA()), NA()), NA())","v":{"$error":"#N/A"}},{"$f":"IF($A$236=TRUE, IF($H$1=1, IF($F$1 = 2, Data!L279, NA()), NA()), NA())","v":{"$error":"#N/A"}},{"$f":"IF($A$236=TRUE, IF($F$1=2, IF($H$1=2, Data!M279, NA()), NA()), NA())","v":0.92334190000000005},{"$f":"IF($A$236=TRUE, IF($F$1=2, IF($H$1=1, Data!N279, NA()), NA()),NA())","v":{"$error":"#N/A"}},{"$f":"IF($A$236= TRUE, IF($H$1=2, IF($F$1 = 1, Data!O279, NA()), NA()), NA())","v":{"$error":"#N/A"}},{"$f":"IF($A$236= TRUE, IF($H$1=2, IF($F$1 = 1, Data!P279, NA()), NA()), NA())","v":{"$error":"#N/A"}},{"$f":"IF($A$236=TRUE, IF($H$1=1, IF($F$1 = 1, Data!Q279, NA()), NA()), NA())","v":{"$error":"#N/A"}},{"$f":"IF($A$236=TRUE, IF($H$1=1, IF($F$1 = 1, Data!R279, NA()), NA()), NA())","v":{"$error":"#N/A"}},{"$f":"IF($A$236=TRUE, IF($F$1=1, IF($H$1=2, Data!S279, NA()), NA()), NA())","v":{"$error":"#N/A"}},{"$f":"IF($A$236=TRUE, IF($F$1=1, IF($H$1=1, Data!T279, NA()), NA()), NA())","v":{"$error":"#N/A"}}]
[null,{"$f":"Data!B280","v":"Chemical Reduction/Bioremediation"},{"$f":"Data!C280","v":"Emulsified ZVI"},{"$f":"Data!E280","v":"Pilot"},{"$f":"Data!H280","v":"Coarse-grained"},{"$f":"IF($A$195=TRUE, IF($A$192=TRUE, IF($H$1=2, IF($F$1 = 2, Data!I280, NA()), NA()), NA()), NA())","v":410},{"$f":"IF($A$195=TRUE, IF($A$192=TRUE, IF($H$1=2, IF($F$1 = 2, Data!J280, NA()), NA()), NA()), NA())","v":11.247199699999999},{"$f":"IF($A$195=TRUE, IF($A$192=TRUE, IF($H$1=1, IF($F$1 = 2, Data!K280, NA()), NA()), NA()), NA())","v":{"$error":"#N/A"}},{"$f":"IF($A$195=TRUE, IF($A$192=TRUE, IF($H$1=1, IF($F$1 = 2, Data!L280, NA()), NA()), NA()), NA())","v":{"$error":"#N/A"}},{"$f":"IF($A$192=TRUE, IF($A$195=TRUE, IF($F$1=2, IF($H$1=2, Data!M280, NA()), NA()), NA()), NA())","v":1.5617394},{"$f":"IF($A$192=TRUE, IF($A$195=TRUE, IF($F$1=2, IF($H$1=1, Data!N280, NA()), NA()),NA()), NA())","v":{"$error":"#N/A"}},{"$f":"IF($A$195=TRUE, IF($A$192= TRUE, IF($H$1=2, IF($F$1 = 1, Data!O280, NA()), NA()), NA()), NA())","v":{"$error":"#N/A"}},{"$f":"IF($A$195=TRUE, IF($A$192= TRUE, IF($H$1=2, IF($F$1 = 1, Data!P280, NA()), NA()), NA()), NA())","v":{"$error":"#N/A"}},{"$f":"IF($A$195 = TRUE, IF($A$192=TRUE, IF($H$1=1, IF($F$1 = 1, Data!Q280, NA()), NA()), NA()), NA())","v":{"$error":"#N/A"}},{"$f":"IF($A$195 = TRUE, IF($A$192=TRUE, IF($H$1=1, IF($F$1 = 1, Data!R280, NA()), NA()), NA()), NA())","v":{"$error":"#N/A"}},{"$f":"IF($A$192=TRUE, IF($A$195=TRUE, IF($F$1=1, IF($H$1=2, Data!S280, NA()), NA()), NA()), NA())","v":{"$error":"#N/A"}},{"$f":"IF($A$192= TRUE, IF($A$195=TRUE, IF($F$1=1, IF($H$1=1, Data!T280, NA()), NA()), NA()), NA())","v":{"$error":"#N/A"}}]
[null,{"$f":"Data!B281","v":"Chemical Reduction/Bioremediation"},{"$f":"Data!C281","v":"Emulsified ZVI"},{"$f":"Data!E281","v":"Pilot"},{"$f":"Data!H281","v":"Fine-grained"},{"$f":"IF($A$195=TRUE, IF($A$192=TRUE, IF($H$1=2, IF($F$1 = 2, Data!I281, NA()), NA()), NA()), NA())","v":3.71},{"$f":"IF($A$195=TRUE, IF($A$192=TRUE, IF($H$1=2, IF($F$1 = 2, Data!J281, NA()), NA()), NA()), NA())","v":0.16},{"$f":"IF($A$195=TRUE, IF($A$192=TRUE, IF($H$1=1, IF($F$1 = 2, Data!K281, NA()), NA()), NA()), NA())","v":{"$error":"#N/A"}},{"$f":"IF($A$195=TRUE, IF($A$192=TRUE, IF($H$1=1, IF($F$1 = 2, Data!L281, NA()), NA()), NA()), NA())","v":{"$error":"#N/A"}},{"$f":"IF($A$192=TRUE, IF($A$195=TRUE, IF($F$1=2, IF($H$1=2, Data!M281, NA()), NA()), NA()), NA())","v":1.3652538999999999},{"$f":"IF($A$192=TRUE, IF($A$195=TRUE, IF($F$1=2, IF($H$1=1, Data!N281, NA()), NA()),NA()), NA())","v":{"$error":"#N/A"}},{"$f":"IF($A$195=TRUE, IF($A$192= TRUE, IF($H$1=2, IF($F$1 = 1, Data!O281, NA()), NA()), NA()), NA())","v":{"$error":"#N/A"}},{"$f":"IF($A$195=TRUE, IF($A$192= TRUE, IF($H$1=2, IF($F$1 = 1, Data!P281, NA()), NA()), NA()), NA())","v":{"$error":"#N/A"}},{"$f":"IF($A$195 = TRUE, IF($A$192=TRUE, IF($H$1=1, IF($F$1 = 1, Data!Q281, NA()), NA()), NA()), NA())","v":{"$error":"#N/A"}},{"$f":"IF($A$195 = TRUE, IF($A$192=TRUE, IF($H$1=1, IF($F$1 = 1, Data!R281, NA()), NA()), NA()), NA())","v":{"$error":"#N/A"}},{"$f":"IF($A$192=TRUE, IF($A$195=TRUE, IF($F$1=1, IF($H$1=2, Data!S281, NA()), NA()), NA()), NA())","v":{"$error":"#N/A"}},{"$f":"IF($A$192= TRUE, IF($A$195=TRUE, IF($F$1=1, IF($H$1=1, Data!T281, NA()), NA()), NA()), NA())","v":{"$error":"#N/A"}}]
[null,{"$f":"Data!B282","v":"Chemical Reduction/Bioremediation"},{"$f":"Data!C282","v":"Emulsified ZVI"},{"$f":"Data!E282","v":"Pilot"},{"$f":"Data!H282","v":"Fine-grained"},{"$f":"IF($A$195=TRUE, IF($A$192=TRUE, IF($H$1=2, IF($F$1 = 2, Data!I282, NA()), NA()), NA()), NA())","v":0.36099999999999999},{"$f":"IF($A$195=TRUE, IF($A$192=TRUE, IF($H$1=2, IF($F$1 = 2, Data!J282, NA()), NA()), NA()), NA())","v":0.11681859999999999},{"$f":"IF($A$195=TRUE, IF($A$192=TRUE, IF($H$1=1, IF($F$1 = 2, Data!K282, NA()), NA()), NA()), NA())","v":{"$error":"#N/A"}},{"$f":"IF($A$195=TRUE, IF($A$192=TRUE, IF($H$1=1, IF($F$1 = 2, Data!L282, NA()), NA()), NA()), NA())","v":{"$error":"#N/A"}},{"$f":"IF($A$192=TRUE, IF($A$195=TRUE, IF($F$1=2, IF($H$1=2, Data!M282, NA()), NA()), NA()), NA())","v":0.48999520000000002},{"$f":"IF($A$192=TRUE, IF($A$195=TRUE, IF($F$1=2, IF($H$1=1, Data!N282, NA()), NA()),NA()), NA())","v":{"$error":"#N/A"}},{"$f":"IF($A$195=TRUE, IF($A$192= TRUE, IF($H$1=2, IF($F$1 = 1, Data!O282, NA()), NA()), NA()), NA())","v":{"$error":"#N/A"}},{"$f":"IF($A$195=TRUE, IF($A$192= TRUE, IF($H$1=2, IF($F$1 = 1, Data!P282, NA()), NA()), NA()), NA())","v":{"$error":"#N/A"}},{"$f":"IF($A$195 = TRUE, IF($A$192=TRUE, IF($H$1=1, IF($F$1 = 1, Data!Q282, NA()), NA()), NA()), NA())","v":{"$error":"#N/A"}},{"$f":"IF($A$195 = TRUE, IF($A$192=TRUE, IF($H$1=1, IF($F$1 = 1, Data!R282, NA()), NA()), NA()), NA())","v":{"$error":"#N/A"}},{"$f":"IF($A$192=TRUE, IF($A$195=TRUE, IF($F$1=1, IF($H$1=2, Data!S282, NA()), NA()), NA()), NA())","v":{"$error":"#N/A"}},{"$f":"IF($A$192= TRUE, IF($A$195=TRUE, IF($F$1=1, IF($H$1=1, Data!T282, NA()), NA()), NA()), NA())","v":{"$error":"#N/A"}}]
[null,{"$f":"Data!B283","v":"Chemical Reduction/Bioremediation"},{"$f":"Data!C283","v":"Emulsified ZVI"},{"$f":"Data!E283","v":"Pilot"},{"$f":"Data!H283","v":"Fine-grained"},{"$f":"IF($A$195=TRUE, IF($A$192=TRUE, IF($H$1=2, IF($F$1 = 2, Data!I283, NA()), NA()), NA()), NA())","v":3.1388552999999999},{"$f":"IF($A$195=TRUE, IF($A$192=TRUE, IF($H$1=2, IF($F$1 = 2, Data!J283, NA()), NA()), NA()), NA())","v":0.13139100000000001},{"$f":"IF($A$195=TRUE, IF($A$192=TRUE, IF($H$1=1, IF($F$1 = 2, Data!K283, NA()), NA()), NA()), NA())","v":{"$error":"#N/A"}},{"$f":"IF($A$195=TRUE, IF($A$192=TRUE, IF($H$1=1, IF($F$1 = 2, Data!L283, NA()), NA()), NA()), NA())","v":{"$error":"#N/A"}},{"$f":"IF($A$192=TRUE, IF($A$195=TRUE, IF($F$1=2, IF($H$1=2, Data!M283, NA()), NA()), NA()), NA())","v":1.3782055},{"$f":"IF($A$192=TRUE, IF($A$195=TRUE, IF($F$1=2, IF($H$1=1, Data!N283, NA()), NA()),NA()), NA())","v":{"$error":"#N/A"}},{"$f":"IF($A$195=TRUE, IF($A$192= TRUE, IF($H$1=2, IF($F$1 = 1, Data!O283, NA()), NA()), NA()), NA())","v":{"$error":"#N/A"}},{"$f":"IF($A$195=TRUE, IF($A$192= TRUE, IF($H$1=2, IF($F$1 = 1, Data!P283, NA()), NA()), NA()), NA())","v":{"$error":"#N/A"}},{"$f":"IF($A$195 = TRUE, IF($A$192=TRUE, IF($H$1=1, IF($F$1 = 1, Data!Q283, NA()), NA()), NA()), NA())","v":{"$error":"#N/A"}},{"$f":"IF($A$195 = TRUE, IF($A$192=TRUE, IF($H$1=1, IF($F$1 = 1, Data!R283, NA()), NA()), NA()), NA())","v":{"$error":"#N/A"}},{"$f":"IF($A$192=TRUE, IF($A$195=TRUE, IF($F$1=1, IF($H$1=2, Data!S283, NA()), NA()), NA()), NA())","v":{"$error":"#N/A"}},{"$f":"IF($A$192= TRUE, IF($A$195=TRUE, IF($F$1=1, IF($H$1=1, Data!T283, NA()), NA()), NA()), NA())","v":{"$error":"#N/A"}}]
[]
[]
[null,null,null,null,"MINS:",{"$f":"MIN(IF(ISNUMBER(F5:F284),F5:F284))","v":1.4145E-3},{"$f":"MIN(IF(ISNUMBER(G5:G284),G5:G284))","v":1E-3},{"$f":"MIN(IF(ISNUMBER(H5:H284),H5:H284))","v":0},{"$f":"MIN(IF(ISNUMBER(I5:I284),I5:I284))","v":0},{"$f":"MIN(IF(ISNUMBER(J5:J284),J5:J284))","v":-2.3979400000000002},{"$f":"MIN(IF(ISNUMBER(K5:K284),K5:K284))","v":0},{"$f":"MIN(IF(ISNUMBER(L5:L284),L5:L284))","v":0},{"$f":"MIN(IF(ISNUMBER(M5:M284),M5:M284))","v":0},{"$f":"MIN(IF(ISNUMBER(N5:N284),N5:N284))","v":0},{"$f":"MIN(IF(ISNUMBER(O5:O284),O5:O284))","v":0},{"$f":"MIN(IF(ISNUMBER(P5:P284),P5:P284))","v":0},{"$f":"MIN(IF(ISNUMBER(Q5:Q284),Q5:Q284))","v":0}]
[null,null,null,null,"MAX:",{"$f":"MAX(IF(ISNUMBER(F5:F284),F5:F284))","v":995},{"$f":"MAX(IF(ISNUMBER(G5:G284),G5:G284))","v":387.5},{"$f":"MAX(IF(ISNUMBER(H5:H284),H5:H284))","v":0},{"$f":"MAX(IF(ISNUMBER(I5:I284),I5:I284))","v":0},{"$f":"MAX(IF(ISNUMBER(J5:J284),J5:J284))","v":5.2130326},{"$f":"MAX(IF(ISNUMBER(K5:K284),K5:K284))","v":0},{"$f":"MAX(IF(ISNUMBER(L5:L284),L5:L284))","v":0},{"$f":"MAX(IF(ISNUMBER(M5:M284),M5:M284))","v":0},{"$f":"MAX(IF(ISNUMBER(N5:N284),N5:N284))","v":0},{"$f":"MAX(IF(ISNUMBER(O5:O284),O5:O284))","v":0},{"$f":"MAX(IF(ISNUMBER(P5:P284),P5:P284))","v":0},{"$f":"MAX(IF(ISNUMBER(Q5:Q284),Q5:Q284))","v":0}]
[null,null,null,null,0.1,{"$f":"PERCENTILE(IF(ISNUMBER(F5:F284),F5:F284),0.1)","v":2.5721290000000004E-2},{"$f":"PERCENTILE(IF(ISNUMBER(G5:G284),G5:G284),0.1)","v":1.0677700000000002E-3},{"$f":"PERCENTILE(IF(ISNUMBER(H5:H284),H5:H284),0.1)","v":{"$error":"#NUM!"}},{"$f":"PERCENTILE(IF(ISNUMBER(I5:I284),I5:I284),0.1)","v":{"$error":"#NUM!"}},{"$f":"PERCENTILE(IF(ISNUMBER(J5:J284),J5:J284),0.1)","v":4.7178530000000087E-2},{"$f":"PERCENTILE(IF(ISNUMBER(K5:K284),K5:K284),0.1)","v":{"$error":"#NUM!"}},{"$f":"PERCENTILE(IF(ISNUMBER(L5:L284),L5:L284),0.1)","v":{"$error":"#NUM!"}},{"$f":"PERCENTILE(IF(ISNUMBER(M5:M284),M5:M284),0.1)","v":{"$error":"#NUM!"}},{"$f":"PERCENTILE(IF(ISNUMBER(N5:N284),N5:N284),0.1)","v":{"$error":"#NUM!"}},{"$f":"PERCENTILE(IF(ISNUMBER(O5:O284),O5:O284),0.1)","v":{"$error":"#NUM!"}},{"$f":"PERCENTILE(IF(ISNUMBER(P5:P284),P5:P284),0.1)","v":{"$error":"#NUM!"}},{"$f":"PERCENTILE(IF(ISNUMBER(Q5:Q284),Q5:Q284),0.1)","v":{"$error":"#NUM!"}}]
[null,null,null,null,0.25,{"$f":"PERCENTILE(IF(ISNUMBER(F5:F284),F5:F284),0.25)","v":0.29112062500000002},{"$f":"PERCENTILE(IF(ISNUMBER(G5:G284),G5:G284),0.25)","v":9.6097749999999992E-3},{"$f":"PERCENTILE(IF(ISNUMBER(H5:H284),H5:H284),0.25)","v":{"$error":"#NUM!"}},{"$f":"PERCENTILE(IF(ISNUMBER(I5:I284),I5:I284),0.25)","v":{"$error":"#NUM!"}},{"$f":"PERCENTILE(IF(ISNUMBER(J5:J284),J5:J284),0.25)","v":0.44460747500000003},{"$f":"PERCENTILE(IF(ISNUMBER(K5:K284),K5:K284),0.25)","v":{"$error":"#NUM!"}},{"$f":"PERCENTILE(IF(ISNUMBER(L5:L284),L5:L284),0.25)","v":{"$error":"#NUM!"}},{"$f":"PERCENTILE(IF(ISNUMBER(M5:M284),M5:M284),0.25)","v":{"$error":"#NUM!"}},{"$f":"PERCENTILE(IF(ISNUMBER(N5:N284),N5:N284),0.25)","v":{"$error":"#NUM!"}},{"$f":"PERCENTILE(IF(ISNUMBER(O5:O284),O5:O284),0.25)","v":{"$error":"#NUM!"}},{"$f":"PERCENTILE(IF(ISNUMBER(P5:P284),P5:P284),0.25)","v":{"$error":"#NUM!"}},{"$f":"PERCENTILE(IF(ISNUMBER(Q5:Q284),Q5:Q284),0.25)","v":{"$error":"#NUM!"}}]
[null,null,null,null,0.5,{"$f":"PERCENTILE(IF(ISNUMBER(F5:F284),F5:F284),0.5)","v":1.1397746500000001},{"$f":"PERCENTILE(IF(ISNUMBER(G5:G284),G5:G284),0.5)","v":6.7623100000000005E-2},{"$f":"PERCENTILE(IF(ISNUMBER(H5:H284),H5:H284),0.5)","v":{"$error":"#NUM!"}},{"$f":"PERCENTILE(IF(ISNUMBER(I5:I284),I5:I284),0.5)","v":{"$error":"#NUM!"}},{"$f":"PERCENTILE(IF(ISNUMBER(J5:J284),J5:J284),0.5)","v":1.0023543500000001},{"$f":"PERCENTILE(IF(ISNUMBER(K5:K284),K5:K284),0.5)","v":{"$error":"#NUM!"}},{"$f":"PERCENTILE(IF(ISNUMBER(L5:L284),L5:L284),0.5)","v":{"$error":"#NUM!"}},{"$f":"PERCENTILE(IF(ISNUMBER(M5:M284),M5:M284),0.5)","v":{"$error":"#NUM!"}},{"$f":"PERCENTILE(IF(ISNUMBER(N5:N284),N5:N284),0.5)","v":{"$error":"#NUM!"}},{"$f":"PERCENTILE(IF(ISNUMBER(O5:O284),O5:O284),0.5)","v":{"$error":"#NUM!"}},{"$f":"PERCENTILE(IF(ISNUMBER(P5:P284),P5:P284),0.5)","v":{"$error":"#NUM!"}},{"$f":"PERCENTILE(IF(ISNUMBER(Q5:Q284),Q5:Q284),0.5)","v":{"$error":"#NUM!"}}]
[null,null,null,null,0.75,{"$f":"PERCENTILE(IF(ISNUMBER(F5:F284),F5:F284),0.75)","v":7.6712492999999995},{"$f":"PERCENTILE(IF(ISNUMBER(G5:G284),G5:G284),0.75)","v":0.61787654999999997},{"$f":"PERCENTILE(IF(ISNUMBER(H5:H284),H5:H284),0.75)","v":{"$error":"#NUM!"}},{"$f":"PERCENTILE(IF(ISNUMBER(I5:I284),I5:I284),0.75)","v":{"$error":"#NUM!"}},{"$f":"PERCENTILE(IF(ISNUMBER(J5:J284),J5:J284),0.75)","v":1.9070906249999999},{"$f":"PERCENTILE(IF(ISNUMBER(K5:K284),K5:K284),0.75)","v":{"$error":"#NUM!"}},{"$f":"PERCENTILE(IF(ISNUMBER(L5:L284),L5:L284),0.75)","v":{"$error":"#NUM!"}},{"$f":"PERCENTILE(IF(ISNUMBER(M5:M284),M5:M284),0.75)","v":{"$error":"#NUM!"}},{"$f":"PERCENTILE(IF(ISNUMBER(N5:N284),N5:N284),0.75)","v":{"$error":"#NUM!"}},{"$f":"PERCENTILE(IF(ISNUMBER(O5:O284),O5:O284),0.75)","v":{"$error":"#NUM!"}},{"$f":"PERCENTILE(IF(ISNUMBER(P5:P284),P5:P284),0.75)","v":{"$error":"#NUM!"}},{"$f":"PERCENTILE(IF(ISNUMBER(Q5:Q284),Q5:Q284),0.75)","v":{"$error":"#NUM!"}}]
[null,null,null,null,0.9,{"$f":"PERCENTILE(IF(ISNUMBER(F5:F284),F5:F284),0.9)","v":34.504999999999974},{"$f":"PERCENTILE(IF(ISNUMBER(G5:G284),G5:G284),0.9)","v":2.8095288499999977},{"$f":"PERCENTILE(IF(ISNUMBER(H5:H284),H5:H284),0.9)","v":{"$error":"#NUM!"}},{"$f":"PERCENTILE(IF(ISNUMBER(I5:I284),I5:I284),0.9)","v":{"$error":"#NUM!"}},{"$f":"PERCENTILE(IF(ISNUMBER(J5:J284),J5:J284),0.9)","v":2.6823460099999998},{"$f":"PERCENTILE(IF(ISNUMBER(K5:K284),K5:K284),0.9)","v":{"$error":"#NUM!"}},{"$f":"PERCENTILE(IF(ISNUMBER(L5:L284),L5:L284),0.9)","v":{"$error":"#NUM!"}},{"$f":"PERCENTILE(IF(ISNUMBER(M5:M284),M5:M284),0.9)","v":{"$error":"#NUM!"}},{"$f":"PERCENTILE(IF(ISNUMBER(N5:N284),N5:N284),0.9)","v":{"$error":"#NUM!"}},{"$f":"PERCENTILE(IF(ISNUMBER(O5:O284),O5:O284),0.9)","v":{"$error":"#NUM!"}},{"$f":"PERCENTILE(IF(ISNUMBER(P5:P284),P5:P284),0.9)","v":{"$error":"#NUM!"}},{"$f":"PERCENTILE(IF(ISNUMBER(Q5:Q284),Q5:Q284),0.9)","v":{"$error":"#NUM!"}}]
[null,null,null,null,"Counter",{"$f":"COUNT(IF(ISNUMBER(F5:F284),F5:F284))","v":280},{"$f":"COUNT(IF(ISNUMBER(G5:G284),G5:G284))","v":280},{"$f":"COUNT(IF(ISNUMBER(H5:H284),H5:H284))","v":0},{"$f":"COUNT(IF(ISNUMBER(I5:I284),I5:I284))","v":0},null,null,{"$f":"COUNT(IF(ISNUMBER(L5:L284),L5:L284))","v":0},{"$f":"COUNT(IF(ISNUMBER(M5:M284),M5:M284))","v":0},{"$f":"COUNT(IF(ISNUMBER(N5:N284),N5:N284))","v":0},{"$f":"COUNT(IF(ISNUMBER(O5:O284),O5:O284))","v":0}]

{"sheet":"Data","index":2,"n_rows":283,"n_cols":20,"rows_kept":283,"cut":false,"hidden":false,"merged":[]}
[null,"See Support Interface"]
[null,null,null,null,null,null,null,null,"Parent Concentrations",null,null,null,"Parent OoMs",null,"Total CVOC Concentrations",null,null,null,"Total CVOC OoMs"]
["GSI Site ID","Technology","Technology Variant","Parent CVOC","Treatment Scale","Treatment begin date","Treatment    end date","Dominant Geology","Parent Before Geomean","Parent After Geomean","Parent Before Maximum","Parent After Maximum","Parent Geomean OoM","Parent Maximum OoM","Total Before Geomean","Total After Geomean","Total Before Maximum","Total After Maximum","Total Geomean OoM","Total Maximum OoM"]
["Arcadis-01","Bioremediation","Soluble","PCE","Full","2004-10-01","2007-06-20","Coarse-grained",1.0649999999999999,6.5358899999999998E-2,1.5,0.47,1.2120446,0.50399340000000004,1.1837500000000001,0.2241657,1.597,0.61799999999999999,0.72269090000000002,0.41231640000000003]
["Arcadis-02A","Bioremediation","Soluble","PCE","Full","2004-05-01","2009-02-15","Fine-grained",4.3999999999999997E-2,1E-3,1.2,6.5000000000000002E-2,1.6644227,1.2662678999999999,1.2208000000000001,0.21856900000000001,6.73,2.9649999999999999,0.74705589999999999,0.35599039999999998]
["Arcadis-02B","Bioremediation","Soluble","PCE","Full","2004-05-01","2008-11-15","Fine-grained",0.21,1E-3,3.7,0.61,2.3222193,0.78287189999999995,0.33800000000000002,5.4565500000000003E-2,5.8280000000000003,1.252,0.7919988,0.66791520000000004]
["Arcadis-02C","Bioremediation","Soluble","PCE","Full","2006-02-01","2009-02-15","Fine-grained",0.245,2.4953099999999999E-2,0.28000000000000003,0.12,0.99204130000000001,0.36797679999999999,0.66549999999999998,2.3170795000000002,0.80400000000000005,7.6580000000000004,-0.54179290000000002,-0.97885929999999999]
["Arcadis-04","Bioremediation","Soluble","PCE","Full","2003-01-01","2008-01-25","Fine-grained",3.34,1E-3,21,9.7400000000000004E-3,3.5237465000000001,3.3336603,4.84,0.25654929999999998,22.088000000000001,3.532,1.2756745,0.7961357]
["Arcadis-05","Bioremediation","Semi-Soluble / Slow-Release","TCE","Full","2000-09-27","2000-09-27","Fine-grained",0.2389328,6.3553799999999994E-2,0.69,0.51,0.57513409999999998,0.1312789,0.2416314,6.6428600000000004E-2,0.69199999999999995,0.51200000000000001,0.56079829999999997,0.13083610000000001]
["Arcadis-06","Bioremediation","Soluble","PCE","Full","2006-08-01","2007-09-01","Fine-grained",0.21,1.7080999999999999E-3,1.1000000000000001,0.48,2.0896940000000002,0.36015140000000001,0.39900000000000002,0.13511049999999999,2.4239999999999999,1.55,0.47028370000000003,0.19420090000000001]
["Arcadis-09","Bioremediation","Soluble & Semi-Soluble","TCA","Full","2003-10-09","2003-10-09","Fine-grained",9.65,1.084797,14,15,0.94917879999999999,-2.9963199999999999E-2,9.6524999999999999,1.1495219999999999,14.025,15.0025,0.92412249999999996,-2.92608E-2]
["B-01","Bioremediation","Semi-Soluble / Slow-Release","PCE","Full","2000-05-01","2002-08-12","Fine-grained",10.5889373,0.22917390000000001,39.6,2.0099999999999998,1.6646873,1.2944990999999999,20.536353999999999,0.62691079999999999,44.829000000000001,2.2875999999999999,1.5153175999999999,1.292179]
["B-04","Bioremediation","Semi-Soluble / Slow-Release","PCE","Full","2001-08-31","2001-08-31","Fractured Rock",44.1,0.29028989999999999,81.3,236,2.1816065999999998,-0.4628215,48.1,21.147397099999999,87.72,245.78,0.35688819999999999,-0.44744790000000001]
["B-05","Bioremediation","Semi-Soluble / Slow-Release","TCE","Full","2000-08-01","2000-08-01","Fine-grained",53.333231900000001,2.9370799999999999E-2,130,72,3.2590827,0.25661089999999998,{"$f":"NA()","v":{"$error":"#N/A"}},{"$f":"NA()","v":{"$error":"#N/A"}},{"$f":"NA()","v":{"$error":"#N/A"}},{"$f":"NA()","v":{"$error":"#N/A"}},{"$f":"NA()","v":{"$error":"#N/A"}},{"$f":"NA()","v":{"$error":"#N/A"}}]
["B-06","Bioremediation","Soluble","TCE","Full","1993-11-04","2007-09-28","Fine-grained",0.57535559999999997,1E-3,58,1E-3,3.0609663,5.0644580000000001,1.4865501999999999,0.14113629999999999,58,3.9104999999999999,1.0225408,1.1711957]
["B-07","Bioremediation","Semi-Soluble / Slow-Release","PCE","Full","2000-04-02","2002-04-01","Fine-grained",0.68184049999999996,1E-3,1.29,1,2.8607026000000002,0.1105897,26.35,2.0928599999999999E-2,416.22,30.56,3.1000407999999999,1.1341695999999999]
["B-08","Bioremediation","Semi-Soluble / Slow-Release","PCE","Full","2000-07-26","2000-08-03","Fine-grained",2.9505325999999998,4.24929E-2,14.5,1.92,1.8415839000000001,0.87806680000000004,4.9350785000000004,1.9849834,20.53,16.102,0.39553719999999998,0.10550909999999999]
["B-10","Bioremediation","Semi-Soluble / Slow-Release","PCE","Pilot","2000-12-06","2007-03-06","Fine-grained",1.1627046999999999,1E-3,25.2,3.3999999999999998E-3,3.2489826000000002,3.8699216000000001,1.4873337,0.93793000000000004,26.460999999999999,5.077,0.200238,0.7169991]
["B-12","Bioremediation","Soluble","TCE","Pilot","2001-06-25","2001-06-25","Coarse-grained",0.44519540000000002,3.5914099999999997E-2,0.83,0.19,1.0932861,0.64032449999999996,{"$f":"NA()","v":{"$error":"#N/A"}},{"$f":"NA()","v":{"$error":"#N/A"}},{"$f":"NA()","v":{"$error":"#N/A"}},{"$f":"NA()","v":{"$error":"#N/A"}},{"$f":"NA()","v":{"$error":"#N/A"}},{"$f":"NA()","v":{"$error":"#N/A"}}]
["B-13","Bioremediation","Soluble","TCE","Pilot","1997-08-31","1997-09-01","Fine-grained",55.828308200000002,18.013968599999998,97.4,31.3,0.49124509999999999,0.49301460000000003,{"$f":"NA()","v":{"$error":"#N/A"}},{"$f":"NA()","v":{"$error":"#N/A"}},{"$f":"NA()","v":{"$error":"#N/A"}},{"$f":"NA()","v":{"$error":"#N/A"}},{"$f":"NA()","v":{"$error":"#N/A"}},{"$f":"NA()","v":{"$error":"#N/A"}}]
["B-16","Bioremediation","Soluble","PCE","Pilot","1999-02-26","2003-02-05","Fine-grained",1.8289599999999999,1.2019641999999999,4.43,6.3,0.18231269999999999,-0.15293680000000001,2.0065019999999998,1.3287922999999999,4.952,6.77,0.17898249999999999,-0.13580800000000001]
["B-19","Bioremediation","Soluble","TCE","Full","2003-05-18","2004-01-18","Coarse-grained",29,1.3,168,4.5999999999999996,1.3484545999999999,1.5625515000000001,{"$f":"NA()","v":{"$error":"#N/A"}},{"$f":"NA()","v":{"$error":"#N/A"}},{"$f":"NA()","v":{"$error":"#N/A"}},{"$f":"NA()","v":{"$error":"#N/A"}},{"$f":"NA()","v":{"$error":"#N/A"}},{"$f":"NA()","v":{"$error":"#N/A"}}]
["B-20","Bioremediation","Soluble","PCE","Full","2002-11-01","2002-11-01","Fine-grained",7.6749476999999997,2.58823E-2,28,200,2.4720732999999999,-0.85387199999999996,16.25,6.5282342,28,206.94,0.39605760000000001,-0.86868639999999997]
["B-22","Bioremediation","Soluble","TCE","Pilot","1994-12-31","1996-08-31","Fractured Rock",2.4,5.0000000000000001E-3,3.2,5.0000000000000001E-3,2.6812412000000001,2.8061799999999999,{"$f":"NA()","v":{"$error":"#N/A"}},{"$f":"NA()","v":{"$error":"#N/A"}},{"$f":"NA()","v":{"$error":"#N/A"}},{"$f":"NA()","v":{"$error":"#N/A"}},{"$f":"NA()","v":{"$error":"#N/A"}},{"$f":"NA()","v":{"$error":"#N/A"}}]
["B-23","Bioremediation","Soluble","TCE","Pilot","1997-02-07","1997-06-30","Fine-grained",345,49,1700,300,0.84762300000000002,0.75332770000000004,{"$f":"NA()","v":{"$error":"#N/A"}},{"$f":"NA()","v":{"$error":"#N/A"}},{"$f":"NA()","v":{"$error":"#N/A"}},{"$f":"NA()","v":{"$error":"#N/A"}},{"$f":"NA()","v":{"$error":"#N/A"}},{"$f":"NA()","v":{"$error":"#N/A"}}]
["B-24","Bioremediation","Soluble","TCE","Full","1991-05-31","1991-12-31","Fine-grained",11.385,2.4068524999999998,22.7,16.7,0.67488360000000003,0.13330939999999999,{"$f":"NA()","v":{"$error":"#N/A"}},{"$f":"NA()","v":{"$error":"#N/A"}},{"$f":"NA()","v":{"$error":"#N/A"}},{"$f":"NA()","v":{"$error":"#N/A"}},{"$f":"NA()","v":{"$error":"#N/A"}},{"$f":"NA()","v":{"$error":"#N/A"}}]
["B-26","Bioremediation","Soluble","PCE","Full","1998-07-24","1998-07-24","Coarse-grained",1.5245967,6.6360999999999998E-3,1.6,0.2,2.3612429000000001,0.90308999999999995,{"$f":"NA()","v":{"$error":"#N/A"}},{"$f":"NA()","v":{"$error":"#N/A"}},{"$f":"NA()","v":{"$error":"#N/A"}},{"$f":"NA()","v":{"$error":"#N/A"}},{"$f":"NA()","v":{"$error":"#N/A"}},{"$f":"NA()","v":{"$error":"#N/A"}}]
["CAL-13","Bioremediation","Soluble","TCE","Full","1999-10-01","2007-03-01","Coarse-grained",3.7002221,3.4047999999999999E-3,120,1,3.0361392999999999,2.0791811999999998,3.7013943,0.65144590000000002,123.4525,4.0350000000000001,0.75448700000000002,1.4856564000000001]
["CAL-14","Bioremediation","Soluble","TCE","Full","2003-03-23","2003-09-26","Fine-grained",0.6370808,7.2069900000000006E-2,210,26,0.94644050000000002,0.90724590000000005,2.8395548000000002,2.4942150999999999,295.5,90,5.63163E-2,0.51631499999999997]
["CAL-15","Bioremediation","Soluble","TCE","Full","2003-08-18","2008-06-27","Fine-grained",2.1601645999999999,1.9202836000000001,4.5,5,5.11215E-2,-4.57575E-2,2.1704444999999999,1.9333205,4.5075000000000003,5.0052500000000002,5.0244799999999999E-2,-4.5490000000000003E-2]
["FL-6","Bioremediation","Soluble","PCE","Full","2003-10-15","2004-02-27","Fine-grained",2.5995799999999999E-2,1.0753E-3,0.22,2.3E-2,1.383381,0.98069479999999998,4.9861099999999998E-2,3.88422E-2,0.26963999999999999,7.7920000000000003E-2,0.10845730000000001,0.53913540000000004]
["FL-7","Bioremediation","Soluble","PCE","Pilot","2007-07-24","2007-07-24","Coarse-grained",0.40670899999999999,1E-3,33.700000000000003,2.7000000000000001E-3,3.5216373999999999,4.0962661000000002,1.3719211,1.3752E-3,34.880000000000003,0.11169999999999999,2.9989520000000001,2.4945233]
["FL-5","Bioremediation","Soluble","PCE","Full","2003-10-15","2004-02-27","Coarse-grained",0.33649649999999998,2.1629873000000002,28,10,-0.80807340000000005,0.447158,0.94314509999999996,2.964572,32.466144999999997,12.030144999999999,-0.49738349999999998,0.43115989999999998]
["FL-8","Bioremediation","Soluble","PCE","Pilot","2008-05-13","2008-05-15","Coarse-grained",2.6183000000000001E-3,1E-3,0.28399999999999997,1.64E-3,1.0780943000000001,2.2384745000000001,2.8849199999999998E-2,3.4575399999999999E-2,0.36391000000000001,0.18925,-7.86332E-2,0.28395809999999999]
["GSI-15","Bioremediation","Soluble","TCE","Full","2004-02-01","2008-07-01","Coarse-grained",2.1,0.41558889999999998,4.5999999999999996,10,0.70355540000000005,-0.33724219999999999,2.1764999999999999,1.2727259,4.5999999999999996,11.22,0.2330238,-0.387235]
["GSI-27","Bioremediation","Soluble","PCE","Pilot","2002-07-11","2004-02-06","Coarse-grained",1.3495462,0.64885769999999998,13,12,0.3180383,3.4762099999999997E-2,1.3558030000000001,0.68633319999999998,13.01,19.733899999999998,0.29566160000000002,-0.1809356]
["GSI-28","Bioremediation","Soluble","TCE","Full","2009-03-01","2009-12-31","Coarse-grained",7.45,5.1066875999999999,8.6,9.6,0.164017,-4.7772799999999997E-2,7.82,6.8706937000000003,8.7799999999999994,14.4,5.6206199999999998E-2,-0.214868]
["GSI-29","Bioremediation","Soluble","PCE","Full","2003-05-02","2005-12-13","Fine-grained",3.18663E-2,2.2331999999999999E-3,4,5.5999999999999999E-3,1.1544011999999999,2.853872,0.2343529,0.11887209999999999,5.3250000000000002,1.3919999999999999,0.29479040000000001,0.58268039999999999]
["GSI-44","Bioremediation","Soluble","PCE","Full","2010-11-01","2011-04-07","Fine-grained",1.45,1.01446E-2,2.6,0.18,2.1551345,1.1597008,1.4510000000000001,0.56030749999999996,5.24,20.600999999999999,0.41324100000000002,-0.594557]
["GSI-51","Bioremediation","Soluble","TCE","Full","2003-08-01","2008-06-01","Fine-grained",1.2949903,0.51500000000000001,7.6,1,0.40045930000000002,0.88081359999999997,1.2951074,1.127,7.6,2.4780000000000002,6.0381900000000002E-2,0.48671229999999999]
["GSI-64","Bioremediation","Soluble","TCE","Full","2000-10-01","2010-11-01","Coarse-grained",0.90546099999999996,7.2499999999999995E-2,890,0.12,1.0965317999999999,3.8702087999999999,1.2351232000000001,3.0434999999999999,890,5.9249999999999998,-0.39166299999999998,2.1767017000000002]
["GSI-71","Bioremediation","Soluble","TCA","Full","2005-03-18","2005-03-19","Coarse-grained",8.5285100000000003E-2,0.17760880000000001,0.17,0.38,-0.31859130000000002,-0.3493347,8.6911600000000006E-2,0.2240685,0.186,0.52800000000000002,-0.41130290000000003,-0.453121]
["GSI-76","Bioremediation","Soluble","TCE","Full","2004-11-14","2007-12-04","Coarse-grained",6.6373039,0.73036279999999998,57,6.2,0.958453,0.96348319999999998,14.5275453,2.2334814999999999,72.400000000000006,16.260000000000002,0.81320990000000004,0.64861800000000003]
["GSI-81","Bioremediation","Soluble","TCE","Full","2006-10-26","2006-12-14","Coarse-grained",4.8894600000000003E-2,0.1220787,5.0999999999999996,4.0999999999999996,-0.39737860000000003,9.4786300000000004E-2,4.8933400000000002E-2,0.35575050000000003,5.1026899999999999,5.282,-0.86153999999999997,-1.4999200000000001E-2]
["GSI-FL-1","Bioremediation","Soluble","PCE","Full","2004-08-24","2007-08-01","Fine-grained",3.1622999999999998E-3,3.4199999999999999E-3,1.88,0.01,-3.4020000000000002E-2,2.2741577999999998,0.42608449999999998,0.30178660000000002,31.25,5.4020000000000001,0.1497957,0.76229539999999996]
["GSI-FL-10","Bioremediation","Soluble","PCE","Full","2005-12-14","2006-01-13","Fine-grained",0.36946299999999999,1E-3,2.5,1E-3,2.8923941000000002,3.3979400000000002,0.78778970000000004,1.9264199999999999E-2,4.0856000000000003,0.37559999999999999,1.6116599,1.0365302999999999]
["GSI-FL-12","Bioremediation","Soluble","PCE","Full","2007-04-01","2008-03-30",null,2.6318000000000001E-3,2.5699999999999998E-3,0.40500000000000003,3.7699999999999997E-2,1.0324099999999999E-2,1.0311136999999999,7.1231000000000003E-3,4.6750000000000003E-3,0.4667,4.1313999999999997E-2,0.18288740000000001,1.0529405999999999]
["GSI-FL-13","Bioremediation","Soluble","PCE","Full","2006-07-01","2009-07-31",null,2.3250699999999999E-2,2.3E-3,9.7199999999999995E-2,1.66E-2,1.0047086999999999,0.76755819999999997,2.6050299999999998E-2,4.1200000000000004E-3,9.9299999999999999E-2,2.588E-2,0.80091480000000004,0.58398499999999998]
["GSI-FL-16","Bioremediation","Soluble","PCE","Full","2004-01-01","2004-01-31","Fine-grained",2.9475999999999999E-3,1E-3,0.02,3.0000000000000001E-3,0.53993769999999996,0.82390870000000005,0.19807659999999999,9.4043000000000009E-3,1.1399999999999999,0.55200000000000005,1.3235052,0.31496580000000002]
["GSI-FL-19","Bioremediation","Soluble","PCE","Full","2004-04-01","2005-09-01","Fine-grained",0.2887825,1.4103E-3,2.14,0.02,2.3112648999999998,2.0293838000000002,0.32330589999999998,5.6636000000000004E-3,2.1435,4.3999999999999997E-2,1.7565204999999999,1.6876708]
["GSI-FL-14","Bioremediation","Soluble & Semi-Soluble","PCE","Full","2006-04-05","2006-04-27","Fine-grained",3.3955000000000001E-3,1E-3,0.75849999999999995,3.4000000000000002E-2,0.69530000000000003,1.3484767,0.28794760000000003,4.2367000000000002E-2,1.9259999999999999,0.44700000000000001,0.83228530000000001,0.63434880000000005]
["GSI-FL-35","Bioremediation","Soluble & Semi-Soluble","TCE","Full","2007-01-01","2008-01-01","Fine-grained",2.2000000000000002,1.03E-2,6.4,2,2.3295854999999999,0.50514999999999999,{"$f":"NA()","v":{"$error":"#N/A"}},{"$f":"NA()","v":{"$error":"#N/A"}},{"$f":"NA()","v":{"$error":"#N/A"}},{"$f":"NA()","v":{"$error":"#N/A"}},{"$f":"NA()","v":{"$error":"#N/A"}},{"$f":"NA()","v":{"$error":"#N/A"}}]
["VCP-1533","Bioremediation","Soluble & Semi-Soluble","TCE","Full","2007-08-27","2011-05-04","Fine-grained",2.2061299999999999E-2,3.2136999999999999E-3,7.8E-2,6.7999999999999996E-3,0.83662999999999998,1.0595857,6.6978599999999999E-2,5.9404600000000002E-2,0.218,0.1003,5.21164E-2,0.3371556]
["B-17","Bioremediation","Semi-Soluble / Slow-Release","PCE","Full","2000-02-01","2003-01-01","Fine-grained",9.0111042999999995,0.1254982,98,63.9,1.8561405,0.18572520000000001,9.0111042999999995,0.18980859999999999,98,63.9,1.6764621,0.18572520000000001]
["B-21","Bioremediation","Semi-Soluble / Slow-Release","PCE","Pilot","2000-04-02","2000-04-02","Fine-grained",26.071125800000001,6.7385700000000007E-2,66.2,18.3,2.5875922,0.55840690000000004,47.296890900000001,4.9790700000000001,96.861000000000004,55.893000000000001,0.97768440000000001,0.23879149999999999]
["B-15","Bioremediation","Semi-Soluble / Slow-Release","PCE","Pilot","1999-11-10","1999-11-10","Fine-grained",12.3,2.4494999999999999E-3,115,7.6,3.7008295000000002,1.1798842,19.11,5.0378600000000003E-2,225,34.4,2.5790149000000002,0.81562409999999996]
["B-25","Bioremediation","Semi-Soluble / Slow-Release","PCE","Full","2000-04-02","2000-04-02","Fine-grained",0.4,1.11404E-2,0.4,0.35399999999999998,1.5551604999999999,5.3056699999999998E-2,{"$f":"NA()","v":{"$error":"#N/A"}},{"$f":"NA()","v":{"$error":"#N/A"}},{"$f":"NA()","v":{"$error":"#N/A"}},{"$f":"NA()","v":{"$error":"#N/A"}},{"$f":"NA()","v":{"$error":"#N/A"}},{"$f":"NA()","v":{"$error":"#N/A"}}]
["CAL-1","Bioremediation","Semi-Soluble / Slow-Release","PCE","Full","2003-02-01","2005-04-01",null,3.5,0.60922929999999997,26,14,0.7592873,0.26884530000000001,{"$f":"NA()","v":{"$error":"#N/A"}},{"$f":"NA()","v":{"$error":"#N/A"}},{"$f":"NA()","v":{"$error":"#N/A"}},{"$f":"NA()","v":{"$error":"#N/A"}},{"$f":"NA()","v":{"$error":"#N/A"}},{"$f":"NA()","v":{"$error":"#N/A"}}]
["CAL-11","Bioremediation","Semi-Soluble / Slow-Release","PCE","Full","2007-04-13","2007-04-13","Fine-grained",17.686993900000001,0.1461461,77,1.5,2.0828669,1.7103995000000001,40.203693000000001,3.799731,86.3,14.03,1.0245131000000001,0.78895309999999996]
["CAL-12","Bioremediation","Semi-Soluble / Slow-Release","TCE","Full","2005-11-01","2007-12-01","Fine-grained",0.15307570000000001,5.4650799999999999E-2,0.37,0.15,0.44730940000000002,0.39211049999999997,0.19074479999999999,8.3594500000000002E-2,0.38150000000000001,0.1615,0.35827500000000001,0.37332199999999999]
["CAL-16","Bioremediation","Semi-Soluble / Slow-Release","PCE","Full","2003-08-27","2005-08-01","Fine-grained",0.41040189999999999,7.8142199999999995E-2,0.69,0.26,0.72032379999999996,0.42387570000000002,0.41349930000000001,0.25291580000000002,0.6915,0.443,0.21349879999999999,0.19338849999999999]
["CAL-17","Bioremediation","Semi-Soluble / Slow-Release","PCE","Full","2002-04-24","2002-04-24","Fine-grained",0.28817419999999999,1.6657100000000001E-2,0.68,0.65,1.2380557999999999,1.9595600000000001E-2,0.38924059999999999,8.7482799999999999E-2,0.82906000000000002,1.9850000000000001,0.64829559999999997,-0.37917450000000003]
["CAL-2","Bioremediation","Semi-Soluble / Slow-Release","PCE","Full","2003-02-01","2003-08-01","Fractured rock",0.1034506,3.1072200000000001E-2,2.2999999999999998,0.48,0.52236170000000004,0.68048660000000005,0.12578059999999999,6.99235E-2,2.6509999999999998,0.52900000000000003,0.2549901,0.69995410000000002]
["CAL-3","Bioremediation","Semi-Soluble / Slow-Release","PCE","Full","2001-12-01","2002-01-01","Fine-grained",0.829843,0.2047967,1.57,1.25,0.60767289999999996,9.8989599999999997E-2,1.1129027,0.4606208,1.86327,1.5632999999999999,0.3831136,7.6233499999999996E-2]
["CAL-4","Bioremediation","Semi-Soluble / Slow-Release","PCE","Full","2002-11-22","2002-11-22","Fine-grained",6.1394400000000002E-2,8.8511000000000006E-3,0.28000000000000003,4.4999999999999998E-2,0.8411305,0.79394549999999997,0.21656529999999999,6.5449199999999999E-2,0.57825000000000004,0.21679999999999999,0.5196847,0.4260564]
["CAL-5","Bioremediation","Semi-Soluble / Slow-Release","PCE","Pilot","2006-03-02","2006-03-02","Fine-grained",0.53583159999999996,1.6605700000000001E-2,5.0999999999999996,1.1000000000000001,1.5087710999999999,0.66617749999999998,1.1972993000000001,0.16822619999999999,5.29,2.0299999999999998,0.85230919999999999,0.41595959999999998]
["CAL-6","Bioremediation","Semi-Soluble / Slow-Release","PCE","Full","2003-02-01","2006-05-11","Fine-grained",0.2973228,0.2161901,1.6,1.2,0.1383924,0.1249387,0.33019860000000001,0.26382080000000002,1.60425,1.2382500000000001,9.7466200000000003E-2,0.1124637]
["CAL-7","Bioremediation","Semi-Soluble / Slow-Release","TCE","Full","1999-05-01","2006-11-01","Fine-grained",0.104145,3.8118600000000002E-2,1.1000000000000001,0.24,0.43650169999999999,0.66118140000000003,0.19295100000000001,7.46531E-2,3.28,0.32600000000000001,0.41239920000000002,1.0026562000000001]
["CAL-8","Bioremediation","Semi-Soluble / Slow-Release","TCE","Full","2006-01-31","2006-03-13","Fine-grained",3.8855162999999999,1E-3,12,1.2999999999999999E-2,3.8720436999999999,2.9652379,4.1576215000000003,0.29071399999999997,13.012499999999999,10.500249999999999,1.1553789999999999,9.3161099999999997E-2]
["CAL-9","Bioremediation","Semi-Soluble / Slow-Release","PCE","Full","2006-12-12","2006-12-21","Coarse-grained",1.875,0.1075705,5,3,1.2413082,0.22184870000000001,1.89575,0.58704029999999996,5.0492499999999998,3.8002500000000001,0.50911320000000004,0.1234147]
["FL-1","Bioremediation","Semi-Soluble / Slow-Release","PCE","Full","2008-11-16","2008-11-16","Coarse-grained",0.54353209999999996,0.45497910000000003,0.70499999999999996,0.91700000000000004,7.7233700000000002E-2,-0.1141802,0.5441684,0.52459250000000002,0.70581000000000005,1.0228999999999999,1.59112E-2,-0.16114539999999999]
["FL-2","Bioremediation","Semi-Soluble / Slow-Release","PCE","Full","1999-02-01","2000-08-30","Fine-grained",4.2576799999999998E-2,1E-3,68.2,1E-3,2.1534,5.1348143999999998,7.29683E-2,1.59125E-2,68.201499999999996,2.477E-2,0.66139619999999999,3.4398678999999999]
["FL-3","Bioremediation","Semi-Soluble / Slow-Release","PCE","Full","2002-03-05","2006-09-01","Fine-grained",0.96003329999999998,1E-3,1.89,9.75E-3,3.0511799000000002,2.2874572,3.3379075,0.105112,6.06,0.94099999999999995,1.5018218000000001,0.80888300000000002]
["FL-9","Bioremediation","Semi-Soluble / Slow-Release","PCE","Full","2008-05-13","2008-05-15","Coarse-grained",3.1573E-3,1E-3,1.99,1E-3,0.49931120000000001,3.2988531000000001,0.1657119,1.6038999999999999E-3,11.701145,3.3400000000000001E-3,2.0141876999999999,3.5444819000000001]
["GSI-1","Bioremediation","Semi-Soluble / Slow-Release","TCE","Full","2007-06-17","2009-02-26","Fine-grained",6.1915E-3,1.1039999999999999E-3,0.28399999999999997,1.64E-3,0.74883029999999995,2.2384745000000001,3.3826599999999998E-2,3.1839199999999998E-2,0.36449999999999999,0.18981000000000001,2.62965E-2,0.28337839999999997]
["GSI-11","Bioremediation","Semi-Soluble / Slow-Release","PCE","Full","2005-05-04","2006-04-01","Coarse-grained",2.7211791999999999,3.4870999999999999E-3,16.899999999999999,2.3599999999999999E-2,2.8922943000000001,2.8549747000000001,3.0768347,0.23952619999999999,16.947700000000001,2.59687,1.1087511999999999,0.81466059999999996]
["GSI-12","Bioremediation","Semi-Soluble / Slow-Release","PCE","Full","2005-12-01","2006-06-10","Fine-grained",4.2,0.2735552,6.6,5.4,1.1862043,8.7150199999999997E-2,4.3,0.90968349999999998,6.6630000000000003,6.7510000000000003,0.67457820000000002,-5.6982999999999999E-3]
["GSI-13","Bioremediation","Semi-Soluble / Slow-Release","TCE","Full","2008-01-10","2008-01-11","Fine-grained",4.4868332000000004,1.2599392,74,28,0.55159029999999998,0.4220737,17.440476400000001,12.654874599999999,110,46.8,0.13930049999999999,0.3711468]
["GSI-19","Bioremediation","Semi-Soluble / Slow-Release","PCE","Full","2005-04-20","2005-04-28","Coarse-grained",2.1367224999999999,1.8556193999999999,2.8,2.8,6.12592E-2,{"$f":"NA()","v":{"$error":"#N/A"}},7.8263182999999996,7.8493956999999996,12.125,10.411,-1.2787E-3,6.6189300000000006E-2]
["GSI-20","Bioremediation","Semi-Soluble / Slow-Release","TCE","Full","2009-06-01","2010-12-01","Coarse-grained",0.5407402,1E-3,11,4.9000000000000002E-2,3.1661120999999999,2.3511966000000002,0.57984729999999995,1.7565899999999999E-2,11.292,2.359,1.5186440999999999,0.68004290000000001]
["GSI-21","Bioremediation","Semi-Soluble / Slow-Release","PCE","Pilot","2007-08-14","2007-08-15","Coarse-grained",0.1335633,5.3499000000000003E-3,0.97,0.2,1.3973431999999999,0.68574170000000001,0.28630369999999999,0.15335860000000001,1.43,0.48399999999999999,0.2711189,0.47049069999999998]
["GSI-23","Bioremediation","Semi-Soluble / Slow-Release","PCE","Full","2009-09-08","2011-03-24","Coarse-grained",0.65477229999999997,5.7759400000000002E-2,1.2,0.33,1.0544675999999999,0.56066729999999998,0.71556120000000001,0.37122300000000003,1.2529999999999999,0.69040000000000001,0.28501189999999998,0.25885029999999998]
["GSI-30","Bioremediation","Semi-Soluble / Slow-Release","TCE","Full","2006-03-01","2008-08-20","Coarse-grained",1.6968915,1E-3,14,1E-3,3.2296540999999999,4.146128,1.9884339,0.92774999999999996,14.32,2.2320000000000002,0.33108019999999999,0.80724879999999999]
["GSI-45","Bioremediation","Semi-Soluble / Slow-Release","PCE","Full","2008-01-08","2009-05-20","Coarse-grained",19.331878,3.2456899999999997E-2,950,50.5,2.7749663999999998,1.2744321999999999,28.9601252,1.4894801,950,129.19999999999999,1.2887656999999999,0.86646109999999998]
["GSI-46","Bioremediation","Semi-Soluble / Slow-Release","TCE","Full","2001-09-01","2009-10-01","Fine-grained",0.42490050000000001,1E-3,13,0.39,3.0642619999999998,1.5228786999999999,7.7401090000000003,1.6260699999999999E-2,46,0.96799999999999997,2.6776078000000001,1.6768825000000001]
["GSI-52","Bioremediation","Semi-Soluble / Slow-Release","TCE","Full","2006-08-12","2006-11-14","Coarse-grained",0.73799999999999999,0.34698699999999999,4.6399999999999997,0.75,0.32774310000000001,0.79145670000000001,0.74390000000000001,0.42294209999999999,4.9119999999999999,3.2,0.2452337,0.18610840000000001]
["GSI-53","Bioremediation","Semi-Soluble / Slow-Release","TCE","Pilot","2008-07-16","2008-07-17","Coarse-grained",4.5636400000000001E-2,1.29108E-2,25,13,0.54835900000000004,0.28399669999999999,0.15022060000000001,4.4180499999999998E-2,27.2,14.7,0.53149860000000004,0.26725159999999998]
["GSI-70","Bioremediation","Semi-Soluble / Slow-Release","TCA","Pilot","2009-06-04","2009-06-05","Fine-grained",2.0789081999999999,1.0834216999999999,4.4000000000000004,3.6,0.28303780000000001,8.7150199999999997E-2,2.1612517000000002,1.2018565000000001,4.4207999999999998,3.6261000000000001,0.25485269999999999,8.6061100000000001E-2]
["GSI-77","Bioremediation","Semi-Soluble / Slow-Release","PCE","Full","2009-10-14","2011-11-19","Coarse-grained",2.2358E-3,1E-3,2.7,1.7,0.34943800000000003,0.2009148,1.2291653,0.1462387,7.6189999999999998,4.9795999999999996,0.92454809999999998,0.18470349999999999]
["GSI-8","Bioremediation","Semi-Soluble / Slow-Release","TCE","Full","2006-05-01","2008-07-01","Coarse-grained",1.5914809000000001,2.5499999999999998E-2,16,24,1.7952611999999999,-0.17609130000000001,54.449966199999999,6.5284849999999999,235.071,24.063839999999999,0.92118520000000004,0.98983410000000005]
["GSI-FL-20","Bioremediation","Semi-Soluble / Slow-Release","PCE","Full","2007-10-23","2007-11-02",null,0.34250000000000003,1.47268E-2,2.8,1.2,1.3665527,0.36797679999999999,0.38,0.2352042,2.8279999999999998,1.3107899999999999,0.20833850000000001,0.33394629999999997]
["GSI-IN-1","Bioremediation","Semi-Soluble / Slow-Release","TCE","Pilot","2011-08-08","2011-08-10","Fine-grained",0.37870619999999999,6.7860500000000004E-2,3.99,0.52,0.7466853,0.88496960000000002,1.4894911,0.37616070000000001,4.7240000000000002,3.4849999999999999,0.59766450000000004,0.13210710000000001]
["VCP-296","Bioremediation","Semi-Soluble / Slow-Release","PCE","Full","2007-12-06","2007-12-06","Fractured rock",1.3,0.1004688,1.4,0.64,1.1119121999999999,0.33994809999999998,1.3082,0.23597270000000001,1.4139999999999999,0.76900000000000002,0.74381240000000004,0.26452310000000001]
["GSI-FL-3","Bioremediation","Soluble","PCE","Full","2008-06-01","2008-09-01",null,4.0720000000000001E-3,5.3711000000000002E-3,138,130,-0.1202541,2.5935699999999999E-2,2.6979900000000001E-2,2.4091999999999999E-2,143.72,134.9,4.91674E-2,2.75053E-2]
["GSI-FL-5","Bioremediation","Soluble","PCE","Full","2004-12-01","2004-12-31",null,3.4681200000000002E-2,4.7482000000000002E-3,3.4,0.16,0.8635621,1.3273588999999999,4.1070799999999998E-2,7.5649000000000003E-3,3.4024999999999999,0.16400000000000001,0.73472769999999998,1.3169542999999999]
["VCP-943","Bioremediation","Semi-Soluble / Slow-Release","PCE","Full","2002-01-01","2005-03-01","Fine-grained",4.1184100000000001E-2,1.3144999999999999E-3,0.64800000000000002,6.7799999999999996E-3,1.4959827999999999,1.9803453,4.9168400000000001E-2,1.37533E-2,0.66300000000000003,1.942E-2,0.55327800000000005,1.5332642999999999]
["GSI-FL-7","Bioremediation","Soluble","PCE","Full","2007-05-01","2008-11-01",null,0.61478469999999996,1E-3,1.35,1E-3,3.3337311999999999,3.4244701000000002,0.71052510000000002,1.5074000000000001E-3,1.3724400000000001,1.5889999999999999E-3,2.6733495,2.9363695000000001]
["TT-1A","Bioremediation","Semi-Soluble / Slow-Release","PCE",null,"2002-10-03","2002-10-04",null,5.4373715999999996,5.5330200000000003E-2,19,1.8,1.9924271,1.0234810999999999,9.6388754999999993,1.1451948000000001,19.681999999999999,20.975000000000001,0.92514700000000005,-2.76327E-2]
["GSI-FL-8","Bioremediation","Soluble","PCE","Full","2006-01-30","2006-10-31","Fine-grained",0.10782659999999999,1E-3,18.399999999999999,2.56,2.0327259999999998,0.8565779,0.51205809999999996,1.48664E-2,18.931100000000001,2.6705999999999999,1.5371132999999999,0.85056699999999996]
["GSI-FL-9","Bioremediation","Soluble","PCE","Full","2006-11-06","2006-11-07",null,5.1811000000000001E-3,1.2509999999999999E-3,0.48499999999999999,2E-3,0.61717319999999998,2.3847117,1.0260699999999999E-2,4.4977000000000003E-3,0.51500000000000001,6.0000000000000001E-3,0.35818549999999999,1.933656]
["VCP-1491","Bioremediation","Soluble","TCE","Full","2008-07-01","2009-03-01","Fine-grained",1.7731169,0.1587027,28,12,1.0481532,0.36797679999999999,2.4514472999999999,2.0664058999999999,29.1006,42.234000000000002,7.4206900000000006E-2,-0.1617603]
["VCP-2017","Bioremediation","Soluble","TCE","Full","2009-03-08","2009-03-08","Fine-grained",6.7208100000000007E-2,3.8820800000000003E-2,0.308,7.51E-2,0.23835690000000001,0.61291079999999998,0.2419258,0.59450170000000002,1.11127,1.1531,-0.39047100000000001,-1.60474E-2]
["VCP-272/286","Bioremediation","Soluble","PCE","Full","2000-09-20","2001-06-19","Fine-grained",1.8669290000000001,1.2031095999999999,5.56,6.3,0.19082260000000001,-5.4265800000000003E-2,2.2614793999999998,1.4089301999999999,5.9509999999999996,6.58,0.2055032,-4.3635899999999998E-2]
["TT-3A","Bioremediation","Soluble","PCE",null,"2003-11-21","2006-10-20",null,0.19347739999999999,1.8253399999999999E-2,50,32,1.0252859000000001,0.19381999999999999,0.5746734,0.18587219999999999,57.4,44.908099999999997,0.4902067,0.10658719999999999]
["TT-5A","Bioremediation","Soluble","PCE",null,"2001-05-01","2002-09-01",null,16.635979899999999,7.9242552999999996,46,27,0.32208989999999998,0.23139409999999999,19.863734900000001,10.54035,53.4,32.6,0.2752059,0.21432370000000001]
["TT-6B","Bioremediation","Soluble","PCE",null,"2004-11-01","2007-04-01",null,1.4145E-3,1E-3,2.8300000000000001E-3,1E-3,0.45162550000000001,0.75281640000000005,{"$f":"NA()","v":{"$error":"#N/A"}},{"$f":"NA()","v":{"$error":"#N/A"}},{"$f":"NA()","v":{"$error":"#N/A"}},{"$f":"NA()","v":{"$error":"#N/A"}},{"$f":"NA()","v":{"$error":"#N/A"}},{"$f":"NA()","v":{"$error":"#N/A"}}]
["TT-7B","Bioremediation","Soluble","PCE",null,"2005-08-01","2007-08-13",null,1.6875888999999999,3.71854E-2,20,9.9,1.6568943,0.30539480000000002,2.0797552000000001,9.2093099999999997E-2,23.9,10.61,1.3537849,0.35268250000000001]
["TT-11B","Bioremediation","Soluble","PCE",null,"2008-12-01","2012-11-01",null,0.2939388,1.1999999999999999E-3,0.59,3.9E-2,2.3890756,1.1797873999999999,0.47244049999999999,1.5E-3,0.93,4.87E-2,2.4982557999999999,1.2809539999999999]
["TT-14B","Bioremediation","Soluble","PCE",null,"2004-06-01","2004-10-13",null,1.3607256000000001,5.1249999999999997E-2,1.8,0.1,1.4240767000000001,1.2552725,{"$f":"NA()","v":{"$error":"#N/A"}},{"$f":"NA()","v":{"$error":"#N/A"}},{"$f":"NA()","v":{"$error":"#N/A"}},{"$f":"NA()","v":{"$error":"#N/A"}},{"$f":"NA()","v":{"$error":"#N/A"}},{"$f":"NA()","v":{"$error":"#N/A"}}]
["GSI-FD-03","Bioremediation","Soluble","TCE",null,"2003-12-02","2004-06-18","Fine-grained",0.71277250000000003,8.0622600000000003E-2,0.9254,1.3,0.94649419999999995,-0.14761389999999999,{"$f":"NA()","v":{"$error":"#N/A"}},{"$f":"NA()","v":{"$error":"#N/A"}},{"$f":"NA()","v":{"$error":"#N/A"}},{"$f":"NA()","v":{"$error":"#N/A"}},{"$f":"NA()","v":{"$error":"#N/A"}},{"$f":"NA()","v":{"$error":"#N/A"}}]
["TT-2A","Bioremediation","Semi-Soluble / Slow-Release","PCE",null,"2001-02-01","2001-02-02",null,14.824729700000001,0.64381829999999995,35,20,1.3622234,0.243038,14.9093524,1.1243582999999999,35.21,20.190000000000001,1.1225541000000001,0.24152970000000001]
["TT-4A","Bioremediation","Semi-Soluble / Slow-Release","TCE",null,"2000-05-01","2001-11-01",null,60.1317503,41.518199500000001,167,92.6,0.16086529999999999,0.25610549999999999,60.743054800000003,44.054274900000003,169.5,99.22,0.13950860000000001,0.23257050000000001]
["TT-8B","Bioremediation","Semi-Soluble / Slow-Release","PCE",null,"2012-02-01","2012-02-01",null,3.9541927000000001,1.47457E-2,12,0.25,2.4283926,1.6812412000000001,{"$f":"NA()","v":{"$error":"#N/A"}},{"$f":"NA()","v":{"$error":"#N/A"}},{"$f":"NA()","v":{"$error":"#N/A"}},{"$f":"NA()","v":{"$error":"#N/A"}},{"$f":"NA()","v":{"$error":"#N/A"}},{"$f":"NA()","v":{"$error":"#N/A"}}]
["TT-9B","Bioremediation","Semi-Soluble / Slow-Release","PCE",null,"2008-10-12","2008-10-12",null,2.2000000000000002,1.54272E-2,21,3.3,2.1541342000000001,0.80370540000000001,5.0999999999999996,3.6945899999999997E-2,34,7,2.1400039,0.68638089999999996]
["TT-10B","Bioremediation","Semi-Soluble / Slow-Release","TCE",null,"2006-05-01","2008-08-01",null,1.3,0.1531545,1.5,0.68100000000000005,0.92881349999999996,0.34294409999999997,1.5629999999999999,0.31914579999999998,3.3,1.097,0.68996979999999997,0.47830729999999999]
["TT-12B","Bioremediation","Semi-Soluble / Slow-Release","PCE",null,"2003-02-10","2004-04-20",null,2.11,1E-3,3.34,0.27,3.6525786999999998,1.0923826999999999,{"$f":"NA()","v":{"$error":"#N/A"}},{"$f":"NA()","v":{"$error":"#N/A"}},{"$f":"NA()","v":{"$error":"#N/A"}},{"$f":"NA()","v":{"$error":"#N/A"}},{"$f":"NA()","v":{"$error":"#N/A"}},{"$f":"NA()","v":{"$error":"#N/A"}}]
["TT-13B","Bioremediation","Semi-Soluble / Slow-Release","PCE",null,"2008-08-01","2009-12-01",null,0.21964400000000001,3.5149199999999999E-2,0.99,3.4,0.79580390000000001,-0.53584370000000003,{"$f":"NA()","v":{"$error":"#N/A"}},{"$f":"NA()","v":{"$error":"#N/A"}},{"$f":"NA()","v":{"$error":"#N/A"}},{"$f":"NA()","v":{"$error":"#N/A"}},{"$f":"NA()","v":{"$error":"#N/A"}},{"$f":"NA()","v":{"$error":"#N/A"}}]
["GSI-FD-01","Bioremediation","Semi-Soluble / Slow-Release","TCE",null,"2008-08-20","2008-08-20","Fine-grained",0.11695999999999999,2.7298999999999999E-3,298.49400000000003,1.2,1.6318895,2.3957544,{"$f":"NA()","v":{"$error":"#N/A"}},{"$f":"NA()","v":{"$error":"#N/A"}},{"$f":"NA()","v":{"$error":"#N/A"}},{"$f":"NA()","v":{"$error":"#N/A"}},{"$f":"NA()","v":{"$error":"#N/A"}},{"$f":"NA()","v":{"$error":"#N/A"}}]
["GSI-FD-02","Bioremediation","Semi-Soluble / Slow-Release","TCE",null,"2003-10-31","2003-10-31","Fine-grained",39.049999999999997,0.43882139999999997,41.8,1.83,1.9493332000000001,1.3587252000000001,42.119884999999996,2.1375348000000001,47.131770000000003,4.6950000000000003,1.2945739999999999,1.0016782]
["GSI-FD-02","Bioremediation","Semi-Soluble / Slow-Release","TCE",null,"2003-10-31","2003-10-31","Fine-grained",7.8,2.7265999999999999E-2,7.8,7.2999999999999995E-2,2.4564727,2.0287717000000001,8.5760000000000005,0.288358,8.5760000000000005,4.5826000000000002,1.4733528,0.27217279999999999]
["C-01","Chemical Oxidation","Permanganates","PCE","Full","2002-03-12","2002-06-12","Fine-grained",5.3475099999999998E-2,4.9908000000000001E-3,0.53500000000000003,8.5999999999999993E-2,1.0299769000000001,0.79385530000000004,6.1733299999999998E-2,8.1741999999999995E-3,0.55559999999999998,8.8999999999999996E-2,0.87807290000000005,0.79537219999999997]
["C-02","Chemical Oxidation","Peroxides / Fenton's","TCE","Full","1999-05-11","1999-05-11","Coarse-grained",1.1168446000000001,0.43010870000000001,5.0999999999999996,4.92,0.41441450000000002,1.56051E-2,{"$f":"NA()","v":{"$error":"#N/A"}},{"$f":"NA()","v":{"$error":"#N/A"}},{"$f":"NA()","v":{"$error":"#N/A"}},{"$f":"NA()","v":{"$error":"#N/A"}},{"$f":"NA()","v":{"$error":"#N/A"}},{"$f":"NA()","v":{"$error":"#N/A"}}]
["C-03","Chemical Oxidation","Peroxides / Fenton's","PCE","Full","2001-11-20","2002-04-30","Fine-grained",0.1187049,2.2320599999999999E-2,1.2,0.51500000000000001,0.72576320000000005,0.36737399999999998,0.1216879,2.5190500000000001E-2,1.2150000000000001,0.52510000000000001,0.68401120000000004,0.3643343]
["C-05","Chemical Oxidation","Permanganates","PCE","Pilot","1999-10-01","2001-05-16","Fine-grained",0.67119300000000004,9.6979399999999993E-2,1.7,0.28499999999999998,0.84016800000000003,0.77560410000000002,{"$f":"NA()","v":{"$error":"#N/A"}},{"$f":"NA()","v":{"$error":"#N/A"}},{"$f":"NA()","v":{"$error":"#N/A"}},{"$f":"NA()","v":{"$error":"#N/A"}},{"$f":"NA()","v":{"$error":"#N/A"}},{"$f":"NA()","v":{"$error":"#N/A"}}]
["C-06","Chemical Oxidation","Permanganates","TCE","Pilot","1999-12-01","2000-01-01","Fine-grained",28.6,4.5199965000000004,28.6,150,0.80122789999999999,-0.71972519999999995,{"$f":"NA()","v":{"$error":"#N/A"}},{"$f":"NA()","v":{"$error":"#N/A"}},{"$f":"NA()","v":{"$error":"#N/A"}},{"$f":"NA()","v":{"$error":"#N/A"}},{"$f":"NA()","v":{"$error":"#N/A"}},{"$f":"NA()","v":{"$error":"#N/A"}}]
["C-07","Chemical Oxidation","Permanganates","PCE","Full","2000-09-20","2001-06-19","Coarse-grained",9.2297866000000006,0.14524790000000001,30.8,2.8,1.8030819,1.0413927000000001,9.3455153000000006,0.31290079999999998,30.8,4,1.4751966000000001,0.88649069999999996]
["C-08","Chemical Oxidation","Peroxides & Permanganates","PCE","Full","1999-10-01","2001-09-01","Fine-grained",1.4372505,0.31358809999999998,2.9,0.505,0.6611728,0.75910659999999996,2.2076571999999999,0.65374949999999998,4.3,0.995,0.52852030000000005,0.63564540000000003]
["C-09","Chemical Oxidation","Peroxides / Fenton's","TCE","Full","2000-03-01","2001-07-01","Fine-grained",0.29189999999999999,3.1182999999999999E-2,25,2.7,0.97131690000000004,0.9665762,{"$f":"NA()","v":{"$error":"#N/A"}},{"$f":"NA()","v":{"$error":"#N/A"}},{"$f":"NA()","v":{"$error":"#N/A"}},{"$f":"NA()","v":{"$error":"#N/A"}},{"$f":"NA()","v":{"$error":"#N/A"}},{"$f":"NA()","v":{"$error":"#N/A"}}]
["C-15","Chemical Oxidation","Peroxides / Fenton's","CB","Full","2001-11-15","2002-07-15","Fine-grained",25,4.0813864999999998,42.5,4,0.78713230000000001,1.0263289,{"$f":"NA()","v":{"$error":"#N/A"}},{"$f":"NA()","v":{"$error":"#N/A"}},{"$f":"NA()","v":{"$error":"#N/A"}},{"$f":"NA()","v":{"$error":"#N/A"}},{"$f":"NA()","v":{"$error":"#N/A"}},{"$f":"NA()","v":{"$error":"#N/A"}}]
["C-16","Chemical Oxidation","Peroxides / Fenton's","TCA","Full","1996-06-01","1996-06-01","Fine-grained",22.7,1.37,40.6,2.2999999999999998,1.2193053,1.2467982,{"$f":"NA()","v":{"$error":"#N/A"}},{"$f":"NA()","v":{"$error":"#N/A"}},{"$f":"NA()","v":{"$error":"#N/A"}},{"$f":"NA()","v":{"$error":"#N/A"}},{"$f":"NA()","v":{"$error":"#N/A"}},{"$f":"NA()","v":{"$error":"#N/A"}}]
["C-17","Chemical Oxidation","Peroxides / Fenton's","PCE","Full","1997-04-15","1997-04-21","Fine-grained",121.5112213,10.9746863,159.71,108.16,1.0442243,0.16926540000000001,142.4706468,12.923104199999999,185.01,125.25,1.0423586,0.1694175]
["GSI-66","Chemical Oxidation","Peroxides / Fenton's","PCE","Pilot","2006-08-01","2006-10-01","Coarse-grained",0.46592699999999998,1.9595899999999999E-2,9.0739999999999998,0.03,1.3761523,2.4806775000000001,{"$f":"NA()","v":{"$error":"#N/A"}},{"$f":"NA()","v":{"$error":"#N/A"}},{"$f":"NA()","v":{"$error":"#N/A"}},{"$f":"NA()","v":{"$error":"#N/A"}},{"$f":"NA()","v":{"$error":"#N/A"}},{"$f":"NA()","v":{"$error":"#N/A"}}]
["GSI-FL-2","Chemical Oxidation","Peroxides / Fenton's","PCE","Full","2009-03-16","2009-05-29","Fine-grained",0.51892769999999999,0.3549216,17,14.4,0.16497439999999999,7.2086399999999995E-2,0.53218480000000001,0.36645470000000002,17.001000000000001,14.5794,0.1620422,6.6734799999999997E-2]
["GSI-FL-21","Chemical Oxidation","Peroxides / Fenton's","PCE","Full","2007-11-13","2007-11-16","Fine-grained",7.2003557999999996,40.9402568,159,138,-0.75479660000000004,6.1518000000000003E-2,21.569015,57.810633000000003,178.255,182.601,-0.42817739999999999,-1.0461399999999999E-2]
["K002","Chemical Oxidation","Peroxides / Fenton's","PCE","Full","2004-06-22","2005-08-04",null,10.1717017,0.80234179999999999,66.8,4.4000000000000004,1.1030342,1.1813237999999999,13.8639692,2.6841244999999998,70.08,10.78,0.71308490000000002,0.81297529999999996]
["K003","Chemical Oxidation","Peroxides / Fenton's","TCE","Full","2002-12-01","2004-08-01","Fine-grained",0.50510770000000005,2.8048799999999999E-2,4.3,0.12,1.2554703,1.5542872000000001,1.1091097000000001,5.3402100000000001E-2,6.0890000000000004,0.52037,1.3174163000000001,1.0682337]
["K004","Chemical Oxidation","Peroxides / Fenton's","PCE","Full","2007-05-01","2011-06-10","Fine-grained",0.16750000000000001,1.9650000000000001E-2,1.5,0.184,0.93065229999999999,0.91127340000000001,0.16950000000000001,2.1649999999999999E-2,1.508,0.186,0.89371179999999995,0.90888840000000004]
["K005","Chemical Oxidation","Peroxides / Fenton's","TCE","Pilot","2003-07-30","2003-08-01","Coarse-grained",309.1029231,342.08041120000001,680,1120,-4.4025099999999998E-2,-0.21670909999999999,348.8878881,397.79130249999997,709.6,1142,-5.6969400000000003E-2,-0.20665249999999999]
["VCP-749","Chemical Oxidation","Peroxides / Fenton's","PCE","Full","1999-01-01","2001-07-18","Coarse-grained",3.6927051,1.5153497,62.1,1.8,0.3868318,1.5378191000000001,{"$f":"NA()","v":{"$error":"#N/A"}},{"$f":"NA()","v":{"$error":"#N/A"}},{"$f":"NA()","v":{"$error":"#N/A"}},{"$f":"NA()","v":{"$error":"#N/A"}},{"$f":"NA()","v":{"$error":"#N/A"}},{"$f":"NA()","v":{"$error":"#N/A"}}]
["TT-5B","Chemical Oxidation","Peroxides / Fenton's","PCE",null,"2004-02-01","2006-01-01",null,140,160,840,170,-5.7991899999999999E-2,0.69383039999999996,147.5,162.80000000000001,846.5,172,-4.2862400000000002E-2,0.69209849999999995]
["TT-6A","Chemical Oxidation","Peroxides / Fenton's","PCE",null,"2000-06-19","2002-04-12",null,0.37832339999999998,6.4806999999999998E-3,0.86,0.35,1.7662418,0.39043040000000001,0.48139500000000002,0.1213051,1.04,2.6549999999999998,0.59862249999999995,-0.40703119999999998]
["GSI-FL-24","Chemical Oxidation","Peroxides / Fenton's","PCE","Full","2005-11-01","2006-07-31","Fine-grained",7.9242552999999996,1.2466535999999999,27,4.0999999999999996,0.8032127,0.81857990000000003,10.54035,1.9255757,32.6,6.1,0.73829440000000002,0.72788779999999997]
["TT-8A","Chemical Oxidation","Peroxides / Fenton's","PCE",null,"2011-10-01","2011-11-01",null,0.57999999999999996,1.4145E-3,0.57999999999999996,2.8300000000000001E-3,2.6128325000000001,2.3116416000000002,{"$f":"NA()","v":{"$error":"#N/A"}},{"$f":"NA()","v":{"$error":"#N/A"}},{"$f":"NA()","v":{"$error":"#N/A"}},{"$f":"NA()","v":{"$error":"#N/A"}},{"$f":"NA()","v":{"$error":"#N/A"}},{"$f":"NA()","v":{"$error":"#N/A"}}]
["TT-10A","Chemical Oxidation","Peroxides / Fenton's","TCE",null,"2000-11-01","2002-09-01",null,0.44,2.2000000000000002,30,21,-0.69896999999999998,0.15490200000000001,3.84,5.0999999999999996,45,34,-0.123239,0.1217336]
["TT-11A","Chemical Oxidation","Peroxides / Fenton's","PCE",null,"2007-09-01","2008-08-01",null,10.199999999999999,2.11,20.5,3.34,0.68431770000000003,0.78800740000000002,{"$f":"NA()","v":{"$error":"#N/A"}},{"$f":"NA()","v":{"$error":"#N/A"}},{"$f":"NA()","v":{"$error":"#N/A"}},{"$f":"NA()","v":{"$error":"#N/A"}},{"$f":"NA()","v":{"$error":"#N/A"}},{"$f":"NA()","v":{"$error":"#N/A"}}]
["GSI-FD-04","Chemical Oxidation","Peroxides / Fenton's","TCE",null,"2003-07-29","2003-11-21","Fine-grained",0.25585269999999999,0.2939388,12.173,0.59,-6.0266899999999998E-2,1.3145456,0.40052080000000001,0.47244049999999999,13.375,0.93,-7.1721999999999994E-2,1.1578108]
["C-19","Chemical Oxidation","Peroxides / Fenton's","TCE","Full","1998-11-21","1999-07-15","Coarse-grained",0.96541600000000005,0.1295511,1.212,0.34100000000000003,0.87227330000000003,0.55074820000000002,{"$f":"NA()","v":{"$error":"#N/A"}},{"$f":"NA()","v":{"$error":"#N/A"}},{"$f":"NA()","v":{"$error":"#N/A"}},{"$f":"NA()","v":{"$error":"#N/A"}},{"$f":"NA()","v":{"$error":"#N/A"}},{"$f":"NA()","v":{"$error":"#N/A"}}]
["C-10","Chemical Oxidation","Permanganates","PCE","Full","2003-08-23","2003-08-23","Fine-grained",1.0876243000000001,1.5356399999999999E-2,80,9.3000000000000007,1.8501892,0.93460699999999997,1.3253741999999999,2.80217E-2,80.819999999999993,9.74,1.6748438000000001,0.91895990000000005]
["C-12","Chemical Oxidation","Permanganates","TCE","Full","2000-03-31","2000-09-28","Coarse-grained",0.62549999999999994,3.5000000000000003E-2,0.62549999999999994,3.5000000000000003E-2,1.2521593,1.2521593,{"$f":"NA()","v":{"$error":"#N/A"}},{"$f":"NA()","v":{"$error":"#N/A"}},{"$f":"NA()","v":{"$error":"#N/A"}},{"$f":"NA()","v":{"$error":"#N/A"}},{"$f":"NA()","v":{"$error":"#N/A"}},{"$f":"NA()","v":{"$error":"#N/A"}}]
["C-13","Chemical Oxidation","Permanganates","PCE","Full","2000-10-01","2002-03-01","Fine-grained",2.7731279999999998,0.77833070000000004,6.22,4.0999999999999996,0.55180580000000001,0.18100649999999999,2.8999353999999999,0.87908620000000004,6.67,4.42,0.51835690000000001,0.17870359999999999]
["C-21","Chemical Oxidation","Permanganates","TCE","Pilot","1997-08-01","1997-08-01","Coarse-grained",143.56399999999999,0.92155140000000002,224.119,629.50599999999997,2.192526,-0.44852120000000001,{"$f":"NA()","v":{"$error":"#N/A"}},{"$f":"NA()","v":{"$error":"#N/A"}},{"$f":"NA()","v":{"$error":"#N/A"}},{"$f":"NA()","v":{"$error":"#N/A"}},{"$f":"NA()","v":{"$error":"#N/A"}},{"$f":"NA()","v":{"$error":"#N/A"}}]
["C-22","Chemical Oxidation","Permanganates","TCE","Full","1992-07-15","1992-07-22","Fine-grained",319,3.7,630,4.2,1.935589,2.1760913,{"$f":"NA()","v":{"$error":"#N/A"}},{"$f":"NA()","v":{"$error":"#N/A"}},{"$f":"NA()","v":{"$error":"#N/A"}},{"$f":"NA()","v":{"$error":"#N/A"}},{"$f":"NA()","v":{"$error":"#N/A"}},{"$f":"NA()","v":{"$error":"#N/A"}}]
["C-23","Chemical Oxidation","Permanganates","TCE","Pilot","1999-09-15","1999-09-15","Fine-grained",919,1.1211096,1110,410,2.9136674,0.43253910000000001,{"$f":"NA()","v":{"$error":"#N/A"}},{"$f":"NA()","v":{"$error":"#N/A"}},{"$f":"NA()","v":{"$error":"#N/A"}},{"$f":"NA()","v":{"$error":"#N/A"}},{"$f":"NA()","v":{"$error":"#N/A"}},{"$f":"NA()","v":{"$error":"#N/A"}}]
["GSI-16","Chemical Oxidation","Permanganates","PCE","Pilot","2006-03-01","2006-03-02","Fine-grained",0.8445589,0.40781800000000001,4.7,9,0.31616359999999999,-0.28214470000000003,1.0856189999999999,0.46619369999999999,5.57,9.0009999999999994,0.36711100000000002,-0.2084356]
["GSI-34","Chemical Oxidation","Permanganates","PCE","Full","2004-01-01","2005-05-01","Fine-grained",0.26775260000000001,4.4121000000000004E-3,3.5,1.3,1.7830908999999999,0.43012470000000003,0.3053458,6.7441000000000003E-3,3.55,1.319,1.6558689,0.42998360000000002]
["GSI-48","Chemical Oxidation","Permanganates","TCE","Pilot","2007-04-16","2007-04-18","Coarse-grained",17.1238381,37.320241299999999,190,480,-0.33834330000000001,-0.4024876,20.318955800000001,43.064969400000003,190,513,-0.32622279999999998,-0.43136380000000002]
["GSI-56","Chemical Oxidation","Permanganates","TCE","Full","2004-02-16","2008-02-02","Coarse-grained",7.6700165,1.1237199999999999E-2,30,6.8000000000000005E-2,2.8341376,2.6446122999999999,21.6654102,1.8753610000000001,86,31.401,1.0626819999999999,0.43755500000000003]
["GSI-60","Chemical Oxidation","Permanganates","TCE","Full","2008-02-01","2009-11-15","Coarse-grained",1.9952101,1.4187399999999999E-2,24,1.63,2.1480866000000001,1.1680235999999999,3.0904655999999999,0.34765509999999999,25.55,2.0150999999999999,0.94887529999999998,1.1030943]
["GSI-67","Chemical Oxidation","Permanganates","TCE","Full","2007-02-23","2007-11-28","Coarse-grained",0.99,0.37564170000000002,2.09,1.23,0.4208614,0.23024120000000001,0.99068999999999996,0.37579750000000001,2.09,1.23156,0.42098390000000002,0.2296907]
["GSI-69","Chemical Oxidation","Permanganates","PCE","Full","2009-09-22","2009-09-25","Fractured rock",5.7800600000000001E-2,1.2372299999999999E-2,11,1,0.6694812,1.0413927000000001,5.8743200000000002E-2,1.26286E-2,11.25,1.0024999999999999,0.66760240000000004,1.0500681000000001]
["GSI-86","Chemical Oxidation","Permanganates","TCE","Pilot","2006-01-18","2006-11-20","Fractured rock",1.7315966,3.5168999999999999E-3,160,8.7999999999999995E-2,2.6922893000000001,3.2596373000000001,1.7766815,4.1932999999999996E-3,160,0.128,2.6270578000000002,3.0969099999999998]
["GSI-FL-22","Chemical Oxidation","Permanganates","PCE","Full","2001-03-06","2001-03-06","Fine-grained",1.18,3.9328700000000001E-2,18.5,2.64,1.4771719999999999,0.84556779999999998,1.706,0.53025619999999996,19.716000000000001,3.9820000000000002,0.50749330000000004,0.69471760000000005]
["GSI-FL-25","Chemical Oxidation","Permanganates","PCE","Full","2007-03-26","2008-05-30","Fine-grained",0.42739179999999999,0.11025600000000001,4.1399999999999997,0.25900000000000001,0.58842380000000005,1.2037005999999999,0.78846139999999998,0.1166055,4.1683000000000003,0.26155499999999998,0.83006150000000001,1.2023959]
["K001","Chemical Oxidation","Permanganates","TCE","Full","2000-04-01","2002-10-01","Coarse-grained",1.8995849,2.3501899999999999E-2,103,0.26,1.907556,2.5978639000000001,1.9107628999999999,2.85229E-2,103.002,0.32300000000000001,1.8260129,2.5036431000000001]
["K006","Chemical Oxidation","Permanganates","TCE","Pilot","2000-10-15","2001-04-26",null,34,2.2000000000000002,66,2.2000000000000002,1.1890562,1.4771213000000001,130.9,108.2,154,176.2,8.2712400000000005E-2,-5.8485200000000001E-2]
["K007","Chemical Oxidation","Permanganates","PCE","Full","2002-08-01","2003-01-01","Fractured rock",2.6944387000000001,0.68884310000000004,9.1,10,0.59234799999999999,-4.0958599999999998E-2,{"$f":"NA()","v":{"$error":"#N/A"}},{"$f":"NA()","v":{"$error":"#N/A"}},{"$f":"NA()","v":{"$error":"#N/A"}},{"$f":"NA()","v":{"$error":"#N/A"}},{"$f":"NA()","v":{"$error":"#N/A"}},{"$f":"NA()","v":{"$error":"#N/A"}}]
["K009","Chemical Oxidation","Permanganates","PCE","Full","2003-10-17","2004-10-29","Fine-grained",1.3341664,0.33,70,1.1000000000000001,0.60669609999999996,1.8037053999999999,1.6145503999999999,0.72599999999999998,71.70017,4.3899999999999997,0.34711500000000001,1.2130557]
["K010","Chemical Oxidation","Permanganates","PCE","Full","2003-03-19","2003-10-08","Fine-grained",0.59326250000000003,0.68200000000000005,26.4,4.12,-6.0537500000000001E-2,0.8067067,2.6303765000000001,1.0169999999999999,40.24,5.18222,0.41269699999999998,0.89014210000000005]
["VCP-1188A","Chemical Oxidation","Permanganates","PCE","Full","2005-01-27","2008-11-01","Fine-grained",10.6244482,2.6914932,25,5.2,0.59631310000000004,0.68193669999999995,10.9789935,3.1327321000000001,25.030100000000001,5.2134999999999998,0.54463930000000005,0.68133319999999997]
["VCP-1395","Chemical Oxidation","Permanganates","PCE","Full","2002-05-01","2003-03-01","Fine-grained",20.062963100000001,0.1196043,38.200000000000003,151,2.2246483000000001,-0.59691360000000004,55.389972200000003,0.5884085,100.38,176.005,1.9737522000000001,-0.24387780000000001]
["VCP-296_2","Chemical Oxidation","Permanganates","PCE","Full","2008-03-07","2010-08-09","Fractured rock",4.4621504999999999,0.29799999999999999,32,0.29799999999999999,1.1753279000000001,2.0309336999999998,4.4997809999999996,0.29799999999999999,32.081000000000003,0.29799999999999999,1.1789750999999999,2.0320315999999998]
["VCP-1582","Chemical Oxidation","Permanganates","PCE","Full","2006-05-01","2008-12-01","Fine-grained",58.864250599999998,0.27502179999999998,86,6.9,2.3304844999999998,1.0956494000000001,60.967204299999999,0.29438049999999999,86,6.9,2.3161873000000002,1.0956494000000001]
["VCP-886","Chemical Oxidation","Permanganates","TCE","Full","2001-09-01","2002-05-01","Fine-grained",5.1999999999999998E-3,1.6467900000000001E-2,6.7000000000000002E-3,2.5999999999999999E-2,-0.50063579999999996,-0.58889849999999999,5.0000000000000001E-3,0.82609030000000006,5.0000000000000001E-3,1.1040000000000001,-2.2180575,-2.3439991]
["GSI-FD-05","Chemical Oxidation","Permanganates","TCE",null,"2003-02-04","2003-09-17","Fine-grained",41.518199500000001,1E-3,92.6,1E-3,5.2130326,4.9666110000000003,44.054274900000003,7.8859999999999998E-4,99.22,3.9899999999999996E-3,4.7471075000000003,4.3956263]
["TT-7A","Chemical Oxidation","Permanganates","PCE",null,"2001-10-08","2003-04-01",null,1.8253399999999999E-2,1E-3,32,0.12,1.2613444,2.4259686999999999,0.2132474,0.12230000000000001,44.908099999999997,0.47949999999999998,0.24145720000000001,1.9715361]
["TT-9A","Chemical Oxidation","Permanganates","PCE",null,"2007-09-25","2008-03-25",null,3.7917700999999999,1.6875888999999999,40,20,0.35157529999999998,0.30103000000000002,3.9066005000000001,2.0797552000000001,41.5,23.9,0.2737868,0.23965020000000001]
["TT-12A","Chemical Oxidation","Permanganates","PCE",null,"2001-07-17","2001-10-29",null,1.8768590999999999,1.3,12.6,1.5,0.1594883,0.92427930000000003,1.9799604,1.5629999999999999,27.1,3.3,0.1026975,0.91445540000000003]
["TT-2B","Chemical Oxidation","Permanganates","PCE",null,"2004-10-01","2004-10-02",null,0.45902569999999998,0.26390770000000002,2.2000000000000002,0.99,0.24038490000000001,0.34678750000000003,{"$f":"NA()","v":{"$error":"#N/A"}},{"$f":"NA()","v":{"$error":"#N/A"}},{"$f":"NA()","v":{"$error":"#N/A"}},{"$f":"NA()","v":{"$error":"#N/A"}},{"$f":"NA()","v":{"$error":"#N/A"}},{"$f":"NA()","v":{"$error":"#N/A"}}]
["TT-3B","Chemical Oxidation","Permanganates","PCE",null,"2007-11-10","2009-07-23",null,0.41599999999999998,4.0006399999999998E-2,0.41599999999999998,0.73099999999999998,1.0169634000000001,-0.24482400000000001,{"$f":"NA()","v":{"$error":"#N/A"}},{"$f":"NA()","v":{"$error":"#N/A"}},{"$f":"NA()","v":{"$error":"#N/A"}},{"$f":"NA()","v":{"$error":"#N/A"}},{"$f":"NA()","v":{"$error":"#N/A"}},{"$f":"NA()","v":{"$error":"#N/A"}}]
["C-18","Chemical Oxidation","Ozone","PCE","Pilot","1997-04-01","1997-09-01","Fine-grained",3.4000000000000002E-2,3.0000000000000001E-3,3.4000000000000002E-2,3.0000000000000001E-3,1.0543577,1.0543577,{"$f":"NA()","v":{"$error":"#N/A"}},{"$f":"NA()","v":{"$error":"#N/A"}},{"$f":"NA()","v":{"$error":"#N/A"}},{"$f":"NA()","v":{"$error":"#N/A"}},{"$f":"NA()","v":{"$error":"#N/A"}},{"$f":"NA()","v":{"$error":"#N/A"}}]
["GSI-14","Chemical Oxidation","Ozone","PCE","Full","2007-05-11","2010-03-18","Fine-grained",0.30367680000000002,6.3017199999999995E-2,1.05,0.22,0.68295240000000002,0.6787666,0.3046971,6.4446600000000007E-2,1.0509999999999999,0.221,0.67466809999999999,0.67721039999999999]
["GSI-72","Chemical Oxidation","Ozone","PCE","Full","2003-12-03","2010-05-31","Coarse-grained",8.9035999999999994E-3,2.2699999999999999E-3,4,6.0999999999999999E-2,0.59354130000000005,1.8167302000000001,0.48357410000000001,1.5705E-2,15.215,7.0199999999999999E-2,1.4884250000000001,2.3359348]
["GSI-75","Chemical Oxidation","Persulfates & Peroxides","TCE","Full","2007-08-08","2007-10-09","Coarse-grained",0.97,0.1169997,1.9,3.4,0.91858700000000004,-0.25272529999999999,0.97360000000000002,0.2299658,3,4.5999999999999996,0.62671730000000003,-0.18563660000000001]
["VCP-1599","Chemical Oxidation","Persulfates & Peroxides","PCE","Full","2009-06-01","2009-06-01","Coarse-grained",96.074037000000004,32.440483700000001,350,61.5,0.47151870000000001,0.75519289999999994,102.7658141,34.5339843,358.87,67.34,0.47360200000000002,0.72666399999999998]
["C-14","Chemical Oxidation","Peroxides & Permanganates","PCE","Full","1999-10-01","2001-10-01","Fine-grained",1.0832303999999999,0.82340789999999997,1.65,3.4,0.1191058,-0.31399500000000002,1.3019658000000001,1.0285822,2.06,4.18,0.1023606,-0.3073091]
["C-20","Chemical Oxidation","Peroxides & Permanganates","PCE","Full","2001-07-01","2001-07-01","Fractured Rock",1.9861485000000001,1.1025,26,14,0.2556331,0.26884530000000001,{"$f":"NA()","v":{"$error":"#N/A"}},{"$f":"NA()","v":{"$error":"#N/A"}},{"$f":"NA()","v":{"$error":"#N/A"}},{"$f":"NA()","v":{"$error":"#N/A"}},{"$f":"NA()","v":{"$error":"#N/A"}},{"$f":"NA()","v":{"$error":"#N/A"}}]
["GSI-42","Chemical Oxidation","Peroxides & Permanganates","PCE","Full","2003-09-01","2004-12-31","Fine-grained",0.46910020000000002,0.1530011,2.7,2.1,0.48657099999999998,0.10914450000000001,0.55831260000000005,0.2805067,2.82,2.2010000000000001,0.29893419999999998,0.10762910000000001]
["VCP-1558","Chemical Oxidation","Persulfates","PCE","Full","2008-10-01","2010-01-01","Fine-grained",0.21718860000000001,8.5929999999999999E-3,0.92200000000000004,4.3999999999999997E-2,1.4026912,1.3212782000000001,0.75122069999999996,2.82601E-2,2.2490000000000001,0.123,1.4245943000000001,1.2620842999999999]
["TT-1B","Chemical Oxidation","Persulfates","PCE",null,"2006-09-01","2010-11-01",null,0.64381829999999995,0.22046669999999999,20,0.45,0.46542040000000001,1.6478174999999999,1.1243582999999999,0.24567620000000001,20.190000000000001,0.51300000000000001,0.66054170000000001,1.595019]
["TT-4B","Chemical Oxidation","Persulfates","TCE",null,"2006-08-01","2007-02-01",null,1.47457E-2,9.1293999999999993E-3,0.25,0.03,0.2082233,0.92081880000000005,{"$f":"NA()","v":{"$error":"#N/A"}},{"$f":"NA()","v":{"$error":"#N/A"}},{"$f":"NA()","v":{"$error":"#N/A"}},{"$f":"NA()","v":{"$error":"#N/A"}},{"$f":"NA()","v":{"$error":"#N/A"}},{"$f":"NA()","v":{"$error":"#N/A"}}]
["GSI-101","Chemical Reduction","Nanoscale ZVI","TCE","Pilot","2007-01-31","2007-02-28","Fine-grained",2.6825000000000001,3.85E-2,3.71,7.1999999999999995E-2,1.8430789999999999,1.7120413999999999,{"$f":"NA()","v":{"$error":"#N/A"}},{"$f":"NA()","v":{"$error":"#N/A"}},{"$f":"NA()","v":{"$error":"#N/A"}},{"$f":"NA()","v":{"$error":"#N/A"}},{"$f":"NA()","v":{"$error":"#N/A"}},{"$f":"NA()","v":{"$error":"#N/A"}}]
["GSI-102","Chemical Reduction","Nanoscale ZVI","TCE",null,"2005-04-05","2005-04-06","Fine-grained",3,0.3,3,0.3,1,1,{"$f":"NA()","v":{"$error":"#N/A"}},{"$f":"NA()","v":{"$error":"#N/A"}},{"$f":"NA()","v":{"$error":"#N/A"}},{"$f":"NA()","v":{"$error":"#N/A"}},{"$f":"NA()","v":{"$error":"#N/A"}},{"$f":"NA()","v":{"$error":"#N/A"}}]
["GSI-106","Chemical Reduction","Nanoscale ZVI","TCA","Pilot","2004-02-01","2004-02-03","Fractured rock",5.47,3.3500000000000002E-2,10,6.6000000000000003E-2,2.2129425,2.1804560999999998,8.2839500000000008,0.54249999999999998,13.79,0.93600000000000005,1.1838377,1.1682884]
["GSI-109","Chemical Reduction","Nanoscale ZVI","TCE","Full","2004-01-01","2004-01-02","Fine-grained",0.93808320000000001,4.8972E-3,26,56,2.2822952000000001,-0.33321469999999997,6.7270000000000003,6.2009717999999996,27.2,74,3.5361700000000003E-2,-0.43466280000000002]
["GSI-110","Chemical Reduction","Nanoscale ZVI","TCE","Pilot","2005-11-01","2005-11-02","Coarse-grained",1.18E-2,4.9892000000000001E-3,1.7999999999999999E-2,3.4000000000000002E-2,0.3738554,-0.27620640000000002,1.44E-2,6.0759999999999998E-3,2.1999999999999999E-2,0.05,0.3747471,-0.35654730000000001]
["GSI-111","Chemical Reduction","Nanoscale ZVI","TCE","Pilot","2006-11-27","2006-12-21","Fine-grained",10,6,21.5,11.5,0.22184870000000001,0.2717406,{"$f":"NA()","v":{"$error":"#N/A"}},{"$f":"NA()","v":{"$error":"#N/A"}},{"$f":"NA()","v":{"$error":"#N/A"}},{"$f":"NA()","v":{"$error":"#N/A"}},{"$f":"NA()","v":{"$error":"#N/A"}},{"$f":"NA()","v":{"$error":"#N/A"}}]
["GSI-113","Chemical Reduction","Nanoscale ZVI","TCE","Pilot","2002-09-13","2002-09-15","Fine-grained",14,0.20601639999999999,14,6,1.8322262,0.36797679999999999,{"$f":"NA()","v":{"$error":"#N/A"}},{"$f":"NA()","v":{"$error":"#N/A"}},{"$f":"NA()","v":{"$error":"#N/A"}},{"$f":"NA()","v":{"$error":"#N/A"}},{"$f":"NA()","v":{"$error":"#N/A"}},{"$f":"NA()","v":{"$error":"#N/A"}}]
["GSI-115","Chemical Reduction","Nanoscale ZVI","TCE",null,"2004-12-01","2004-12-02","Fine-grained",1.5,0.1,1.5,0.1,1.1760913,1.1760913,{"$f":"NA()","v":{"$error":"#N/A"}},{"$f":"NA()","v":{"$error":"#N/A"}},{"$f":"NA()","v":{"$error":"#N/A"}},{"$f":"NA()","v":{"$error":"#N/A"}},{"$f":"NA()","v":{"$error":"#N/A"}},{"$f":"NA()","v":{"$error":"#N/A"}}]
["GSI-117","Chemical Reduction","Nanoscale ZVI","TCE","Pilot","2006-09-15","2006-12-18","Coarse-grained",0.28000000000000003,1.8719699999999999E-2,0.32,0.13,1.1748593000000001,0.39120660000000002,0.32700000000000001,0.12231,0.39600000000000002,0.185,0.42708560000000001,0.33052350000000003]
["GSI-119","Chemical Reduction","Nanoscale ZVI","TCE","Pilot","2006-01-01","2006-01-02","Fine-grained",241,1.2489996000000001,241,13,2.2854546999999998,1.2680737,241,7.4538580999999997,241,463,1.5096358999999999,-0.28356389999999998]
["GSI-120","Chemical Reduction","Microscale ZVI","TCE","Pilot","2002-12-01","2002-12-02","Fractured rock",58.5,0.23819299999999999,88,1.7,2.3902269,1.7140337999999999,58.5,0.4539089,169,6.35,2.1101871000000001,1.4251130000000001]
["GSI-121","Chemical Reduction","Microscale ZVI","TCE","Full","2000-07-11","2000-07-12","Coarse-grained",0.21299999999999999,0.2759953,72.8,34,-0.1125221,0.33065250000000002,0.32700000000000001,0.34467569999999997,72.8,34.18,-2.2863000000000001E-2,0.32835930000000002]
["GSI-123","Chemical Reduction","Microscale ZVI","TCE","Full","2004-08-10","2004-08-11","Fractured rock",1.1000000000000001,4.6416000000000001E-3,4.4000000000000004,0.3,2.3747259999999999,1.1663314,1.2,0.2060768,9.1999999999999993,3.65,0.7651521,0.40149499999999999]
["GSI-125","Chemical Reduction","Microscale ZVI","TCE","Full","2005-01-01","2005-01-02",null,0.15,1.4409699999999999E-2,0.15,2.1999999999999999E-2,1.0174373999999999,0.83366859999999998,{"$f":"NA()","v":{"$error":"#N/A"}},{"$f":"NA()","v":{"$error":"#N/A"}},{"$f":"NA()","v":{"$error":"#N/A"}},{"$f":"NA()","v":{"$error":"#N/A"}},{"$f":"NA()","v":{"$error":"#N/A"}},{"$f":"NA()","v":{"$error":"#N/A"}}]
["GSI-126","Chemical Reduction","Microscale ZVI","TCE","Pilot","2001-05-03","2001-05-14","Fractured rock",1.0449999999999999,4.1658000000000001E-2,3.7,1,1.3994177999999999,0.56820170000000003,1.18,9.5495800000000006E-2,3.7679999999999998,1.7010000000000001,1.0918977999999999,0.34540660000000001]
["GSI-131","Chemical Reduction","Nanoscale ZVI","TCE","Full","2010-02-02","2010-02-05","Fine-grained",0.4,0.43662889999999999,6.3,7.8,-3.8052500000000003E-2,-9.2754100000000006E-2,0.40100000000000002,0.43961109999999998,6.3014000000000001,7.8,-3.99242E-2,-9.2657600000000007E-2]
["GSI-134","Chemical Reduction","Microscale ZVI","PCE","Full","2008-01-01","2008-01-02",null,1.8,0.17,1.8,0.17,1.0248235999999999,1.0248235999999999,{"$f":"NA()","v":{"$error":"#N/A"}},{"$f":"NA()","v":{"$error":"#N/A"}},{"$f":"NA()","v":{"$error":"#N/A"}},{"$f":"NA()","v":{"$error":"#N/A"}},{"$f":"NA()","v":{"$error":"#N/A"}},{"$f":"NA()","v":{"$error":"#N/A"}}]
["S-01","Surfactant","Cosolvent","PCE","Pilot","1998-07-13","1998-07-13","Fine-grained",0.26,0.50404150000000003,136,44,-0.287493,0.49008620000000003,1.044,4.1056694,148.80000000000001,69,-0.59468350000000003,0.33375379999999999]
["S-02","Surfactant","Anionic Surfactant","TCE","Full","1996-08-11","1996-08-25","Coarse-grained",900,10,900,10,1.9542425000000001,1.9542425000000001,{"$f":"NA()","v":{"$error":"#N/A"}},{"$f":"NA()","v":{"$error":"#N/A"}},{"$f":"NA()","v":{"$error":"#N/A"}},{"$f":"NA()","v":{"$error":"#N/A"}},{"$f":"NA()","v":{"$error":"#N/A"}},{"$f":"NA()","v":{"$error":"#N/A"}}]
["S-03","Surfactant","Anionic Surfactant","PCE","Pilot","1999-08-01","2000-07-01","Fine-grained",4,4.5999999999999999E-2,4,4.5999999999999999E-2,1.9393022,1.9393022,{"$f":"NA()","v":{"$error":"#N/A"}},{"$f":"NA()","v":{"$error":"#N/A"}},{"$f":"NA()","v":{"$error":"#N/A"}},{"$f":"NA()","v":{"$error":"#N/A"}},{"$f":"NA()","v":{"$error":"#N/A"}},{"$f":"NA()","v":{"$error":"#N/A"}}]
["TT-13A","Surfactant","Nonionic Surfactant","PCE",null,"2000-06-30","2000-08-15",null,0.65502850000000001,0.11695999999999999,66.331999999999994,298.49400000000003,0.74822279999999997,-0.65321249999999997,{"$f":"NA()","v":{"$error":"#N/A"}},{"$f":"NA()","v":{"$error":"#N/A"}},{"$f":"NA()","v":{"$error":"#N/A"}},{"$f":"NA()","v":{"$error":"#N/A"}},{"$f":"NA()","v":{"$error":"#N/A"}},{"$f":"NA()","v":{"$error":"#N/A"}}]
["GSI-47","Thermal Treatment","Electrical Resistance Heating","PCE","Full","2009-12-08","2012-09-17","Fine-grained",0.18799930000000001,0.20100000000000001,2.64,3.71,-2.9039800000000001E-2,-0.14777000000000001,0.31322470000000002,0.53349999999999997,3.4767000000000001,4.5587999999999997,-0.2312785,-0.1176833]
["GSI-T-101","Thermal Treatment","Electrical Resistance Heating","TCE","Full","2000-05-01","2001-12-01","Fine-grained",150,2.8478099999999999E-2,150,0.1,3.7215807999999999,3.1760913,544,1.4035614000000001,544,1.45,2.5883674999999999,2.5742308999999999]
["GSI-T-102","Thermal Treatment","Electrical Resistance Heating","TCE","Pilot","2003-07-31","2003-09-22",null,6.4,0.8184131,42,9.75,0.89320739999999998,0.63424469999999999,{"$f":"NA()","v":{"$error":"#N/A"}},{"$f":"NA()","v":{"$error":"#N/A"}},{"$f":"NA()","v":{"$error":"#N/A"}},{"$f":"NA()","v":{"$error":"#N/A"}},{"$f":"NA()","v":{"$error":"#N/A"}},{"$f":"NA()","v":{"$error":"#N/A"}}]
["GSI-T-103","Thermal Treatment","Electrical Resistance Heating","TCE","Full","2010-08-01","2011-02-01","Fine-grained",0.39,1.19468E-2,11,7.8E-2,1.5138147,2.1492981000000002,{"$f":"NA()","v":{"$error":"#N/A"}},{"$f":"NA()","v":{"$error":"#N/A"}},{"$f":"NA()","v":{"$error":"#N/A"}},{"$f":"NA()","v":{"$error":"#N/A"}},{"$f":"NA()","v":{"$error":"#N/A"}},{"$f":"NA()","v":{"$error":"#N/A"}}]
["GSI-T-104","Thermal Treatment","Conductive Heating & Steam","PCE","Full","2010-05-01","2011-08-01","Fine-grained",25,1,50,1.5,1.39794,1.5228786999999999,{"$f":"NA()","v":{"$error":"#N/A"}},{"$f":"NA()","v":{"$error":"#N/A"}},{"$f":"NA()","v":{"$error":"#N/A"}},{"$f":"NA()","v":{"$error":"#N/A"}},{"$f":"NA()","v":{"$error":"#N/A"}},{"$f":"NA()","v":{"$error":"#N/A"}}]
["GSI-T-105","Thermal Treatment","Electrical Resistance Heating","PCE","Full","2007-09-25","2008-04-01","Fine-grained",3.6,2.75E-2,13,1.4,2.1169698000000001,0.96781530000000004,{"$f":"NA()","v":{"$error":"#N/A"}},{"$f":"NA()","v":{"$error":"#N/A"}},{"$f":"NA()","v":{"$error":"#N/A"}},{"$f":"NA()","v":{"$error":"#N/A"}},{"$f":"NA()","v":{"$error":"#N/A"}},{"$f":"NA()","v":{"$error":"#N/A"}}]
["GSI-T-107","Thermal Treatment","Electrical Resistance Heating","PCE","Full","2006-01-28","2006-06-10","Coarse-grained",4.1500000000000004,1.7392711000000001,5.5,4,0.37768079999999998,0.1383027,{"$f":"NA()","v":{"$error":"#N/A"}},{"$f":"NA()","v":{"$error":"#N/A"}},{"$f":"NA()","v":{"$error":"#N/A"}},{"$f":"NA()","v":{"$error":"#N/A"}},{"$f":"NA()","v":{"$error":"#N/A"}},{"$f":"NA()","v":{"$error":"#N/A"}}]
["GSI-T-108","Thermal Treatment","Electrical Resistance Heating","PCE","Full","2007-04-01","2007-08-19","Fine-grained",336.25,3.17,538.20000000000005,5.12,2.0256029999999998,2.0216737,{"$f":"NA()","v":{"$error":"#N/A"}},{"$f":"NA()","v":{"$error":"#N/A"}},{"$f":"NA()","v":{"$error":"#N/A"}},{"$f":"NA()","v":{"$error":"#N/A"}},{"$f":"NA()","v":{"$error":"#N/A"}},{"$f":"NA()","v":{"$error":"#N/A"}}]
["GSI-T-109","Thermal Treatment","Electrical Resistance Heating","TCE","Full","2010-08-01","2011-02-01","Coarse-grained",116.56953369999999,26.702729000000001,260,414,0.64002939999999997,-0.20202700000000001,{"$f":"NA()","v":{"$error":"#N/A"}},{"$f":"NA()","v":{"$error":"#N/A"}},{"$f":"NA()","v":{"$error":"#N/A"}},{"$f":"NA()","v":{"$error":"#N/A"}},{"$f":"NA()","v":{"$error":"#N/A"}},{"$f":"NA()","v":{"$error":"#N/A"}}]
["GSI-T-110","Thermal Treatment","Electrical Resistance Heating","TCE","Full","2010-08-01","2011-02-01","Coarse-grained",39.9957256,0.17889050000000001,66,1.8,2.3494261999999999,1.5642714,{"$f":"NA()","v":{"$error":"#N/A"}},{"$f":"NA()","v":{"$error":"#N/A"}},{"$f":"NA()","v":{"$error":"#N/A"}},{"$f":"NA()","v":{"$error":"#N/A"}},{"$f":"NA()","v":{"$error":"#N/A"}},{"$f":"NA()","v":{"$error":"#N/A"}}]
["GSI-T-111","Thermal Treatment","Electrical Resistance Heating","PCE","Full","2011-01-01","2011-05-01","Fine-grained",14.6,0.93,47,1.6,1.1958698999999999,1.4679778999999999,{"$f":"NA()","v":{"$error":"#N/A"}},{"$f":"NA()","v":{"$error":"#N/A"}},{"$f":"NA()","v":{"$error":"#N/A"}},{"$f":"NA()","v":{"$error":"#N/A"}},{"$f":"NA()","v":{"$error":"#N/A"}},{"$f":"NA()","v":{"$error":"#N/A"}}]
["GSI-TK2","Thermal Treatment","Electrical Resistance Heating","PCE","Full","2002-01-01","2002-02-01","Fine-grained",41.214075299999998,2.7694765000000001,285,59,1.1726479000000001,0.68399279999999996,41.2,2.7694765000000001,285,59,1.1724995,0.68399279999999996]
["GSI-TK3","Thermal Treatment","Electrical Resistance Heating","PCE","Full","2002-01-01","2002-02-01","Fine-grained",2.8284299999999998E-2,2.7568100000000002E-2,1.6,0.76,1.1138199999999999E-2,0.32330639999999999,{"$f":"NA()","v":{"$error":"#N/A"}},{"$f":"NA()","v":{"$error":"#N/A"}},{"$f":"NA()","v":{"$error":"#N/A"}},{"$f":"NA()","v":{"$error":"#N/A"}},{"$f":"NA()","v":{"$error":"#N/A"}},{"$f":"NA()","v":{"$error":"#N/A"}}]
["GSI-TK4","Thermal Treatment","Electrical Resistance Heating","PCE","Pilot","2002-01-01","2002-02-01","Fine-grained",1.0401923,3.7416600000000001E-2,541,1.4,1.4440496,2.5870692000000002,{"$f":"NA()","v":{"$error":"#N/A"}},{"$f":"NA()","v":{"$error":"#N/A"}},{"$f":"NA()","v":{"$error":"#N/A"}},{"$f":"NA()","v":{"$error":"#N/A"}},{"$f":"NA()","v":{"$error":"#N/A"}},{"$f":"NA()","v":{"$error":"#N/A"}}]
["GSI-TK5","Thermal Treatment","Electrical Resistance Heating","PCE","Full","2002-01-01","2002-02-01","Fine-grained",0.1843909,4.69042E-2,17,2.2000000000000002,0.5945281,0.88802619999999999,{"$f":"NA()","v":{"$error":"#N/A"}},{"$f":"NA()","v":{"$error":"#N/A"}},{"$f":"NA()","v":{"$error":"#N/A"}},{"$f":"NA()","v":{"$error":"#N/A"}},{"$f":"NA()","v":{"$error":"#N/A"}},{"$f":"NA()","v":{"$error":"#N/A"}}]
["T-02","Thermal Treatment","Electrical Resistance Heating & Steam","TCE","Full","2002-09-28","2002-09-28","Fine-grained",1.4183233,1E-3,15,1E-3,3.4528051999999998,4.4771213000000003,{"$f":"NA()","v":{"$error":"#N/A"}},{"$f":"NA()","v":{"$error":"#N/A"}},{"$f":"NA()","v":{"$error":"#N/A"}},{"$f":"NA()","v":{"$error":"#N/A"}},{"$f":"NA()","v":{"$error":"#N/A"}},{"$f":"NA()","v":{"$error":"#N/A"}}]
["T-01","Thermal Treatment","Electrical Resistance Heating","TCE","Full","1994-06-03","1994-12-03","Fine-grained",28,1.95614E-2,75,0.27,3.1557574000000002,2.4436974999999999,{"$f":"NA()","v":{"$error":"#N/A"}},{"$f":"NA()","v":{"$error":"#N/A"}},{"$f":"NA()","v":{"$error":"#N/A"}},{"$f":"NA()","v":{"$error":"#N/A"}},{"$f":"NA()","v":{"$error":"#N/A"}},{"$f":"NA()","v":{"$error":"#N/A"}}]
["T-06","Thermal Treatment","Electrical Resistance Heating","TCE","Full","1999-08-18","2000-07-12","Fine-grained",995,387.5,1070,758,0.40955140000000001,0.1497146,{"$f":"NA()","v":{"$error":"#N/A"}},{"$f":"NA()","v":{"$error":"#N/A"}},{"$f":"NA()","v":{"$error":"#N/A"}},{"$f":"NA()","v":{"$error":"#N/A"}},{"$f":"NA()","v":{"$error":"#N/A"}},{"$f":"NA()","v":{"$error":"#N/A"}}]
["GSI-T1","Thermal Treatment","Conductive Heating","PCE","Full","2008-08-01","2010-04-01","Coarse-grained",1.6997433,4.4704000000000002E-3,7.8,1,2.5800372999999999,0.89209459999999996,3.9679514999999999,2.53041E-2,11.95,4,2.1953752999999998,0.47530790000000001]
["TT-14A","Thermal Treatment","Electrical Resistance Heating","PCE",null,"2001-10-01","2002-05-16",null,15.45,1.3607256000000001,26,1.8,1.0551579,1.1597008,{"$f":"NA()","v":{"$error":"#N/A"}},{"$f":"NA()","v":{"$error":"#N/A"}},{"$f":"NA()","v":{"$error":"#N/A"}},{"$f":"NA()","v":{"$error":"#N/A"}},{"$f":"NA()","v":{"$error":"#N/A"}},{"$f":"NA()","v":{"$error":"#N/A"}}]
["GSI-T-106","Thermal Treatment","Steam","TCE","Full","1995-01-01","1999-11-01",null,10,0.11,10,0.11,1.9586072999999999,1.9586072999999999,{"$f":"NA()","v":{"$error":"#N/A"}},{"$f":"NA()","v":{"$error":"#N/A"}},{"$f":"NA()","v":{"$error":"#N/A"}},{"$f":"NA()","v":{"$error":"#N/A"}},{"$f":"NA()","v":{"$error":"#N/A"}},{"$f":"NA()","v":{"$error":"#N/A"}}]
["T-03","Thermal Treatment","Steam","PCP","Full","1997-11-01","2000-05-01","Coarse-grained",0.43910939999999998,2.6434000000000002E-3,1.3,1.2E-2,2.2204049000000001,2.0347621,{"$f":"NA()","v":{"$error":"#N/A"}},{"$f":"NA()","v":{"$error":"#N/A"}},{"$f":"NA()","v":{"$error":"#N/A"}},{"$f":"NA()","v":{"$error":"#N/A"}},{"$f":"NA()","v":{"$error":"#N/A"}},{"$f":"NA()","v":{"$error":"#N/A"}}]
["T-05","Thermal Treatment","Steam","PCP","Full","1995-05-11","1995-10-29","Fine-grained",20.2,2.7566231000000001,20.2,4,0.86497400000000002,0.70329140000000001,{"$f":"NA()","v":{"$error":"#N/A"}},{"$f":"NA()","v":{"$error":"#N/A"}},{"$f":"NA()","v":{"$error":"#N/A"}},{"$f":"NA()","v":{"$error":"#N/A"}},{"$f":"NA()","v":{"$error":"#N/A"}},{"$f":"NA()","v":{"$error":"#N/A"}}]
["GSI-FL-26","Natural Attenuation","None","PCE",{"$f":"NA()","v":{"$error":"#N/A"}},{"$f":"NA()","v":{"$error":"#N/A"}},{"$f":"NA()","v":{"$error":"#N/A"}},{"$f":"NA()","v":{"$error":"#N/A"}},1.9834061999999999,1E-3,23.3,1.2E-2,3.2974117000000001,3.2881746999999999,3.2610979000000002,3.5000000000000001E-3,23.305890000000002,1.47E-2,2.9692957999999998,3.2001483999999998]
["GSI-FL-28","Natural Attenuation","None","TCE",{"$f":"NA()","v":{"$error":"#N/A"}},{"$f":"NA()","v":{"$error":"#N/A"}},{"$f":"NA()","v":{"$error":"#N/A"}},{"$f":"NA()","v":{"$error":"#N/A"}},8.3204000000000004E-3,1.3483E-3,0.89,0.249,0.79034870000000002,0.55319070000000004,1.61519E-2,3.1809E-3,0.98329,0.28149999999999997,0.70567400000000002,0.5432032]
["GSI-FL-29","Natural Attenuation","None","TCE",{"$f":"NA()","v":{"$error":"#N/A"}},{"$f":"NA()","v":{"$error":"#N/A"}},{"$f":"NA()","v":{"$error":"#N/A"}},{"$f":"NA()","v":{"$error":"#N/A"}},1.9047000000000001E-3,4.8127999999999999E-3,4.7999999999999996E-3,7.4399999999999994E-2,-0.40255819999999998,-1.1903317,3.5404900000000003E-2,0.1752658,0.10209,0.76039999999999996,-0.69463439999999999,-0.87205889999999997]
["GSI-FL-30","Natural Attenuation","None","PCE",{"$f":"NA()","v":{"$error":"#N/A"}},{"$f":"NA()","v":{"$error":"#N/A"}},{"$f":"NA()","v":{"$error":"#N/A"}},{"$f":"NA()","v":{"$error":"#N/A"}},1.05,0.13,3.85,0.82,0.90724590000000005,0.67164690000000005,1.2,0.15629999999999999,4,0.84109999999999996,0.88522230000000002,0.67721240000000005]
["GSI-FL-31","Natural Attenuation","None","PCE",{"$f":"NA()","v":{"$error":"#N/A"}},{"$f":"NA()","v":{"$error":"#N/A"}},{"$f":"NA()","v":{"$error":"#N/A"}},{"$f":"NA()","v":{"$error":"#N/A"}},0.47,9.6164399999999997E-2,0.92,3.89,0.68908329999999995,-0.62616179999999999,0.47713,9.8215899999999995E-2,0.92098999999999998,3.9218920000000002,0.68645500000000004,-0.62924069999999999]
["GSI-FL-32","Natural Attenuation","None","PCE",{"$f":"NA()","v":{"$error":"#N/A"}},{"$f":"NA()","v":{"$error":"#N/A"}},{"$f":"NA()","v":{"$error":"#N/A"}},{"$f":"NA()","v":{"$error":"#N/A"}},2.3749999999999999E-3,3.715E-3,0.39300000000000002,0.372,-0.1942952,2.3849599999999999E-2,3.1375E-2,0.102035,1.4305000000000001,1.1879,-0.51216539999999999,8.0708000000000002E-2]
["GSI-FL-34","Natural Attenuation","None","PCE",{"$f":"NA()","v":{"$error":"#N/A"}},{"$f":"NA()","v":{"$error":"#N/A"}},{"$f":"NA()","v":{"$error":"#N/A"}},{"$f":"NA()","v":{"$error":"#N/A"}},2.1642944000000002,1E-3,4.2699999999999996,1.6000000000000001E-3,3.3485445999999999,3.4263078999999999,2.4047551999999999,1.9040000000000001E-3,4.7489999999999997,2.9299999999999999E-3,3.1014039000000002,3.2097345000000002]
["MNA-CA-1","Natural Attenuation","None","PCE",{"$f":"NA()","v":{"$error":"#N/A"}},{"$f":"NA()","v":{"$error":"#N/A"}},{"$f":"NA()","v":{"$error":"#N/A"}},{"$f":"NA()","v":{"$error":"#N/A"}},9.1743999999999992E-3,3.0641000000000002E-3,0.01,3.7000000000000002E-3,0.47627340000000001,0.43179830000000002,1.2226799999999999E-2,4.9893000000000003E-3,1.46E-2,5.7000000000000002E-3,0.38927220000000001,0.40847800000000001]
["MNA-CA-2","Natural Attenuation","None","TCE",{"$f":"NA()","v":{"$error":"#N/A"}},{"$f":"NA()","v":{"$error":"#N/A"}},{"$f":"NA()","v":{"$error":"#N/A"}},{"$f":"NA()","v":{"$error":"#N/A"}},1.8331E-2,2.6200000000000001E-2,6.0999999999999999E-2,6.6000000000000003E-2,-0.1551159,-3.4214099999999997E-2,{"$f":"NA()","v":{"$error":"#N/A"}},{"$f":"NA()","v":{"$error":"#N/A"}},{"$f":"NA()","v":{"$error":"#N/A"}},{"$f":"NA()","v":{"$error":"#N/A"}},{"$f":"NA()","v":{"$error":"#N/A"}},{"$f":"NA()","v":{"$error":"#N/A"}}]
["MNA-CA-3","Natural Attenuation","None","PCE",{"$f":"NA()","v":{"$error":"#N/A"}},{"$f":"NA()","v":{"$error":"#N/A"}},{"$f":"NA()","v":{"$error":"#N/A"}},{"$f":"NA()","v":{"$error":"#N/A"}},0.34724919999999998,0.33802549999999998,0.71199999999999997,0.48,1.16918E-2,0.1712388,0.34919349999999999,0.33920479999999997,0.71409999999999996,0.48148000000000002,1.2604199999999999E-2,0.17118079999999999]
["MNA-CA-4","Natural Attenuation","None","TCE",{"$f":"NA()","v":{"$error":"#N/A"}},{"$f":"NA()","v":{"$error":"#N/A"}},{"$f":"NA()","v":{"$error":"#N/A"}},{"$f":"NA()","v":{"$error":"#N/A"}},1.9116999999999999E-2,2.8049999999999999E-2,2.7E-2,5.0999999999999997E-2,-0.16651350000000001,-0.27620640000000002,{"$f":"NA()","v":{"$error":"#N/A"}},{"$f":"NA()","v":{"$error":"#N/A"}},{"$f":"NA()","v":{"$error":"#N/A"}},{"$f":"NA()","v":{"$error":"#N/A"}},{"$f":"NA()","v":{"$error":"#N/A"}},{"$f":"NA()","v":{"$error":"#N/A"}}]
["MNA-CA-5","Natural Attenuation","None","PCE",{"$f":"NA()","v":{"$error":"#N/A"}},{"$f":"NA()","v":{"$error":"#N/A"}},{"$f":"NA()","v":{"$error":"#N/A"}},{"$f":"NA()","v":{"$error":"#N/A"}},1.26718E-2,1.3905900000000001E-2,5.3999999999999999E-2,2.9000000000000001E-2,-4.0359800000000001E-2,0.26999580000000001,1.5347E-2,1.5026100000000001E-2,5.6300000000000003E-2,3.0099999999999998E-2,9.1751000000000003E-3,0.27194190000000001]
["MNA-OR-1","Natural Attenuation","None","TCE",{"$f":"NA()","v":{"$error":"#N/A"}},{"$f":"NA()","v":{"$error":"#N/A"}},{"$f":"NA()","v":{"$error":"#N/A"}},{"$f":"NA()","v":{"$error":"#N/A"}},0.67147129999999999,9.2200000000000004E-2,4.5,0.70299999999999996,0.86229650000000002,0.80625720000000001,{"$f":"NA()","v":{"$error":"#N/A"}},{"$f":"NA()","v":{"$error":"#N/A"}},{"$f":"NA()","v":{"$error":"#N/A"}},{"$f":"NA()","v":{"$error":"#N/A"}},{"$f":"NA()","v":{"$error":"#N/A"}},{"$f":"NA()","v":{"$error":"#N/A"}}]
["VCP 613","Natural Attenuation","None","TCE",{"$f":"NA()","v":{"$error":"#N/A"}},{"$f":"NA()","v":{"$error":"#N/A"}},{"$f":"NA()","v":{"$error":"#N/A"}},{"$f":"NA()","v":{"$error":"#N/A"}},0.3251887,8.5422999999999992E-3,6.35,4.09,1.5805623,0.19105040000000001,{"$f":"NA()","v":{"$error":"#N/A"}},{"$f":"NA()","v":{"$error":"#N/A"}},{"$f":"NA()","v":{"$error":"#N/A"}},{"$f":"NA()","v":{"$error":"#N/A"}},{"$f":"NA()","v":{"$error":"#N/A"}},{"$f":"NA()","v":{"$error":"#N/A"}}]
["VCP 1601","Natural Attenuation","None","TCE",{"$f":"NA()","v":{"$error":"#N/A"}},{"$f":"NA()","v":{"$error":"#N/A"}},{"$f":"NA()","v":{"$error":"#N/A"}},{"$f":"NA()","v":{"$error":"#N/A"}},11.392899699999999,1.1252104999999999,700,780,1.0054004999999999,-4.6996599999999999E-2,{"$f":"NA()","v":{"$error":"#N/A"}},{"$f":"NA()","v":{"$error":"#N/A"}},{"$f":"NA()","v":{"$error":"#N/A"}},{"$f":"NA()","v":{"$error":"#N/A"}},{"$f":"NA()","v":{"$error":"#N/A"}},{"$f":"NA()","v":{"$error":"#N/A"}}]
["VCP-1188B","Natural Attenuation","None","PCE",{"$f":"NA()","v":{"$error":"#N/A"}},{"$f":"NA()","v":{"$error":"#N/A"}},{"$f":"NA()","v":{"$error":"#N/A"}},{"$f":"NA()","v":{"$error":"#N/A"}},0.51145989999999997,0.2,23,25,0.40778160000000002,-3.62122E-2,0.59178140000000001,0.27,23.010999999999999,25.021999999999998,0.34079759999999998,-3.6386500000000002E-2]
["GSI-FL-27","Natural Attenuation","None","PCE",{"$f":"NA()","v":{"$error":"#N/A"}},{"$f":"NA()","v":{"$error":"#N/A"}},{"$f":"NA()","v":{"$error":"#N/A"}},{"$f":"NA()","v":{"$error":"#N/A"}},0.01,2.5,2,49,-2.3979400000000002,-1.3891661,0.68899999999999995,3.597,3.891,49.74,-0.71772119999999995,-1.1066446000000001]
["GSI-FL-33","Natural Attenuation","None","PCE",{"$f":"NA()","v":{"$error":"#N/A"}},{"$f":"NA()","v":{"$error":"#N/A"}},{"$f":"NA()","v":{"$error":"#N/A"}},{"$f":"NA()","v":{"$error":"#N/A"}},1.9370761999999999,2.4E-2,10.5,0.12,1.9069354999999999,1.9420081,2.2767661000000001,4.6954999999999997E-2,10.99,0.2261,1.6856366,1.6866970999999999]
["N-01","Natural Attenuation","None","TCE",{"$f":"NA()","v":{"$error":"#N/A"}},{"$f":"NA()","v":{"$error":"#N/A"}},{"$f":"NA()","v":{"$error":"#N/A"}},{"$f":"NA()","v":{"$error":"#N/A"}},0.34204630000000003,0.17706430000000001,{"$f":"NA()","v":{"$error":"#N/A"}},{"$f":"NA()","v":{"$error":"#N/A"}},0.28595379999999998,{"$f":"NA()","v":{"$error":"#N/A"}},{"$f":"NA()","v":{"$error":"#N/A"}},{"$f":"NA()","v":{"$error":"#N/A"}},{"$f":"NA()","v":{"$error":"#N/A"}},{"$f":"NA()","v":{"$error":"#N/A"}},{"$f":"NA()","v":{"$error":"#N/A"}},{"$f":"NA()","v":{"$error":"#N/A"}}]
["N-02","Natural Attenuation","None","TCE",{"$f":"NA()","v":{"$error":"#N/A"}},{"$f":"NA()","v":{"$error":"#N/A"}},{"$f":"NA()","v":{"$error":"#N/A"}},{"$f":"NA()","v":{"$error":"#N/A"}},25.8721152,21.984358499999999,{"$f":"NA()","v":{"$error":"#N/A"}},{"$f":"NA()","v":{"$error":"#N/A"}},7.0718100000000006E-2,{"$f":"NA()","v":{"$error":"#N/A"}},{"$f":"NA()","v":{"$error":"#N/A"}},{"$f":"NA()","v":{"$error":"#N/A"}},{"$f":"NA()","v":{"$error":"#N/A"}},{"$f":"NA()","v":{"$error":"#N/A"}},{"$f":"NA()","v":{"$error":"#N/A"}},{"$f":"NA()","v":{"$error":"#N/A"}}]
["N-03","Natural Attenuation","None","TCE",{"$f":"NA()","v":{"$error":"#N/A"}},{"$f":"NA()","v":{"$error":"#N/A"}},{"$f":"NA()","v":{"$error":"#N/A"}},{"$f":"NA()","v":{"$error":"#N/A"}},4.1212999999999996E-3,5.48955E-2,{"$f":"NA()","v":{"$error":"#N/A"}},{"$f":"NA()","v":{"$error":"#N/A"}},-1.1245041,{"$f":"NA()","v":{"$error":"#N/A"}},{"$f":"NA()","v":{"$error":"#N/A"}},{"$f":"NA()","v":{"$error":"#N/A"}},{"$f":"NA()","v":{"$error":"#N/A"}},{"$f":"NA()","v":{"$error":"#N/A"}},{"$f":"NA()","v":{"$error":"#N/A"}},{"$f":"NA()","v":{"$error":"#N/A"}}]
["N-04A","Natural Attenuation","None","TCE",{"$f":"NA()","v":{"$error":"#N/A"}},{"$f":"NA()","v":{"$error":"#N/A"}},{"$f":"NA()","v":{"$error":"#N/A"}},{"$f":"NA()","v":{"$error":"#N/A"}},185.5,6.0800131999999998,{"$f":"NA()","v":{"$error":"#N/A"}},{"$f":"NA()","v":{"$error":"#N/A"}},1.4844394000000001,{"$f":"NA()","v":{"$error":"#N/A"}},{"$f":"NA()","v":{"$error":"#N/A"}},{"$f":"NA()","v":{"$error":"#N/A"}},{"$f":"NA()","v":{"$error":"#N/A"}},{"$f":"NA()","v":{"$error":"#N/A"}},{"$f":"NA()","v":{"$error":"#N/A"}},{"$f":"NA()","v":{"$error":"#N/A"}}]
["N-04B","Natural Attenuation","None","TCA",{"$f":"NA()","v":{"$error":"#N/A"}},{"$f":"NA()","v":{"$error":"#N/A"}},{"$f":"NA()","v":{"$error":"#N/A"}},{"$f":"NA()","v":{"$error":"#N/A"}},15.047696999999999,0.12960940000000001,{"$f":"NA()","v":{"$error":"#N/A"}},{"$f":"NA()","v":{"$error":"#N/A"}},2.0648335000000002,{"$f":"NA()","v":{"$error":"#N/A"}},{"$f":"NA()","v":{"$error":"#N/A"}},{"$f":"NA()","v":{"$error":"#N/A"}},{"$f":"NA()","v":{"$error":"#N/A"}},{"$f":"NA()","v":{"$error":"#N/A"}},{"$f":"NA()","v":{"$error":"#N/A"}},{"$f":"NA()","v":{"$error":"#N/A"}}]
["N-05","Natural Attenuation","None","TCE",{"$f":"NA()","v":{"$error":"#N/A"}},{"$f":"NA()","v":{"$error":"#N/A"}},{"$f":"NA()","v":{"$error":"#N/A"}},{"$f":"NA()","v":{"$error":"#N/A"}},8.0499965000000007,3.6949999999999998,{"$f":"NA()","v":{"$error":"#N/A"}},{"$f":"NA()","v":{"$error":"#N/A"}},0.33818120000000002,{"$f":"NA()","v":{"$error":"#N/A"}},{"$f":"NA()","v":{"$error":"#N/A"}},{"$f":"NA()","v":{"$error":"#N/A"}},{"$f":"NA()","v":{"$error":"#N/A"}},{"$f":"NA()","v":{"$error":"#N/A"}},{"$f":"NA()","v":{"$error":"#N/A"}},{"$f":"NA()","v":{"$error":"#N/A"}}]
["N-06","Natural Attenuation","None","TCE",{"$f":"NA()","v":{"$error":"#N/A"}},{"$f":"NA()","v":{"$error":"#N/A"}},{"$f":"NA()","v":{"$error":"#N/A"}},{"$f":"NA()","v":{"$error":"#N/A"}},22.275943099999999,10.5,{"$f":"NA()","v":{"$error":"#N/A"}},{"$f":"NA()","v":{"$error":"#N/A"}},0.32664680000000001,{"$f":"NA()","v":{"$error":"#N/A"}},{"$f":"NA()","v":{"$error":"#N/A"}},{"$f":"NA()","v":{"$error":"#N/A"}},{"$f":"NA()","v":{"$error":"#N/A"}},{"$f":"NA()","v":{"$error":"#N/A"}},{"$f":"NA()","v":{"$error":"#N/A"}},{"$f":"NA()","v":{"$error":"#N/A"}}]
["N-07","Natural Attenuation","None","TCA",{"$f":"NA()","v":{"$error":"#N/A"}},{"$f":"NA()","v":{"$error":"#N/A"}},{"$f":"NA()","v":{"$error":"#N/A"}},{"$f":"NA()","v":{"$error":"#N/A"}},20.45,1.0626399999999999E-2,{"$f":"NA()","v":{"$error":"#N/A"}},{"$f":"NA()","v":{"$error":"#N/A"}},3.2843092,{"$f":"NA()","v":{"$error":"#N/A"}},{"$f":"NA()","v":{"$error":"#N/A"}},{"$f":"NA()","v":{"$error":"#N/A"}},{"$f":"NA()","v":{"$error":"#N/A"}},{"$f":"NA()","v":{"$error":"#N/A"}},{"$f":"NA()","v":{"$error":"#N/A"}},{"$f":"NA()","v":{"$error":"#N/A"}}]
["N-08A","Natural Attenuation","None","TCE",{"$f":"NA()","v":{"$error":"#N/A"}},{"$f":"NA()","v":{"$error":"#N/A"}},{"$f":"NA()","v":{"$error":"#N/A"}},{"$f":"NA()","v":{"$error":"#N/A"}},6.4496478000000002,0.37590469999999998,{"$f":"NA()","v":{"$error":"#N/A"}},{"$f":"NA()","v":{"$error":"#N/A"}},1.2344581999999999,{"$f":"NA()","v":{"$error":"#N/A"}},{"$f":"NA()","v":{"$error":"#N/A"}},{"$f":"NA()","v":{"$error":"#N/A"}},{"$f":"NA()","v":{"$error":"#N/A"}},{"$f":"NA()","v":{"$error":"#N/A"}},{"$f":"NA()","v":{"$error":"#N/A"}},{"$f":"NA()","v":{"$error":"#N/A"}}]
["N-08B","Natural Attenuation","None","TCA",{"$f":"NA()","v":{"$error":"#N/A"}},{"$f":"NA()","v":{"$error":"#N/A"}},{"$f":"NA()","v":{"$error":"#N/A"}},{"$f":"NA()","v":{"$error":"#N/A"}},3.9555921999999999,3.6900000000000002E-2,{"$f":"NA()","v":{"$error":"#N/A"}},{"$f":"NA()","v":{"$error":"#N/A"}},2.0301851000000002,{"$f":"NA()","v":{"$error":"#N/A"}},{"$f":"NA()","v":{"$error":"#N/A"}},{"$f":"NA()","v":{"$error":"#N/A"}},{"$f":"NA()","v":{"$error":"#N/A"}},{"$f":"NA()","v":{"$error":"#N/A"}},{"$f":"NA()","v":{"$error":"#N/A"}},{"$f":"NA()","v":{"$error":"#N/A"}}]
["N-09A","Natural Attenuation","None","TCE",{"$f":"NA()","v":{"$error":"#N/A"}},{"$f":"NA()","v":{"$error":"#N/A"}},{"$f":"NA()","v":{"$error":"#N/A"}},{"$f":"NA()","v":{"$error":"#N/A"}},9.4024101000000009,1.9773719999999999,{"$f":"NA()","v":{"$error":"#N/A"}},{"$f":"NA()","v":{"$error":"#N/A"}},0.67715080000000005,{"$f":"NA()","v":{"$error":"#N/A"}},{"$f":"NA()","v":{"$error":"#N/A"}},{"$f":"NA()","v":{"$error":"#N/A"}},{"$f":"NA()","v":{"$error":"#N/A"}},{"$f":"NA()","v":{"$error":"#N/A"}},{"$f":"NA()","v":{"$error":"#N/A"}},{"$f":"NA()","v":{"$error":"#N/A"}}]
["N-09B9","Natural Attenuation","None","TCA",{"$f":"NA()","v":{"$error":"#N/A"}},{"$f":"NA()","v":{"$error":"#N/A"}},{"$f":"NA()","v":{"$error":"#N/A"}},{"$f":"NA()","v":{"$error":"#N/A"}},25.509433600000001,4.4899889000000002,{"$f":"NA()","v":{"$error":"#N/A"}},{"$f":"NA()","v":{"$error":"#N/A"}},0.7544556,{"$f":"NA()","v":{"$error":"#N/A"}},{"$f":"NA()","v":{"$error":"#N/A"}},{"$f":"NA()","v":{"$error":"#N/A"}},{"$f":"NA()","v":{"$error":"#N/A"}},{"$f":"NA()","v":{"$error":"#N/A"}},{"$f":"NA()","v":{"$error":"#N/A"}},{"$f":"NA()","v":{"$error":"#N/A"}}]
["N-10","Natural Attenuation","None","TCA",{"$f":"NA()","v":{"$error":"#N/A"}},{"$f":"NA()","v":{"$error":"#N/A"}},{"$f":"NA()","v":{"$error":"#N/A"}},{"$f":"NA()","v":{"$error":"#N/A"}},2.5,0.94,{"$f":"NA()","v":{"$error":"#N/A"}},{"$f":"NA()","v":{"$error":"#N/A"}},0.42481219999999997,{"$f":"NA()","v":{"$error":"#N/A"}},{"$f":"NA()","v":{"$error":"#N/A"}},{"$f":"NA()","v":{"$error":"#N/A"}},{"$f":"NA()","v":{"$error":"#N/A"}},{"$f":"NA()","v":{"$error":"#N/A"}},{"$f":"NA()","v":{"$error":"#N/A"}},{"$f":"NA()","v":{"$error":"#N/A"}}]
["N-11","Natural Attenuation","None","PCE",{"$f":"NA()","v":{"$error":"#N/A"}},{"$f":"NA()","v":{"$error":"#N/A"}},{"$f":"NA()","v":{"$error":"#N/A"}},{"$f":"NA()","v":{"$error":"#N/A"}},9.9774399999999999E-2,1.8691900000000001E-2,{"$f":"NA()","v":{"$error":"#N/A"}},{"$f":"NA()","v":{"$error":"#N/A"}},0.72736670000000003,{"$f":"NA()","v":{"$error":"#N/A"}},{"$f":"NA()","v":{"$error":"#N/A"}},{"$f":"NA()","v":{"$error":"#N/A"}},{"$f":"NA()","v":{"$error":"#N/A"}},{"$f":"NA()","v":{"$error":"#N/A"}},{"$f":"NA()","v":{"$error":"#N/A"}},{"$f":"NA()","v":{"$error":"#N/A"}}]
["N-12","Natural Attenuation","None","TCE",{"$f":"NA()","v":{"$error":"#N/A"}},{"$f":"NA()","v":{"$error":"#N/A"}},{"$f":"NA()","v":{"$error":"#N/A"}},{"$f":"NA()","v":{"$error":"#N/A"}},4.8291000000000002E-3,4.5877099999999997E-2,{"$f":"NA()","v":{"$error":"#N/A"}},{"$f":"NA()","v":{"$error":"#N/A"}},-0.97773180000000004,{"$f":"NA()","v":{"$error":"#N/A"}},{"$f":"NA()","v":{"$error":"#N/A"}},{"$f":"NA()","v":{"$error":"#N/A"}},{"$f":"NA()","v":{"$error":"#N/A"}},{"$f":"NA()","v":{"$error":"#N/A"}},{"$f":"NA()","v":{"$error":"#N/A"}},{"$f":"NA()","v":{"$error":"#N/A"}}]
["N-13A","Natural Attenuation","None","TCE",{"$f":"NA()","v":{"$error":"#N/A"}},{"$f":"NA()","v":{"$error":"#N/A"}},{"$f":"NA()","v":{"$error":"#N/A"}},{"$f":"NA()","v":{"$error":"#N/A"}},129.88868550000001,74.242388099999999,{"$f":"NA()","v":{"$error":"#N/A"}},{"$f":"NA()","v":{"$error":"#N/A"}},0.24291940000000001,{"$f":"NA()","v":{"$error":"#N/A"}},{"$f":"NA()","v":{"$error":"#N/A"}},{"$f":"NA()","v":{"$error":"#N/A"}},{"$f":"NA()","v":{"$error":"#N/A"}},{"$f":"NA()","v":{"$error":"#N/A"}},{"$f":"NA()","v":{"$error":"#N/A"}},{"$f":"NA()","v":{"$error":"#N/A"}}]
["N-13B","Natural Attenuation","None","TCA",{"$f":"NA()","v":{"$error":"#N/A"}},{"$f":"NA()","v":{"$error":"#N/A"}},{"$f":"NA()","v":{"$error":"#N/A"}},{"$f":"NA()","v":{"$error":"#N/A"}},0.60024219999999995,3.8813100000000003E-2,{"$f":"NA()","v":{"$error":"#N/A"}},{"$f":"NA()","v":{"$error":"#N/A"}},1.1893480000000001,{"$f":"NA()","v":{"$error":"#N/A"}},{"$f":"NA()","v":{"$error":"#N/A"}},{"$f":"NA()","v":{"$error":"#N/A"}},{"$f":"NA()","v":{"$error":"#N/A"}},{"$f":"NA()","v":{"$error":"#N/A"}},{"$f":"NA()","v":{"$error":"#N/A"}},{"$f":"NA()","v":{"$error":"#N/A"}}]
["N-14","Natural Attenuation","None","TCE",{"$f":"NA()","v":{"$error":"#N/A"}},{"$f":"NA()","v":{"$error":"#N/A"}},{"$f":"NA()","v":{"$error":"#N/A"}},{"$f":"NA()","v":{"$error":"#N/A"}},0.65726709999999999,0.45277299999999998,{"$f":"NA()","v":{"$error":"#N/A"}},{"$f":"NA()","v":{"$error":"#N/A"}},0.16186139999999999,{"$f":"NA()","v":{"$error":"#N/A"}},{"$f":"NA()","v":{"$error":"#N/A"}},{"$f":"NA()","v":{"$error":"#N/A"}},{"$f":"NA()","v":{"$error":"#N/A"}},{"$f":"NA()","v":{"$error":"#N/A"}},{"$f":"NA()","v":{"$error":"#N/A"}},{"$f":"NA()","v":{"$error":"#N/A"}}]
["N-15","Natural Attenuation","None","TCE",{"$f":"NA()","v":{"$error":"#N/A"}},{"$f":"NA()","v":{"$error":"#N/A"}},{"$f":"NA()","v":{"$error":"#N/A"}},{"$f":"NA()","v":{"$error":"#N/A"}},11,0.17356930000000001,{"$f":"NA()","v":{"$error":"#N/A"}},{"$f":"NA()","v":{"$error":"#N/A"}},1.8019198000000001,{"$f":"NA()","v":{"$error":"#N/A"}},{"$f":"NA()","v":{"$error":"#N/A"}},{"$f":"NA()","v":{"$error":"#N/A"}},{"$f":"NA()","v":{"$error":"#N/A"}},{"$f":"NA()","v":{"$error":"#N/A"}},{"$f":"NA()","v":{"$error":"#N/A"}},{"$f":"NA()","v":{"$error":"#N/A"}}]
["N-16","Natural Attenuation","None","TCE",{"$f":"NA()","v":{"$error":"#N/A"}},{"$f":"NA()","v":{"$error":"#N/A"}},{"$f":"NA()","v":{"$error":"#N/A"}},{"$f":"NA()","v":{"$error":"#N/A"}},0.51,5.3110400000000002E-2,{"$f":"NA()","v":{"$error":"#N/A"}},{"$f":"NA()","v":{"$error":"#N/A"}},0.9823904,{"$f":"NA()","v":{"$error":"#N/A"}},{"$f":"NA()","v":{"$error":"#N/A"}},{"$f":"NA()","v":{"$error":"#N/A"}},{"$f":"NA()","v":{"$error":"#N/A"}},{"$f":"NA()","v":{"$error":"#N/A"}},{"$f":"NA()","v":{"$error":"#N/A"}},{"$f":"NA()","v":{"$error":"#N/A"}}]
["N-17","Natural Attenuation","None","PCE",{"$f":"NA()","v":{"$error":"#N/A"}},{"$f":"NA()","v":{"$error":"#N/A"}},{"$f":"NA()","v":{"$error":"#N/A"}},{"$f":"NA()","v":{"$error":"#N/A"}},0.8626819,5.0000000000000001E-3,{"$f":"NA()","v":{"$error":"#N/A"}},{"$f":"NA()","v":{"$error":"#N/A"}},2.2368806999999999,{"$f":"NA()","v":{"$error":"#N/A"}},{"$f":"NA()","v":{"$error":"#N/A"}},{"$f":"NA()","v":{"$error":"#N/A"}},{"$f":"NA()","v":{"$error":"#N/A"}},{"$f":"NA()","v":{"$error":"#N/A"}},{"$f":"NA()","v":{"$error":"#N/A"}},{"$f":"NA()","v":{"$error":"#N/A"}}]
["N-18","Natural Attenuation","None","PCE",{"$f":"NA()","v":{"$error":"#N/A"}},{"$f":"NA()","v":{"$error":"#N/A"}},{"$f":"NA()","v":{"$error":"#N/A"}},{"$f":"NA()","v":{"$error":"#N/A"}},11.3036736,3.2468751,{"$f":"NA()","v":{"$error":"#N/A"}},{"$f":"NA()","v":{"$error":"#N/A"}},0.54175399999999996,{"$f":"NA()","v":{"$error":"#N/A"}},{"$f":"NA()","v":{"$error":"#N/A"}},{"$f":"NA()","v":{"$error":"#N/A"}},{"$f":"NA()","v":{"$error":"#N/A"}},{"$f":"NA()","v":{"$error":"#N/A"}},{"$f":"NA()","v":{"$error":"#N/A"}},{"$f":"NA()","v":{"$error":"#N/A"}}]
["N-19","Natural Attenuation","None","PCE",{"$f":"NA()","v":{"$error":"#N/A"}},{"$f":"NA()","v":{"$error":"#N/A"}},{"$f":"NA()","v":{"$error":"#N/A"}},{"$f":"NA()","v":{"$error":"#N/A"}},0.58416570000000001,0.31959399999999999,{"$f":"NA()","v":{"$error":"#N/A"}},{"$f":"NA()","v":{"$error":"#N/A"}},0.26193739999999999,{"$f":"NA()","v":{"$error":"#N/A"}},{"$f":"NA()","v":{"$error":"#N/A"}},{"$f":"NA()","v":{"$error":"#N/A"}},{"$f":"NA()","v":{"$error":"#N/A"}},{"$f":"NA()","v":{"$error":"#N/A"}},{"$f":"NA()","v":{"$error":"#N/A"}},{"$f":"NA()","v":{"$error":"#N/A"}}]
["N-20","Natural Attenuation","None","PCE",{"$f":"NA()","v":{"$error":"#N/A"}},{"$f":"NA()","v":{"$error":"#N/A"}},{"$f":"NA()","v":{"$error":"#N/A"}},{"$f":"NA()","v":{"$error":"#N/A"}},1.4654617000000001,0.54145089999999996,{"$f":"NA()","v":{"$error":"#N/A"}},{"$f":"NA()","v":{"$error":"#N/A"}},0.43241540000000001,{"$f":"NA()","v":{"$error":"#N/A"}},{"$f":"NA()","v":{"$error":"#N/A"}},{"$f":"NA()","v":{"$error":"#N/A"}},{"$f":"NA()","v":{"$error":"#N/A"}},{"$f":"NA()","v":{"$error":"#N/A"}},{"$f":"NA()","v":{"$error":"#N/A"}},{"$f":"NA()","v":{"$error":"#N/A"}}]
["N-21","Natural Attenuation","None","PCE",{"$f":"NA()","v":{"$error":"#N/A"}},{"$f":"NA()","v":{"$error":"#N/A"}},{"$f":"NA()","v":{"$error":"#N/A"}},{"$f":"NA()","v":{"$error":"#N/A"}},113.4932712,12.4475868,{"$f":"NA()","v":{"$error":"#N/A"}},{"$f":"NA()","v":{"$error":"#N/A"}},0.95988490000000004,{"$f":"NA()","v":{"$error":"#N/A"}},{"$f":"NA()","v":{"$error":"#N/A"}},{"$f":"NA()","v":{"$error":"#N/A"}},{"$f":"NA()","v":{"$error":"#N/A"}},{"$f":"NA()","v":{"$error":"#N/A"}},{"$f":"NA()","v":{"$error":"#N/A"}},{"$f":"NA()","v":{"$error":"#N/A"}}]
["N-22","Natural Attenuation","None","PCE",{"$f":"NA()","v":{"$error":"#N/A"}},{"$f":"NA()","v":{"$error":"#N/A"}},{"$f":"NA()","v":{"$error":"#N/A"}},{"$f":"NA()","v":{"$error":"#N/A"}},0.60988659999999995,0.29113600000000001,{"$f":"NA()","v":{"$error":"#N/A"}},{"$f":"NA()","v":{"$error":"#N/A"}},0.32115310000000002,{"$f":"NA()","v":{"$error":"#N/A"}},{"$f":"NA()","v":{"$error":"#N/A"}},{"$f":"NA()","v":{"$error":"#N/A"}},{"$f":"NA()","v":{"$error":"#N/A"}},{"$f":"NA()","v":{"$error":"#N/A"}},{"$f":"NA()","v":{"$error":"#N/A"}},{"$f":"NA()","v":{"$error":"#N/A"}}]
["N-23","Natural Attenuation","None","PCE",{"$f":"NA()","v":{"$error":"#N/A"}},{"$f":"NA()","v":{"$error":"#N/A"}},{"$f":"NA()","v":{"$error":"#N/A"}},{"$f":"NA()","v":{"$error":"#N/A"}},8.1890599999999994E-2,9.7698999999999998E-3,{"$f":"NA()","v":{"$error":"#N/A"}},{"$f":"NA()","v":{"$error":"#N/A"}},0.92334190000000005,{"$f":"NA()","v":{"$error":"#N/A"}},{"$f":"NA()","v":{"$error":"#N/A"}},{"$f":"NA()","v":{"$error":"#N/A"}},{"$f":"NA()","v":{"$error":"#N/A"}},{"$f":"NA()","v":{"$error":"#N/A"}},{"$f":"NA()","v":{"$error":"#N/A"}},{"$f":"NA()","v":{"$error":"#N/A"}}]
["GSI-116","Chemical Reduction/Bioremediation","Emulsified ZVI","TCE","Pilot","2002-08-01","2002-08-06","Coarse-grained",410,11.247199699999999,700,720,1.5617394,-1.2234500000000001E-2,417.9,139.04858179999999,719,745,0.47790579999999999,-1.5427400000000001E-2]
["GSI-118","Chemical Reduction/Bioremediation","Emulsified ZVI","TCE","Pilot","2007-01-29","2007-02-26","Fine-grained",3.71,0.16,7.4029999999999996,3.4049999999999998,1.3652538999999999,0.3372906,11.255000000000001,7.81,18.91,9.4009999999999998,0.15869449999999999,0.3035175]
["GSI-124","Chemical Reduction/Bioremediation","Emulsified ZVI","TCE","Pilot","2007-03-01","2007-03-02","Fine-grained",0.36099999999999999,0.11681859999999999,1.82,2.27,0.48999520000000002,-9.5954499999999998E-2,0.42380000000000001,0.68424589999999996,1.921,2.4359999999999999,-0.20805119999999999,-0.1031499]
["GSI-130","Chemical Reduction/Bioremediation","Emulsified ZVI","TCE","Pilot","2006-10-14","2006-10-18","Fine-grained",3.1388552999999999,0.13139100000000001,8,14,1.3782055,-0.243038,29.932365399999998,19.154452500000001,66,44.500999999999998,0.1938713,0.1711742]

{"sheet":"Triangle Chart Examples","index":3,"n_rows":315,"n_cols":148,"rows_kept":315,"cut":false,"hidden":false,"merged":[]}
[null,null,null,null,null,null,null,null,"BY SITE: PARENTS",null,null,null,null,null,null,null,"BY SITE: TOTALS"]
["GSI Database ID","Well ID","GSI Database ID_Well ID","NS","Technology","Amendment","Parent CVOC","Time from Start of Rem. To End of Data Record, yrs","Parent \npercentile GM Before, mg/L","Parent \npercentile GM After, mg/L","Parent Geomean After Adj to 0.001, mg/L","Parent Maximum Before, mg/L","Parent \nMaximum After, mg/L","Parent Max After Adj to 0.001, mg/L","Parent Minimum After, mg/L","Parent Min After Adj to 0.001, mg/L","Total \npercentile GM Before, mg/L","Total \npercentile GM After, mg/L","Total Geomean After Adj to 0.001, mg/L","Total Maximum Before, mg/L","Total \nMaximum After, mg/L","Total Max After Adj to 0.001, mg/L","Total \nMinimum After, mg/L","Parent Min After Adj to 0.001, mg/L"]
["Arcadis-01","MW01-01","Arcadis-01_MW01-01","NS","Bioremediation","Soluble","PCE",8.4328767123287669,1.0649999999999999,6.5358936562870187E-2,6.5358936562870187E-2,1.5,0.47,0.47,3.0999999999999999E-3,3.0999999999999999E-3,1.1837499999999999,0.22416565589418574,0.22416565589418574,1.597,0.61799999999999999,0.61799999999999999,3.09E-2,3.09E-2,null,null,"SKELETON"]
["Arcadis-02A","MW02-01","Arcadis-02A_MW02-01","NS","Bioremediation","Soluble","PCE",8.1424657534246574,4.3999999999999997E-2,9.5286183213195335E-4,1E-3,1.2,6.5000000000000002E-2,6.5000000000000002E-2,2.0000000000000001E-4,1E-3,1.2208000000000001,0.21856902899788941,0.21856902899788941,6.73,2.9649999999999999,2.9649999999999999,8.6999999999999994E-3,8.6999999999999994E-3,null,null,null,null,null,null,null,null,null,null,null,null,null,"PARENT",null,null,null,null,null,null,null,null,null,null,"PARENT",null,null,null,null,null,null,null,null,null,null,"PARENT",null,null,null,null,null,null,null,null,null,null,"PARENT",null,null,null,null,null,null,null,null,null,null,"PARENT",null,null,null,null,null,null,null,null,null,null,"TOTAL",null,null,null,null,null,null,null,null,null,null,"TOTAL",null,null,null,null,null,null,null,null,null,null,"TOTAL",null,null,null,null,null,null,null,null,null,null,"TOTAL",null,null,null,null,null,null,null,null,null,null,"TOTAL",null,null,null,null,null,null,null,null,null,null,"PCE"]
["Arcadis-02B","MW02-08","Arcadis-02B_MW02-08","NS","Bioremediation","Soluble","PCE",8.1369863013698627,0.21,1E-3,1E-3,3.7,0.61,0.61,1E-4,1E-3,0.33799999999999997,5.4565471524509995E-2,5.4565471524509995E-2,5.8280000000000012,1.252,1.252,2E-3,2E-3,null,null,"OoMs",0,1,2,3,4,5,"MCL"]
["Arcadis-02C","MW02-27","Arcadis-02C_MW02-27","NS","Bioremediation","Soluble","PCE",6.3808219178082188,0.245,2.4953117299203832E-2,2.4953117299203832E-2,0.28000000000000003,0.12,0.12,4.7999999999999996E-3,4.7999999999999996E-3,0.66549999999999998,2.3170794519423268,2.3170794519423268,0.80400000000000005,7.6580000000000004,7.6580000000000004,0.24400000000000002,0.24400000000000002,null,null,1E-4,1E-4,null,null,null,null,null,5.0000000000000001E-3,null,null,null,"Geomean Before and After",null,null,null,null,null,null,null,null,null,null,"Maximum Before and After",null,null,null,null,null,null,null,null,null,null,"Maximum Before and Minimum After",null,null,null,null,null,null,null,null,null,null,"Geomean Before and Maximum After",null,null,null,null,null,null,null,null,null,null,"Geomean Before and Minimum After",null,null,null,null,null,null,null,null,null,null,"Geomean Before and After",null,null,null,null,null,null,null,null,null,null,"Maximum Before and After",null,null,null,null,null,null,null,null,null,null,"Maximum Before and Minimum After",null,null,null,null,null,null,null,null,null,null,"Geomean Before and Maximum After",null,null,null,null,null,null,null,null,null,null,"Geomean Before and Minimum After",null,null,null,null,null,null,null,null,null,null,"Geomean Before and After"]
["Arcadis-04","MW04-01","Arcadis-04_MW04-01","NS","Bioremediation","Soluble","PCE",7.7095890410958905,3.34,1E-3,1E-3,21,9.7400000000000004E-3,9.7400000000000004E-3,1E-3,1E-3,4.84,0.25654931901761496,0.25654931901761496,22.088000000000001,3.532,3.532,4.7600000000000003E-3,4.7600000000000003E-3,null,null,1E-3,1E-3,1E-4,null,null,null,null,5.0000000000000001E-3]
["Arcadis-05","MW05-01","Arcadis-05_MW05-01","NS","Bioremediation","Semi-Soluble / Slow-Release","TCE",3.0876712328767124,0.23893275410920239,6.3553814869767147E-2,6.3553814869767147E-2,0.69,0.51,0.51,1.6000000000000001E-3,1.6000000000000001E-3,0.24163136175102051,6.6428589783953745E-2,6.6428589783953745E-2,0.69199999999999995,0.51200000000000001,0.51200000000000001,3.5999999999999999E-3,3.5999999999999999E-3,null,null,0.01,0.01,1E-3,1E-4,null,null,null,5.0000000000000001E-3]
["Arcadis-06","MW06-01","Arcadis-06_MW06-01","NS","Bioremediation","Soluble","PCE",5.2575342465753421,0.21,1.708147089291952E-3,1.708147089291952E-3,1.1000000000000001,0.48,0.48,2.3999999999999998E-4,1E-3,0.39900000000000002,0.13511052849991656,0.13511052849991656,2.4239999999999999,1.55,1.55,4.1799999999999997E-3,4.1799999999999997E-3,null,null,0.1,0.1,0.01,1E-3,1E-4,null,null,5.0000000000000001E-3]
["Arcadis-09","IW09-01","Arcadis-09_IW09-01","NS","Bioremediation","Soluble & Semi-Soluble","TCA",3.484931506849315,9.65,1.0847969814208067,1.0847969814208067,14,15,15,2.5000000000000001E-3,2.5000000000000001E-3,9.6524999999999999,1.1495219994008856,1.1495219994008856,14.025,15.0025,15.0025,3.95E-2,3.95E-2,null,null,1,1,0.1,0.01,1E-3,1E-4,null,5.0000000000000001E-3]
["B-01","MW-3","B-01_MW-3","NS","Bioremediation","Semi-Soluble / Slow-Release","PCE",3.106849315068493,10.588937323090075,0.22917385482767583,0.22917385482767583,39.6,2.0099999999999998,2.0099999999999998,5.74E-2,5.74E-2,20.536354036910332,0.62691076108868404,0.62691076108868404,44.829000000000001,2.2875999999999999,2.2875999999999999,0.31769999999999998,0.31769999999999998,null,null,10,10,1,0.1,0.01,1E-3,1E-4,5.0000000000000001E-3]
["GSI-FD-01",null,null,"NS","Bioremediation","Semi-Soluble / Slow-Release","TCE",4.8,39.049999999999997,0.4388214261414507,0.439,41.8,1.83,1.83,4.2999999999999997E-2,4.2999999999999997E-2,42.119884999999996,2.1375348172852737,2.1375348172852737,47.131769999999996,4.6949999999999994,4.6949999999999994,0.20799999999999999,0.20799999999999999,null,null,100,100,10,1,0.1,0.01,1E-3,5.0000000000000001E-3]
["GSI-FD-02",null,null,"NS","Bioremediation","Semi-Soluble / Slow-Release","TCE",9.6,7.8,2.7266029150346024E-2,2.7E-2,7.8,7.2999999999999995E-2,7.2999999999999995E-2,2.5999999999999999E-3,2.5999999999999999E-3,8.5760000000000005,0.28835800931397854,0.28835800931397854,8.5760000000000005,4.5826000000000002,4.5826000000000002,6.9629999999999997E-2,6.9629999999999997E-2,null,null,1000,1000,100,10,1,0.1,0.01,5.0000000000000001E-3]
["B-04","MW-1","B-04_MW-1","NS","Bioremediation","Semi-Soluble / Slow-Release","PCE",1.8,44.1,0.29028992125453978,0.29028992125453978,81.3,236,236,2.5000000000000001E-3,2.5000000000000001E-3,48.1,21.14739714871569,21.14739714871569,87.72,245.78,245.78,6.1,6.1,null,null,10000,10000,1000,100,10,1,0.1,5.0000000000000001E-3]
["B-05","HGRK-MP04","B-05_HGRK-MP04","NS","Bioremediation","Semi-Soluble / Slow-Release","TCE",2.7260273972602738,53.333231934954242,2.9370763140087013E-2,2.9370763140087013E-2,130,72,72,1.6000000000000001E-4,1E-3,53.333231934954242,2.9370763140087013E-2,2.9370763140087013E-2,130,72,72,1.6000000000000001E-4,1E-3,null,null,100000,100000,10000,1000,100,10,1,5.0000000000000001E-3]
["B-06","GZ-2","B-06_GZ-2","NS","Bioremediation","Soluble","TCE",18.616438356164384,0.57535559434947392,5.0000000000000001E-4,1E-3,58,5.0000000000000001E-4,5.0000000000000001E-4,5.0000000000000001E-4,1E-3,1.4865502389135488,0.14113632750381316,0.14113632750381316,58,3.9105000000000003,3.9105000000000003,2E-3,2E-3,null,null,1000000,1000000,100000,10000,1000,100,10,5.0000000000000001E-3]
["B-07","MW-011","B-07_MW-011","NS","Bioremediation","Semi-Soluble / Slow-Release","PCE",11.150684931506849,0.68184045826207251,9.3968042472734436E-4,1E-3,1.29,1,1,1.2E-4,1E-3,26.35,2.092858130672736E-2,2.092858130672736E-2,416.22,30.56,30.56,6.4000000000000005E-4,1E-3]
["B-08","MW-009","B-08_MW-009","NS","Bioremediation","Semi-Soluble / Slow-Release","PCE",2.8575342465753426,2.9505325745713593,4.2492911089297168E-2,4.2492911089297168E-2,14.5,1.92,1.92,1E-3,1E-3,4.9350784545586137,1.9849834377577349,1.9849834377577349,20.53,16.102,16.102,2E-3,2E-3]
["GSI-FD-03",null,null,"NS","Bioremediation","Soluble","TCE",10,0.71277247421600121,8.06225774829855E-2,8.1000000000000003E-2,0.9254,1.3,1.3,5.0000000000000001E-3,8.06225774829855E-2,0.71277247421600121,8.06225774829855E-2,8.06225774829855E-2,0.9254,1.3,1.3,5.0000000000000001E-3,5.0000000000000001E-3]
["B-10","MW-1","B-10_MW-1","NS","Bioremediation","Semi-Soluble / Slow-Release","PCE",8.4986301369863018,1.1627046861161001,6.5537040932299884E-4,1E-3,25.2,3.3999999999999998E-3,3.3999999999999998E-3,2.0000000000000001E-4,1E-3,1.48733373719964,0.93792999044977399,0.93792999044977399,26.460999999999999,5.077,5.077,0.01,0.01]
["B-11","JEMW-4","B-11_JEMW-4","NS","Bioremediation","Semi-Soluble / Slow-Release","PCE",8.8712328767123285,9.0111042608550473,0.12549821425752813,0.12549821425752813,98,63.9,63.9,5.0000000000000001E-4,1E-3,9.0111042608550473,0.18980859824035914,0.18980859824035914,98,63.9,63.9,5.0000000000000001E-4,1E-3]
["B-12","GZ-6L","B-12_GZ-6L","NS","Bioremediation","Soluble","TCE",2.2684931506849315,0.44519536202187243,3.591406023841695E-2,3.591406023841695E-2,0.83,0.19,0.19,1E-3,1E-3,0.44519536202187243,3.591406023841695E-2,3.591406023841695E-2,0.83,0.19,0.19,1E-3,1E-3]
["B-13","MW-104D","B-13_MW-104D","NS","Bioremediation","Soluble","TCE",1.1700000000000079,55.828308231577282,18.013968580994511,18.013968580994511,97.4,31.3,31.3,11.6,11.6,55.828308231577282,18.013968580994511,18.013968580994511,97.4,31.3,31.3,11.6,11.6]
["B-15","MW-2","B-15_MW-2","NS","Bioremediation","Semi-Soluble / Slow-Release","PCE",8.5890410958904102,26.071125841175139,6.738568124453799E-2,6.738568124453799E-2,66.2,18.3,18.3,6.3E-3,6.3E-3,47.296890910893772,4.9790699894080968,4.9790699894080968,96.861000000000004,55.893000000000001,55.893000000000001,2.0069999999999997,2.0069999999999997]
["B-16","MW-2","B-16_MW-2","NS","Bioremediation","Soluble","PCE",9.8164383561643831,1.8289600441321632,1.2019642369275858,1.2019642369275858,4.43,6.3,6.3,0.18,0.18,2.0065020344468305,1.328792330486996,1.328792330486996,4.952,6.77,6.77,0.22799999999999998,0.22799999999999998]
["B-17","MW-7","B-17_MW-7","NS","Bioremediation","Semi-Soluble / Slow-Release","PCE",3.495890410958904,12.3,2.4494897427831783E-3,2.4494897427831783E-3,115,7.6,7.6,1E-3,1E-3,19.11,5.0378566871239996E-2,5.0378566871239996E-2,225,34.4,34.4,2E-3,2E-3]
["B-19","MW023","B-19_MW023","NS","Bioremediation","Soluble","TCE",0.67397260273972603,29,1.3,1.3,168,4.5999999999999996,4.5999999999999996,1.3,1.3,29,1.3,1.3,168,4.5999999999999996,4.5999999999999996,1.3,1.3]
["B-20","EW-A","B-20_EW-A","NS","Bioremediation","Soluble","PCE",1.5835616438356164,7.6749476985158616,2.5882254162292104E-2,2.5882254162292104E-2,28,200,200,5.0000000000000001E-4,1E-3,16.25,6.5282341841144405,6.5282341841144405,28,206.94,206.94,2.3900000000000001E-2,2.3900000000000001E-2]
["B-21","GW7F","B-21_GW7F","NS","Bioremediation","Semi-Soluble / Slow-Release","PCE",0.99726027397260275,0.4,1.1140367140886667E-2,1.1140367140886667E-2,0.4,0.35399999999999998,0.35399999999999998,2E-3,2E-3,0.4,1.1140367140886667E-2,1.1140367140886667E-2,0.4,0.35399999999999998,0.35399999999999998,2E-3,2E-3]
["B-22","TAN-25","B-22_TAN-25","NS","Bioremediation","Soluble","TCE",1.75,2.4000000000000004,5.0000000000000001E-3,5.0000000000000001E-3,3.2,5.0000000000000001E-3,5.0000000000000001E-3,5.0000000000000001E-3,5.0000000000000001E-3,2.4000000000000004,5.0000000000000001E-3,5.0000000000000001E-3,3.2,5.0000000000000001E-3,5.0000000000000001E-3,5.0000000000000001E-3,5.0000000000000001E-3]
["B-23","PZ-10B","B-23_PZ-10B","NS","Bioremediation","Soluble","TCE",0.39452054794520547,345,49,49,1700,300,300,20,20,345,49,49,1700,300,300,20,20]
["B-24","Inside","B-24_Inside","NS","Bioremediation","Soluble","TCE",3.0799999999999921,11.385,2.4068524924525776,2.4068524924525776,22.7,16.7,16.7,4.5999999999999999E-2,4.5999999999999999E-2,11.385,2.4068524924525776,2.4068524924525776,22.7,16.7,16.7,4.5999999999999999E-2,4.5999999999999999E-2]
["B-25","MW-302","B-25_MW-302","NS","Bioremediation","Semi-Soluble / Slow-Release","PCE",1.2301369863013698,3.5,0.6092293022411065,0.6092293022411065,26,14,14,5.0000000000000001E-3,5.0000000000000001E-3,3.5,0.6092293022411065,0.6092293022411065,26,14,14,5.0000000000000001E-3,5.0000000000000001E-3]
["B-26","MW-13","B-26_MW-13","NS","Bioremediation","Soluble","PCE",1.6438356164383561,1.5245966692414834,6.6360867250797092E-3,6.6360867250797092E-3,1.6,0.2,0.2,2.5000000000000001E-3,2.5000000000000001E-3,1.5245966692414834,6.6360867250797092E-3,6.6360867250797092E-3,1.6,0.2,0.2,2.5000000000000001E-3,2.5000000000000001E-3]
["CAL-1","CAL-1A","CAL-1_CAL-1A","NS","Bioremediation","Semi-Soluble / Slow-Release","PCE",9.8465753424657532,17.686993925552645,0.14614605090188632,0.14614605090188632,77,1.5,1.5,2.5000000000000001E-4,1E-3,40.203692977222474,3.7997309665168264,3.7997309665168264,86.3,14.03,14.03,1.7600000000000001E-2,1.7600000000000001E-2]
["CAL-11","CAL-11A","CAL-11_CAL-11A","NS","Bioremediation","Semi-Soluble / Slow-Release","PCE",4.8876712328767127,0.15307567716145187,5.4650839208990429E-2,5.4650839208990429E-2,0.37,0.15,0.15,6.4999999999999997E-3,6.4999999999999997E-3,0.19074482404363713,8.3594508583813371E-2,8.3594508583813371E-2,0.38149999999999995,0.1615,0.1615,1.06E-2,1.06E-2]
["CAL-12","CAL-12A","CAL-12_CAL-12A","NS","Bioremediation","Semi-Soluble / Slow-Release","TCE",5.4082191780821915,0.41040185108639199,7.8142181872913857E-2,7.8142181872913857E-2,0.69,0.26,0.26,8.199999999999999E-3,8.199999999999999E-3,0.41349929606398839,0.25291580325373747,0.25291580325373747,0.69149999999999989,0.443,0.443,2.8499999999999998E-2,2.8499999999999998E-2]
["CAL-13","CAL-13A","CAL-13_CAL-13A","NS","Bioremediation","Soluble","TCE",12.646575342465754,3.7002220601174689,3.4047754628631871E-3,3.4047754628631871E-3,120,1,1,2.2000000000000001E-4,1E-3,3.7013942933711217,0.65144585556789358,0.65144585556789358,123.4525,4.0350000000000001,4.0350000000000001,2.8050000000000002E-2,2.8050000000000002E-2]
["CAL-14","CAL-14A","CAL-14_CAL-14A","NS","Bioremediation","Soluble","TCE",8.4246575342465757,0.6370807822080089,7.2069915453646452E-2,7.2069915453646452E-2,210,26,26,1.2500000000000001E-2,1.2500000000000001E-2,2.8395547699820112,2.4942151495565876,2.4942151495565876,295.5,90,90,0.48500000000000004,0.48500000000000004]
["CAL-15","CAL-15A","CAL-15_CAL-15A","NS","Bioremediation","Soluble","TCE",8.7479452054794518,2.1601645965105813,1.9202835770729725,1.9202835770729725,4.5,5,5,0.06,0.06,2.1704445267932555,1.9333204932614989,1.9333204932614989,4.5075000000000003,5.0052500000000002,5.0052500000000002,0.13075000000000001,0.13075000000000001]
["CAL-16","CAL-16A","CAL-16_CAL-16A","NS","Bioremediation","Semi-Soluble / Slow-Release","PCE",4.3041095890410963,0.28817424229271432,1.6657099781800112E-2,1.6657099781800112E-2,0.68,0.65,0.65,3.5999999999999997E-4,1E-3,0.38924055695831516,8.7482770709261484E-2,8.7482770709261484E-2,0.82906000000000002,1.9849999999999999,1.9849999999999999,3.98E-3,3.98E-3]
["CAL-17","CAL-17A","CAL-17_CAL-17A","NS","Bioremediation","Semi-Soluble / Slow-Release","PCE",10.432876712328767,0.10345064542000465,3.1072164549468428E-2,3.1072164549468428E-2,2.2999999999999998,0.48,0.48,4.4000000000000003E-3,4.4000000000000003E-3,0.12578055028696589,6.9923538807238075E-2,6.9923538807238075E-2,2.6509999999999998,0.52900000000000003,0.52900000000000003,1.6560000000000002E-2,1.6560000000000002E-2]
["CAL-2","CAL-2A","CAL-2_CAL-2A","NS","Bioremediation","Semi-Soluble / Slow-Release","PCE",8.1205479452054803,0.82984296294342941,0.20479672074467653,0.20479672074467653,1.57,1.25,1.25,2.18E-2,2.18E-2,1.1129027352863896,0.46062083798249503,0.46062083798249503,1.86327,1.5632999999999999,1.5632999999999999,0.16514999999999999,0.16514999999999999]
["CAL-3","CAL-3A","CAL-3_CAL-3A","NS","Bioremediation","Semi-Soluble / Slow-Release","PCE",10.276712328767124,6.1394367398225499E-2,8.8511154722118839E-3,8.8511154722118839E-3,0.28000000000000003,4.4999999999999998E-2,4.4999999999999998E-2,2.2000000000000001E-3,2.2000000000000001E-3,0.21656529202969516,6.5449165538783091E-2,6.5449165538783091E-2,0.57824999999999993,0.21679999999999999,0.21679999999999999,1.9850000000000003E-2,1.9850000000000003E-2]
["CAL-4","CAL-4A","CAL-4_CAL-4A","NS","Bioremediation","Semi-Soluble / Slow-Release","PCE",9.367123287671232,0.53583157884006061,1.6605702250568254E-2,1.6605702250568254E-2,5.0999999999999996,1.1000000000000001,1.1000000000000001,1E-3,1E-3,1.1972993498745756,0.16822616472941682,0.16822616472941682,5.29,2.0299999999999998,2.0299999999999998,1E-3,1E-3]
["CAL-5","CAL-5A","CAL-5_CAL-5A","NS","Bioremediation","Semi-Soluble / Slow-Release","PCE",5.5616438356164384,0.29732284239784057,0.21619012535720167,0.21619012535720167,1.6,1.2,1.2,2.5000000000000001E-4,1E-3,0.33019858638206395,0.26382078221612842,0.26382078221612842,1.6042500000000002,1.2382500000000001,1.2382500000000001,7.5000000000000002E-4,1E-3]
["CAL-6","CAL-6A","CAL-6_CAL-6A","NS","Bioremediation","Semi-Soluble / Slow-Release","PCE",8.7178082191780817,0.10414500143564499,3.8118583343292156E-2,3.8118583343292156E-2,1.1000000000000001,0.24,0.24,2.5000000000000001E-4,1E-3,0.19295102869879102,7.4653100618281537E-2,7.4653100618281537E-2,3.2800000000000002,0.32599999999999996,0.32599999999999996,4.4500000000000008E-3,4.4500000000000008E-3]
["CAL-7","CAL-7A","CAL-7_CAL-7A","NS","Bioremediation","Semi-Soluble / Slow-Release","TCE",12.287671232876713,3.8855162677472488,5.2168106252324274E-4,1E-3,12,1.2999999999999999E-2,1.2999999999999999E-2,2.5000000000000001E-4,1E-3,4.1576214684701132,0.29071397777419844,0.29071397777419844,13.012499999999999,10.500250000000001,10.500250000000001,1.5100000000000001E-2,1.5100000000000001E-2]
["CAL-8","CAL-8A","CAL-8_CAL-8A","NS","Bioremediation","Semi-Soluble / Slow-Release","TCE",3.8410958904109589,1.875,0.10757048088520688,0.10757048088520688,5,3,3,2.9E-4,1E-3,1.8957499999999998,0.5870402816206588,0.5870402816206588,5.0492500000000007,3.8002499999999997,3.8002499999999997,8.4500000000000009E-3,8.4500000000000009E-3]
["CAL-9","CAL-9A","CAL-9_CAL-9A","NS","Bioremediation","Semi-Soluble / Slow-Release","PCE",3.9945205479452053,0.54353207056598185,0.45497908332876086,0.45497908332876086,0.70499999999999996,0.91700000000000004,0.91700000000000004,0.16,0.16,0.54416836106019895,0.52459254396180077,0.52459254396180077,0.70580999999999994,1.0228999999999999,1.0228999999999999,0.19980000000000001,0.19980000000000001]
["FL-1","FL-1A","FL-1_FL-1A","NS","Bioremediation","Semi-Soluble / Slow-Release","PCE",3.0164383561643837,4.2576752238282528E-2,2.990697562442441E-4,1E-3,68.199999999999989,5.0000000000000001E-4,1E-3,2.0000000000000001E-4,1E-3,7.2968343844895561E-2,1.5912494370631067E-2,1.5912494370631067E-2,68.201499999999996,2.477E-2,2.477E-2,1.1050000000000001E-2,1.1050000000000001E-2]
["FL-2","FL-2A","FL-2_FL-2A","NS","Bioremediation","Semi-Soluble / Slow-Release","PCE",13.252054794520548,0.96003329637837287,8.5330909064900025E-4,1E-3,1.89,9.75E-3,9.75E-3,5.0000000000000001E-4,1E-3,3.3379074536285214,0.10511204469491077,0.10511204469491077,6.06,0.94099999999999995,0.94099999999999995,5.0499999999999998E-3,5.0499999999999998E-3]
["FL-3","FL-3A","FL-3_FL-3A","NS","Bioremediation","Semi-Soluble / Slow-Release","PCE",9.5753424657534243,3.157265984163285E-3,1E-3,1E-3,1.99,1E-3,1E-3,1E-3,1E-3,0.16571186972638485,1.6038579048651275E-3,1.6038579048651275E-3,11.701144999999999,3.3400000000000001E-3,3.3400000000000001E-3,1.3849999999999999E-3,1.3849999999999999E-3]
["FL-5","FL-5A","FL-5_FL-5A","NS","Bioremediation","Soluble","PCE",7.1945205479452055,2.5995765121514289E-2,1.0752800064055697E-3,1.0752800064055697E-3,0.22,2.3E-2,2.3E-2,5.0000000000000001E-4,1E-3,4.9861079157055947E-2,3.884224914739777E-2,3.884224914739777E-2,0.26963999999999999,7.7919999999999989E-2,7.7919999999999989E-2,2.214E-2,2.214E-2]
["FL-6","FL-6A","FL-6_FL-6A","NS","Bioremediation","Soluble","PCE",6.2273972602739729,0.40670904398438501,1.2236197407834717E-4,1E-3,33.700000000000003,2.7000000000000001E-3,2.7000000000000001E-3,5.5000000000000002E-5,1E-3,1.3719211195694985,1.3752357406842976E-3,1.3752357406842976E-3,34.880000000000003,0.11169999999999999,0.11169999999999999,1.1999999999999999E-4,1E-3]
["FL-7","FL-7A","FL-7_FL-7A","NS","Bioremediation","Soluble","PCE",4.6630136986301371,0.33649648903585261,2.1629873425068129,2.1629873425068129,28,10,10,1E-4,1E-3,0.94314507550838567,2.9645719960758985,2.9645719960758985,32.466145000000004,12.030144999999999,12.030144999999999,2.6724999999999995E-3,2.6724999999999995E-3]
["FL-8","FL-8A","FL-8_FL-8A","NS","Bioremediation","Soluble","PCE",3.8520547945205479,2.6183344492329008E-3,2.1874133234122884E-4,1E-3,0.28399999999999997,1.64E-3,1.64E-3,8.5000000000000006E-5,1E-3,2.8849220679926055E-2,3.4575409126688113E-2,3.4575409126688113E-2,0.36390999999999996,0.18925,0.18925,1.0400000000000001E-2,1.0400000000000001E-2]
["FL-9","MW003","FL-9_MW003","NS","Bioremediation","Semi-Soluble / Slow-Release","PCE",3.8520547945205479,6.1915454104770019E-3,1.1039992277658689E-3,1.1039992277658689E-3,0.28399999999999997,1.64E-3,1.64E-3,1E-3,1E-3,3.3826592943809596E-2,3.1839169566648243E-2,3.1839169566648243E-2,0.36449999999999999,0.18981000000000001,0.18981000000000001,1.0960000000000001E-2,1.0960000000000001E-2]
["GSI-1","N16-14","GSI-1_N16-14","NS","Bioremediation","Semi-Soluble / Slow-Release","TCE",3.6136986301369864,2.7211792423012864,3.4870878664438479E-3,3.4870878664438479E-3,16.899999999999999,2.3600000000000003E-2,2.3600000000000003E-2,4.6000000000000001E-4,1E-3,3.0768346978197578,0.23952619028407016,0.23952619028407016,16.947699999999998,2.5968700000000005,2.5968700000000005,1.9300000000000001E-2,1.9300000000000001E-2]
["GSI-11","MW-D1","GSI-11_MW-D1","NS","Bioremediation","Semi-Soluble / Slow-Release","PCE",6.1150684931506847,4.2,0.27355520862064814,0.27355520862064814,6.6,5.4,5.4,1E-3,1E-3,4.3,0.90968347001207761,0.90968347001207761,6.6629999999999994,6.7510000000000003,6.7510000000000003,4.9700000000000001E-2,4.9700000000000001E-2]
["GSI-12","MW-1","GSI-12_MW-1","NS","Bioremediation","Semi-Soluble / Slow-Release","PCE",4.0383561643835613,4.4868332057662785,1.2599391995249727,1.2599391995249727,74,28,28,0.25,0.25,17.440476382017152,12.654874587020998,12.654874587020998,110,46.8,46.8,2.74,2.74]
["GSI-13","MW-1","GSI-13_MW-1","NS","Bioremediation","Semi-Soluble / Slow-Release","TCE",2.9726027397260273,2.1367224896947881,1.855619382400167,1.855619382400167,2.8,2.8,2.8,1.2,1.2,7.8263182615390727,7.8493957095439413,7.8493957095439413,12.125,10.410999999999998,10.410999999999998,5.3119999999999994,5.3119999999999994]
["GSI-15","CMW026","GSI-15_CMW026","NS","Bioremediation","Soluble","TCE",7.1424657534246574,2.1,0.41558887739860789,0.41558887739860789,4.5999999999999996,10,10,6.8000000000000005E-4,1E-3,2.1764999999999999,1.2727258699503576,1.2727258699503576,4.5999999999999996,11.219999999999999,11.219999999999999,0.52568000000000004,0.52568000000000004]
["GSI-19","MW-1A","GSI-19_MW-1A","NS","Bioremediation","Semi-Soluble / Slow-Release","PCE",5.9890410958904106,0.54074023338383093,3.6887276220673009E-4,1E-3,11,4.9000000000000002E-2,4.9000000000000002E-2,6.5000000000000008E-5,1E-3,0.57984730748706603,1.7565864526418468E-2,1.7565864526418468E-2,11.292,2.359,2.359,5.0000000000000001E-4,1E-3]
["GSI-20","MM-17A","GSI-20_MM-17A","NS","Bioremediation","Semi-Soluble / Slow-Release","TCE",1.7863013698630137,0.13356331709240229,5.3498791715803958E-3,5.3498791715803958E-3,0.97,0.2,0.2,5.6000000000000006E-4,1E-3,0.28630370312263864,0.15335858309241243,0.15335858309241243,1.43,0.48399999999999999,0.48399999999999999,3.7560000000000003E-2,3.7560000000000003E-2]
["GSI-21","G3","GSI-21_G3","NS","Bioremediation","Semi-Soluble / Slow-Release","PCE",3.6027397260273974,0.65477225575051667,5.7759396523969553E-2,5.7759396523969553E-2,1.2,0.33,0.33,1E-3,1E-3,0.71556118683242431,0.37122296123572429,0.37122296123572429,1.2529999999999999,0.69040000000000001,0.69040000000000001,0.12340000000000001,0.12340000000000001]
["GSI-23","TW-1","GSI-23_TW-1","NS","Bioremediation","Semi-Soluble / Slow-Release","PCE",1.726027397260274,1.6968915218540488,1E-3,1E-3,14,1E-3,1E-3,7.3999999999999999E-4,1E-3,1.9884338953567071,0.92774999999999985,0.92774999999999985,14.32,2.2319999999999998,2.2319999999999998,0.14870000000000003,0.14870000000000003]
["GSI-27","MW-1","GSI-27_MW-1","NS","Bioremediation","Soluble","PCE",6.4383561643835616,1.3495462496424504,0.64885769760089074,0.64885769760089074,13,12,12,1E-3,1E-3,1.3558029984518922,0.68633317720381048,0.68633317720381048,13.01,19.733900000000002,19.733900000000002,2E-3,2E-3]
["GSI-28","PW-6B","GSI-28_PW-6B","NS","Bioremediation","Soluble","TCE",1.526027397260274,7.4499999999999993,5.1066875704163124,5.1066875704163124,8.6,9.6,9.6,1.3,1.3,7.8199999999999994,6.8706937274180202,6.8706937274180202,8.7799999999999994,14.4,14.4,1.86,1.86]
["GSI-29","TMW-2","GSI-29_TMW-2","NS","Bioremediation","Soluble","PCE",3.4109589041095889,1.45,1.0144566643969542E-2,1.0144566643969542E-2,2.6,0.18,0.18,1E-3,1E-3,1.4509999999999998,0.56030747570316042,0.56030747570316042,5.24,20.600999999999999,20.600999999999999,5.1000000000000004E-2,5.1000000000000004E-2]
["GSI-30","ARQ12A","GSI-30_ARQ12A","NS","Bioremediation","Semi-Soluble / Slow-Release","TCE",4.624657534246575,19.33187796104794,3.2456947038578821E-2,3.2456947038578821E-2,950,50.5,50.5,5.2000000000000006E-4,1E-3,28.960125162192057,1.4894800611710861,1.4894800611710861,950,129.19999999999999,129.19999999999999,1.7000000000000001E-2,1.7000000000000001E-2]
["GSI-44","MW-22","GSI-44_MW-22","NS","Bioremediation","Soluble","PCE",0.52328767123287667,3.1866324046363428E-2,2.2332159566199232E-3,2.2332159566199232E-3,4,5.5999999999999999E-3,5.5999999999999999E-3,1E-3,1E-3,0.23435290055011884,0.11887211055942372,0.11887211055942372,5.3250000000000002,1.3919999999999999,1.3919999999999999,1.66E-2,1.66E-2]
["GSI-45","MW-11 (1)","GSI-45_MW-11 (1)","NS","Bioremediation","Semi-Soluble / Slow-Release","PCE",3.3808219178082193,0.42490054483955997,3.6645891157621041E-4,1E-3,13,0.39,0.39,2.5000000000000001E-4,1E-3,7.7401090175608926,1.6260702968460043E-2,1.6260702968460043E-2,46,0.96800000000000008,0.96800000000000008,3.6000000000000003E-3,3.6000000000000003E-3]
["GSI-46","MW11","GSI-46_MW11","NS","Bioremediation","Semi-Soluble / Slow-Release","TCE",9.8273972602739725,0.73799999999999999,0.34698703145794946,0.34698703145794946,4.6399999999999997,0.75,0.75,0.1,0.1,0.74390000000000001,0.4229420764123617,0.4229420764123617,4.9119999999999999,3.2,3.2,0.20700000000000002,0.20700000000000002]
["GSI-51","MW-7","GSI-51_MW-7","NS","Bioremediation","Soluble","TCE",6.5890410958904111,1.2949902939573406,0.51500000000000001,0.51500000000000001,7.6,1,1,5.0999999999999997E-2,5.0999999999999997E-2,1.2951073527423562,1.127,1.127,7.6,2.4779999999999998,2.4779999999999998,6.4600000000000005E-2,6.4600000000000005E-2]
["GSI-52","DM1","GSI-52_DM1","NS","Bioremediation","Semi-Soluble / Slow-Release","TCE",4.9945205479452053,4.5636373253941903E-2,1.2910769952906759E-2,1.2910769952906759E-2,25,13,13,1.2999999999999999E-3,1.2999999999999999E-3,0.15022062730068447,4.418053679112012E-2,4.418053679112012E-2,27.2,14.7,14.7,2.4999999999999996E-3,2.4999999999999996E-3]
["GSI-53","PMW-7A","GSI-53_PMW-7A","NS","Bioremediation","Semi-Soluble / Slow-Release","TCE",2.2246575342465755,2.0789081889885437,1.0834217291387969,1.0834217291387969,4.4000000000000004,3.6,3.6,5.0000000000000001E-4,1E-3,2.1612516806471738,1.2018565290365981,1.2018565290365981,4.4207999999999998,3.6261000000000001,3.6261000000000001,1E-3,1E-3]
["GSI-64","T-2A","GSI-64_T-2A","NS","Bioremediation","Soluble","TCE",10.128767123287671,0.90546101965818715,7.2500000000000009E-2,7.2500000000000009E-2,890,0.12,0.12,2.5000000000000001E-2,2.5000000000000001E-2,1.2351231787497474,3.0435000000000003,3.0435000000000003,890,5.9250000000000007,5.9250000000000007,0.16200000000000001,0.16200000000000001]
["GSI-70","MW-3","GSI-70_MW-3","NS","Bioremediation","Semi-Soluble / Slow-Release","TCA",1.0931506849315069,2.235826045057419E-3,1E-3,1E-3,2.7,1.7,1.7,2.5000000000000001E-4,1E-3,1.2291653391664488,0.14623865092783128,0.14623865092783128,7.6189999999999998,4.9795999999999996,4.9795999999999996,1E-3,1E-3]
["GSI-71","MW-1A","GSI-71_MW-1A","NS","Bioremediation","Soluble","TCA",6.2520547945205482,6.6373038580187771,0.73036284821443054,0.73036284821443054,57,6.2,6.2,0.31,0.31,14.527545331290195,2.2334815439225673,2.2334815439225673,72.400000000000006,16.260000000000002,16.260000000000002,1.1000000000000001,1.1000000000000001]
["GSI-76","MW-516A","GSI-76_MW-516A","NS","Bioremediation","Soluble","TCE",6.3808219178082188,8.5285113982060567E-2,0.17760882872418418,0.17760882872418418,0.17,0.38,0.38,2.7000000000000001E-3,2.7000000000000001E-3,8.6911643899429472E-2,0.2240685112306304,0.2240685112306304,0.186,0.52800000000000002,0.52800000000000002,0.12229999999999999,0.12229999999999999]
["GSI-77","HM-12","GSI-77_HM-12","NS","Bioremediation","Semi-Soluble / Slow-Release","PCE",2.9917808219178084,1.591480891539188,2.5500000000000002E-2,2.5500000000000002E-2,16,24,24,1E-3,1E-3,54.44996617712026,6.5284849896057819,6.5284849896057819,235.071,24.063839999999999,24.063839999999999,8.6099999999999996E-3,8.6099999999999996E-3]
["GSI-8","MW-16A-S19","GSI-8_MW-16A-S19","NS","Bioremediation","Semi-Soluble / Slow-Release","TCE",5.1287671232876715,0.34249999999999997,1.4726781906470112E-2,1.4726781906470112E-2,2.8,1.2,1.2,2.8000000000000003E-4,1E-3,0.38000000000000006,0.235204224474893,0.235204224474893,2.8279999999999998,1.3107900000000001,1.3107900000000001,3.4999999999999996E-3,3.4999999999999996E-3]
["GSI-81","MW-101","GSI-81_MW-101","NS","Bioremediation","Soluble","TCE",3.5643835616438357,4.8894625207611862E-2,0.1220786503054045,0.1220786503054045,5.0999999999999996,4.0999999999999996,4.0999999999999996,1E-3,1E-3,4.8933413158798227E-2,0.35575049703306122,0.35575049703306122,5.1026899999999991,5.282,5.282,1E-3,1E-3]
["GSI-FL-1","MW002","GSI-FL-1_MW002","NS","Bioremediation","Soluble","PCE",5.912328767123288,3.1622776601683794E-3,3.4199518933533939E-3,3.4199518933533939E-3,1.88,0.01,0.01,6.4000000000000005E-4,1E-3,0.42608449866194381,0.30178663861893251,0.30178663861893251,31.25,5.4020000000000001,5.4020000000000001,3.8870000000000002E-2,3.8870000000000002E-2]
["GSI-FL-10","MW017","GSI-FL-10_MW017","NS","Bioremediation","Soluble","PCE",4.6219178082191785,0.36946296781261501,4.7334398622121573E-4,1E-3,2.5,1E-3,1E-3,1.1E-4,1E-3,0.78778967741740202,1.926417526484827E-2,1.926417526484827E-2,4.0856000000000003,0.37559999999999999,0.37559999999999999,1.1949999999999999E-3,1.1949999999999999E-3]
["GSI-FL-12","MW001","GSI-FL-12_MW001","NS","Bioremediation","Soluble","PCE",3.9945205479452053,2.6318265814118534E-3,2.5699999999999998E-3,2.5699999999999998E-3,0.40500000000000003,3.7700000000000004E-2,3.7700000000000004E-2,1.8699999999999999E-4,1E-3,7.1230997777511689E-3,4.6749999999999995E-3,4.6749999999999995E-3,0.4667,4.1314000000000003E-2,4.1314000000000003E-2,1.0560000000000001E-3,1.0560000000000001E-3]
["GSI-FL-13","MW003","GSI-FL-13_MW003","NS","Bioremediation","Soluble","PCE",3.9835616438356163,2.3250726913276277E-2,2.3E-3,2.3E-3,9.7200000000000009E-2,1.66E-2,1.66E-2,1.8E-3,1.8E-3,2.6050257874053021E-2,4.1199999999999995E-3,4.1199999999999995E-3,9.9300000000000013E-2,2.588E-2,2.588E-2,2.8600000000000001E-3,2.8600000000000001E-3]
["GSI-FL-14","MW002","GSI-FL-14_MW002","NS","Bioremediation","Semi-Soluble / Slow-Release","PCE",3.0493150684931507,3.3955153216846069E-3,6.848661007688605E-4,1E-3,0.75849999999999995,3.4000000000000002E-2,3.4000000000000002E-2,2.2000000000000001E-4,1E-3,0.28794755395844218,4.2367040283807132E-2,4.2367040283807132E-2,1.9259999999999999,0.44700000000000001,0.44700000000000001,9.0000000000000011E-3,9.0000000000000011E-3]
["GSI-FL-16","MW003","GSI-FL-16_MW003","NS","Bioremediation","Soluble","PCE",6.4575342465753423,2.9475738322499606E-3,8.5021156815565959E-4,1E-3,0.02,3.0000000000000001E-3,3.0000000000000001E-3,2.2000000000000001E-4,1E-3,0.19807659714455267,9.4043317237803518E-3,9.4043317237803518E-3,1.1400000000000001,0.55200000000000005,0.55200000000000005,1.6299999999999999E-3,1.6299999999999999E-3]
["GSI-FL-19","MMW004","GSI-FL-19_MMW004","NS","Bioremediation","Soluble","PCE",1.4219178082191781,0.28878248473401136,1.4102821015130403E-3,1.4102821015130403E-3,2.14,0.02,0.02,1E-3,1E-3,0.32330587127864846,5.6636062151465983E-3,5.6636062151465983E-3,2.1435,4.4000000000000004E-2,4.4000000000000004E-2,4.0000000000000001E-3,4.0000000000000001E-3]
["GSI-FL-20","MW005","GSI-FL-20_MW005","NS","Bioremediation","Semi-Soluble / Slow-Release","PCE",2.0767123287671234,0.3787061634331339,6.7860495591321041E-2,6.7860495591321041E-2,3.99,0.52,0.52,4.1999999999999996E-4,1E-3,1.4894910534502541,0.37616070971491566,0.37616070971491566,4.7240000000000002,3.4849999999999999,3.4849999999999999,1.112E-2,1.112E-2]
["GSI-FL-3","MW001","GSI-FL-3_MW001","NS","Bioremediation","Soluble","PCE",1.8904109589041096,4.072010170261639E-3,5.371097010160272E-3,5.371097010160272E-3,138,130,130,2.0000000000000001E-4,1E-3,2.6979924593212423E-2,2.4092024357972225E-2,2.4092024357972225E-2,143.72,134.9,134.9,1.2490000000000001E-3,1.2490000000000001E-3]
["GSI-FL-35","TA01S","GSI-FL-35_TA01S","NS","Bioremediation","Semi-Soluble / Slow-Release","TCE",2.1643835616438358,2.2000000000000002,1.03E-2,1.03E-2,6.4,2,2,1.1000000000000001E-3,1.1000000000000001E-3,2.2000000000000002,1.03E-2,1.03E-2,6.4,2,2,1.1000000000000001E-3,1.1000000000000001E-3]
["GSI-FL-5","MW002","GSI-FL-5_MW002","NS","Bioremediation","Soluble","PCE",1.6356164383561644,3.4681164123021066E-2,4.7482275705562245E-3,4.7482275705562245E-3,3.4,0.16,0.16,5.0000000000000001E-4,1E-3,4.1070765041196611E-2,7.5649335718237717E-3,7.5649335718237717E-3,3.4024999999999999,0.16400000000000001,0.16400000000000001,5.0000000000000001E-4,1E-3]
["GSI-FL-7","MW022","GSI-FL-7_MW022","NS","Bioremediation","Soluble","PCE",2.956164383561644,0.61478474874715217,2.8509647489928741E-4,1E-3,1.35,5.0799999999999999E-4,1E-3,1.6000000000000001E-4,1E-3,0.7105251442095688,1.5074050550532197E-3,1.5074050550532197E-3,1.3724399999999999,1.5889999999999997E-3,1.5889999999999997E-3,1.4300000000000003E-3,1.4300000000000003E-3]
["GSI-FL-8","MW001","GSI-FL-8_MW001","NS","Bioremediation","Soluble","PCE",1.4794520547945205,0.10782661812658832,1E-3,1E-3,18.399999999999999,2.56,2.56,2.2000000000000001E-4,1E-3,0.51205814937352256,1.4866405079910879E-2,1.4866405079910879E-2,18.931100000000001,2.6705999999999999,2.6705999999999999,7.3999999999999999E-4,1E-3]
["GSI-FL-9","MW012","GSI-FL-9_MW012","NS","Bioremediation","Soluble","PCE",1,5.1811415178341178E-3,1.2509854341551862E-3,1.2509854341551862E-3,0.48499999999999999,2E-3,2E-3,1E-3,1E-3,1.0260715691535324E-2,4.4977171209520687E-3,4.4977171209520687E-3,0.51500000000000001,6.0000000000000001E-3,6.0000000000000001E-3,4.0000000000000001E-3,4.0000000000000001E-3]
["GSI-IN-1","SIW-7","GSI-IN-1_SIW-7","NS","Bioremediation","Semi-Soluble / Slow-Release","TCE",1.1753424657534246,1.3,0.10046878417572158,0.10046878417572158,1.4,0.64,0.64,1E-3,1E-3,1.3082,0.23597271073993256,0.23597271073993256,1.4139999999999999,0.76899999999999991,0.76899999999999991,4.0000000000000001E-3,4.0000000000000001E-3]
["TT-10B","17-23A","TT-10B_17-23A","NS","Bioremediation","Semi-Soluble / Slow-Release","TCE",5.8876712328767127,2.11,4.6957367164891946E-4,1E-3,3.34,0.27,0.27,9.0000000000000006E-5,1E-3,2.11,4.6957367164891946E-4,1E-3,3.34,0.27,0.27,9.0000000000000006E-5,1E-3]
["TT-11B","B-2A","TT-11B_B-2A","NS","Bioremediation","Soluble","PCE",4.1041095890410961,0.29393876913398137,1.1999999999999999E-3,1.1999999999999999E-3,0.59,3.9E-2,3.9E-2,1.0000000000000001E-5,1E-3,0.47244047244070864,1.4999999999999998E-3,1.4999999999999998E-3,0.92999999999999994,4.87E-2,4.87E-2,3.1E-4,1E-3]
["TT-12B","MW-2","TT-12B_MW-2","NS","Bioremediation","Semi-Soluble / Slow-Release","PCE",7.8438356164383558,0.21964401190546493,3.5149200505351634E-2,3.5149200505351634E-2,0.99,3.4,3.4,1.1000000000000001E-3,1.1000000000000001E-3,0.21964401190546493,3.5149200505351634E-2,3.5149200505351634E-2,0.99,3.4,3.4,1.1000000000000001E-3,1.1000000000000001E-3]
["TT-13B","ML1C","TT-13B_ML1C","NS","Bioremediation","Semi-Soluble / Slow-Release","PCE",4.0410958904109586,0.11696001733108122,2.7299074344348082E-3,2.7299074344348082E-3,298.49400000000003,1.2,1.2,5.0000000000000001E-4,1E-3,0.11696001733108122,2.7299074344348082E-3,2.7299074344348082E-3,298.49400000000003,1.2,1.2,5.0000000000000001E-4,1E-3]
["TT-14B","GW-25","TT-14B_GW-25","NS","Bioremediation","Soluble","PCE",0.41643835616438357,1.3607256340384735,5.1250000000000004E-2,5.1250000000000004E-2,1.8,0.1,0.1,2.5000000000000001E-3,2.5000000000000001E-3,1.3607256340384735,5.1250000000000004E-2,5.1250000000000004E-2,1.8,0.1,0.1,2.5000000000000001E-3,2.5000000000000001E-3]
["TT-1A","MW-3","TT-1A_MW-3","NS","Bioremediation","Semi-Soluble / Slow-Release","PCE",3.2849315068493152,14.824729668980783,0.64381833395977695,0.64381833395977695,35,20,20,1.5E-3,1.5E-3,14.909352427863398,1.1243582983745208,1.1243582983745208,35.21,20.190000000000001,20.190000000000001,0.1115,0.1115]
["TT-2A","MW-13","TT-2A_MW-13","NS","Bioremediation","Semi-Soluble / Slow-Release","PCE",3.515068493150685,60.13175028896255,41.518199494052446,41.518199494052446,167,92.6,92.6,24.2,24.2,60.743054826818714,44.054274858771898,44.054274858771898,169.5,99.22,99.22,26.5,26.5]
["TT-3A","MW-3","TT-3A_MW-3","NS","Bioremediation","Soluble","PCE",3.7780821917808218,0.19347740679883307,1.8253425537523418E-2,1.8253425537523418E-2,50,32,32,2.5000000000000001E-4,1E-3,0.57467340590818738,0.18587219557541887,0.18587219557541887,57.400000000000006,44.908100000000005,44.908100000000005,3.1100000000000003E-2,3.1100000000000003E-2]
["TT-4A","W-2","TT-4A_W-2","NS","Bioremediation","Semi-Soluble / Slow-Release","TCE",5.8,3.9541926758354391,1.4745693047825409E-2,1.4745693047825409E-2,12,0.25,0.25,1E-4,1E-3,3.9541926758354391,1.4745693047825409E-2,1.4745693047825409E-2,12,0.25,0.25,1E-4,1E-3]
["TT-5A","MW-01","TT-5A_MW-01","NS","Bioremediation","Soluble","PCE",2.5534246575342467,16.635979901127371,7.9242552962459216,7.9242552962459216,46,27,27,0.86,0.86,19.863734896020528,10.540350040584647,10.540350040584647,53.4,32.6,32.6,1.1599999999999999,1.1599999999999999]
["TT-6B","MW-007","TT-6B_MW-007","NS","Bioremediation","Soluble","PCE",2.5205479452054793,1.4144756596710334E-3,5.0000000000000001E-4,1E-3,2.8300000000000001E-3,5.0000000000000001E-4,1E-3,5.0000000000000001E-4,1E-3,1.4144756596710334E-3,5.0000000000000001E-4,1E-3,2.8300000000000001E-3,5.0000000000000001E-4,1E-3,5.0000000000000001E-4,1E-3]
["TT-7B","MW-1R","TT-7B_MW-1R","NS","Bioremediation","Soluble","PCE",4.2602739726027394,1.6875889444414218,3.7185396425728379E-2,3.7185396425728379E-2,20,9.9,9.9,1E-3,1E-3,2.0797552314767023,9.209314884525685E-2,9.209314884525685E-2,23.9,10.61,10.61,2.1299999999999999E-3,2.1299999999999999E-3]
["TT-8B","SB-37","TT-8B_SB-37","NS","Bioremediation","Semi-Soluble / Slow-Release","PCE",1.0712328767123287,2.2000000000000002,1.5427248620541513E-2,1.5427248620541513E-2,21,3.3,3.3,5.0000000000000001E-4,1E-3,5.0999999999999996,3.694590640382233E-2,3.694590640382233E-2,34,7,7,1E-3,1E-3]
["TT-9B","P-108","TT-9B_P-108","NS","Bioremediation","Semi-Soluble / Slow-Release","PCE",1.8712328767123287,1.3,0.1531545279721136,0.1531545279721136,1.5,0.68100000000000005,0.68100000000000005,1.7000000000000001E-2,1.7000000000000001E-2,1.5629999999999999,0.3191458470998722,0.3191458470998722,3.3,1.097,1.097,3.2000000000000001E-2,3.2000000000000001E-2]
["VCP-1491","COMW-13","VCP-1491_COMW-13","NS","Bioremediation","Soluble","TCE",3.5095890410958903,1.7731169039240458,0.15870266400572763,0.15870266400572763,28,12,12,1.1000000000000001E-3,1.1000000000000001E-3,2.4514472712096045,2.0664059110967066,2.0664059110967066,29.1006,42.234000000000002,42.234000000000002,4.8100000000000004E-2,4.8100000000000004E-2]
["VCP-1533","MW- 1","VCP-1533_MW- 1","NS","Bioremediation","Soluble & Semi-Soluble","TCE",4.4958904109589044,2.2061316194135254E-2,3.2136708936672965E-3,3.2136708936672965E-3,7.8E-2,6.7999999999999996E-3,6.7999999999999996E-3,4.0999999999999999E-4,1E-3,6.6978615790044715E-2,5.9404555838652118E-2,5.9404555838652118E-2,0.21800000000000003,0.1003,0.1003,1.8740000000000003E-2,1.8740000000000003E-2]
["VCP-2017","MW-4","VCP-2017_MW-4","NS","Bioremediation","Soluble","TCE",0.14520547945205478,6.7208106108110149E-2,3.8820826502713887E-2,3.8820826502713887E-2,0.308,7.51E-2,7.51E-2,1.9E-3,1.9E-3,0.24192577609544197,0.59450173123207561,0.59450173123207561,1.11127,1.1531,1.1531,0.1152,0.1152]
["VCP-272/286","MW-2","VCP-272/286_MW-2","NS","Bioremediation","Soluble","PCE",8.24931506849315,1.8669290467541058,1.2031096474567002,1.2031096474567002,5.56,6.3,6.3,0.18,0.18,2.2614794314319195,1.4089302446640195,1.4089302446640195,5.9509999999999996,6.58,6.58,0.22799999999999998,0.22799999999999998]
["VCP-296","MW-75","VCP-296_MW-75","NS","Bioremediation","Semi-Soluble / Slow-Release","PCE",2.5671232876712327,4.1184126329077975E-2,1.3144591658115117E-3,1.3144591658115117E-3,0.64800000000000002,6.7799999999999996E-3,6.7799999999999996E-3,1E-3,1E-3,4.9168366635402312E-2,1.3753326487796792E-2,1.3753326487796792E-2,0.66300000000000003,1.942E-2,1.942E-2,7.7799999999999996E-3,7.7799999999999996E-3]
["VCP-943","MW-5","VCP-943_MW-5","NS","Bioremediation","Semi-Soluble / Slow-Release","PCE",9.9479452054794528,5.4373715987583324,5.5330153024983134E-2,5.5330153024983134E-2,19,1.8,1.8,2E-3,2E-3,9.6388755392330072,1.1451947937663038,1.1451947937663038,19.681999999999999,20.975000000000001,20.975000000000001,3.2799999999999996E-2,3.2799999999999996E-2]
["C-01","MW-1","C-01_MW-1","NS","Chemical Oxidation","Permanganates","PCE",1.0054794520547945,5.3475072732794053E-2,4.9908492656729085E-3,4.9908492656729085E-3,0.53500000000000003,8.5999999999999993E-2,8.5999999999999993E-2,1E-3,1E-3,6.1733297976320094E-2,8.1742250864641312E-3,8.1742250864641312E-3,0.55559999999999998,8.8999999999999996E-2,8.8999999999999996E-2,3.0000000000000001E-3,3.0000000000000001E-3]
["C-02","GM-66","C-02_GM-66","NS","Chemical Oxidation","Peroxides / Fenton's","TCE",4.1780821917808222,1.116844559711093,0.43010872815819323,0.43010872815819323,5.0999999999999996,4.92,4.92,3.2100000000000004E-2,3.2100000000000004E-2,1.116844559711093,0.43010872815819323,0.43010872815819323,5.0999999999999996,4.92,4.92,3.2100000000000004E-2,3.2100000000000004E-2]
["C-03","MW-001","C-03_MW-001","NS","Chemical Oxidation","Peroxides / Fenton's","PCE",6.0630136986301366,0.1187049078230599,2.2320582541611362E-2,2.2320582541611362E-2,1.2,0.51500000000000001,0.51500000000000001,1.4E-3,1.4E-3,0.12168791907493186,2.519047213318281E-2,2.519047213318281E-2,1.2149999999999999,0.52510000000000001,0.52510000000000001,1.6199999999999999E-3,1.6199999999999999E-3]
["GSI-FD-04",null,null,"NS","Chemical Oxidation","Peroxides / Fenton's","TCE",10.3,0.96541597252168976,0.12955111655121609,0.13,1.212,0.34100000000000003,0.34100000000000003,3.7999999999999999E-2,3.7999999999999999E-2,0.96541597252168976,0.12955111655121609,0.12955111655121609,1.212,0.34100000000000003,0.34100000000000003,3.7999999999999999E-2,3.7999999999999999E-2]
["C-05","MW-110","C-05_MW-110","NS","Chemical Oxidation","Permanganates","PCE",3.9863013698630136,0.67119296778199333,9.6979379251467684E-2,9.6979379251467684E-2,1.7,0.28499999999999998,0.28499999999999998,3.3000000000000002E-2,3.3000000000000002E-2,0.67119296778199333,9.6979379251467684E-2,9.6979379251467684E-2,1.7,0.28499999999999998,0.28499999999999998,3.3000000000000002E-2,3.3000000000000002E-2]
["C-06","TB-4","C-06_TB-4","NS","Chemical Oxidation","Permanganates","TCE",10.926027397260274,28.6,4.5199965335553429,4.5199965335553429,28.6,150,150,9.5000000000000001E-2,9.5000000000000001E-2,28.6,4.5199965335553429,4.5199965335553429,28.6,150,150,9.5000000000000001E-2,9.5000000000000001E-2]
["C-07","MW-1","C-07_MW-1","NS","Chemical Oxidation","Permanganates","PCE",3.2767123287671232,9.2297866063869431,0.14524786683769852,0.14524786683769852,30.8,2.8,2.8,5.0000000000000001E-3,5.0000000000000001E-3,9.3455153146289867,0.31290081636249278,0.31290081636249278,30.8,4,4,5.0000000000000001E-3,5.0000000000000001E-3]
["C-08","MW-1","C-08_MW-1","NS","Chemical Oxidation","Peroxides & Permanganates","PCE",4.1506849315068495,1.437250546844659,0.31358814813279617,0.31358814813279617,2.9,0.505,0.505,0.21,0.21,2.207657199519991,0.65374946529723055,0.65374946529723055,4.3,0.995,0.995,0.4,0.4]
["C-09","GO-MW2","C-09_GO-MW2","NS","Chemical Oxidation","Peroxides / Fenton's","TCE",1.9123287671232876,0.29190004045317153,3.1182955898983188E-2,3.1182955898983188E-2,25,2.7,2.7,1E-3,1E-3,0.29190004045317153,3.1182955898983188E-2,3.1182955898983188E-2,25,2.7,2.7,1E-3,1E-3]
["C-10","MW-1","C-10_MW-1","NS","Chemical Oxidation","Permanganates","PCE",0.44383561643835617,1.0876242703027432,1.5356407953291178E-2,1.5356407953291178E-2,80,9.3000000000000007,9.3000000000000007,1E-3,1E-3,1.3253741728242439,2.8021711644850768E-2,2.8021711644850768E-2,80.819999999999993,9.74,9.74,2E-3,2E-3]
["GSI-FD-05",null,null,"NS","Chemical Oxidation","Permanganates","TCE",10.8,0.41599999999999998,4.0006441155143707E-2,0.04,0.41599999999999998,0.73099999999999998,0.73599999999999999,5.0000000000000001E-3,5.0000000000000001E-3,0.41599999999999998,4.0006441155143707E-2,4.0006441155143707E-2,0.41599999999999998,0.73099999999999998,0.73099999999999998,5.0000000000000001E-3,5.0000000000000001E-3]
["C-12","MW-1","C-12_MW-1","NS","Chemical Oxidation","Permanganates","TCE",0.9178082191780822,0.62549999999999994,3.5000000000000003E-2,3.5000000000000003E-2,0.62549999999999994,3.5000000000000003E-2,3.5000000000000003E-2,3.5000000000000003E-2,3.5000000000000003E-2,0.62549999999999994,3.5000000000000003E-2,3.5000000000000003E-2,0.62549999999999994,3.5000000000000003E-2,3.5000000000000003E-2,3.5000000000000003E-2,3.5000000000000003E-2]
["C-13","MW-4","C-13_MW-4","NS","Chemical Oxidation","Permanganates","PCE",3.5397260273972604,2.7731280204744557,0.77833068264597705,0.77833068264597705,6.22,4.0999999999999996,4.0999999999999996,0.22,0.22,2.8999354274940736,0.87908616656731131,0.87908616656731131,6.67,4.42,4.42,0.246,0.246]
["C-14","MW-1","C-14_MW-1","NS","Chemical Oxidation","Peroxides & Permanganates","PCE",7.1452054794520548,1.0832304448426493,0.82340792137933927,0.82340792137933927,1.65,3.4,3.4,0.12,0.12,1.3019658064086068,1.0285821884889059,1.0285821884889059,2.06,4.18,4.18,0.156,0.156]
["C-15","GW004","C-15_GW004","NS","Chemical Oxidation","Permanganates","CB",2.4164383561643836,25,4.081386473593227,4.081386473593227,42.5,4,4,0.25,0.25]
["C-16","MW301","C-16_MW301","NS","Chemical Oxidation","Peroxides / Fenton's","TCA",5.7534246575342465E-2,22.700000000000003,1.3699999999999999,1.3699999999999999,40.6,2.2999999999999998,2.2999999999999998,0.44,0.44,22.700000000000003,1.3699999999999999,1.3699999999999999,40.6,2.2999999999999998,2.2999999999999998,0.44,0.44]
["C-17","MOX-5","C-17_MOX-5","NS","Chemical Oxidation","Peroxides / Fenton's","PCE",0.23287671232876711,121.51122132916488,10.974686273194218,10.974686273194218,159.71,108.16,108.16,1E-3,1E-3,142.47064678258218,12.923104155145325,12.923104155145325,185.01000000000002,125.25,125.25,1E-3,1E-3]
["C-18","MW-Z","C-18_MW-Z","NS","Chemical Oxidation","Peroxides / Fenton's","PCE",0.42191780821917807,3.4000000000000002E-2,3.0000000000000001E-3,3.0000000000000001E-3,3.4000000000000002E-2,3.0000000000000001E-3,3.0000000000000001E-3,3.0000000000000001E-3,3.0000000000000001E-3,3.4000000000000002E-2,3.0000000000000001E-3,3.0000000000000001E-3,3.4000000000000002E-2,3.0000000000000001E-3,3.0000000000000001E-3,3.0000000000000001E-3,3.0000000000000001E-3]
["C-19","KBA-11-32","C-19_KBA-11-32","NS","Chemical Oxidation","Ozone","TCE",0.73424657534246573,0.46592703291395315,1.9595917942265426E-2,1.9595917942265426E-2,9.0739999999999998,0.03,0.03,1.2E-2,1.2E-2,0.46592703291395315,1.9595917942265426E-2,1.9595917942265426E-2,9.0739999999999998,0.03,0.03,1.2E-2,1.2E-2]
["C-20","TW-1","C-20_TW-1","NS","Chemical Oxidation","Peroxides / Fenton's","PCE",0.36712328767123287,1.9861484620366265,1.1025,1.1025,26,14,14,5.0000000000000001E-3,5.0000000000000001E-3,1.9861484620366265,1.1025,1.1025,26,14,14,5.0000000000000001E-3,5.0000000000000001E-3]
["C-21","76G","C-21_76G","NS","Chemical Oxidation","Peroxides & Permanganates","TCE",0.30410958904109592,143.56399999999999,0.92155135034768954,0.92155135034768954,224.119,629.50599999999997,629.50599999999997,2.5000000000000001E-3,2.5000000000000001E-3,143.56399999999999,0.92155135034768954,0.92155135034768954,224.119,629.50599999999997,629.50599999999997,2.5000000000000001E-3,2.5000000000000001E-3]
["C-22","T4B3","C-22_T4B3","NS","Chemical Oxidation","Permanganates","TCE",0.05,319,3.7,3.7,630,4.2,4.2,3.2,3.2,319,3.7,3.7,630,4.2,4.2,3.2,3.2]
["C-23","BAT-2I","C-23_BAT-2I","NS","Chemical Oxidation","Permanganates","TCE",0.46027397260273972,919,1.1211096341550006,1.1211096341550006,1110,410,410,2.5000000000000001E-3,2.5000000000000001E-3,919,1.1211096341550006,1.1211096341550006,1110,410,410,2.5000000000000001E-3,2.5000000000000001E-3]
["GSI-14","MW-3","GSI-14_MW-3","NS","Chemical Oxidation","Permanganates","PCE",4.1123287671232873,0.3036767807428058,6.3017211677283178E-2,6.3017211677283178E-2,1.05,0.22,0.22,1E-3,1E-3,0.30469706355790288,6.4446621281598046E-2,6.4446621281598046E-2,1.0509999999999999,0.221,0.221,2E-3,2E-3]
["GSI-16","MW-1","GSI-16_MW-1","NS","Chemical Oxidation","Ozone","PCE",4.5616438356164384,0.84455890057579663,0.40781796198290432,0.40781796198290432,4.7,9,9,2.9000000000000001E-2,2.9000000000000001E-2,1.0856189655116597,0.46619374198035268,0.46619374198035268,5.57,9.0009999999999994,9.0009999999999994,3.0000000000000002E-2,3.0000000000000002E-2]
["GSI-34","MW-1","GSI-34_MW-1","NS","Chemical Oxidation","Permanganates","PCE",6.9397260273972599,0.26775262939455102,4.4120741603499714E-3,4.4120741603499714E-3,3.5,1.3,1.3,5.0000000000000001E-4,1E-3,0.30534584294887779,6.7440860771317557E-3,6.7440860771317557E-3,3.55,1.319,1.319,1E-3,1E-3]
["GSI-42","06-01","GSI-42_06-01","NS","Chemical Oxidation","Permanganates","PCE",10.12054794520548,0.46910017223064993,0.15300110606662271,0.15300110606662271,2.7,2.1,2.1,2.5000000000000001E-4,1E-3,0.55831262989696806,0.28050671283798773,0.28050671283798773,2.82,2.2010000000000001,2.2010000000000001,2E-3,2E-3]
["GSI-48","C-19A","GSI-48_C-19A","NS","Chemical Oxidation","Peroxides & Permanganates","TCE",4.4520547945205475,17.123838088114489,37.320241345769979,37.320241345769979,190,480,480,1.2500000000000001E-2,1.2500000000000001E-2,20.318955826682583,43.064969375639144,43.064969375639144,190,513,513,3.1E-2,3.1E-2]
["GSI-56","MW-5A","GSI-56_MW-5A","NS","Chemical Oxidation","Permanganates","TCE",7.3561643835616435,7.6700165239709976,1.123721608328113E-2,1.123721608328113E-2,30,6.8000000000000005E-2,6.8000000000000005E-2,5.0000000000000001E-4,1E-3,21.665410170560094,1.8753609628178383,1.8753609628178383,86,31.401,31.401,9.2999999999999992E-3,9.2999999999999992E-3]
["GSI-60","MW-11B","GSI-60_MW-11B","NS","Chemical Oxidation","Permanganates","TCE",4.4821917808219176,1.9952100709966361,1.4187374939301277E-2,1.4187374939301277E-2,24,1.63,1.63,1E-3,1E-3,3.0904656412938398,0.34765512680782773,0.34765512680782773,25.55,2.0150999999999999,2.0150999999999999,6.7000000000000004E-2,6.7000000000000004E-2]
["GSI-66","MW-1","GSI-66_MW-1","NS","Chemical Oxidation","Permanganates","PCE",3.8246575342465752,0.51892772960234335,0.35492161434188829,0.35492161434188829,17,14.4,14.4,2.5000000000000001E-4,1E-3,0.53218477537941711,0.36645468123006919,0.36645468123006919,17.001000000000001,14.579400000000001,14.579400000000001,5.0000000000000001E-4,1E-3]
["GSI-67","MW-3","GSI-67_MW-3","NS","Chemical Oxidation","Peroxides / Fenton's","TCE",4.5753424657534243,0.99,0.37564168537988657,0.37564168537988657,2.09,1.23,1.23,2.5000000000000001E-4,1E-3,0.99068999999999996,0.37579749726497824,0.37579749726497824,2.09,1.23156,1.23156,2.5000000000000001E-4,1E-3]
["GSI-69","MW-1","GSI-69_MW-1","NS","Chemical Oxidation","Permanganates","PCE",1.4219178082191781,5.7800561744645179E-2,1.2372310525310055E-2,1.2372310525310055E-2,11,1,1,2.5000000000000001E-4,1E-3,5.8743169961941143E-2,1.2628592439238135E-2,1.2628592439238135E-2,11.25,1.0024999999999999,1.0024999999999999,5.0000000000000001E-4,1E-3]
["GSI-72","MW-1","GSI-72_MW-1","NS","Chemical Oxidation","Permanganates","PCE",6.536986301369863,8.9036307129523977E-3,2.2699999999999999E-3,2.2699999999999999E-3,4,6.0999999999999999E-2,6.0999999999999999E-2,2.5000000000000001E-4,1E-3,0.48357405176676105,1.5705E-2,1.5705E-2,15.215,7.0199999999999999E-2,7.0199999999999999E-2,5.5999999999999999E-3,5.5999999999999999E-3]
["GSI-75","MW0006D","GSI-75_MW0006D","NS","Chemical Oxidation","Ozone","TCE",1.1698630136986301,0.97,0.11699968344327141,0.11699968344327141,1.9,3.4,3.4,1E-3,1E-3,0.97360000000000002,0.22996580883951173,0.22996580883951173,3,4.5999999999999996,4.5999999999999996,1E-3,1E-3]
["GSI-86","MW-10","GSI-86_MW-10","NS","Chemical Oxidation","Persulfates & Peroxides","TCE",4.4054794520547942,1.7315966300898737,3.5168788214275494E-3,3.5168788214275494E-3,160,8.7999999999999995E-2,8.7999999999999995E-2,7.5000000000000002E-4,1E-3,1.7766814526474295,4.1932600509935053E-3,4.1932600509935053E-3,160,0.128,0.128,7.5000000000000002E-4,1E-3]
["GSI-FL-2","MW014","GSI-FL-2_MW014","NS","Chemical Oxidation","Permanganates","PCE",2.9917808219178084,7.2003558219114447,40.940256754562611,40.940256754562611,159,138,138,0.70099999999999996,0.70099999999999996,21.569015017540387,57.810632983845323,57.810632983845323,178.255,182.601,182.601,1.7309999999999999,1.7309999999999999]
["GSI-FL-21","MW002","GSI-FL-21_MW002","NS","Chemical Oxidation","Peroxides / Fenton's","PCE",2.5342465753424657,10.171701717379426,0.80234181752058953,0.80234181752058953,66.8,4.4000000000000004,4.4000000000000004,2.8000000000000003E-4,1E-3,13.863969180072125,2.6841244590317928,2.6841244590317928,70.08,10.78,10.78,3.209E-3,3.209E-3]
["GSI-FL-22","MW002","GSI-FL-22_MW002","NS","Chemical Oxidation","Peroxides / Fenton's","PCE",6.1917808219178081,1.18,3.9328737938157846E-2,3.9328737938157846E-2,18.5,2.64,2.64,2.2000000000000001E-4,1E-3,1.706,0.53025616849170554,0.53025616849170554,19.716000000000001,3.9820000000000002,3.9820000000000002,2.3240000000000004E-2,2.3240000000000004E-2]
["GSI-FL-24","MW023","GSI-FL-24_MW023","NS","Chemical Oxidation","Permanganates","PCE",5.4356164383561643,0.50510766864083267,2.8048760314418827E-2,2.8048760314418827E-2,4.3,0.12,0.12,9.769999999999999E-5,1E-3,1.10910974291875,5.3402085708337155E-2,5.3402085708337155E-2,6.0890000000000004,0.52037,0.52037,7.2150000000000003E-4,1E-3]
["GSI-FL-25","MW002","GSI-FL-25_MW002","NS","Chemical Oxidation","Peroxides / Fenton's","PCE",2.9397260273972603,0.42739183410662251,0.11025603646289432,0.11025603646289432,4.1399999999999997,0.25900000000000001,0.25900000000000001,5.2199999999999998E-3,5.2199999999999998E-3,0.7884614380342817,0.11660547051213666,0.11660547051213666,4.1683000000000003,0.26155499999999998,0.26155499999999998,9.0229999999999998E-3,9.0229999999999998E-3]
["K001","MW-1","K001_MW-1","NS","Chemical Oxidation","Permanganates","TCE",2.8630136986301369,1.8995848737386132,2.3501886650064401E-2,2.3501886650064401E-2,103,0.26,0.26,1E-3,1E-3,1.9107629201559058,2.8522911560463802E-2,2.8522911560463802E-2,103.00200000000001,0.32300000000000001,0.32300000000000001,2E-3,2E-3]
["K002","IW008","K002_IW008","NS","Chemical Oxidation","Permanganates","PCE",1.441095890410959,0.16750000000000001,1.9650000000000001E-2,1.9650000000000001E-2,1.5,0.184,0.184,1E-3,1E-3,0.16950000000000001,2.1650000000000003E-2,2.1650000000000003E-2,1.5079999999999998,0.186,0.186,3.0000000000000001E-3,3.0000000000000001E-3]
["K003","511-MW-1","K003_511-MW-1","NS","Chemical Oxidation","Peroxides / Fenton's","TCE",5.7835616438356166,309.1029231079371,342.08041121950555,342.08041121950555,680,1120,1120,1.7000000000000001E-2,1.7000000000000001E-2,348.88788813680117,397.79130252785001,397.79130252785001,709.6,1142,1142,1.7369999999999999,1.7369999999999999]
["K004","MW-OS19","K004_MW-OS19","NS","Chemical Oxidation","Peroxides / Fenton's","PCE",4.4657534246575343,3.6927051487981384,1.5153497421844451,1.5153497421844451,62.1,1.8,1.8,1.3,1.3,3.6927051487981384,1.5153497421844451,1.5153497421844451,62.1,1.8,1.8,1.3,1.3]
["K005","TW-1","K005_TW-1","NS","Chemical Oxidation","Peroxides / Fenton's","TCE",0.14794520547945206,140,160,160,840,170,170,18,18,147.5,162.80000000000001,162.80000000000001,846.5,172,172,20.25,20.25]
["K006","PZ-1","K006_PZ-1","NS","Chemical Oxidation","Peroxides / Fenton's","TCE",0.60547945205479448,34,2.2000000000000002,2.2000000000000002,66,2.2000000000000002,2.2000000000000002,0.9,0.9,130.9,108.2,108.2,154,176.2,176.2,10.100000000000001,10.100000000000001]
["K007","MW-34B1","K007_MW-34B1","NS","Chemical Oxidation","Permanganates","PCE",8.1726027397260275,2.6944387170614958,0.68884313605808656,0.68884313605808656,9.1,10,10,2.1999999999999999E-2,2.1999999999999999E-2,2.6944387170614958,0.68884313605808656,0.68884313605808656,9.1,10,10,2.1999999999999999E-2,2.1999999999999999E-2]
["K009","MW028","K009_MW028","NS","Chemical Oxidation","Permanganates","PCE",1.7534246575342465,1.3341664064126335,0.33,0.33,70,1.1000000000000001,1.1000000000000001,1E-3,1E-3,1.6145504018146972,0.72600000000000009,0.72600000000000009,71.70017,4.3899999999999997,4.3899999999999997,4.9000000000000002E-2,4.9000000000000002E-2]
["K010","OLD-13-07A","K010_OLD-13-07A","NS","Chemical Oxidation","Permanganates","PCE",0.65479452054794518,0.59326252051145145,0.68200000000000005,0.68200000000000005,26.4,4.12,4.12,4.6899999999999997E-2,4.6899999999999997E-2,2.6303765063387603,1.0170000000000001,1.0170000000000001,40.24,5.18222,5.18222,0.30587999999999999,0.30587999999999999]
["TT-10A","17-23A","TT-10A_17-23A","NS","Chemical Oxidation","Peroxides / Fenton's","TCE",2.495890410958904,10.199999999999999,2.11,2.11,20.5,3.34,3.34,5.0000000000000001E-4,1E-3,10.199999999999999,2.11,2.11,20.5,3.34,3.34,5.0000000000000001E-4,1E-3]
["TT-11A","B-2A","TT-11A_B-2A","NS","Chemical Oxidation","Peroxides / Fenton's","PCE",1.1616438356164382,0.2558526666503535,0.29393876913398137,0.29393876913398137,12.173,0.59,0.59,0.11,0.11,0.4005207990650515,0.47244047244070864,0.47244047244070864,13.375,0.92999999999999994,0.92999999999999994,0.123,0.123]
["TT-12A","MW-2","TT-12A_MW-2","NS","Chemical Oxidation","Permanganates","PCE",1.4027397260273973,0.45902572528947827,0.26390773477019852,0.26390773477019852,2.2000000000000002,0.99,0.99,3.0999999999999999E-3,3.0999999999999999E-3,0.45902572528947827,0.26390773477019852,0.26390773477019852,2.2000000000000002,0.99,0.99,3.0999999999999999E-3,3.0999999999999999E-3]
["TT-1B","MW-3","TT-1B_MW-3","NS","Chemical Oxidation","Permanganates","PCE",5.1315068493150688,0.64381833395977695,0.22046667602623973,0.22046667602623973,20,0.45,0.45,0.105,0.105,1.1243582983745208,0.24567617500677597,0.24567617500677597,20.190000000000001,0.51300000000000001,0.51300000000000001,0.11499999999999999,0.11499999999999999]
["TT-2B","MW-13","TT-2B_MW-13","NS","Chemical Oxidation","Permanganates","PCE",4.0630136986301366,41.518199494052446,2.5421776672384939E-4,1E-3,92.6,1E-3,1E-3,1.2999999999999999E-4,1E-3,44.054274858771898,7.8864326148387362E-4,1E-3,99.22,3.9899999999999996E-3,3.9899999999999996E-3,2.2600000000000002E-4,1E-3]
["TT-3B","MW-3","TT-3B_MW-3","NS","Chemical Oxidation","Permanganates","PCE",1.0273972602739727,1.8253425537523418E-2,1E-3,1E-3,32,0.12,0.12,2.5000000000000001E-4,1E-3,0.2132473593145103,0.12230000000000002,0.12230000000000002,44.908100000000005,0.47950000000000004,0.47950000000000004,2.5000000000000001E-4,1E-3]
["TT-4B","W-2","TT-4B_W-2","NS","Chemical Oxidation","Persulfates","TCE",5.5315068493150683,1.4745693047825409E-2,9.1293927791873015E-3,9.1293927791873015E-3,0.25,0.03,0.03,2.5000000000000001E-4,1E-3,1.4745693047825409E-2,9.1293927791873015E-3,9.1293927791873015E-3,0.25,0.03,0.03,2.5000000000000001E-4,1E-3]
["TT-5B","MW-01","TT-5B_MW-01","NS","Chemical Oxidation","Peroxides / Fenton's","PCE",5.4027397260273968,7.9242552962459216,1.2466535627116362,1.2466535627116362,27,4.0999999999999996,4.0999999999999996,6.8000000000000005E-2,6.8000000000000005E-2,10.540350040584647,1.9255756599541349,1.9255756599541349,32.6,6.1,6.1,0.13800000000000001,0.13800000000000001]
["TT-6A","MW-007","TT-6A_MW-007","NS","Chemical Oxidation","Peroxides / Fenton's","PCE",3.452054794520548,0.57999999999999996,1.4144756596710334E-3,1.4144756596710334E-3,0.57999999999999996,2.8300000000000001E-3,2.8300000000000001E-3,1E-3,1E-3,0.57999999999999996,1.4144756596710334E-3,1.4144756596710334E-3,0.57999999999999996,2.8300000000000001E-3,2.8300000000000001E-3,1E-3,1E-3]
["TT-7A","MW-1R","TT-7A_MW-1R","NS","Chemical Oxidation","Permanganates","PCE",3.6082191780821917,3.7917700985754492,1.6875889444414218,1.6875889444414218,40,20,20,1.0999999999999999E-2,1.0999999999999999E-2,3.9066004950355322,2.0797552314767023,2.0797552314767023,41.5,23.9,23.9,2.3E-2,2.3E-2]
["TT-8A","SB-37","TT-8A_SB-37","NS","Chemical Oxidation","Peroxides & Permanganates","PCE",0.25205479452054796,0.44,2.2000000000000002,2.2000000000000002,30,21,21,8.5000000000000006E-3,8.5000000000000006E-3,3.84,5.0999999999999996,5.0999999999999996,45,34,34,6.5500000000000003E-2,6.5500000000000003E-2]
["TT-9A","P-108","TT-9A_P-108","NS","Chemical Oxidation","Permanganates","PCE",0.75616438356164384,1.8768590783540462,1.3,1.3,12.6,1.5,1.5,0.27,0.27,1.9799604036444769,1.5629999999999999,1.5629999999999999,27.1,3.3,3.3,0.29200000000000004,0.29200000000000004]
["VCP-1188A","KB-26","VCP-1188A_KB-26","NS","Chemical Oxidation","Permanganates","PCE",5.3698630136986303,10.624448209368325,2.6914932133496103,2.6914932133496103,25,5.2,5.2,1.5,1.5,10.978993529485866,3.1327320790173392,3.1327320790173392,25.030099999999997,5.2134999999999998,5.2134999999999998,2.2060000000000004,2.2060000000000004]
["VCP-1395","MW-19","VCP-1395_MW-19","NS","Chemical Oxidation","Permanganates","PCE",7.4465753424657537,20.06296308603789,0.11960430156663089,0.11960430156663089,38.200000000000003,151,151,1.1E-4,1E-3,55.389972247732004,0.58840854987012781,0.58840854987012781,100.38000000000001,176.00499999999997,176.00499999999997,4.7000000000000004E-4,1E-3]
["VCP-1558","MW-2","VCP-1558_MW-2","NS","Chemical Oxidation","Permanganates","PCE",2.7369863013698632,0.21718862502096109,8.5930217907183894E-3,8.5930217907183894E-3,0.92200000000000004,4.3999999999999997E-2,4.3999999999999997E-2,7.2000000000000005E-4,1E-3,0.75122065621335965,2.8260069468921532E-2,2.8260069468921532E-2,2.2489999999999997,0.123,0.123,6.3299999999999997E-3,6.3299999999999997E-3]
["VCP-1582","MW-4","VCP-1582_MW-4","NS","Chemical Oxidation","Persulfates","PCE",2.0794520547945203,3.9506345264539661E-3,1.6467934790651059E-2,1.6467934790651059E-2,6.7000000000000002E-3,2.5999999999999999E-2,2.5999999999999999E-2,9.1999999999999998E-3,9.1999999999999998E-3,0.1926699989566826,0.82609026096598237,0.82609026096598237,0.67770000000000008,1.1040000000000001,1.1040000000000001,0.51319999999999999,0.51319999999999999]
["VCP-1599","MW-2","VCP-1599_MW-2","NS","Chemical Oxidation","Permanganates","PCE",0.42739726027397262,96.074036963218546,32.440483728448811,32.440483728448811,350,61.5,61.5,9.06,9.06,102.76581409928994,34.533984296387388,34.533984296387388,358.87,67.340000000000018,67.340000000000018,9.8019999999999996,9.8019999999999996]
["VCP-296_2","MW-64","VCP-296_2_MW-64","NS","Chemical Oxidation","Persulfates & Peroxides","PCE",2.4438356164383563,4.462150468349888,0.29799999999999999,0.29799999999999999,32,0.29799999999999999,0.29799999999999999,0.29799999999999999,0.29799999999999999,4.4997809760236622,0.29799999999999999,0.29799999999999999,32.080999999999996,0.29799999999999999,0.29799999999999999,0.29799999999999999,0.29799999999999999]
["VCP-749","MW-04","VCP-749_MW-04","NS","Chemical Oxidation","Permanganates","PCE",12.69041095890411,0.37832343573119825,6.480692460853494E-3,6.480692460853494E-3,0.86,0.35,0.35,1E-3,1E-3,0.48139504467660427,0.12130512735815353,0.12130512735815353,1.04,2.6549999999999998,2.6549999999999998,1.4999999999999999E-2,1.4999999999999999E-2]
["VCP-886","MW-7/7A","VCP-886_MW-7/7A","NS","Chemical Oxidation","Peroxides / Fenton's","TCE",8.7917808219178077,58.864250611045748,0.27502180504476148,0.27502180504476148,86,6.9,6.9,1E-4,1E-3,60.967204298704722,0.29438047083757185,0.29438047083757185,86,6.9,6.9,1E-4,1E-3]
["GSI-101","MW-1","GSI-101_MW-1","NS","Chemical Reduction","Nanoscale ZVI","TCE",7.9452054794520555E-2,2.6825000000000001,3.8499999999999993E-2,3.8499999999999993E-2,3.71,7.1999999999999995E-2,7.1999999999999995E-2,5.0000000000000001E-3,5.0000000000000001E-3,2.6825000000000001,3.8499999999999993E-2,3.8499999999999993E-2,3.71,7.1999999999999995E-2,7.1999999999999995E-2,5.0000000000000001E-3,5.0000000000000001E-3]
["GSI-102","?","GSI-102_?","NS","Chemical Reduction","Nanoscale ZVI","TCE",0.16712328767123288,3,0.3,0.3,3,0.3,0.3,0.3,0.3,3,0.3,0.3,3,0.3,0.3,0.3,0.3]
["GSI-106","?1","GSI-106_?1","NS","Chemical Reduction","Nanoscale ZVI","TCA",1.0794520547945206,5.4700000000000006,3.3500000000000002E-2,3.3500000000000002E-2,10,6.6000000000000003E-2,6.6000000000000003E-2,1E-3,1E-3,8.2839500000000008,0.54249999999999998,0.54249999999999998,13.790000000000001,0.93599999999999994,0.93599999999999994,0.14900000000000002,0.14900000000000002]
["GSI-109","H10MW08","GSI-109_H10MW08","NS","Chemical Reduction","Nanoscale ZVI","TCE",0.88767123287671235,0.93808315196468595,4.8971805136718456E-3,4.8971805136718456E-3,26,56,56,1E-3,1E-3,6.7270000000000003,6.2009718169496804,6.2009718169496804,27.2,74,74,0.4214,0.4214]
["GSI-110","MW-1","GSI-110_MW-1","NS","Chemical Reduction","Nanoscale ZVI","TCE",0.39726027397260272,1.1799999999999998E-2,4.9891506946416735E-3,4.9891506946416735E-3,1.7999999999999999E-2,3.4000000000000002E-2,3.4000000000000002E-2,1E-3,1E-3,1.44E-2,6.0759673844364755E-3,6.0759673844364755E-3,2.1999999999999999E-2,0.05,0.05,1E-3,1E-3]
["GSI-111","NZVI-1","GSI-111_NZVI-1","NS","Chemical Reduction","Nanoscale ZVI","TCE",0.10684931506849316,10,6,6,21.5,11.5,11.5,1.5,1.5,10,6,6,21.5,11.5,11.5,1.5,1.5]
["GSI-113","?1","GSI-113_?1","NS","Chemical Reduction","Nanoscale ZVI","TCE",0.16986301369863013,14,0.20601642420750602,0.20601642420750602,14,6,6,1E-3,1E-3,14,0.20601642420750602,0.20601642420750602,14,6,6,1E-3,1E-3]
["GSI-115","?","GSI-115_?","NS","Chemical Reduction","Nanoscale ZVI","TCE",8.4931506849315067E-2,1.5,0.1,0.1,1.5,0.1,0.1,0.1,0.1,1.5,0.1,0.1,1.5,0.1,0.1,0.1,0.1]
["GSI-117","PL-06-3","GSI-117_PL-06-3","NS","Chemical Reduction","Nanoscale ZVI","TCE",1.1835616438356165,0.28000000000000003,1.871969284216702E-2,1.871969284216702E-2,0.32,0.13,0.13,1E-3,1E-3,0.32700000000000001,0.12231004448624837,0.12231004448624837,0.39600000000000002,0.185,0.185,5.1000000000000004E-2,5.1000000000000004E-2]
["GSI-119","MW-17D","GSI-119_MW-17D","NS","Chemical Reduction","Nanoscale ZVI","TCE",1,241,1.2489995996796797,1.2489995996796797,241,13,13,0.12,0.12,241,7.4538580614336896,7.4538580614336896,241,463,463,0.12,0.12]
["GSI-120","MW211F","GSI-120_MW211F","NS","Chemical Reduction","Microscale ZVI","TCE",0.75890410958904109,58.5,0.23819296969988291,0.23819296969988291,88,1.7,1.7,1E-3,1E-3,58.5,0.45390894431215734,0.45390894431215734,169,6.35,6.35,1E-3,1E-3]
["GSI-121","MW00-211","GSI-121_MW00-211","NS","Chemical Reduction","Microscale ZVI","TCE",1.2356164383561643,0.21299999999999999,0.27599532147223732,0.27599532147223732,72.8,34,34,8.6999999999999994E-3,8.6999999999999994E-3,0.32700000000000001,0.34467574064327855,0.34467574064327855,72.8,34.18,34.18,1.0999999999999999E-2,1.0999999999999999E-2]
["GSI-123","MW310F","GSI-123_MW310F","NS","Chemical Reduction","Microscale ZVI","TCE",0.39726027397260272,1.1000000000000001,4.6415888336127789E-3,4.6415888336127789E-3,4.4000000000000004,0.3,0.3,1E-3,1E-3,1.2,0.20607682433251753,0.20607682433251753,9.1999999999999993,3.6499999999999995,3.6499999999999995,1E-3,1E-3]
["GSI-125","?","GSI-125_?","NS","Chemical Reduction","Microscale ZVI","TCE",0.16712328767123288,0.15,1.4409664294429041E-2,1.4409664294429041E-2,0.15,2.1999999999999999E-2,2.1999999999999999E-2,8.0000000000000002E-3,8.0000000000000002E-3,0.15,1.4409664294429041E-2,1.4409664294429041E-2,0.15,2.1999999999999999E-2,2.1999999999999999E-2,8.0000000000000002E-3,8.0000000000000002E-3]
["GSI-126","MW-2","GSI-126_MW-2","NS","Chemical Reduction","Microscale ZVI","TCE",1.2904109589041095,1.0449999999999999,4.1658005374347565E-2,4.1658005374347565E-2,3.7,1,1,1E-3,1E-3,1.1800000000000002,9.5495791827445081E-2,9.5495791827445081E-2,3.7680000000000002,1.7009999999999998,1.7009999999999998,4.0000000000000001E-3,4.0000000000000001E-3]
["GSI-131","IRZ-IW-01","GSI-131_IRZ-IW-01","NS","Chemical Reduction","Nanoscale ZVI","TCE",0.50410958904109593,0.4,0.43662891242647495,0.43662891242647495,6.3,7.8,7.8,1.6999999999999999E-3,1.6999999999999999E-3,0.40100000000000002,0.43961105507083198,0.43961105507083198,6.3014000000000001,7.8,7.8,1.6999999999999999E-3,1.6999999999999999E-3]
["GSI-134","?","GSI-134_?","NS","Chemical Reduction","Microscale ZVI","PCE",0.16438356164383561,1.8,0.17,0.17,1.8,0.17,0.17,0.17,0.17,1.8,0.17,0.17,1.8,0.17,0.17,0.17,0.17]
["GSI-116","E-ML1-1","GSI-116_E-ML1-1","NS","Chemical Reduction / Bioremediation","Emulsified ZVI","TCE",0.25205479452054796,450,10.246950765959598,10.246950765959598,1180,720,720,2E-3,2E-3,461,131.25166665608478,131.25166665608478,1197.4000000000001,745,745,0.09,0.09]
["GSI-124","TW-28","GSI-124_TW-28","NS","Chemical Reduction / Bioremediation","Emulsified ZVI","TCE",1.5068493150684932,0.36099999999999999,0.11681860023881875,0.11681860023881875,1.82,2.27,2.27,0.06,0.06,0.42379999999999995,0.68424588543051879,0.68424588543051879,1.921,2.4359999999999999,2.4359999999999999,0.115,0.115]
["GSI-130","PMW-1","GSI-130_PMW-1","NS","Chemical Reduction / Bioremediation","Emulsified ZVI","TCE",2.3698630136986303,3.1388552825555425,0.13139104431093779,0.13139104431093779,8,14,14,1E-3,1E-3,29.932365365106158,19.154452470578626,19.154452470578626,66,44.500999999999998,44.500999999999998,2.0009999999999999,2.0009999999999999]
["GSI-118","IW-1","GSI-118_IW-1","NS","Chemical Reduction /Bioremediation","Emulsified ZVI","TCE",1.6328767123287671,3.71,0.16,0.16,7.4029999999999996,3.4049999999999998,3.4049999999999998,1E-3,1E-3,11.254999999999999,7.8100000000000005,7.8100000000000005,18.91,9.4009999999999998,9.4009999999999998,3.4049999999999998,3.4049999999999998]
["S-01","MW509","S-01_MW509","NS","Surfactant","Cosolvent","PCE",5.2767123287671236,0.26,0.50404154618015629,0.50404154618015629,136,44,44,1.9E-6,1E-3,1.044,4.1056694046587738,4.1056694046587738,148.80000000000001,69,69,5.0160000000000005E-3,5.0160000000000005E-3]
["S-02","MW-1","S-02_MW-1","NS","Surfactant","Anionic Surfactant","TCE",6.0000000000003988E-2,900,10,10,900,10,10,10,10,900,10,10,900,10,10,10,10]
["S-03","MLS-2T","S-03_MLS-2T","NS","Surfactant","Anionic Surfactant","PCE",1.5068493150684932,4,4.5999999999999999E-2,4.5999999999999999E-2,4,4.5999999999999999E-2,4.5999999999999999E-2,4.5999999999999999E-2,4.5999999999999999E-2,4,4.5999999999999999E-2,4.5999999999999999E-2,4,4.5999999999999999E-2,4.5999999999999999E-2,4.5999999999999999E-2,4.5999999999999999E-2]
["TT-13A","ML1C","TT-13A_ML1C","NS","Surfactant","Non-ionic Surfactant","PCE",7.1698630136986301,0.65502850000000012,0.11696001733108122,0.11696001733108122,66.332000000000008,298.49400000000003,298.49400000000003,1.9E-3,1.9E-3,0.65502850000000012,0.11696001733108122,0.11696001733108122,66.332000000000008,298.49400000000003,298.49400000000003,1.9E-3,1.9E-3]
["GSI-47","GW-106","GSI-47_GW-106","NS","Thermal Treatment","Electrical Resistance Heating","PCE",2.7863013698630139,0.18799930875108811,0.20099999999999998,0.20099999999999998,2.64,3.71,3.71,4.2000000000000006E-3,4.2000000000000006E-3,0.31322467615938004,0.53349999999999997,0.53349999999999997,3.4766999999999997,4.5587999999999997,4.5587999999999997,5.2000000000000006E-3,5.2000000000000006E-3]
["GSI-T1","EN-527","GSI-T1_EN-527","NS","Thermal Treatment","Conductive Heating","PCE",3.0465753424657533,1.6997433255341026,4.4703968711158224E-3,4.4703968711158224E-3,7.8,1,1,1E-4,1E-3,3.9679515373600291,2.5304107603560701E-2,2.5304107603560701E-2,11.95,4,4,8.9999999999999998E-4,1E-3]
["GSI-T-101","OB1","GSI-T-101_OB1","NS","Thermal Treatment","Electrical Resistance Heating","TCE",2.0849315068493151,150,2.8478061731796286E-2,2.8478061731796286E-2,150,0.1,0.1,8.1099999999999992E-3,8.1099999999999992E-3,544,1.4035613631045849,1.4035613631045849,544,1.4500000000000002,1.4500000000000002,1.3586100000000001,1.3586100000000001]
["GSI-T-102","MW-50I","GSI-T-102_MW-50I","NS","Thermal Treatment","Electrical Resistance Heating","TCE",1.0520547945205478,6.4,0.81841309862440503,0.81841309862440503,42,9.75,9.75,3.3000000000000002E-2,3.3000000000000002E-2,6.4,0.81841309862440503,0.81841309862440503,42,9.75,9.75,3.3000000000000002E-2,3.3000000000000002E-2]
["GSI-T-103","RW-03","GSI-T-103_RW-03","NS","Thermal Treatment","Electrical Resistance Heating","TCE",1,0.39,1.1946754836212416E-2,1.1946754836212416E-2,11,7.8E-2,7.8E-2,1.9E-3,1.9E-3,0.39,1.1946754836212416E-2,1.1946754836212416E-2,11,7.8E-2,7.8E-2,1.9E-3,1.9E-3]
["GSI-T-104","Basal","GSI-T-104_Basal","NS","Thermal Treatment","Conductive Heating & Steam","PCE",1.2547945205479452,25,1,1,50,1.5,1.5,6.0000000000000001E-3,6.0000000000000001E-3,25,1,1,50,1.5,1.5,6.0000000000000001E-3,6.0000000000000001E-3]
["GSI-T-105","DB-10","GSI-T-105_DB-10","NS","Thermal Treatment","Electrical Resistance Heating","PCE",0.52054794520547942,3.6,2.7499999999999997E-2,2.7499999999999997E-2,13,1.4,1.4,2.3E-3,2.3E-3,3.6,2.7499999999999997E-2,2.7499999999999997E-2,13,1.4,1.4,2.3E-3,2.3E-3]
["GSI-T-106","UNK","GSI-T-106_UNK","NS","Thermal Treatment","Steam","TCE",4.838356164383562,10,0.11,0.11,10,0.11,0.11,0.11,0.11,10,0.11,0.11,10,0.11,0.11,0.11,0.11]
["GSI-T-107","MW-16","GSI-T-107_MW-16","NS","Thermal Treatment","Electrical Resistance Heating","PCE",3.9287671232876713,4.1500000000000004,1.7392711120698179,1.7392711120698179,5.5,4,4,0.50909090909090904,0.50909090909090904,4.1500000000000004,1.7392711120698179,1.7392711120698179,5.5,4,4,0.50909090909090904,0.50909090909090904]
["GSI-T-108","Area 1","GSI-T-108_Area 1","NS","Thermal Treatment","Electrical Resistance Heating","PCE",0.38630136986301372,336.25,3.17,3.17,538.20000000000005,5.12,5.12,1.22,1.22,336.25,3.17,3.17,538.20000000000005,5.12,5.12,1.22,1.22]
["GSI-T-109","MW155","GSI-T-109_MW155","NS","Thermal Treatment","Electrical Resistance Heating","TCE",0.50684931506849318,116.56953366502911,26.702728987382425,26.702728987382425,260,414,414,3.1,3.1,116.56953366502911,26.702728987382425,26.702728987382425,260,414,414,3.1,3.1]
["GSI-T-110","X01-100","GSI-T-110_X01-100","NS","Thermal Treatment","Electrical Resistance Heating","TCE",0.50684931506849318,39.995725558828426,0.17889054060957704,0.17889054060957704,66,1.8,1.8,1.9E-2,1.9E-2,39.995725558828426,0.17889054060957704,0.17889054060957704,66,1.8,1.8,1.9E-2,1.9E-2]
["GSI-T-111",1,"GSI-T-111_1","NS","Thermal Treatment","Electrical Resistance Heating","PCE",0.33150684931506852,14.600000000000001,0.92999999999999994,0.92999999999999994,47,1.6,1.6,1.9E-2,1.9E-2,0.92999999999999994,14.600000000000001,14.600000000000001,1.6,47,47,1.6,1.6]
["GSI-TK2","MW-1","GSI-TK2_MW-1","NS","Thermal Treatment","Electrical Resistance Heating","PCE",8.7671232876712329E-2,41.214075265617687,2.7694764848252458,2.7694764848252458,285,59,59,0.13,0.13,41.214075265617687,2.7694764848252458,2.7694764848252458,285,59,59,0.13,0.13]
["GSI-TK3","MW-1","GSI-TK3_MW-1","NS","Thermal Treatment","Electrical Resistance Heating","PCE",8.7671232876712329E-2,2.8284271247461901E-2,2.7568097504180444E-2,2.7568097504180444E-2,1.6,0.76,0.76,1E-3,1E-3,2.8284271247461901E-2,2.7568097504180444E-2,2.7568097504180444E-2,1.6,0.76,0.76,1E-3,1E-3]
["GSI-TK4","MW-1","GSI-TK4_MW-1","NS","Thermal Treatment","Electrical Resistance Heating","PCE",8.7671232876712329E-2,1.0401922899156675,3.7416573867739417E-2,3.7416573867739417E-2,541,1.4,1.4,1E-3,1E-3,1.0401922899156675,3.7416573867739417E-2,3.7416573867739417E-2,541,1.4,1.4,1E-3,1E-3]
["GSI-TK5","MW-1","GSI-TK5_MW-1","NS","Thermal Treatment","Electrical Resistance Heating","PCE",8.7671232876712329E-2,0.18439088914585774,4.6904157598234297E-2,4.6904157598234297E-2,17,2.2000000000000002,2.2000000000000002,1E-3,1E-3,0.18439088914585774,4.6904157598234297E-2,4.6904157598234297E-2,17,2.2000000000000002,2.2000000000000002,1E-3,1E-3]
["T-01","B3","T-01_B3","NS","Thermal Treatment","Electrical Resistance Heating","TCE",0.9452054794520548,28,1.9561432664316619E-2,1.9561432664316619E-2,75,0.27,0.27,5.0000000000000001E-4,1E-3,28,1.9561432664316619E-2,1.9561432664316619E-2,75,0.27,0.27,5.0000000000000001E-4,1E-3]
["T-02","DRW5","T-02_DRW5","NS","Thermal Treatment","Electrical Resistance Heating & Steam","TCE",0.81643835616438354,1.4183232810551807,5.0000000000000001E-4,1E-3,15,5.0000000000000001E-4,1E-3,5.0000000000000001E-4,1E-3,1.4183232810551807,5.0000000000000001E-4,1E-3,15,5.0000000000000001E-4,1E-3,5.0000000000000001E-4,1E-3]
["T-03","Si14I","T-03_Si14I","NS","Thermal Treatment","Steam","PCP",5.4164383561643836,0.43910943243032863,2.6434302641303912E-3,2.6434302641303912E-3,1.3,1.2E-2,1.2E-2,1E-3,1E-3]
["T-05","GM2","T-05_GM2","NS","Thermal Treatment","Electrical Resistance Heating","PCP",0.99082191780822315,20.2,2.7566231364290732,2.7566231364290732,20.2,4,4,0.2,0.2]
["T-06","PA-13I","T-06_PA-13I","NS","Thermal Treatment","Electrical Resistance Heating","TCE",1.8191780821917809,995,387.5,387.5,1070,758,758,60.2,60.2,995,387.5,387.5,1070,758,758,60.2,60.2]
["TT-14A","GW-25","TT-14A_GW-25","NS","Thermal Treatment","Electrical Resistance Heating","PCE",2.4164383561643836,15.450000000000001,1.3607256340384735,1.3607256340384735,26,1.8,1.8,0.72399999999999998,0.72399999999999998,15.450000000000001,1.3607256340384735,1.3607256340384735,26,1.8,1.8,0.72399999999999998,0.72399999999999998]
["GSI-FL-26","MW002","GSI-FL-26_MW002","NS","MNA",null,"PCE","MNA: n/a",1.9834061611278717,1E-3,1E-3,23.3,1.2E-2,1.2E-2,1E-3,1E-3,3.2610979439446464,3.5000000000000001E-3,3.5000000000000001E-3,23.305890000000002,1.4700000000000001E-2,1.4700000000000001E-2,3.5000000000000001E-3,3.5000000000000001E-3]
["GSI-FL-27","MW003","GSI-FL-27_MW003","NS","MNA",null,"PCE","MNA: n/a",0.01,2.2360679774997898,2.2360679774997898,2,49,49,0.94,0.94,0.68900000000000006,3.2180371346521159,3.2180371346521159,3.891,49.74,49.74,2.21,2.21]
["GSI-FL-28","MW007","GSI-FL-28_MW007","NS","MNA",null,"TCE","MNA: n/a",8.9843266530174933E-3,1.1548334321450594E-3,1.1548334321450594E-3,0.89,0.249,0.249,2.3999999999999998E-4,1E-3,2.0519147504478336E-2,3.3397803477994707E-3,3.3397803477994707E-3,0.98329,0.28149999999999997,0.28149999999999997,7.0999999999999991E-4,1E-3]
["GSI-FL-29","MW002","GSI-FL-29_MW002","NS","MNA",null,"TCE","MNA: n/a",1.5850276550489E-3,4.8127717305695653E-3,4.8127717305695653E-3,4.7999999999999996E-3,7.4400000000000008E-2,7.4400000000000008E-2,1E-3,1E-3,3.5047056710213784E-2,0.17526580195793037,0.17526580195793037,0.10209,0.76039999999999996,0.76039999999999996,1.5100000000000001E-3,1.5100000000000001E-3]
["GSI-FL-30","MW005","GSI-FL-30_MW005","NS","MNA",null,"PCE","MNA: n/a",1.05,0.2133072900770154,0.2133072900770154,3.85,0.82,0.82,7.7999999999999996E-3,7.7999999999999996E-3,1.2000000000000002,0.23906295196035712,0.23906295196035712,3.9999999999999996,0.84109999999999996,0.84109999999999996,8.5699999999999995E-3,8.5699999999999995E-3]
["GSI-FL-31","MW005","GSI-FL-31_MW005","NS","MNA",null,"PCE","MNA: n/a",0.47,9.6164442493054558E-2,9.6164442493054558E-2,0.92,3.89,3.89,1.41E-2,1.41E-2,0.47712999999999994,9.8215878410774296E-2,9.8215878410774296E-2,0.92099000000000009,3.9218920000000006,3.9218920000000006,1.4723999999999999E-2,1.4723999999999999E-2]
["GSI-FL-32","MW002","GSI-FL-32_MW002","NS","MNA",null,"PCE","MNA: n/a",2.3749999999999999E-3,1.6639977638622537E-2,1.6639977638622537E-2,0.39300000000000002,0.372,0.372,1.1000000000000001E-3,1.1000000000000001E-3,2.416135893740938E-2,0.23243214633054071,0.23243214633054071,1.4305000000000001,1.1879,1.1879,1.8700000000000001E-3,1.8700000000000001E-3]
["GSI-FL-33","MW011","GSI-FL-33_MW011","NS","MNA",null,"PCE","MNA: n/a",1.8967584835263938,4.2469702819147047E-2,4.2469702819147047E-2,10.5,0.12,0.12,2.3E-2,2.3E-2,2.2572016954100569,8.0192692636243068E-2,8.0192692636243068E-2,10.990000000000002,0.22609999999999997,0.22609999999999997,3.8010000000000002E-2,3.8010000000000002E-2]
["GSI-FL-34","MW006","GSI-FL-34_MW006","NS","MNA",null,"PCE","MNA: n/a",2.1642943680594064,9.7000000000000005E-4,1E-3,4.2699999999999996,1.6000000000000001E-3,1.6000000000000001E-3,3.4000000000000002E-4,1E-3,2.4047552342578928,1.9040000000000001E-3,1.9040000000000001E-3,4.7489999999999997,2.9299999999999999E-3,2.9299999999999999E-3,8.7800000000000009E-4,1E-3]
["MNA-CA-1","BOGW-7","MNA-CA-1_BOGW-7","NS","MNA",null,"PCE","MNA: n/a",9.3741618876175201E-3,3.2120170988073778E-3,3.2120170988073778E-3,0.01,3.7000000000000002E-3,3.7000000000000002E-3,2.8999999999999998E-3,2.8999999999999998E-3,1.2781233181717125E-2,5.1582111141722448E-3,5.1582111141722448E-3,1.46E-2,5.7000000000000002E-3,5.7000000000000002E-3,4.5999999999999999E-3,4.5999999999999999E-3]
["MNA-CA-2","MW-21","MNA-CA-2_MW-21","NS","MNA",null,"TCE","MNA: n/a",2.0557248822857609E-2,2.6943920835777367E-2,2.6943920835777367E-2,6.0999999999999999E-2,6.6000000000000003E-2,6.6000000000000003E-2,1.2E-2,1.2E-2,2.0557248822857609E-2,2.6943920835777367E-2,2.6943920835777367E-2,6.0999999999999999E-2,6.6000000000000003E-2,6.6000000000000003E-2,1.2E-2,1.2E-2]
["MNA-CA-3","MW1","MNA-CA-3_MW1","NS","MNA",null,"PCE","MNA: n/a",0.35467295145614647,0.33876665663371974,0.33876665663371974,0.71199999999999997,0.48,0.48,0.13,0.13,0.35650802601812343,0.33999084647767963,0.33999084647767963,0.71409999999999996,0.48147999999999996,0.48147999999999996,0.13084000000000001,0.13084000000000001]
["MNA-CA-4","BMW-1","MNA-CA-4_BMW-1","NS","MNA",null,"TCE","MNA: n/a",1.9116983450718637E-2,2.8729064056964165E-2,2.8729064056964165E-2,2.7E-2,5.0999999999999997E-2,5.0999999999999997E-2,5.0999999999999995E-3,5.0999999999999995E-3,1.9116983450718637E-2,2.8729064056964165E-2,2.8729064056964165E-2,2.7E-2,5.0999999999999997E-2,5.0999999999999997E-2,5.0999999999999995E-3,5.0999999999999995E-3]
["MNA-CA-5","MW1","MNA-CA-5_MW1","NS","MNA",null,"PCE","MNA: n/a",1.818262827631778E-2,1.4193796284860956E-2,1.4193796284860956E-2,5.3999999999999999E-2,2.9000000000000001E-2,2.9000000000000001E-2,4.2000000000000006E-3,4.2000000000000006E-3,2.1562023959576078E-2,1.5325748087009499E-2,1.5325748087009499E-2,5.6300000000000003E-2,3.0100000000000002E-2,3.0100000000000002E-2,5.0700000000000007E-3,5.0700000000000007E-3]
["MNA-OR-1","MW1941","MNA-OR-1_MW1941","NS","MNA",null,"TCE","MNA: n/a",0.59358619088814102,9.2200000000000004E-2,9.2200000000000004E-2,4.5,0.70299999999999996,0.70299999999999996,1E-3,1E-3,0.59358619088814102,9.2200000000000004E-2,9.2200000000000004E-2,4.5,0.70299999999999996,0.70299999999999996,1E-3,1E-3]
["VCP 1601","MW-1","VCP 1601_MW-1","NS","MNA",null,"TCE","MNA: n/a",11.392899715852181,1.2835686342971433,1.2835686342971433,700,780,780,1.2999999999999999E-4,1E-3,11.392899715852181,1.2835686342971433,1.2835686342971433,700,780,780,1.2999999999999999E-4,1E-3]
["VCP 613","MW-10","VCP 613_MW-10","NS","MNA",null,"TCE","MNA: n/a",0.32518874401445591,8.1308981641732402E-3,8.1308981641732402E-3,6.35,4.09,4.09,2.5999999999999998E-4,1E-3,0.32518874401445591,8.1308981641732402E-3,8.1308981641732402E-3,6.35,4.09,4.09,2.5999999999999998E-4,1E-3]
["VCP-1188B","MW-4","VCP-1188B_MW-4","NS","MNA",null,"PCE","MNA: n/a",0.51145990052945056,0.21211154638048391,0.21211154638048391,23,25,25,2.8E-3,2.8E-3,0.59178141184804545,0.27689539938846164,0.27689539938846164,23.010999999999999,25.021999999999998,25.021999999999998,1.47E-2,1.47E-2]
["N-01",null,null,null,"MNA",null,"TCE",null,0.34204625667259703,0.1770643160355318,0.1770643160355318,0.1770643160355318]
["N-02",null,null,null,"MNA",null,"TCE",null,25.872115213907886,21.984358485365522,21.984358485365522,21.984358485365522]
["N-03",null,null,null,"MNA",null,"TCE",null,4.1212852998085596E-3,5.4895502717790548E-2,5.4895502717790548E-2,5.4895502717790548E-2]
["N-04A",null,null,null,"MNA",null,"TCE",null,185.5,6.0800131800296935,6.0800131800296935,6.0800131800296935]
["N-04B",null,null,null,"MNA",null,"TCA",null,15.047696960070846,0.12960941895367262,0.12960941895367262,0.12960941895367262]
["N-05",null,null,null,"MNA",null,"TCE",null,8.0499964963173554,3.6949999999999998,3.6949999999999998,3.6949999999999998]
["N-06",null,null,null,"MNA",null,"TCE",null,22.27594311791572,10.5,10.5,10.5]
["N-07",null,null,null,"MNA",null,"TCA",null,20.450000000000003,1.0626350429392152E-2,1.0626350429392152E-2,1.0626350429392152E-2]
["N-08A",null,null,null,"MNA",null,"TCE",null,6.4496478421450414,0.37590471531933212,0.37590471531933212,0.37590471531933212]
["N-08B",null,null,null,"MNA",null,"TCA",null,3.9555921664494016,3.6900000000000002E-2,3.6900000000000002E-2,3.6900000000000002E-2]
["N-09A",null,null,null,"MNA",null,"TCE",null,9.4024101475209854,1.9773719933285188,1.9773719933285188,1.9773719933285188]
["N-09B9",null,null,null,"MNA",null,"TCA",null,25.509433629700943,4.4899888641287298,4.4899888641287298,4.4899888641287298]
["N-10",null,null,null,"MNA",null,"TCA",null,2.5,0.94,0.94,0.94]
["N-11",null,null,null,"MNA",null,"PCE",null,9.9774434669797893E-2,1.8691860890161883E-2,1.8691860890161883E-2,1.8691860890161883E-2]
["N-12",null,null,null,"MNA",null,"TCE",null,4.8290785870598527E-3,4.5877113722840035E-2,4.5877113722840035E-2,4.5877113722840035E-2]
["N-13A",null,null,null,"MNA",null,"TCE",null,129.88868550307996,74.242388149659462,74.242388149659462,74.242388149659462]
["N-13B",null,null,null,"MNA",null,"TCA",null,0.60024217921876311,3.8813114036374177E-2,3.8813114036374177E-2,3.8813114036374177E-2]
["N-14",null,null,null,"MNA",null,"TCE",null,0.65726706900619936,0.45277300050858688,0.45277300050858688,0.45277300050858688]
["N-15",null,null,null,"MNA",null,"TCE",null,11,0.17356928746605826,0.17356928746605826,0.17356928746605826]
["N-16",null,null,null,"MNA",null,"TCE",null,0.51,5.3110429004451239E-2,5.3110429004451239E-2,5.3110429004451239E-2]
["N-17",null,null,null,"MNA",null,"PCE",null,0.86268186488415299,5.0000000000000001E-3,5.0000000000000001E-3,5.0000000000000001E-3]
["N-18",null,null,null,"MNA",null,"PCE",null,11.303673593025509,3.2468750844921743,3.2468750844921743,3.2468750844921743]
["N-19",null,null,null,"MNA",null,"PCE",null,0.58416573867739408,0.31959401467423965,0.31959401467423965,0.31959401467423965]
["N-20",null,null,null,"MNA",null,"PCE",null,1.4654616550796016,0.54145090211383651,0.54145090211383651,0.54145090211383651]
["N-21",null,null,null,"MNA",null,"PCE",null,113.49327122158732,12.447586841234447,12.447586841234447,12.447586841234447]
["N-22",null,null,null,"MNA",null,"PCE",null,0.60988660463607547,0.29113604487572237,0.29113604487572237,0.29113604487572237]
["N-23",null,null,null,"MNA",null,"PCE",null,8.1890577677110263E-2,9.7699419993181463E-3,9.7699419993181463E-3,9.7699419993181463E-3]
[]
[]
[]
[]
[]
[]
[]
[]
[]
[]
[null,null,null,null,null,null,null,null,"BY SITE: PARENTS",null,null,null,null,null,null,null,"BY SITE: TOTALS"]
[null,null,null,null,null,"percentile FOR ALL SITES","OoM Reduction for Median Values of Median Geomeans","OoM Reduction for Median Values of Maximums","Parent \nMedian GM Before, mg/L","Parent \nMedian GM After, mg/L","Parent Geomean After Adj to 0.001, mg/L","Parent Maximum Before, mg/L","Parent \nMaximum After, mg/L","Parent Max After Adj to 0.001, mg/L","Parent Minimum After, mg/L","Parent Min After Adj to 0.001, mg/L","Total \npercentile GM Before, mg/L","Total \npercentile GM After, mg/L","Total Geomean After Adj to 0.001, mg/L","Total Maximum Before, mg/L","Total \nMaximum After, mg/L","Total Max After Adj to 0.001, mg/L","Total \nMinimum After, mg/L","Parent Min After Adj to 0.001, mg/L","OoM Reduction for percentile Values of percentile Geomeans","OoM Reduction for percentile Values of Maximums"]
[null,null,null,null,null,"Enhanced Bioremediation",{"$f":"-LOG(K295/I295)","v":1.4366925976640543},{"$f":"-LOG(N295/L295)","v":0.82961071976878886},{"$f":"MEDIAN($I$3:$I$119)","v":0.73799999999999999},{"$f":"MEDIAN(J$3:J$119)","v":2.7266029150346024E-2},2.7E-2,4.5999999999999996,0.68100000000000005,0.68100000000000005,1E-3,1E-3,{"$f":"MEDIAN(Q$3:Q$119)","v":1.3558029984518922},0.22416565589418574,0.22416565589418574,6.4,2.6705999999999999,2.6705999999999999,0.01,0.01,{"$f":"-LOG(S295/Q295)","v":0.78162751433980282},{"$f":"-LOG(V295/T295)","v":0.37957112931772108}]
[null,null,null,null,null,"Chemical Oxidation",{"$f":"-LOG(K296/I296)","v":0.62959961625348837},{"$f":"-LOG(N296/L296)","v":1.0163904161881694},{"$f":"MEDIAN($I$120:$I$189)","v":1.1484222798555463},{"$f":"MEDIAN(J$120:J$189)","v":0.26946476990748003},0.26946476990748003,20.25,1.9500000000000002,1.9500000000000002,4.0499999999999998E-3,4.0499999999999998E-3,1.706,0.37579749726497824,0.37579749726497824,20.5,2.7,2.7,9.2999999999999992E-3,9.2999999999999992E-3,0.65702514337042728,0.88039009689676695]
[null,null,null,null,null,"Thermal Treatment",1.7474126234889533,1.2108533653148932,{"$f":"MEDIAN($I$215:$I$237)","v":10},{"$f":"MEDIAN(J$215:J$237)","v":0.17889054060957704},0.17889054060957704,26,1.6,1.6,8.1099999999999992E-3,8.1099999999999992E-3,6.4,0.53349999999999997,0.53349999999999997,26,1.8,1.8,1.9E-2,1.9E-2,1.0790455502233987,1.159700842867512]
[null,null,null,null,null,"Chemical Reduction",1.1367067406321349,0.5688916280753078,{"$f":"MEDIAN($I$190:$I$210)","v":1.8},{"$f":"MEDIAN(J$190:J$210)","v":0.13139104431093779},0.13139104431093779,6.3,1.7,1.7,1.6999999999999999E-3,1.6999999999999999E-3,2.6825000000000001,0.34467574064327855,0.34467574064327855,9.1999999999999993,3.6499999999999995,3.6499999999999995,0.09,0.09,0.8911290131584364,0.4014949628890806]
[null,null,null,null,null,"Surfactant",0.87482965064294504,0.57367081461557312,{"$f":"MEDIAN(I211:I214)","v":2.3275142500000001},0.31050078175561879,0.31050078175561879,101.166,27,27,2.3949999999999999E-2,2.3949999999999999E-2,2.5220000000000002,2.1113147109949275,2.1113147109949275,107.566,39.5,39.5,2.5507999999999999E-2,2.5507999999999999E-2,7.7192108492892611E-2,0.43507792341955659]
[null,null,null,null,null,"MNA",0.70510530975122998,0.67229125127183809,{"$f":"MEDIAN(I238:I282)","v":0.65726706900619936},{"$f":"MEDIAN(J238:J282)","v":0.12960941895367262},{"$f":"MEDIAN(K238:K282)","v":0.12960941895367262},{"$f":"MEDIAN(L238:L255)","v":1.46},0.3105,0.3105,2.8500000000000001E-3,2.8500000000000001E-3,0.41681901300906166,8.6196346318121536E-2,8.6196346318121536E-2,2.6607500000000002,0.59223999999999999,0.59223999999999999,4.8350000000000008E-3,4.8350000000000008E-3,0.68445866350295237,0.65250633444893757]
[]
[]
[null,null,null,null,null,"TABLE 4.2 HERE  ",null,null,"Parent \nMedian GM Before (mg/L) ","Parent \nMedian GM After (mg/L) ","% Reduction in Parent Concentration (%)","OoM Reduction in Parent Concentration","Parent \nMedian GM Before, mg/L","Parent \nMedian GM After, mg/L","Parent \nMedian GM Before, mg/L","Parent \nMedian GM After, mg/L"]
[null,null,null,null,null,null,null,"Enhanced Bioremediation",{"$f":"I295","v":0.73799999999999999},{"$f":"J295","v":2.7266029150346024E-2},{"$f":"1-J304/I304","v":0.96305416104289154},{"$f":"-LOG10(1-K304)","v":1.4324344671399729},{"$f":"PERCENTILE($I$3:$I$119,M$310)","v":0.15307567716145187},{"$f":"PERCENTILE($J$3:$J$119,N$310)","v":1.708147089291952E-3},{"$f":"PERCENTILE($I$3:$I$111,O$310)","v":3.34},{"$f":"PERCENTILE($J$3:$J$111,P$310)","v":0.20479672074467653}]
[null,null,null,null,null,null,null,"Chemical Oxidation",{"$f":"I296","v":1.1484222798555463},0.26946476990748003,{"$f":"1-J305/I305","v":0.7653609002244588},{"$f":"-LOG10(1-K305)","v":0.62959961625348837},{"$f":"PERCENTILE($I$120:$I$189,M$310)","v":0.44475643132236958},{"$f":"PERCENTILE($J$112:$J$189,N$310)","v":1.9609438456699071E-2},{"$f":"PERCENTILE($I$112:$I$169,O$310)","v":6.7596097661231669},{"$f":"PERCENTILE($J$112:$J$169,P$310)","v":0.89701549310560202}]
[null,null,null,null,null,null,null,"Thermal Treatment",10,0.17889054060957704,{"$f":"1-J306/I306","v":0.98211094593904225},{"$f":"-LOG10(1-K306)","v":1.7474126234889522},{"$f":"PERCENTILE($I$215:$I$237,M$310)","v":1.2292577854854241},{"$f":"PERCENTILE($J$215:$J$237,N$310)","v":2.7534048752090222E-2},{"$f":"PERCENTILE($I$237:$I$2204,O$310)","v":9.5518076106407399},{"$f":"PERCENTILE($J$215:$J$237,P$310)","v":1.5499983730541458}]
[null,null,null,null,null,null,null,"Chemical Reduction",1.8,0.13139104431093779,{"$f":"1-J307/I307","v":0.92700497538281235},{"$f":"-LOG10(1-K307)","v":1.1367067406321349},{"$f":"PERCENTILE($I$190:$I$210,M$310)","v":0.4},{"$f":"PERCENTILE($J$190:$J$210,N$310)","v":3.3500000000000002E-2},{"$f":"PERCENTILE($I$190:$I$210,O$310)","v":5.4700000000000006},{"$f":"PERCENTILE($J$190:$J$210,N$310)","v":3.3500000000000002E-2}]
[]
[]
[null,null,null,null,null,null,null,null,null,null,null,null,0.25,0.25,0.75,0.75]
[]
[]
[]
[]
[null,null,null,null,null,"TABLE 4.1 HERE"]

{"sheet":"Site-Wide Concs.","index":4,"n_rows":290,"n_cols":26,"rows_kept":290,"cut":false,"hidden":false,"merged":[]}
[1,2,3,4,5,6,7,8,9,10,11,12,13,14,15,16,17,18,19,20,21]
[null,null,null,null,"BY SITE: PARENTS",null,null,null,null,null,null,null,null,null,"BY SITE: TOTALS"]
["GSI Database ID","Technology","Parent CVOC","Number of Wells","Parent \nMedian GM Before, mg/L","Parent \nMedian GM After, mg/L","OOM Reduction Parent GM","Parent Geomean After Adj to 0.001, mg/L","Parent Maximum Before, mg/L","Parent \nMaximum After, mg/L","OOM Reduction Parent Max","Parent Max After Adj to 0.001, mg/L","Parent Minimum After, mg/L","Parent Min After Adj to 0.001, mg/L","Total \nMedian GM Before, mg/L","Total \nMedian GM After, mg/L","OOM Reduction Total GM","Total Maximum Before, mg/L","Total \nMaximum After, mg/L","OOM Reduction Total Max","Total \nMinimum After, mg/L"]
["Arcadis-01","Bioremediation","PCE",2,1.0649999999999999,6.5358936562870187E-2,{"$f":"-LOG(F4/E4)","v":1.2120446304779768},6.5358936562870187E-2,1.5,0.47,{"$f":"-LOG(J4/I4)","v":0.50399340111996382},0.47,3.0999999999999999E-3,3.0999999999999999E-3,1.1837499999999999,0.22416565589418574,{"$f":"-LOG(P4/O4)","v":0.72269091630443028},1.597,0.61799999999999999,{"$f":"-LOG(S4/R4)","v":0.41231644104966708},3.09E-2]
["Arcadis-02A","Bioremediation","PCE",4,4.3999999999999997E-2,9.5286183213195335E-4,1.6644227453053131,1E-3,1.2,6.5000000000000002E-2,1.2662678894047692,6.5000000000000002E-2,2.0000000000000001E-4,1E-3,1.2208000000000001,0.21856902899788941,0.74705589770999414,6.73,2.9649999999999999,0.35599036652369548,8.6999999999999994E-3]
["Arcadis-02B","Bioremediation","PCE",15,0.21,1E-3,2.3222192947339191,1E-3,3.7,0.61,0.78287188905622807,0.61,1E-4,1E-3,0.33799999999999997,5.4565471524509995E-2,0.7919987877905309,5.8280000000000012,1.252,0.66791521422354172,2E-3]
["Arcadis-02C","Bioremediation","PCE",2,0.245,2.4953117299203832E-2,0.99204127623779081,2.4953117299203832E-2,0.28000000000000003,0.12,0.36797678529459449,0.12,4.7999999999999996E-3,4.7999999999999996E-3,0.66549999999999998,2.3170794519423268,-0.54179286605892352,0.80400000000000005,7.6580000000000004,-0.97885931326321751,0.24400000000000002]
["Arcadis-04","Bioremediation","PCE",5,3.34,1E-3,3.5237464668115646,1E-3,21,9.7400000000000004E-3,3.3336603378553038,9.7400000000000004E-3,1E-3,1E-3,4.84,0.25654931901761496,1.2756744954391503,22.088000000000001,3.532,0.7961356987256758,4.7600000000000003E-3]
["Arcadis-05","Bioremediation","TCE",4,0.23893275410920239,6.3553814869767147E-2,0.57513406455863192,6.3553814869767147E-2,0.69,0.51,0.1312789146393189,0.51,1.6000000000000001E-3,1.6000000000000001E-3,0.24163136175102051,6.6428589783953745E-2,0.56079826855810888,0.69199999999999995,0.51200000000000001,0.13083613348092701,3.5999999999999999E-3]
["Arcadis-06","Bioremediation","PCE",7,0.21,1.708147089291952E-3,2.0896940294831623,1.708147089291952E-3,1.1000000000000001,0.48,0.36015144778263791,0.48,2.3999999999999998E-4,1E-3,0.39900000000000002,0.13511052849991656,0.47028370291004101,2.4239999999999999,1.55,0.19420091732395708,4.1799999999999997E-3]
["Arcadis-09","Bioremediation","TCA",10,9.65,1.0847969814208067,0.94917884529620156,1.0847969814208067,14,15,-2.9963223377443202E-2,15,2.5000000000000001E-3,2.5000000000000001E-3,9.6524999999999999,1.1495219994008856,0.9241225231405622,14.025,15.0025,-2.9260765509935043E-2,3.95E-2]
["B-01","Bioremediation","PCE",1,10.588937323090075,0.22917385482767583,1.6646873078071014,0.22917385482767583,39.6,2.0099999999999998,1.2944991285050236,2.0099999999999998,5.74E-2,5.74E-2,20.536354036910332,0.62691076108868404,1.5153176180744892,44.829000000000001,2.2875999999999999,1.2921789632970737,0.31769999999999998]
["B-04","Bioremediation","PCE",3,44.1,0.29028992125453978,2.1816066318983878,0.29028992125453978,81.3,236,-0.46282145737603847,236,2.5000000000000001E-3,2.5000000000000001E-3,48.1,21.14739714871569,0.35688815494707266,87.72,245.78,-0.44744791688331664,6.1]
["B-05","Bioremediation","TCE",4,53.333231934954242,2.9370763140087013E-2,3.2590826713100456,2.9370763140087013E-2,130,72,0.25661085587556831,72,1.6000000000000001E-4,1E-3,53.333231934954242,2.9370763140087013E-2,3.2590826713100456,130,72,0.25661085587556831,1.6000000000000001E-4]
["B-06","Bioremediation","TCE",4,0.57535559434947392,5.0000000000000001E-4,3.0609663358856887,1E-3,58,5.0000000000000001E-4,5.0644579892269181,1E-3,5.0000000000000001E-4,1E-3,1.4865502389135488,0.14113632750381316,1.0225407785420744,58,3.9105000000000003,1.1711957033389271,2E-3]
["B-07","Bioremediation","PCE",3,0.68184045826207251,9.3968042472734436E-4,2.8607025875258758,1E-3,1.29,1,0.11058971029924899,1,1.2E-4,1E-3,26.35,2.092858130672736E-2,3.1000408298884401,416.22,30.56,1.1341695949795234,6.4000000000000005E-4]
["B-08","Bioremediation","PCE",2,2.9505325745713593,4.2492911089297168E-2,1.8415839291131955,4.2492911089297168E-2,14.5,1.92,0.87806677353142526,1.92,1E-3,1E-3,4.9350784545586137,1.9849834377577349,0.39553717372052416,20.53,16.102,0.10550912706429191,2E-3]
["B-10","Bioremediation","PCE",4,1.1627046861161001,6.5537040932299884E-4,3.2489825942041102,1E-3,25.2,3.3999999999999998E-3,3.8699216237392888,3.3999999999999998E-3,2.0000000000000001E-4,1E-3,1.48733373719964,0.93792999044977399,0.20023800644361953,26.460999999999999,5.077,0.7169990893824586,0.01]
["B-11","Bioremediation","PCE",3,9.0111042608550473,0.12549821425752813,1.8561404684339631,0.12549821425752813,98,63.9,0.18572521753409474,63.9,5.0000000000000001E-4,1E-3,9.0111042608550473,0.18980859824035914,1.6764621327476343,98,63.9,0.18572521753409474,5.0000000000000001E-4]
["B-12","Bioremediation","TCE",1,0.44519536202187243,3.591406023841695E-2,1.0932861245178196,3.591406023841695E-2,0.83,0.19,0.64032449142324488,0.19,1E-3,1E-3,0.44519536202187243,3.591406023841695E-2,1.0932861245178196,0.83,0.19,0.64032449142324488,1E-3]
["B-13","Bioremediation","TCE",1,55.828308231577282,18.013968580994511,0.49124506666418843,18.013968580994511,97.4,31.3,0.49301461933216711,31.3,11.6,11.6,55.828308231577282,18.013968580994511,0.49124506666418843,97.4,31.3,0.49301461933216711,11.6]
["B-15","Bioremediation","PCE",1,26.071125841175139,6.738568124453799E-2,2.5875921626234164,6.738568124453799E-2,66.2,18.3,0.55840689970927049,18.3,6.3E-3,6.3E-3,47.296890910893772,4.9790699894080968,0.97768436199575226,96.861000000000004,55.893000000000001,0.23879152786476948,2.0069999999999997]
["B-16","Bioremediation","PCE",2,1.8289600441321632,1.2019642369275858,0.18231267196331871,1.2019642369275858,4.43,6.3,-0.15293682323051219,6.3,0.18,0.18,2.0065020344468305,1.328792330486996,0.17898249161989871,4.952,6.77,-0.13580803267308275,0.22799999999999998]
["B-17","Bioremediation","PCE",3,12.3,2.4494897427831783E-3,3.7008294862475761,2.4494897427831783E-3,115,7.6,1.1798842480728204,7.6,1E-3,1E-3,19.11,5.0378566871239996E-2,2.5790148781756699,225,34.4,0.8156240755398324,2E-3]
["B-19","Bioremediation","TCE",3,29,1.3,1.3484546455921194,1.3,168,4.5999999999999996,1.5625514500442887,4.5999999999999996,1.3,1.3,29,1.3,1.3484546455921194,168,4.5999999999999996,1.5625514500442887,1.3]
["B-20","Bioremediation","PCE",4,7.6749476985158616,2.5882254162292104E-2,2.472073326989686,2.5882254162292104E-2,28,200,-0.85387196432176204,200,5.0000000000000001E-4,1E-3,16.25,6.5282341841144405,0.39605764005860672,28,206.94,-0.86868641340881514,2.3900000000000001E-2]
["B-21","Bioremediation","PCE",1,0.4,1.1140367140886667E-2,1.5551604876865031,1.1140367140886667E-2,0.4,0.35399999999999998,5.3056729302174616E-2,0.35399999999999998,2E-3,2E-3,0.4,1.1140367140886667E-2,1.5551604876865031,0.4,0.35399999999999998,5.3056729302174616E-2,2E-3]
["B-22","Bioremediation","TCE",2,2.4000000000000004,5.0000000000000001E-3,2.6812412373755872,5.0000000000000001E-3,3.2,5.0000000000000001E-3,2.8061799739838871,5.0000000000000001E-3,5.0000000000000001E-3,5.0000000000000001E-3,2.4000000000000004,5.0000000000000001E-3,2.6812412373755872,3.2,5.0000000000000001E-3,2.8061799739838871,5.0000000000000001E-3]
["B-23","Bioremediation","TCE",4,345,49,0.84762301504476045,49,1700,300,0.75332766665861151,300,20,20,345,49,0.84762301504476045,1700,300,0.75332766665861151,20]
["B-24","Bioremediation","TCE",2,11.385,2.4068524924525776,0.67488356024609564,2.4068524924525776,22.7,16.7,0.13330938604553946,16.7,4.5999999999999999E-2,4.5999999999999999E-2,11.385,2.4068524924525776,0.67488356024609564,22.7,16.7,0.13330938604553946,4.5999999999999999E-2]
["B-25","Bioremediation","PCE",3,3.5,0.6092293022411065,0.75928726082288078,0.6092293022411065,26,14,0.26884531229257996,14,5.0000000000000001E-3,5.0000000000000001E-3,3.5,0.6092293022411065,0.75928726082288078,26,14,0.26884531229257996,5.0000000000000001E-3]
["B-26","Bioremediation","PCE",2,1.5245966692414834,6.6360867250797092E-3,2.3612429135826387,6.6360867250797092E-3,1.6,0.2,0.90308998699194354,0.2,2.5000000000000001E-3,2.5000000000000001E-3,1.5245966692414834,6.6360867250797092E-3,2.3612429135826387,1.6,0.2,0.90308998699194354,2.5000000000000001E-3]
["CAL-1","Bioremediation","PCE",2,17.686993925552645,0.14614605090188632,2.0828669421380877,0.14614605090188632,77,1.5,1.7103994661168007,1.5,2.5000000000000001E-4,1E-3,40.203692977222474,3.7997309665168264,1.0245130995364238,86.3,14.03,0.78895312468684975,1.7600000000000001E-2]
["CAL-11","Bioremediation","PCE",2,0.15307567716145187,5.4650839208990429E-2,0.44730935401304817,5.4650839208990429E-2,0.37,0.15,0.3921104650113138,0.15,6.4999999999999997E-3,6.4999999999999997E-3,0.19074482404363713,8.3594508583813371E-2,0.35827501289967373,0.38149999999999995,0.1615,0.37332201562377754,1.06E-2]
["CAL-12","Bioremediation","TCE",2,0.41040185108639199,7.8142181872913857E-2,0.72032377760462218,7.8142181872913857E-2,0.69,0.26,0.4238757427664373,0.26,8.199999999999999E-3,8.199999999999999E-3,0.41349929606398839,0.25291580325373747,0.21349880779542565,0.69149999999999989,0.443,0.19338845822225975,2.8499999999999998E-2]
["CAL-13","Bioremediation","TCE",5,3.7002220601174689,3.4047754628631871E-3,3.0361393115425539,3.4047754628631871E-3,120,1,2.0791812460476247,1,2.2000000000000001E-4,1E-3,3.7013942933711217,0.65144585556789358,0.75448702556463632,123.4525,4.0350000000000001,1.48565635006779,2.8050000000000002E-2]
["CAL-14","Bioremediation","TCE",3,0.6370807822080089,7.2069915453646452E-2,0.94644049203398672,7.2069915453646452E-2,210,26,0.90724594676310133,26,1.2500000000000001E-2,1.2500000000000001E-2,2.8395547699820112,2.4942151495565876,5.6316337122355099E-2,295.5,90,0.51631497577794927,0.48500000000000004]
["CAL-15","Bioremediation","TCE",5,2.1601645965105813,1.9202835770729725,5.1121476341266965E-2,1.9202835770729725,4.5,5,-4.5757490560675143E-2,5,0.06,0.06,2.1704445267932555,1.9333204932614989,5.0244835917823284E-2,4.5075000000000003,5.0052500000000002,-4.549003891019604E-2,0.13075000000000001]
["CAL-16","Bioremediation","PCE",4,0.28817424229271432,1.6657099781800112E-2,1.2380557726042494,1.6657099781800112E-2,0.68,0.65,1.9595556063380773E-2,0.65,3.5999999999999997E-4,1E-3,0.38924055695831516,8.7482770709261484E-2,0.64829555597584609,0.82906000000000002,1.9849999999999999,-0.37917454903380587,3.98E-3]
["CAL-17","Bioremediation","PCE",3,0.10345064542000465,3.1072164549468428E-2,0.52236169640172447,3.1072164549468428E-2,2.2999999999999998,0.48,0.68048659864200567,0.48,4.4000000000000003E-3,4.4000000000000003E-3,0.12578055028696589,6.9923538807238075E-2,0.25499009074183593,2.6509999999999998,0.52900000000000003,0.69995405569790758,1.6560000000000002E-2]
["CAL-2","Bioremediation","PCE",1,0.82984296294342941,0.20479672074467653,0.60767291720332139,0.20479672074467653,1.57,1.25,9.8989639401177359E-2,1.25,2.18E-2,2.18E-2,1.1129027352863896,0.46062083798249503,0.38311362874096377,1.86327,1.5632999999999999,7.6233463678562458E-2,0.16514999999999999]
["CAL-3","Bioremediation","PCE",2,6.1394367398225499E-2,8.8511154722118839E-3,0.84113052217600981,8.8511154722118839E-3,0.28000000000000003,4.4999999999999998E-2,0.79394551756687559,4.4999999999999998E-2,2.2000000000000001E-3,2.2000000000000001E-3,0.21656529202969516,6.5449165538783091E-2,0.51968474162149669,0.57824999999999993,0.21679999999999999,0.42605636357630766,1.9850000000000003E-2]
["CAL-4","Bioremediation","PCE",6,0.53583157884006061,1.6605702250568254E-2,1.5087710583357214,1.6605702250568254E-2,5.0999999999999996,1.1000000000000001,0.66617749093971124,1.1000000000000001,1E-3,1E-3,1.1972993498745756,0.16822616472941682,0.85230920282168632,5.29,2.0299999999999998,0.4159596341219729,1E-3]
["CAL-5","Bioremediation","PCE",2,0.29732284239784057,0.21619012535720167,0.13839242264274743,0.21619012535720167,1.6,1.2,0.12493873660830002,1.2,2.5000000000000001E-4,1E-3,0.33019858638206395,0.26382078221612842,9.7466205998541666E-2,1.6042500000000002,1.2382500000000001,0.11246371130873441,7.5000000000000002E-4]
["CAL-6","Bioremediation","PCE",4,0.10414500143564499,3.8118583343292156E-2,0.43650167835432296,3.8118583343292156E-2,1.1000000000000001,0.24,0.66118144344661911,0.24,2.5000000000000001E-4,1E-3,0.19295102869879102,7.4653100618281537E-2,0.41239924802509581,3.2800000000000002,0.32599999999999996,1.0026562436437403,4.4500000000000008E-3]
["CAL-7","Bioremediation","TCE",3,3.8855162677472488,5.2168106252324274E-4,3.872043659848635,1E-3,12,1.2999999999999999E-2,2.9652378937407882,1.2999999999999999E-2,2.5000000000000001E-4,1E-3,4.1576214684701132,0.29071397777419844,1.1553790328431095,13.012499999999999,10.500250000000001,9.3161103226944597E-2,1.5100000000000001E-2]
["CAL-8","Bioremediation","TCE",6,1.875,0.10757048088520688,1.2413081619556039,0.10757048088520688,5,3,0.22184874961635639,3,2.9E-4,1E-3,1.8957499999999998,0.5870402816206588,0.50911316190271549,5.0492500000000007,3.8002499999999997,0.12341470646579226,8.4500000000000009E-3]
["CAL-9","Bioremediation","PCE",1,0.54353207056598185,0.45497908332876086,7.7233742915451695E-2,0.45497908332876086,0.70499999999999996,0.91700000000000004,-0.11418021867862245,0.91700000000000004,0.16,0.16,0.54416836106019895,0.52459254396180077,1.5911173838346795E-2,0.70580999999999994,1.0228999999999999,-0.16114537140516608,0.19980000000000001]
["FL-1","Bioremediation","PCE",1,4.2576752238282528E-2,2.990697562442441E-4,2.1534000335627002,1E-3,68.199999999999989,5.0000000000000001E-4,5.1348143703204601,1E-3,2.0000000000000001E-4,1E-3,7.2968343844895561E-2,1.5912494370631067E-2,0.66139622620546989,68.201499999999996,2.477E-2,3.4398679198970203,1.1050000000000001E-2]
["FL-2","Bioremediation","PCE",2,0.96003329637837287,8.5330909064900025E-4,3.0511799233566701,1E-3,1.89,9.75E-3,2.2874571884747072,9.75E-3,5.0000000000000001E-4,1E-3,3.3379074536285214,0.10511204469491077,1.5018218070251264,6.06,0.94099999999999995,0.8088830007390293,5.0499999999999998E-3]
["FL-3","Bioremediation","PCE",1,3.157265984163285E-3,1E-3,0.4993111706120294,1E-3,1.99,1E-3,3.2988530764097068,1E-3,1E-3,1E-3,0.16571186972638485,1.6038579048651275E-3,2.0141877285151981,11.701144999999999,3.3400000000000001E-3,3.544481894323595,1.3849999999999999E-3]
["FL-5","Bioremediation","PCE",1,2.5995765121514289E-2,1.0752800064055697E-3,1.3833810336770511,1.0752800064055697E-3,0.22,2.3E-2,0.98069484480461333,2.3E-2,5.0000000000000001E-4,1E-3,4.9861079157055947E-2,3.884224914739777E-2,0.10845730418418301,0.26963999999999999,7.7919999999999989E-2,0.53913537459619465,2.214E-2]
["FL-6","Bioremediation","PCE",2,0.40670904398438501,1.2236197407834717E-4,3.5216373550265931,1E-3,33.700000000000003,2.7000000000000001E-3,4.0962661367123516,2.7000000000000001E-3,5.5000000000000002E-5,1E-3,1.3719211195694985,1.3752357406842976E-3,2.998951991144637,34.880000000000003,0.11169999999999999,2.4945233031449208,1.1999999999999999E-4]
["FL-7","Bioremediation","PCE",2,0.33649648903585261,2.1629873425068129,-0.80807344081029031,2.1629873425068129,28,10,0.44715803134221921,10,1E-4,1E-3,0.94314507550838567,2.9645719960758985,-0.49738350037970536,32.466145000000004,12.030144999999999,0.43115986201591011,2.6724999999999995E-3]
["FL-8","Bioremediation","PCE",2,2.6183344492329008E-3,2.1874133234122884E-4,1.0780942666969582,1E-3,0.28399999999999997,1.64E-3,2.2384744919993396,1.64E-3,8.5000000000000006E-5,1E-3,2.8849220679926055E-2,3.4575409126688113E-2,-7.8633241955140987E-2,0.36390999999999996,0.18925,0.28395810169592745,1.0400000000000001E-2]
["FL-9","Bioremediation","PCE",1,6.1915454104770019E-3,1.1039992277658689E-3,0.7488302928959184,1.1039992277658689E-3,0.28399999999999997,1.64E-3,2.2384744919993396,1.64E-3,1E-3,1E-3,3.3826592943809596E-2,3.1839169566648243E-2,2.6296525426190456E-2,0.36449999999999999,0.18981000000000001,0.28337844347518215,1.0960000000000001E-2]
["GSI-1","Bioremediation","TCE",4,2.7211792423012864,3.4870878664438479E-3,2.8922942586988984,3.4870878664438479E-3,16.899999999999999,2.3600000000000003E-2,2.8549747016435667,2.3600000000000003E-2,4.6000000000000001E-4,1E-3,3.0768346978197578,0.23952619028407016,1.1087511575162081,16.947699999999998,2.5968700000000005,0.81466055844915775,1.9300000000000001E-2]
["GSI-11","Bioremediation","PCE",3,4.2,0.27355520862064814,1.1862043020331963,0.27355520862064814,6.6,5.4,8.7150175718900144E-2,5.4,1E-3,1E-3,4.3,0.90968347001207761,0.67457815242401375,6.6629999999999994,6.7510000000000003,-5.698294720683908E-3,4.9700000000000001E-2]
["GSI-12","Bioremediation","PCE",3,4.4868332057662785,1.2599391995249727,0.55159033728664653,1.2599391995249727,74,28,0.42207368838875697,28,0.25,0.25,17.440476382017152,12.654874587020998,0.13930049784947748,110,46.8,0.37114683208410104,2.74]
["GSI-13","Bioremediation","TCE",1,2.1367224896947881,1.855619382400167,6.1259220942141382E-2,1.855619382400167,2.8,2.8,0,2.8,1.2,1.2,7.8263182615390727,7.8493957095439413,-1.2787188620530052E-3,12.125,10.410999999999998,6.6189300797026104E-2,5.3119999999999994]
["GSI-15","Bioremediation","TCE",4,2.1,0.41558887739860789,0.70355537892156272,0.41558887739860789,4.5999999999999996,10,-0.33724216831842602,10,6.8000000000000005E-4,1E-3,2.1764999999999999,1.2727258699503576,0.23302379964516856,4.5999999999999996,11.219999999999999,-0.38723502523856851,0.52568000000000004]
["GSI-19","Bioremediation","PCE",3,0.54074023338383093,3.6887276220673009E-4,3.1661120963057643,1E-3,11,4.9000000000000002E-2,2.3511966051297115,4.9000000000000002E-2,6.5000000000000008E-5,1E-3,0.57984730748706603,1.7565864526418468E-2,1.5186441158517854,11.292,2.359,0.68004292858928628,5.0000000000000001E-4]
["GSI-20","Bioremediation","TCE",5,0.13356331709240229,5.3498791715803958E-3,1.3973432228963376,5.3498791715803958E-3,0.97,0.2,0.68574173860226362,0.2,5.6000000000000006E-4,1E-3,0.28630370312263864,0.15335858309241243,0.27111887796620626,1.43,0.48399999999999999,0.4704906758206493,3.7560000000000003E-2]
["GSI-21","Bioremediation","PCE",2,0.65477225575051667,5.7759396523969553E-2,1.0544676220126339,5.7759396523969553E-2,1.2,0.33,0.56066730616973737,0.33,1E-3,1E-3,0.71556118683242431,0.37122296123572429,0.28501194494335597,1.2529999999999999,0.69040000000000001,0.2588502882869968,0.12340000000000001]
["GSI-23","Bioremediation","PCE",4,1.6968915218540488,1E-3,3.2296540798156004,1E-3,14,1E-3,4.1461280356782382,1E-3,7.3999999999999999E-4,1E-3,1.9884338953567071,0.92774999999999985,0.33108019460491883,14.32,2.2319999999999998,0.80724882770629569,0.14870000000000003]
["GSI-27","Bioremediation","PCE",4,1.3495462496424504,0.64885769760089074,0.3180383114707131,0.64885769760089074,13,12,3.4762106259211917E-2,12,1E-3,1E-3,1.3558029984518922,0.68633317720381048,0.29566159694318223,13.01,19.733900000000002,-0.18093562655685422,2E-3]
["GSI-28","Bioremediation","TCE",2,7.4499999999999993,5.1066875704163124,0.16401698442374452,5.1066875704163124,8.6,9.6,-4.7772781796000682E-2,9.6,1.3,1.3,7.8199999999999994,6.8706937274180202,5.6206163485159069E-2,8.7799999999999994,14.4,-0.21486797618914713,1.86]
["GSI-29","Bioremediation","PCE",3,1.45,1.0144566643969542E-2,{"$f":"-LOG(F68/E68)","v":2.1551345026795605},1.0144566643969542E-2,2.6,0.18,{"$f":"-LOG(J68/I68)","v":1.159700842867512},0.18,1E-3,1E-3,1.4509999999999998,0.56030747570316042,{"$f":"-LOG(P68/O68)","v":0.41324099551189131},5.24,20.600999999999999,{"$f":"-LOG(S68/R68)","v":-0.59455701513014103},5.1000000000000004E-2]
["GSI-30","Bioremediation","TCE",4,19.33187796104794,3.2456947038578821E-2,2.7749663779897977,3.2456947038578821E-2,950,50.5,1.2744322271701864,50.5,5.2000000000000006E-4,1E-3,28.960125162192057,1.4894800611710861,1.2887657405630342,950,129.19999999999999,0.86646109162978258,1.7000000000000001E-2]
["GSI-44","Bioremediation","PCE",6,3.1866324046363428E-2,2.2332159566199232E-3,1.1544012458543502,2.2332159566199232E-3,4,5.5999999999999999E-3,2.8538719643217618,5.5999999999999999E-3,1E-3,1E-3,0.23435290055011884,0.11887211055942372,0.2947903594674155,5.3250000000000002,1.3919999999999999,0.58268037683623208,1.66E-2]
["GSI-45","Bioremediation","PCE",3,0.42490054483955997,3.6645891157621041E-4,3.064262000610646,1E-3,13,0.39,1.5228787452803376,0.39,2.5000000000000001E-4,1E-3,7.7401090175608926,1.6260702968460043E-2,2.677607760956239,46,0.96800000000000008,1.6768824743731803,3.6000000000000003E-3]
["GSI-46","Bioremediation","TCE",3,0.73799999999999999,0.34698703145794946,0.32774311836213865,0.34698703145794946,4.6399999999999997,0.75,0.79145671716318078,0.75,0.1,0.1,0.74390000000000001,0.4229420764123617,0.24523366560521734,4.9119999999999999,3.2,0.18610837981320524,0.20700000000000002]
["GSI-51","Bioremediation","TCE",4,1.2949902939573406,0.51500000000000001,0.40045928432081707,0.51500000000000001,7.6,1,0.88081359228079137,1,5.0999999999999997E-2,5.0999999999999997E-2,1.2951073527423562,1.127,6.0381852966737717E-2,7.6,2.4779999999999998,0.48671229024074669,6.4600000000000005E-2]
["GSI-52","Bioremediation","TCE",3,4.5636373253941903E-2,1.2910769952906759E-2,0.54835898067761024,1.2910769952906759E-2,25,13,0.28399665636520083,13,1.2999999999999999E-3,1.2999999999999999E-3,0.15022062730068447,4.418053679112012E-2,0.5314985829802007,27.2,14.7,0.26725156928602262,2.4999999999999996E-3]
["GSI-53","Bioremediation","TCE",2,2.0789081889885437,1.0834217291387969,0.28303776840653938,1.0834217291387969,4.4000000000000004,3.6,8.71501757189002E-2,3.6,5.0000000000000001E-4,1E-3,2.1612516806471738,1.2018565290365981,0.25485271690562239,4.4207999999999998,3.6261000000000001,8.6061090744733434E-2,1E-3]
["GSI-64","Bioremediation","TCE",2,0.90546101965818715,7.2500000000000009E-2,1.0965317519865991,7.2500000000000009E-2,890,0.12,3.8702087605972881,0.12,2.5000000000000001E-2,2.5000000000000001E-2,1.2351231787497474,3.0435000000000003,-0.39166303417460135,890,5.9250000000000007,2.1767016519627713,0.16200000000000001]
["GSI-70","Bioremediation","TCA",3,2.235826045057419E-3,1E-3,0.34943801092703297,1E-3,2.7,1.7,0.20091484278071345,1.7,2.5000000000000001E-4,1E-3,1.2291653391664488,0.14623865092783128,0.9245481332477643,7.6189999999999998,4.9795999999999996,0.18470351530521203,1E-3]
["GSI-71","Bioremediation","TCA",1,6.6373038580187771,0.73036284821443054,0.95845302666385623,0.73036284821443054,57,6.2,0.96348316617423746,6.2,0.31,0.31,14.527545331290195,2.2334815439225673,0.81320987118356369,72.400000000000006,16.260000000000002,0.64861802493909759,1.1000000000000001]
["GSI-76","Bioremediation","TCE",4,8.5285113982060567E-2,0.17760882872418418,-0.31859131602265356,0.17760882872418418,0.17,0.38,-0.34933467523853623,0.38,2.7000000000000001E-3,2.7000000000000001E-3,8.6911643899429472E-2,0.2240685112306304,-0.41130286409290268,0.186,0.52800000000000002,-0.45312097831589598,0.12229999999999999]
["GSI-77","Bioremediation","PCE",4,1.591480891539188,2.5500000000000002E-2,1.7952612481033947,2.5500000000000002E-2,16,24,-0.17609125905568124,24,1E-3,1E-3,54.44996617712026,6.5284849896057819,0.92118520440626872,235.071,24.063839999999999,0.98983412352400824,8.6099999999999996E-3]
["GSI-8","Bioremediation","TCE",6,0.34249999999999997,1.4726781906470112E-2,1.3665527205644168,1.4726781906470112E-2,2.8,1.2,0.36797678529459438,1.2,2.8000000000000003E-4,1E-3,0.38000000000000006,0.235204224474893,0.20833847883150711,2.8279999999999998,1.3107900000000001,0.33394628562888512,3.4999999999999996E-3]
["GSI-81","Bioremediation","TCE",3,4.8894625207611862E-2,0.1220786503054045,-0.39737859762630856,0.1220786503054045,5.0999999999999996,4.0999999999999996,9.4786319378200853E-2,4.0999999999999996,1E-3,1E-3,4.8933413158798227E-2,0.35575049703306122,-0.86154000619770943,5.1026899999999991,5.282,-1.4999212112823464E-2,1E-3]
["GSI-FL-1","Bioremediation","PCE",3,3.1622776601683794E-3,3.4199518933533939E-3,-3.4019997109320819E-2,3.4199518933533939E-3,1.88,0.01,2.2741578492636796,0.01,6.4000000000000005E-4,1E-3,0.42608449866194381,0.30178663861893251,0.14979572666619431,31.25,5.4020000000000001,0.76229544182866193,3.8870000000000002E-2]
["GSI-FL-10","Bioremediation","PCE",1,0.36946296781261501,4.7334398622121573E-4,2.8923940506728831,1E-3,2.5,1E-3,3.3979400086720375,1E-3,1.1E-4,1E-3,0.78778967741740202,1.926417526484827E-2,1.6116598650606733,4.0856000000000003,0.37559999999999999,1.0365302612534104,1.1949999999999999E-3]
["GSI-FL-12","Bioremediation","PCE",3,2.6318265814118534E-3,2.5699999999999998E-3,1.0324145646645889E-2,2.5699999999999998E-3,0.40500000000000003,3.7700000000000004E-2,1.0311136730088757,3.7700000000000004E-2,1.8699999999999999E-4,1E-3,7.1230997777511689E-3,4.6749999999999995E-3,0.18288741261536054,0.4667,4.1314000000000003E-2,1.0529405557069584,1.0560000000000001E-3]
["GSI-FL-13","Bioremediation","PCE",3,2.3250726913276277E-2,2.3E-3,1.0047086992509477,2.3E-3,9.7200000000000009E-2,1.66E-2,0.76755817688621952,1.66E-2,1.8E-3,1.8E-3,2.6050257874053021E-2,4.1199999999999995E-3,0.80091481074728155,9.9300000000000013E-2,2.588E-2,0.58398497649871839,2.8600000000000001E-3]
["GSI-FL-14","Bioremediation","PCE",3,3.3955153216846069E-3,6.848661007688605E-4,0.69530002428151993,1E-3,0.75849999999999995,3.4000000000000002E-2,1.348476668080494,3.4000000000000002E-2,2.2000000000000001E-4,1E-3,0.28794755395844218,4.2367040283807132E-2,0.83228526794801105,1.9259999999999999,0.44700000000000001,0.63434875965657922,9.0000000000000011E-3]
["GSI-FL-16","Bioremediation","PCE",2,2.9475738322499606E-3,8.5021156815565959E-4,0.53993768254839725,1E-3,0.02,3.0000000000000001E-3,0.82390874094431876,3.0000000000000001E-3,2.2000000000000001E-4,1E-3,0.19807659714455267,9.4043317237803518E-3,1.3235052266318121,1.1400000000000001,0.55200000000000005,0.31496577360727368,1.6299999999999999E-3]
["GSI-FL-19","Bioremediation","PCE",2,0.28878248473401136,1.4102821015130403E-3,2.3112648546934271,1.4102821015130403E-3,2.14,0.02,2.0293837776852097,0.02,1E-3,1E-3,0.32330587127864846,5.6636062151465983E-3,1.756520541857945,2.1435,4.4000000000000004E-2,1.6876708113604639,4.0000000000000001E-3]
["GSI-FL-20","Bioremediation","PCE",4,0.3787061634331339,6.7860495591321041E-2,0.74668534629748051,6.7860495591321041E-2,3.99,0.52,0.88496955205194905,0.52,4.1999999999999996E-4,1E-3,1.4894910534502541,0.37616070971491566,0.59766446781243798,4.7240000000000002,3.4849999999999999,0.13210710650744903,1.112E-2]
["GSI-FL-3","Bioremediation","PCE",5,4.072010170261639E-3,5.371097010160272E-3,-0.12025414243861253,5.371097010160272E-3,138,130,2.5935734094399757E-2,130,2.0000000000000001E-4,1E-3,2.6979924593212423E-2,2.4092024357972225E-2,4.9167437930983521E-2,143.72,134.9,2.7505258860707621E-2,1.2490000000000001E-3]
["GSI-FL-35","Bioremediation","TCE",7,2.2000000000000002,1.03E-2,2.3295854561170342,1.03E-2,6.4,2,0.50514997831990593,2,1.1000000000000001E-3,1.1000000000000001E-3,2.2000000000000002,1.03E-2,2.3295854561170342,6.4,2,0.50514997831990593,1.1000000000000001E-3]
["GSI-FL-5","Bioremediation","PCE",4,3.4681164123021066E-2,4.7482275705562245E-3,0.86356214134697296,4.7482275705562245E-3,3.4,0.16,1.3273589343863303,0.16,5.0000000000000001E-4,1E-3,4.1070765041196611E-2,7.5649335718237717E-3,0.73472767389438365,3.4024999999999999,0.16400000000000001,1.3169542858276744,5.0000000000000001E-4]
["GSI-FL-7","Bioremediation","PCE",1,0.61478474874715217,2.8509647489928741E-4,3.3337312377450501,1E-3,1.35,5.0799999999999999E-4,3.4244700562110868,1E-3,1.6000000000000001E-4,1E-3,0.7105251442095688,1.5074050550532197E-3,2.6733494841014349,1.3724399999999999,1.5889999999999997E-3,2.9363694699486316,1.4300000000000003E-3]
["GSI-FL-8","Bioremediation","PCE",3,0.10782661812658832,1E-3,2.032725984213541,1E-3,18.399999999999999,2.56,0.85657785769768691,2.56,2.2000000000000001E-4,1E-3,0.51205814937352256,1.4866405079910879E-2,1.537113320012917,18.931100000000001,2.6705999999999999,0.85056700490516601,7.3999999999999999E-4]
["GSI-FL-9","Bioremediation","PCE",2,5.1811415178341178E-3,1.2509854341551862E-3,0.61717320176341961,1.2509854341551862E-3,0.48499999999999999,2E-3,2.3847117429382823,2E-3,1E-3,1E-3,1.0260715691535324E-2,4.4977171209520687E-3,0.35818551667506054,0.51500000000000001,6.0000000000000001E-3,1.9336559786575473,4.0000000000000001E-3]
["GSI-IN-1","Bioremediation","TCE",3,1.3,0.10046878417572158,1.111912205635742,0.10046878417572158,1.4,0.64,0.33994806169435082,0.64,1E-3,1E-3,1.3082,0.23597271073993256,0.74381236326791078,1.4139999999999999,0.76899999999999991,0.26452306965944961,4.0000000000000001E-3]
["VCP-1491","Bioremediation","TCE",6,1.7731169039240458,0.15870266400572763,1.0481531532043022,0.15870266400572763,28,12,0.36797678529459443,12,1.1000000000000001E-3,1.1000000000000001E-3,2.4514472712096045,2.0664059110967066,7.4206920838023549E-2,29.1006,42.234000000000002,-0.16176027216789787,4.8100000000000004E-2]
["VCP-1533","Bioremediation","TCE",2,2.2061316194135254E-2,3.2136708936672965E-3,0.83663001982372898,3.2136708936672965E-3,7.8E-2,6.7999999999999996E-3,1.0595856899842442,6.7999999999999996E-3,4.0999999999999999E-4,1E-3,6.6978615790044715E-2,5.9404555838652118E-2,5.2116414915872468E-2,0.21800000000000003,0.1003,0.33715556058418678,1.8740000000000003E-2]
["VCP-2017","Bioremediation","TCE",2,6.7208106108110149E-2,3.8820826502713887E-2,0.23835688000282707,3.8820826502713887E-2,0.308,7.51E-2,0.61291077949627581,7.51E-2,1.9E-3,1.9E-3,0.24192577609544197,0.59450173123207561,-0.39047098071686975,1.11127,1.1531,-1.604738190699655E-2,0.1152]
["VCP-272/286","Bioremediation","PCE",2,1.8669290467541058,1.2031096474567002,0.19082260344521154,1.2031096474567002,5.56,6.3,-5.426575787152426E-2,6.3,0.18,0.18,2.2614794314319195,1.4089302446640195,0.20550315014380541,5.9509999999999996,6.58,-4.3635943349161058E-2,0.22799999999999998]
["VCP-296","Bioremediation","PCE",1,4.1184126329077975E-2,1.3144591658115117E-3,1.4959827582667367,1.3144591658115117E-3,0.64800000000000002,6.7799999999999996E-3,1.9803453120035299,6.7799999999999996E-3,1E-3,1E-3,4.9168366635402312E-2,1.3753326487796792E-2,0.55327802858936703,0.66300000000000003,1.942E-2,1.533264302832787,7.7799999999999996E-3]
["VCP-943","Bioremediation","PCE",2,5.4373715987583324,5.5330153024983134E-2,1.9924271430710541,5.5330153024983134E-2,19,1.8,1.0234810958495228,1.8,2E-3,2E-3,9.6388755392330072,1.1451947937663038,0.9251470075507906,19.681999999999999,20.975000000000001,-2.7632742029847231E-2,3.2799999999999996E-2]
["TT-1A","Bioremediation","PCE",1,14.824729668980783,0.64381833395977695,1.3622234427952729,{"$f":"IF(F104<0.001,0.001,F104)","v":0.64381833395977695},35,20,0.24303804868629447,{"$f":"IF(J104<0.001,0.001,J104)","v":20},1.5E-3,{"$f":"IF(L104<0.001,0.001,L104)","v":20},14.909352427863398,1.1243582983745208,1.1225540511658425,35.21,20.190000000000001,0.24152970612654495,0.1115]
["TT-2A","Bioremediation","PCE",1,60.13175028896255,41.518199494052446,0.16086533394086752,41.518199494052446,167,92.6,0.25610548446564896,92.6,24.2,92.6,60.743054826818714,44.054274858771898,0.13950857214725762,169.5,99.22,0.2325704798389342,26.5]
["TT-3A","Bioremediation","PCE",4,0.19347740679883307,1.8253425537523418E-2,1.0252858793384825,1.8253425537523418E-2,50,32,0.19382002601611281,32,2.5000000000000001E-4,32,0.57467340590818738,0.18587219557541887,0.49020667082582292,57.400000000000006,44.908100000000005,0.10658721134931022,3.1100000000000003E-2]
["TT-4A","Bioremediation","TCE",3,3.9541926758354391,1.4745693047825409E-2,2.4283926381326801,1.4745693047825409E-2,12,0.25,1.6812412373755872,0.25,1E-4,0.25,3.9541926758354391,1.4745693047825409E-2,2.4283926381326801,12,0.25,1.6812412373755872,1E-4]
["TT-5A","Bioremediation","PCE",4,16.635979901127371,7.9242552962459216,0.32208992821203025,7.9242552962459216,46,27,0.23139406752258673,27,0.86,27,19.863734896020528,10.540350040584647,0.27520587658194906,53.4,32.6,0.21432365696061739,1.1599999999999999]
["TT-6B","Bioremediation","PCE",1,1.4144756596710334E-3,5.0000000000000001E-4,0.45162547417207793,1E-3,2.8300000000000001E-3,5.0000000000000001E-4,0.75281643118827146,1E-3,5.0000000000000001E-4,1E-3,1.4144756596710334E-3,5.0000000000000001E-4,0.45162547417207793,2.8300000000000001E-3,5.0000000000000001E-4,0.75281643118827146,5.0000000000000001E-4]
["TT-7B","Bioremediation","PCE",4,1.6875889444414218,3.7185396425728379E-2,1.6568942558432047,3.7185396425728379E-2,20,9.9,0.3053948010664313,9.9,1E-3,9.9,2.0797552314767023,9.209314884525685E-2,1.353784902804666,23.9,10.61,0.35268251704679704,2.1299999999999999E-3]
["TT-8B","Bioremediation","PCE",3,2.2000000000000002,1.5427248620541513E-2,2.1541342022939505,1.5427248620541513E-2,21,3.3,0.80370535485603178,3.3,5.0000000000000001E-4,3.3,5.0999999999999996,3.694590640382233E-2,2.1400038504095491,34,7,0.68638087702799833,1E-3]
["TT-9B","Bioremediation","PCE",3,1.3,0.1531545279721136,0.92881351117577826,0.1531545279721136,1.5,0.68100000000000005,0.34294414714289606,0.68100000000000005,1.7000000000000001E-2,0.68100000000000005,1.5629999999999999,0.3191458470998722,0.68996978049366975,3.3,1.097,0.4783073123031763,3.2000000000000001E-2]
["TT-10B","Bioremediation","TCE",3,2.11,4.6957367164891946E-4,3.6525787166708632,1E-3,3.34,0.27,1.0923827026525772,0.27,9.0000000000000006E-5,0.27,2.11,4.6957367164891946E-4,3.6525787166708632,3.34,0.27,1.0923827026525772,9.0000000000000006E-5]
["TT-11B","Bioremediation","PCE",3,0.29393876913398137,1.1999999999999999E-3,2.3890756251918219,1.1999999999999999E-3,0.59,3.9E-2,1.1797874046156449,3.9E-2,1.0000000000000001E-5,3.9E-2,0.47244047244070864,1.4999999999999998E-3,2.4982558360770892,0.92999999999999994,4.87E-2,1.2809539873393008,3.1E-4]
["TT-12B","Bioremediation","PCE",3,0.21964401190546493,3.5149200505351634E-2,0.79580391659330529,3.5149200505351634E-2,0.99,3.4,-0.53584372244470524,3.4,1.1000000000000001E-3,3.4,0.21964401190546493,3.5149200505351634E-2,0.79580391659330529,0.99,3.4,-0.53584372244470524,1.1000000000000001E-3]
["TT-13B","Bioremediation","PCE",6,0.11696001733108122,2.7299074344348082E-3,1.6318895027125715,2.7299074344348082E-3,298.49400000000003,1.2,2.3957543597927033,1.2,5.0000000000000001E-4,1.2,0.11696001733108122,2.7299074344348082E-3,1.6318895027125715,298.49400000000003,1.2,2.3957543597927033,5.0000000000000001E-4]
["TT-14B","Bioremediation","PCE",2,1.3607256340384735,5.1250000000000004E-2,1.4240766965959655,5.1250000000000004E-2,1.8,0.1,1.255272505103306,0.1,2.5000000000000001E-3,0.1,1.3607256340384735,5.1250000000000004E-2,1.4240766965959655,1.8,0.1,1.255272505103306,2.5000000000000001E-3]
["GSI-FD-01","Bioremediation","TCE",2,39.049999999999997,0.4388214261414507,1.9493332136866142,0.4388214261414507,41.8,1.83,1.3587251920446057,1.83,4.2999999999999997E-2,1.83,42.119884999999996,2.1375348172852737,1.2945739792865103,47.131769999999996,4.6949999999999994,1.0016781530832175,0.20799999999999999]
["GSI-FD-02","Bioremediation","TCE",1,7.8,2.7266029150346024E-2,2.456472708007412,2.7266029150346024E-2,7.8,7.2999999999999995E-2,2.0287717425700245,7.2999999999999995E-2,2.5999999999999999E-3,7.2999999999999995E-2,8.5760000000000005,0.28835800931397854,1.4733527536485727,8.5760000000000005,4.5826000000000002,0.27217282157874273,6.9629999999999997E-2]
["GSI-FD-03","Bioremediation","TCE",1,0.71277247421600121,8.06225774829855E-2,0.94649424148555739,8.06225774829855E-2,0.9254,1.3,-0.14761385714295852,1.3,5.0000000000000001E-3,1.3,0.71277247421600121,8.06225774829855E-2,0.94649424148555739,0.9254,1.3,-0.14761385714295852,5.0000000000000001E-3]
["C-01","Chemical Oxidation","PCE",2,5.3475072732794053E-2,4.9908492656729085E-3,1.029976930497287,4.9908492656729085E-3,0.53500000000000003,8.5999999999999993E-2,0.79385533077766079,8.5999999999999993E-2,1E-3,1E-3,6.1733297976320094E-2,8.1742250864641312E-3,0.87807288656299309,0.55559999999999998,8.8999999999999996E-2,0.79537223042066518,3.0000000000000001E-3]
["C-02","Chemical Oxidation","TCE",4,1.116844559711093,0.43010872815819323,0.41441447730360703,0.43010872815819323,5.0999999999999996,4.92,1.5605073330576038E-2,4.92,3.2100000000000004E-2,3.2100000000000004E-2,1.116844559711093,0.43010872815819323,0.41441447730360703,5.0999999999999996,4.92,1.5605073330576038E-2,3.2100000000000004E-2]
["C-03","Chemical Oxidation","PCE",8,0.1187049078230599,2.2320582541611362E-2,0.72576315011496695,2.2320582541611362E-2,1.2,0.51500000000000001,0.3673740170064338,0.51500000000000001,1.4E-3,1.4E-3,0.12168791907493186,2.519047213318281E-2,0.68401115715990024,1.2149999999999999,0.52510000000000001,0.36433425964727395,1.6199999999999999E-3]
["C-05","Chemical Oxidation","PCE",1,0.67119296778199333,9.6979379251467684E-2,0.84016799771434203,9.6979379251467684E-2,1.7,0.28499999999999998,0.77560406136976379,0.28499999999999998,3.3000000000000002E-2,3.3000000000000002E-2,0.67119296778199333,9.6979379251467684E-2,0.84016799771434203,1.7,0.28499999999999998,0.77560406136976379,3.3000000000000002E-2]
["C-06","Chemical Oxidation","TCE",1,28.6,4.5199965335553429,0.80122793138367054,4.5199965335553429,28.6,150,-0.71972522592663823,150,9.5000000000000001E-2,9.5000000000000001E-2,28.6,4.5199965335553429,0.80122793138367054,28.6,150,-0.71972522592663823,9.5000000000000001E-2]
["C-07","Chemical Oxidation","PCE",4,9.2297866063869431,0.14524786683769852,1.8030818973044402,0.14524786683769852,30.8,2.8,1.0413926851582251,2.8,5.0000000000000001E-3,5.0000000000000001E-3,9.3455153146289867,0.31290081636249278,1.4751965572803833,30.8,4,0.88649072517248195,5.0000000000000001E-3]
["C-08","Chemical Oxidation","PCE",1,1.437250546844659,0.31358814813279617,0.66117284212302474,0.31358814813279617,2.9,0.505,0.7591066197802947,0.505,0.21,0.21,2.207657199519991,0.65374946529723055,0.5285202912709952,4.3,0.995,0.63564537483386108,0.4]
["C-09","Chemical Oxidation","TCE",1,0.29190004045317153,3.1182955898983188E-2,0.97131687466948224,3.1182955898983188E-2,25,2.7,0.96657624451305024,2.7,1E-3,1E-3,0.29190004045317153,3.1182955898983188E-2,0.97131687466948224,25,2.7,0.96657624451305024,1E-3]
["C-10","Chemical Oxidation","PCE",4,1.0876242703027432,1.5356407953291178E-2,1.8501892493686238,1.5356407953291178E-2,80,9.3000000000000007,0.93460703843800841,9.3000000000000007,1E-3,1E-3,1.3253741728242439,2.8021711644850768E-2,1.6748438436822763,80.819999999999993,9.74,0.91895988922801364,2E-3]
["C-12","Chemical Oxidation","TCE",1,0.62549999999999994,3.5000000000000003E-2,1.252159269679163,3.5000000000000003E-2,0.62549999999999994,3.5000000000000003E-2,1.252159269679163,3.5000000000000003E-2,3.5000000000000003E-2,3.5000000000000003E-2,0.62549999999999994,3.5000000000000003E-2,1.252159269679163,0.62549999999999994,3.5000000000000003E-2,1.252159269679163,3.5000000000000003E-2]
["C-13","Chemical Oxidation","PCE",2,2.7731280204744557,0.77833068264597705,0.55180576794258662,0.77833068264597705,6.22,4.0999999999999996,0.18100652797108324,4.0999999999999996,0.22,0.22,2.8999354274940736,0.87908616656731131,0.51835688164011196,6.67,4.42,0.17870356456745706,0.246]
["C-14","Chemical Oxidation","PCE",1,1.0832304448426493,0.82340792137933927,{"$f":"-LOG(F132/E132)","v":0.11910581692261592},0.82340792137933927,1.65,3.4,{"$f":"-LOG(J132/I132)","v":-0.31399497282834882},3.4,0.12,0.12,1.3019658064086068,1.0285821884889059,{"$f":"-LOG(P132/O132)","v":0.10236057892357915},2.06,4.18,{"$f":"-LOG(S132/R132)","v":-0.30730906140588177},0.156]
["C-16","Chemical Oxidation","TCA",2,22.700000000000003,1.3699999999999999,1.2193052900367161,1.3699999999999999,40.6,2.2999999999999998,1.2467981975596012,2.2999999999999998,0.44,0.44,22.700000000000003,1.3699999999999999,1.2193052900367161,40.6,2.2999999999999998,1.2467981975596012,0.44]
["C-17","Chemical Oxidation","PCE",3,121.51122132916488,10.974686273194218,1.0442242718776,10.974686273194218,159.71,108.16,0.16926543108414541,108.16,1E-3,1E-3,142.47064678258218,12.923104155145325,1.0423585513167539,185.01000000000002,125.25,0.16941746860668394,1E-3]
["C-18","Chemical Oxidation","PCE",1,3.4000000000000002E-2,3.0000000000000001E-3,1.0543576623225928,3.0000000000000001E-3,3.4000000000000002E-2,3.0000000000000001E-3,1.0543576623225928,3.0000000000000001E-3,3.0000000000000001E-3,3.0000000000000001E-3,3.4000000000000002E-2,3.0000000000000001E-3,1.0543576623225928,3.4000000000000002E-2,3.0000000000000001E-3,1.0543576623225928,3.0000000000000001E-3]
["C-19","Chemical Oxidation","TCE",3,0.46592703291395315,1.9595917942265426E-2,1.3761522966005162,1.9595917942265426E-2,9.0739999999999998,0.03,2.4806775202103353,0.03,1.2E-2,1.2E-2,0.46592703291395315,1.9595917942265426E-2,1.3761522966005162,9.0739999999999998,0.03,2.4806775202103353,1.2E-2]
["C-20","Chemical Oxidation","PCE",4,1.9861484620366265,1.1025,0.25563311018537788,1.1025,26,14,0.26884531229257996,14,5.0000000000000001E-3,5.0000000000000001E-3,1.9861484620366265,1.1025,0.25563311018537788,26,14,0.26884531229257996,5.0000000000000001E-3]
["C-21","Chemical Oxidation","TCE",4,143.56399999999999,0.92155135034768954,2.1925260103748192,0.92155135034768954,224.119,629.50599999999997,-0.44852119783268279,629.50599999999997,2.5000000000000001E-3,2.5000000000000001E-3,143.56399999999999,0.92155135034768954,2.1925260103748192,224.119,629.50599999999997,-0.44852119783268279,2.5000000000000001E-3]
["C-22","Chemical Oxidation","TCE",2,319,3.7,1.935588958990186,3.7,630,4.2,2.1760912590556813,4.2,3.2,3.2,319,3.7,1.935588958990186,630,4.2,2.1760912590556813,3.2]
["C-23","Chemical Oxidation","TCE",4,919,1.1211096341550006,2.9136674267301315,1.1211096341550006,1110,410,0.43253912206692191,410,2.5000000000000001E-3,2.5000000000000001E-3,919,1.1211096341550006,2.9136674267301315,1110,410,0.43253912206692191,2.5000000000000001E-3]
["GSI-14","Chemical Oxidation","PCE",4,0.3036767807428058,6.3017211677283178E-2,0.68295240381080169,6.3017211677283178E-2,1.05,0.22,0.67876661824773188,0.22,1E-3,1E-3,0.30469706355790288,6.4446621281598046E-2,0.67466811514259351,1.0509999999999999,0.221,0.67721044234313155,2E-3]
["GSI-16","Chemical Oxidation","PCE",1,0.84455890057579663,0.40781796198290432,0.3161635932129408,0.40781796198290432,4.7,9,-0.2821446515036074,9,2.9000000000000001E-2,2.9000000000000001E-2,1.0856189655116597,0.46619374198035268,0.36711098233346789,5.57,9.0009999999999994,-0.20843556652739803,3.0000000000000002E-2]
["GSI-34","Chemical Oxidation","PCE",4,0.26775262939455102,4.4120741603499714E-3,1.7830909407315725,4.4120741603499714E-3,3.5,1.3,0.43012469204343884,1.3,5.0000000000000001E-4,1E-3,0.30534584294887779,6.7440860771317557E-3,1.6558689070789059,3.55,1.319,0.4299835575087288,1E-3]
["GSI-42","Chemical Oxidation","PCE",4,0.46910017223064993,0.15300110606662271,0.48657102199374469,0.15300110606662271,2.7,2.1,0.10914446942506803,2.1,2.5000000000000001E-4,1E-3,0.55831262989696806,0.28050671283798773,0.29893419350871941,2.82,2.2010000000000001,0.10762906576601308,2E-3]
["GSI-48","Chemical Oxidation","TCE",4,17.123838088114489,37.320241345769979,-0.33834333084144558,37.320241345769979,190,480,-0.40248763642275825,480,1.2500000000000001E-2,1.2500000000000001E-2,20.318955826682583,43.064969375639144,-0.32622275654398231,190,513,-0.43136376415898736,3.1E-2]
["GSI-56","Chemical Oxidation","TCE",2,7.6700165239709976,1.123721608328113E-2,2.8341375674732547,1.123721608328113E-2,30,6.8000000000000005E-2,2.644612342013426,6.8000000000000005E-2,5.0000000000000001E-4,1E-3,21.665410170560094,1.8753609628178383,1.06268204396274,86,31.401,0.437554972356132,9.2999999999999992E-3]
["GSI-60","Chemical Oxidation","TCE",3,1.9952100709966361,1.4187374939301277E-2,2.1480865820000568,1.4187374939301277E-2,24,1.63,1.1680236373076482,1.63,1E-3,1E-3,3.0904656412938398,0.34765512680782773,0.94887528139020427,25.55,2.0150999999999999,1.1030943014523764,6.7000000000000004E-2]
["GSI-66","Chemical Oxidation","PCE",4,0.51892772960234335,0.35492161434188829,0.16497443020922695,0.35492161434188829,17,14.4,7.2086429283024278E-2,14.4,2.5000000000000001E-4,1E-3,0.53218477537941711,0.36645468123006919,0.16204217228989212,17.001000000000001,14.579400000000001,6.6734815947854853E-2,5.0000000000000001E-4]
["GSI-67","Chemical Oxidation","TCE",3,0.99,0.37564168537988657,0.42086141418258211,0.37564168537988657,2.09,1.23,0.23024117467165603,1.23,2.5000000000000001E-4,1E-3,0.99068999999999996,0.37579749726497824,0.42098389579599604,2.09,1.23156,0.22969071115870421,2.5000000000000001E-4]
["GSI-69","Chemical Oxidation","PCE",3,5.7800561744645179E-2,1.2372310525310055E-2,0.66948124763776873,1.2372310525310055E-2,11,1,1.0413926851582249,1,2.5000000000000001E-4,1E-3,5.8743169961941143E-2,1.2628592439238135E-2,0.66760243113219819,11.25,1.0024999999999999,1.0500681411551613,5.0000000000000001E-4]
["GSI-72","Chemical Oxidation","PCE",4,8.9036307129523977E-3,2.2699999999999999E-3,0.59354128170620291,2.2699999999999999E-3,4,6.0999999999999999E-2,1.8167301563171954,6.0999999999999999E-2,2.5000000000000001E-4,1E-3,0.48357405176676105,1.5705E-2,1.4884250481521981,15.215,7.0199999999999999E-2,2.3359348445643806,5.5999999999999999E-3]
["GSI-75","Chemical Oxidation","TCE",5,0.97,0.11699968344327141,0.91858704755449705,0.11699968344327141,1.9,3.4,-0.25272531608942617,3.4,1E-3,1E-3,0.97360000000000002,0.22996580883951173,0.62671729501375162,3,4.5999999999999996,-0.1856365769619116,1E-3]
["GSI-86","Chemical Oxidation","TCE",4,1.7315966300898737,3.5168788214275494E-3,2.6922893275478232,3.5168788214275494E-3,160,8.7999999999999995E-2,3.2596373105057563,8.7999999999999995E-2,7.5000000000000002E-4,1E-3,1.7766814526474295,4.1932600509935053E-3,2.6270577719981087,160,0.128,3.0969100130080562,7.5000000000000002E-4]
["GSI-FL-2","Chemical Oxidation","PCE",2,7.2003558219114447,40.940256754562611,-0.75479660338065957,40.940256754562611,159,138,6.1518037919214959E-2,138,0.70099999999999996,0.70099999999999996,21.569015017540387,57.810632983845323,-0.42817741178023166,178.255,182.601,-1.0461431057876266E-2,1.7309999999999999]
["GSI-FL-21","Chemical Oxidation","PCE",2,10.171701717379426,0.80234181752058953,1.1030341881816168,0.80234181752058953,66.8,4.4000000000000004,1.1813237859893582,4.4000000000000004,2.8000000000000003E-4,1E-3,13.863969180072125,2.6841244590317928,0.71308493467914669,70.08,10.78,0.81297533230930441,3.209E-3]
["GSI-FL-22","Chemical Oxidation","PCE",3,1.18,3.9328737938157846E-2,1.4771719972118671,3.9328737938157846E-2,18.5,2.64,0.84556780153318267,2.64,2.2000000000000001E-4,1E-3,1.706,0.53025616849170554,0.50749329744803973,19.716000000000001,3.9820000000000002,0.69471755379129585,2.3240000000000004E-2]
["GSI-FL-24","Chemical Oxidation","PCE",3,0.50510766864083267,2.8048760314418827E-2,1.2554702908256605,2.8048760314418827E-2,4.3,0.12,1.5542872095319618,0.12,9.769999999999999E-5,1E-3,1.10910974291875,5.3402085708337155E-2,1.3174163008858093,6.0890000000000004,0.52037,1.0682337230789141,7.2150000000000003E-4]
["GSI-FL-25","Chemical Oxidation","PCE",2,0.42739183410662251,0.11025603646289432,0.58842384393297176,0.11025603646289432,4.1399999999999997,0.25900000000000001,1.2037005770396472,0.25900000000000001,5.2199999999999998E-3,5.2199999999999998E-3,0.7884614380342817,0.11660547051213666,0.83006153206659161,4.1683000000000003,0.26155499999999998,1.2023959417598595,9.0229999999999998E-3]
["K001","Chemical Oxidation","TCE",4,1.8995848737386132,2.3501886650064401E-2,1.9075559753391287,2.3501886650064401E-2,103,0.26,2.5978638767343543,0.26,1E-3,1E-3,1.9107629201559058,2.8522911560463802E-2,1.826012949535164,103.00200000000001,0.32300000000000001,2.5036431351947588,2E-3]
["K002","Chemical Oxidation","PCE",10,0.16750000000000001,1.9650000000000001E-2,0.9306522566614186,1.9650000000000001E-2,1.5,0.184,0.91127343604614475,0.184,1E-3,1E-3,0.16950000000000001,2.1650000000000003E-2,0.89371180184971666,1.5079999999999998,0.186,0.90888839731583893,3.0000000000000001E-3]
["K003","Chemical Oxidation","TCE",4,309.1029231079371,342.08041121950555,-4.4025093504812117E-2,342.08041121950555,680,1120,-0.21670910996394527,1120,1.7000000000000001E-2,1.7000000000000001E-2,348.88788813680117,397.79130252785001,-5.6969390396782456E-2,709.6,1142,-0.20665249708615926,1.7369999999999999]
["K004","Chemical Oxidation","PCE",2,3.6927051487981384,1.5153497421844451,0.38683175253043645,1.5153497421844451,62.1,1.8,1.5378190950732742,1.8,1.3,1.3,3.6927051487981384,1.5153497421844451,0.38683175253043645,62.1,1.8,1.5378190950732742,1.3]
["K005","Chemical Oxidation","TCE",3,140,160,-5.7991946977686733E-2,160,840,170,0.6938303646836077,170,18,18,147.5,162.80000000000001,-4.2862380239000686E-2,846.5,172,0.6920985155374052,20.25]
["K006","Chemical Oxidation","TCE",3,34,2.2000000000000002,1.1890562362200487,2.2000000000000002,66,2.2000000000000002,1.4771212547196624,2.2000000000000002,0.9,0.9,130.9,108.2,8.2712385780205164E-2,154,176.2,-5.8485183239566037E-2,10.100000000000001]
["K007","Chemical Oxidation","PCE",3,2.6944387170614958,0.68884313605808656,0.5923479750905366,0.68884313605808656,9.1,10,-4.0958607678906439E-2,10,2.1999999999999999E-2,2.1999999999999999E-2,2.6944387170614958,0.68884313605808656,0.5923479750905366,9.1,10,-4.0958607678906439E-2,2.1999999999999999E-2]
["K009","Chemical Oxidation","PCE",5,1.3341664064126335,0.33,0.60669606127655951,0.33,70,1.1000000000000001,1.8037053548560318,1.1000000000000001,1E-3,1E-3,1.6145504018146972,0.72600000000000009,0.34711498634174365,71.70017,4.3899999999999997,1.2130556651324347,4.9000000000000002E-2]
["K010","Chemical Oxidation","PCE",3,0.59326252051145145,0.68200000000000005,-6.0537462100596205E-2,0.68200000000000005,26.4,4.12,0.80670671083669643,4.12,4.6899999999999997E-2,4.6899999999999997E-2,2.6303765063387603,1.0170000000000001,0.41269696397849759,40.24,5.18222,0.8901421259689033,0.30587999999999999]
["VCP-1188A","Chemical Oxidation","PCE",2,10.624448209368325,2.6914932133496103,0.59631309474743854,2.6914932133496103,25,5.2,0.68193666503723838,5.2,1.5,1.5,10.978993529485866,3.1327320790173392,0.54463927487201247,25.030099999999997,5.2134999999999998,0.68133320682364074,2.2060000000000004]
["VCP-1395","Chemical Oxidation","PCE",4,20.06296308603789,0.11960430156663089,2.2246482747655847,0.11960430156663089,38.200000000000003,151,-0.59691358438146069,151,1.1E-4,1E-3,55.389972247732004,0.58840854987012781,1.9737521729332852,100.38000000000001,176.00499999999997,-0.24387781420427818,4.7000000000000004E-4]
["VCP-1558","Chemical Oxidation","PCE",2,0.21718862502096109,8.5930217907183894E-3,1.4026911627844281,8.5930217907183894E-3,0.92200000000000004,4.3999999999999997E-2,1.321278244567442,4.3999999999999997E-2,7.2000000000000005E-4,1E-3,0.75122065621335965,2.8260069468921532E-2,1.4245942960623668,2.2489999999999997,0.123,1.2620843439962341,6.3299999999999997E-3]
["VCP-1582","Chemical Oxidation","PCE",1,5.1999999999999998E-3,1.6467934790651059E-2,-0.50063579498476607,1.6467934790651059E-2,6.7000000000000002E-3,2.5999999999999999E-2,-0.58889854526999152,2.5999999999999999E-2,9.1999999999999998E-3,9.1999999999999998E-3,5.0000000000000001E-3,0.82609026096598237,-2.2180574978243595,5.0000000000000001E-3,1.1040000000000001,-2.3439990690571615,0.51319999999999999]
["VCP-1599","Chemical Oxidation","PCE",2,96.074036963218546,32.440483728448811,0.47151871836783199,32.440483728448811,350,61.5,0.75519292857485887,61.5,9.06,9.06,102.76581409928994,34.533984296387388,0.47360197983539726,358.87,67.340000000000018,0.72666404263386042,9.8019999999999996]
["VCP-296_2","Chemical Oxidation","PCE",1,4.462150468349888,0.29799999999999999,1.1753279469796432,0.29799999999999999,32,0.29799999999999999,2.0309337142436505,0.29799999999999999,0.29799999999999999,0.29799999999999999,4.4997809760236622,0.29799999999999999,1.1789751112059184,32.080999999999996,0.29799999999999999,2.0320316331827883,0.29799999999999999]
["VCP-749","Chemical Oxidation","PCE",2,0.37832343573119825,6.480692460853494E-3,1.7662418324164149,6.480692460853494E-3,0.86,0.35,0.39043040689329206,0.35,1E-3,1E-3,0.48139504467660427,0.12130512735815353,0.59862245734448072,1.04,2.6549999999999998,-0.40703118611870742,1.4999999999999999E-2]
["VCP-886","Chemical Oxidation","TCE",3,58.864250611045748,0.27502180504476148,2.3304844913338258,0.27502180504476148,86,6.9,1.0956493605063125,6.9,1E-4,1E-3,60.967204298704722,0.29438047083757185,2.3161872849666416,86,6.9,1.0956493605063125,1E-4]
["C-15","Chemical Oxidation","CB",4,25,4.081386473593227,0.78713228785073941,4.081386473593227,42.5,4,1.0263289387223491,4,0.25,0.25]
["TT-1B","Chemical Oxidation","PCE",1,0.64381833395977695,0.22046667602623973,0.46542038559727994,{"$f":"IF(F177<0.001,0.001,F177)","v":0.22046667602623973},20,0.45,1.6478174818886375,{"$f":"IF(J177<0.001,0.001,J177)","v":0.45},0.105,{"$f":"IF(L177<0.001,0.001,L177)","v":0.45},1.1243582983745208,0.24567617500677597,{"$f":"-LOG(P177/O177)","v":0.66054168772069355},20.190000000000001,0.51300000000000001,{"$f":"-LOG(S177/R177)","v":1.5950189538318229},0.11499999999999999]
["TT-2B","Chemical Oxidation","PCE",1,41.518199494052446,2.5421776672384939E-4,5.2130326121740573,1E-3,92.6,1E-3,4.9666109866819346,1E-3,1.2999999999999999E-4,1E-3,44.054274858771898,7.8864326148387362E-4,4.7471074602060748,99.22,3.9899999999999996E-3,4.3956263270134182,2.2600000000000002E-4]
["TT-3B","Chemical Oxidation","PCE",4,1.8253425537523418E-2,1E-3,1.2613443785152898,1E-3,32,0.12,2.4259687322722812,0.12,2.5000000000000001E-4,0.12,0.2132473593145103,0.12230000000000002,0.24145720487953612,44.908100000000005,0.47950000000000004,1.9715360695419808,2.5000000000000001E-4]
["TT-4B","Chemical Oxidation","TCE",3,1.4745693047825409E-2,9.1293927791873015E-3,0.2082232968311433,9.1293927791873015E-3,0.25,0.03,0.92081875395237522,0.03,2.5000000000000001E-4,0.03,1.4745693047825409E-2,9.1293927791873015E-3,0.2082232968311433,0.25,0.03,0.92081875395237522,2.5000000000000001E-4]
["TT-5B","Chemical Oxidation","PCE",4,7.9242552962459216,1.2466535627116362,0.80321267628201309,1.2466535627116362,27,4.0999999999999996,0.8185799074392518,4.0999999999999996,6.8000000000000005E-2,4.0999999999999996,10.540350040584647,1.9255756599541349,0.73829444620695439,32.6,6.1,0.72788776505717201,0.13800000000000001]
["TT-6A","Chemical Oxidation","PCE",1,0.57999999999999996,1.4144756596710334E-3,2.6128325150548406,1.4144756596710334E-3,0.57999999999999996,2.8300000000000001E-3,2.3116415580386471,2.8300000000000001E-3,1E-3,2.8300000000000001E-3,0.57999999999999996,1.4144756596710334E-3,2.6128325150548406,0.57999999999999996,2.8300000000000001E-3,2.3116415580386471,1E-3]
["TT-7A","Chemical Oxidation","PCE",4,3.7917700985754492,1.6875889444414218,0.35157532584244627,1.6875889444414218,40,20,0.3010299956639812,20,1.0999999999999999E-2,20,3.9066004950355322,2.0797552314767023,0.27378677535546636,41.5,23.9,0.23965019576395502,2.3E-2]
["TT-8A","Chemical Oxidation","PCE",3,0.44,2.2000000000000002,-0.69897000433601886,2.2000000000000002,30,21,0.15490195998574319,21,8.5000000000000006E-3,21,3.84,5.0999999999999996,-0.12323895173040557,45,34,0.12173359673308856,6.5500000000000003E-2]
["TT-9A","Chemical Oxidation","PCE",3,1.8768590783540462,1.3,0.15948831307381681,1.3,12.6,1.5,0.92427928606188159,1.5,0.27,1.5,1.9799604036444769,1.5629999999999999,0.10269752706524397,27.1,3.3,0.91445535099651831,0.29200000000000004]
["TT-10A","Chemical Oxidation","TCE",3,10.199999999999999,2.11,0.6843177164642249,2.11,20.5,3.34,0.78800739424418986,3.34,5.0000000000000001E-4,3.34,10.199999999999999,2.11,0.6843177164642249,20.5,3.34,0.78800739424418986,5.0000000000000001E-4]
["TT-11A","Chemical Oxidation","PCE",3,0.2558526666503535,0.29393876913398137,-6.0266923429460245E-2,0.29393876913398137,12.173,0.59,1.3145456103748252,0.59,0.11,0.59,0.4005207990650515,0.47244047244070864,-7.1722021192822213E-2,13.375,0.92999999999999994,1.1578108421393309,0.123]
["TT-12A","Chemical Oxidation","PCE",3,0.45902572528947827,0.26390773477019852,0.24038490651339442,0.26390773477019852,2.2000000000000002,0.99,0.34678748622465638,0.99,3.0999999999999999E-3,0.99,0.45902572528947827,0.26390773477019852,0.24038490651339442,2.2000000000000002,0.99,0.34678748622465638,3.0999999999999999E-3]
["GSI-FD-04","Chemical Oxidation","TCE",1,0.96541597252168976,0.12955111655121609,0.8722733194608735,0.12955111655121609,1.212,0.34100000000000003,0.55074824083776963,0.34100000000000003,3.7999999999999999E-2,0.34100000000000003,0.96541597252168976,0.12955111655121609,0.8722733194608735,1.212,0.34100000000000003,0.55074824083776963,3.7999999999999999E-2]
["GSI-FD-05","Chemical Oxidation","TCE",1,0.41599999999999998,4.0006441155143707E-2,1.0169634109754691,4.0006441155143707E-2,0.41599999999999998,0.73099999999999998,-0.24482404633111773,0.73099999999999998,5.0000000000000001E-3,0.73099999999999998,0.41599999999999998,4.0006441155143707E-2,1.0169634109754691,0.41599999999999998,0.73099999999999998,-0.24482404633111773,5.0000000000000001E-3]
["GSI-101","Chemical Reduction ","TCE",2,2.6825000000000001,3.8499999999999993E-2,1.8430790011294882,3.8499999999999993E-2,3.71,7.1999999999999995E-2,1.7120414131837773,7.1999999999999995E-2,5.0000000000000001E-3,5.0000000000000001E-3,2.6825000000000001,3.8499999999999993E-2,1.8430790011294882,3.71,7.1999999999999995E-2,1.7120414131837773,5.0000000000000001E-3]
["GSI-102","Chemical Reduction ","TCE",1,3,0.3,1,0.3,3,0.3,1,0.3,0.3,0.3,3,0.3,1,3,0.3,1,0.3]
["GSI-106","Chemical Reduction ","TCA",2,5.4700000000000006,3.3500000000000002E-2,2.2129425192965857,3.3500000000000002E-2,10,6.6000000000000003E-2,2.1804560644581312,6.6000000000000003E-2,1E-3,1E-3,8.2839500000000008,0.54249999999999998,1.1838377264080393,13.790000000000001,0.93599999999999994,1.1682884174377446,0.14900000000000002]
["GSI-109","Chemical Reduction ","TCE",5,0.93808315196468595,4.8971805136718456E-3,2.2822952233481253,4.8971805136718456E-3,26,56,-0.33321467903538243,56,1E-3,1E-3,6.7270000000000003,6.2009718169496804,3.5361670174111709E-2,27.2,74,-0.4346628156967775,0.4214]
["GSI-110","Chemical Reduction ","TCE",2,1.1799999999999998E-2,4.9891506946416735E-3,0.3738553855351251,4.9891506946416735E-3,1.7999999999999999E-2,3.4000000000000002E-2,-0.27620641193894907,3.4000000000000002E-2,1E-3,1E-3,1.44E-2,6.0759673844364755E-3,0.37474705817462611,2.1999999999999999E-2,0.05,-0.35654732351381263,1E-3]
["GSI-111","Chemical Reduction ","TCE",5,10,6,{"$f":"-LOG(F196/E196)","v":0.22184874961635639},6,21.5,11.5,{"$f":"-LOG(J196/I196)","v":0.27174061956199369},11.5,1.5,1.5,10,6,0.22184874961635639,21.5,11.5,0.27174061956199369,1.5]
["GSI-113","Chemical Reduction ","TCE",2,14,0.20601642420750602,1.8322261907539739,0.20601642420750602,14,6,0.36797678529459443,6,1E-3,1E-3,14,0.20601642420750602,1.8322261907539739,14,6,0.36797678529459443,1E-3]
["GSI-115","Chemical Reduction ","TCE",1,1.5,0.1,1.1760912590556813,0.1,1.5,0.1,1.1760912590556813,0.1,0.1,0.1,1.5,0.1,1.1760912590556813,1.5,0.1,1.1760912590556813,0.1]
["GSI-117","Chemical Reduction ","TCE",3,0.28000000000000003,1.871969284216702E-2,1.1748593129041465,1.871969284216702E-2,0.32,0.13,0.39120662601306921,0.13,1E-3,1E-3,0.32700000000000001,0.12231004448624837,0.42708562852813109,0.39600000000000002,0.185,0.33052345752249856,5.1000000000000004E-2]
["GSI-119","Chemical Reduction ","TCE",1,241,1.2489995996796797,2.2854547433976378,1.2489995996796797,241,13,1.2680736902680316,13,0.12,0.12,241,7.4538580614336896,1.5096359240420794,241,463,-0.28356394844308475,0.12]
["GSI-120","Chemical Reduction ","TCE",4,58.5,0.23819296969988291,2.3902269270110081,0.23819296969988291,88,1.7,1.7140337507718948,1.7,1E-3,1E-3,58.5,0.45390894431215734,2.1101871254474118,169,6.35,1.4251129793216979,1E-3]
["GSI-121","Chemical Reduction ","TCE",7,0.21299999999999999,0.27599532147223732,-0.11252211675687071,0.27599532147223732,72.8,34,0.33065246227078204,34,8.6999999999999994E-3,8.6999999999999994E-3,0.32700000000000001,0.34467574064327855,-2.2862964819266196E-2,72.8,34.18,0.32835932092831915,1.0999999999999999E-2]
["GSI-123","Chemical Reduction ","TCE",3,1.1000000000000001,4.6415888336127789E-3,2.3747260184915584,4.6415888336127789E-3,4.4000000000000004,0.3,1.166331421766525,0.3,1E-3,1E-3,1.2,0.20607682433251753,0.76515209284408381,9.1999999999999993,3.6499999999999995,0.4014949628890806,1E-3]
["GSI-125","Chemical Reduction ","TCE",1,0.15,1.4409664294429041E-2,1.0174373959915399,1.4409664294429041E-2,0.15,2.1999999999999999E-2,0.83366857823347496,2.1999999999999999E-2,8.0000000000000002E-3,8.0000000000000002E-3,0.15,1.4409664294429041E-2,1.0174373959915399,0.15,2.1999999999999999E-2,0.83366857823347496,8.0000000000000002E-3]
["GSI-126","Chemical Reduction ","TCE",6,1.0449999999999999,4.1658005374347565E-2,1.3994178187780377,4.1658005374347565E-2,3.7,1,0.5682017240669951,1,1E-3,1E-3,1.1800000000000002,9.5495791827445081E-2,1.0918977731714539,3.7680000000000002,1.7009999999999998,0.34540658050827083,4.0000000000000001E-3]
["GSI-131","Chemical Reduction ","TCE",8,0.4,0.43662891242647495,-3.8052498843915976E-2,0.43662891242647495,6.3,7.8,-9.2754053236898712E-2,7.8,1.6999999999999999E-3,1.6999999999999999E-3,0.40100000000000002,0.43961105507083198,-3.9924232641485848E-2,6.3014000000000001,7.8,-9.2657554073763485E-2,1.6999999999999999E-3]
["GSI-134","Chemical Reduction ","PCE",1,1.8,0.17,1.0248235837250321,0.17,1.8,0.17,1.0248235837250321,0.17,0.17,0.17,1.8,0.17,1.0248235837250321,1.8,0.17,1.0248235837250321,0.17]
["GSI-116","Chemical Reduction / Bioremediation","TCE",10,410,11.247199739937745,1.561739448838902,11.247199739937745,700,720,-1.2234456417011586E-2,720,0.01,0.01,417.9,139.04858184646821,0.47790580728105342,719,745,-1.5427382365410231E-2,0.09]
["GSI-124","Chemical Reduction / Bioremediation","TCE",3,0.36099999999999999,0.11681860023881875,0.48999520383864648,0.11681860023881875,1.82,2.27,-9.5954469208047927E-2,2.27,0.06,0.06,0.42379999999999995,0.68424588543051879,-0.20805124217622914,1.921,2.4359999999999999,-0.1031499190991441,0.115]
["GSI-130","Chemical Reduction / Bioremediation","TCE",2,3.1388552825555425,0.13139104431093779,1.3782055284711792,0.13139104431093779,8,14,-0.24303804868629444,14,1E-3,1E-3,29.932365365106158,19.154452470578626,0.19387129553396623,66,44.500999999999998,0.17117416524403231,2.0009999999999999]
["GSI-118","Chemical Reduction /Bioremediation","TCE",3,3.71,0.16,1.3652539269591211,0.16,7.4029999999999996,3.4049999999999998,0.33729063313339797,3.4049999999999998,1E-3,1E-3,11.254999999999999,7.8100000000000005,0.15869446545923843,18.91,9.4009999999999998,0.30351747616206753,3.4049999999999998]
["GSI-FL-26","Natural Attenuation","PCE",3,1.9834061611278717,1E-3,3.2974116579644885,1E-3,23.3,1.2E-2,3.2881746749783942,1.2E-2,1E-3,1E-3,3.2610979439446464,3.5000000000000001E-3,2.9692957982692101,23.305890000000002,1.4700000000000001E-2,3.2001483575755061,3.5000000000000001E-3]
["GSI-FL-28","Natural Attenuation","TCE",4,8.3204229570686371E-3,1.3483314773547882E-3,0.79034873018208474,1.3483314773547882E-3,0.89,0.249,0.55319065954917646,0.249,2.3999999999999998E-4,1E-3,1.6151873659766818E-2,3.1808921536953089E-3,0.70567396403567495,0.98329,0.28149999999999997,0.5432032232485321,7.0999999999999991E-4]
["GSI-FL-29","Natural Attenuation","TCE",2,1.9047457990064198E-3,4.8127717305695653E-3,-0.40255823921645423,4.8127717305695653E-3,4.7999999999999996E-3,7.4400000000000008E-2,-1.1903316981702916,7.4400000000000008E-2,1E-3,1E-3,3.5404852506095277E-2,0.17526580195793037,-0.69463439488872669,0.10209,0.76039999999999996,-0.87205890437793365,1.5100000000000001E-3]
["GSI-FL-30","Natural Attenuation","PCE",3,1.05,0.13,0.90724594676310133,0.13,3.85,0.82,0.67164687712478399,0.82,7.7999999999999996E-3,7.7999999999999996E-3,1.2000000000000002,0.15630000000000002,0.88522226802843795,3.9999999999999996,0.84109999999999996,0.67721235835242521,8.5699999999999995E-3]
["GSI-FL-31","Natural Attenuation","PCE",3,0.47,9.6164442493054558E-2,0.68908333978231662,9.6164442493054558E-2,0.92,3.89,-0.62616177398015249,3.89,1.41E-2,1.41E-2,0.47712999999999994,9.8215878410774296E-2,0.686455018906305,0.92099000000000009,3.9218920000000006,-0.62924071530801651,1.4723999999999999E-2]
["GSI-FL-32","Natural Attenuation","PCE",4,2.3749999999999999E-3,3.715E-3,-0.19429520413570872,3.715E-3,0.39300000000000002,0.372,2.3849610493529232E-2,0.372,1.1000000000000001E-3,1.1000000000000001E-3,3.1375E-2,0.102035,-0.51216543432740391,1.4305000000000001,1.1879,8.0707979809348865E-2,1.8700000000000001E-3]
["GSI-FL-34","Natural Attenuation","PCE",2,2.1642943680594064,9.7000000000000005E-4,3.3485445950562074,1E-3,4.2699999999999996,1.6000000000000001E-3,3.4263078923690991,1.6000000000000001E-3,3.4000000000000002E-4,1E-3,2.4047552342578928,1.9040000000000001E-3,3.1014039346568976,4.7489999999999997,2.9299999999999999E-3,3.209734549227909,8.7800000000000009E-4]
["MNA-CA-1","Natural Attenuation","PCE",1,9.174377350603783E-3,3.0641020356097261E-3,0.47627337574496525,3.0641020356097261E-3,0.01,3.7000000000000002E-3,0.43179827593300502,3.7000000000000002E-3,2.8999999999999998E-3,2.8999999999999998E-3,1.2226797674759348E-2,4.9893104965222975E-3,0.38927219374915423,1.46E-2,5.7000000000000002E-3,0.40847800011194568,4.5999999999999999E-3]
["MNA-CA-2","Natural Attenuation","TCE",4,1.8330966888228682E-2,2.6200000000000001E-2,-0.15511591838438607,2.6200000000000001E-2,6.0999999999999999E-2,6.6000000000000003E-2,-3.4214100531101674E-2,6.6000000000000003E-2,1.2E-2,1.2E-2,1.8330966888228682E-2,2.6200000000000001E-2,-0.15511591838438607,6.0999999999999999E-2,6.6000000000000003E-2,-3.4214100531101674E-2,1.2E-2]
["MNA-CA-3","Natural Attenuation","PCE",3,0.34724919006385024,0.33802546404329958,1.1691823782155887E-2,0.33802546404329958,0.71199999999999997,0.48,0.17123875626126916,0.48,0.13,0.13,0.34919347072933654,0.33920477752167244,1.26041541694957E-2,0.71409999999999996,0.48147999999999996,0.17118078121968872,0.13084000000000001]
["MNA-CA-4","Natural Attenuation","TCE",2,1.9116983450718637E-2,2.8049999999999999E-2,-0.16651350140014465,2.8049999999999999E-2,2.7E-2,5.0999999999999997E-2,-0.27620641193894907,5.0999999999999997E-2,5.0999999999999995E-3,5.0999999999999995E-3,1.9116983450718637E-2,2.8049999999999999E-2,-0.16651350140014465,2.7E-2,5.0999999999999997E-2,-0.27620641193894907,5.0999999999999995E-3]
["MNA-CA-5","Natural Attenuation","PCE",4,1.2671822751277746E-2,1.390589285440319E-2,-4.0359789262932155E-2,1.390589285440319E-2,5.3999999999999999E-2,2.9000000000000001E-2,0.26999576192401237,2.9000000000000001E-2,4.2000000000000006E-3,4.2000000000000006E-3,1.5346960159488093E-2,1.502613279823798E-2,9.1751429593910604E-3,5.6300000000000003E-2,3.0100000000000002E-2,0.27194189925750289,5.0700000000000007E-3]
["MNA-OR-1","Natural Attenuation","TCE",4,0.67147130975480041,9.2200000000000004E-2,0.86229654005927592,9.2200000000000004E-2,4.5,0.70299999999999996,0.80625718875551977,0.70299999999999996,1E-3,1E-3,0.67147130975480041,9.2200000000000004E-2,0.86229654005927592,4.5,0.70299999999999996,0.80625718875551977,1E-3]
["VCP 613","Natural Attenuation","TCE",11,0.32518874401445591,8.5422676403199352E-3,1.5805623303302565,8.5422676403199352E-3,6.35,4.09,0.19105041728463384,4.09,2.5999999999999998E-4,1E-3,0.32518874401445591,8.5422676403199352E-3,1.5805623303302565,6.35,4.09,0.19105041728463384,2.5999999999999998E-4]
["VCP 1601","Natural Attenuation","TCE",20,11.392899715852181,1.1252104839720438,1.0054005046072232,1.1252104839720438,700,780,-4.6996562676223583E-2,780,1.2999999999999999E-4,1E-3,11.392899715852181,1.1252104839720438,1.0054005046072232,700,780,-4.6996562676223583E-2,1.2999999999999999E-4]
["VCP-1188B","Natural Attenuation","PCE",10,0.51145990052945056,0.2,0.40778159417021248,0.2,23,25,-3.6212172654444708E-2,25,2.8E-3,2.8E-3,0.59178141184804545,0.27,0.34079755547163293,23.010999999999999,25.021999999999998,-3.6386527334730731E-2,1.47E-2]
["GSI-FL-27","Natural Attenuation","PCE",3,0.01,2.5,-2.3979400086720375,2.5,2,49,-1.3891660843645324,49,0.94,0.94,0.68900000000000006,3.5970000000000004,-0.71772121591088534,3.891,49.74,-1.1066445501301747,2.21]
["GSI-FL-33","Natural Attenuation","PCE",2,1.9370762033307047,2.4E-2,1.9069354642088767,2.4E-2,10.5,0.12,1.9420080530223132,0.12,2.3E-2,2.3E-2,2.2767661406040256,4.6954999999999997E-2,1.6856365792054304,10.990000000000002,0.22609999999999997,1.686697130078131,3.8010000000000002E-2]
["N-01","Natural Attenuation","TCE",2,0.34204625667259703,0.1770643160355318,0.28595379573352375,0.1770643160355318]
["N-02","Natural Attenuation","TCE",2,25.872115213907886,21.984358485365522,7.0718139360975582E-2,21.984358485365522]
["N-03","Natural Attenuation","TCE",1,4.1212852998085596E-3,5.4895502717790548E-2,-1.1245040865792177,5.4895502717790548E-2]
["N-04A","Natural Attenuation","TCE",2,185.5,6.0800131800296935,1.4844393932296516,6.0800131800296935]
["N-04B","Natural Attenuation","TCA",2,15.047696960070846,0.12960941895367262,2.0648334728803661,0.12960941895367262]
["N-05","Natural Attenuation","TCE",2,8.0499964963173554,3.6949999999999998,0.33818124861461774,3.6949999999999998]
["N-06","Natural Attenuation","TCE",2,22.27594311791572,10.5,0.32664680116920275,10.5]
["N-07","Natural Attenuation","TCA",2,20.450000000000003,1.0626350429392152E-2,3.2843091786313146,1.0626350429392152E-2]
["N-08A","Natural Attenuation","TCE",2,6.4496478421450414,0.37590471531933212,1.2344582288230064,0.37590471531933212]
["N-08B","Natural Attenuation","TCA",2,3.9555921664494016,3.6900000000000002E-2,2.0301851419958479,3.6900000000000002E-2]
["N-09A","Natural Attenuation","TCE",1,9.4024101475209854,1.9773719933285188,0.67715081315749492,1.9773719933285188]
["N-09B9","Natural Attenuation","TCA",1,25.509433629700943,4.4899888641287298,0.75445555245624296,4.4899888641287298]
["N-10","Natural Attenuation","TCA",1,2.5,0.94,0.42481215507233894,0.94]
["N-11","Natural Attenuation","PCE",2,9.9774434669797893E-2,1.8691860890161883E-2,0.7273667354861858,1.8691860890161883E-2]
["N-12","Natural Attenuation","TCE",1,4.8290785870598527E-3,4.5877113722840035E-2,-0.9777318141789052,4.5877113722840035E-2]
["N-13A","Natural Attenuation","TCE",2,129.88868550307996,74.242388149659462,0.24291938832889337,74.242388149659462]
["N-13B","Natural Attenuation","TCA",2,0.60024217921876311,3.8813114036374177E-2,1.1893480219215256,3.8813114036374177E-2]
["N-14","Natural Attenuation","TCE",1,0.65726706900619936,0.45277300050858688,0.16186135204645233,0.45277300050858688]
["N-15","Natural Attenuation","TCE",1,11,0.17356928746605826,1.8019198045483398,0.17356928746605826]
["N-16","Natural Attenuation","TCE",2,0.51,5.3110429004451239E-2,0.98239036661038648,5.3110429004451239E-2]
["N-17","Natural Attenuation","PCE",1,0.86268186488415299,5.0000000000000001E-3,2.2368806641510051,5.0000000000000001E-3]
["N-18","Natural Attenuation","PCE",2,11.303673593025509,3.2468750844921743,0.5417540277148325,3.2468750844921743,null,null,null,null,null,null,null,null,null,null,null,null,null,null,1.3622234427952729,0.24303804868629447,1.1225540511658425,0.24152970612654495]
["N-19","Natural Attenuation","PCE",2,0.58416573867739408,0.31959401467423965,0.26193744471846536,0.31959401467423965,null,null,null,null,null,null,null,null,null,null,null,null,null,null,0.46542038559727994,1.6478174818886375,0.66054168772069355,1.5950189538318229]
["N-20","Natural Attenuation","PCE",2,1.4654616550796016,0.54145090211383651,0.43241537764693611,0.54145090211383651,null,null,null,null,null,null,null,null,null,null,null,null,null,null,0.16086533394086752,0.25610548446564896,0.13950857214725762,0.2325704798389342]
["N-21","Natural Attenuation","PCE",2,113.49327122158732,12.447586841234447,0.95988494904589428,12.447586841234447,null,null,null,null,null,null,null,null,null,null,null,null,null,null,5.2130326121740573,4.9666109866819346,4.7471074602060748,4.3956263270134182]
["N-22","Natural Attenuation","PCE",2,0.60988660463607547,0.29113604487572237,0.32115311699449828,0.29113604487572237,null,null,null,null,null,null,null,null,null,null,null,null,null,null,1.0252858793384825,0.19382002601611281,0.49020667082582292,0.10658721134931022]
["N-23","Natural Attenuation","PCE",2,8.1890577677110263E-2,9.7699419993181463E-3,0.92334194927482116,9.7699419993181463E-3,null,null,null,null,null,null,null,null,null,null,null,null,null,null,1.2613443785152898,2.4259687322722812,0.24145720487953612,1.9715360695419808]
["S-01","Surfactant","PCE",7,0.26,0.50404154618015629,-0.2874929871515865,0.50404154618015629,136,44,{"$f":"-LOG(J257/I257)","v":0.49008623188403005},44,1.9E-6,1E-3,1.044,4.1056694046587738,{"$f":"-LOG(P257/O257)","v":-0.59468347766088669},148.80000000000001,69,{"$f":"-LOG(S257/R257)","v":0.33375384047260459},5.0160000000000005E-3,null,2.4283926381326801,1.6812412373755872,2.4283926381326801,1.6812412373755872]
["S-02","Surfactant","TCE",1,900,10,1.9542425094393248,10,900,10,1.9542425094393248,10,10,10,900,10,1.9542425094393248,900,10,1.9542425094393248,10,null,0.2082232968311433,0.92081875395237522,0.2082232968311433,0.92081875395237522]
["S-03","Surfactant","PCE",1,4,4.5999999999999999E-2,1.9393021596463884,4.5999999999999999E-2,4,4.5999999999999999E-2,1.9393021596463884,4.5999999999999999E-2,4.5999999999999999E-2,4.5999999999999999E-2,4,4.5999999999999999E-2,1.9393021596463884,4,4.5999999999999999E-2,1.9393021596463884,4.5999999999999999E-2,null,0.32208992821203025,0.23139406752258673,0.27520587658194906,0.21432365696061739]
["TT-13A","Surfactant","PCE",6,0.65502850000000012,0.11696001733108122,{"$f":"-LOG(F260/E260)","v":0.74822277239613699},{"$f":"IF(F260<0.001,0.001,F260)","v":0.11696001733108122},66.332000000000008,298.49400000000003,-0.65321251377534373,{"$f":"IF(J260<0.001,0.001,J260)","v":298.49400000000003},1.9E-3,{"$f":"IF(L260<0.001,0.001,L260)","v":298.49400000000003},0.65502850000000012,0.11696001733108122,0.74822277239613699,66.332000000000008,298.49400000000003,-0.65321251377534373,1.9E-3,null,0.80321267628201309,0.8185799074392518,0.73829444620695439,0.72788776505717201]
["GSI-47","Thermal Treatment","PCE",4,0.18799930875108811,0.20099999999999998,-2.9039804997978976E-2,0.20099999999999998,2.64,3.71,-0.1477699827452148,3.71,4.2000000000000006E-3,4.2000000000000006E-3,0.31322467615938004,0.53349999999999997,-0.23127845486466855,3.4766999999999997,4.5587999999999997,-0.11768332201819995,5.2000000000000006E-3,null,2.6128325150548406,2.3116415580386471,2.6128325150548406,2.3116415580386471]
["GSI-T1","Thermal Treatment","PCE",2,1.6997433255341026,4.4703968711158224E-3,2.5800372640176503,4.4703968711158224E-3,7.8,1,0.89209460269048035,1,1E-4,1E-3,3.9679515373600291,2.5304107603560701E-2,2.1953753335400288,11.95,4,0.47530791395619404,8.9999999999999998E-4,null,0.45162547417207793,0.75281643118827146,0.45162547417207793,0.75281643118827146]
["GSI-T-101","Thermal Treatment","TCE",1,150,2.8478061731796286E-2,3.7215808319501034,2.8478061731796286E-2,150,0.1,3.1760912590556813,0.1,8.1099999999999992E-3,8.1099999999999992E-3,544,1.4035613631045849,2.5883674951430056,544,1.4500000000000002,2.5742308974632051,1.3586100000000001,null,0.35157532584244627,0.3010299956639812,0.27378677535546636,0.23965019576395502]
["GSI-T-102","Thermal Treatment","TCE",3,6.4,0.81841309862440503,0.89320740238196317,0.81841309862440503,42,9.75,0.63424467469936363,9.75,3.3000000000000002E-2,3.3000000000000002E-2,6.4,0.81841309862440503,0.89320740238196317,42,9.75,0.63424467469936363,3.3000000000000002E-2,null,1.6568942558432047,0.3053948010664313,1.353784902804666,0.35268251704679704]
["GSI-T-103","Thermal Treatment","TCE",5,0.39,1.1946754836212416E-2,1.5138146555602685,1.1946754836212416E-2,11,7.8E-2,2.1492980824677446,7.8E-2,1.9E-3,1.9E-3,0.39,1.1946754836212416E-2,1.5138146555602685,11,7.8E-2,2.1492980824677446,1.9E-3,null,-0.69897000433601886,0.15490195998574319,-0.12323895173040557,0.12173359673308856]
["GSI-T-104","Thermal Treatment","PCE",3,25,1,1.3979400086720375,1,50,1.5,1.5228787452803376,1.5,6.0000000000000001E-3,6.0000000000000001E-3,25,1,1.3979400086720375,50,1.5,1.5228787452803376,6.0000000000000001E-3,null,2.1541342022939505,0.80370535485603178,2.1400038504095491,0.68638087702799833]
["GSI-T-105","Thermal Treatment","PCE",4,3.6,2.7499999999999997E-2,2.1169698069370249,2.7499999999999997E-2,13,1.4,0.96781531662859877,1.4,2.3E-3,2.3E-3,3.6,2.7499999999999997E-2,2.1169698069370249,13,1.4,0.96781531662859877,2.3E-3,null,0.15948831307381681,0.92427928606188159,0.10269752706524397,0.91445535099651831]
["GSI-T-106","Thermal Treatment","TCE",1,10,0.11,1.9586073148417751,0.11,10,0.11,1.9586073148417751,0.11,0.11,0.11,10,0.11,1.9586073148417751,10,0.11,1.9586073148417751,0.11,null,0.92881351117577826,0.34294414714289606,0.68996978049366975,0.4783073123031763]
["GSI-T-107","Thermal Treatment","PCE",2,4.1500000000000004,1.7392711120698179,0.37768081298496375,1.7392711120698179,5.5,4,0.13830269816628143,4,0.50909090909090904,0.50909090909090904,4.1500000000000004,1.7392711120698179,0.37768081298496375,5.5,4,0.13830269816628143,0.50909090909090904,null,0.6843177164642249,0.78800739424418986,0.6843177164642249,0.78800739424418986]
["GSI-T-108","Thermal Treatment","PCE",2,336.25,3.17,2.0256030307927131,3.17,538.20000000000005,5.12,2.0216737324519052,5.12,1.22,1.22,336.25,3.17,2.0256030307927131,538.20000000000005,5.12,2.0216737324519052,1.22,null,3.6525787166708632,1.0923827026525772,3.6525787166708632,1.0923827026525772]
["GSI-T-109","Thermal Treatment","TCE",5,116.56953366502911,26.702728987382425,0.64002941106833966,26.702728987382425,260,414,-0.20202699315008096,414,3.1,3.1,116.56953366502911,26.702728987382425,0.64002941106833966,260,414,-0.20202699315008096,3.1,null,-6.0266923429460245E-2,1.3145456103748252,-7.1722021192822213E-2,1.1578108421393309]
["GSI-T-110","Thermal Treatment","TCE",10,39.995725558828426,0.17889054060957704,2.3494262031817232,0.17889054060957704,66,1.8,1.5642714304385625,1.8,1.9E-2,1.9E-2,39.995725558828426,0.17889054060957704,2.3494262031817232,66,1.8,1.5642714304385625,1.9E-2,null,2.3890756251918219,1.1797874046156449,2.4982558360770892,1.2809539873393008]
["GSI-T-111","Thermal Treatment","PCE",4,14.6,0.93,1.1958699072305019,0.93,47,1.6,1.4679778752797927,1.6,0.46,0.46,14.6,0.93,1.1958699072305019,47,1.6,1.4679778752797927,0.46,null,0.24038490651339442,0.34678748622465638,0.24038490651339442,0.34678748622465638]
["GSI-TK2","Thermal Treatment","PCE",1,41.214075265617687,2.7694764848252458,1.1726478778998828,2.7694764848252458,285,59,0.68399284836636598,59,0.13,0.13,41.2,2.7694764848252458,1.1724995340586442,285,59,0.68399284836636598,0.13,null,0.79580391659330529,-0.53584372244470524,0.79580391659330529,-0.53584372244470524]
["GSI-TK3","Thermal Treatment","PCE",1,2.8284271247461901E-2,2.7568097504180444E-2,1.1138197355576142E-2,2.7568097504180444E-2,1.6,0.76,0.32330639037513342,0.76,1E-3,1E-3,2.8284271247461901E-2,2.7568097504180444E-2,1.1138197355576142E-2,1.6,0.76,0.32330639037513342,1E-3,null,0.74822277239613699,-0.65321251377534373,0.74822277239613699,-0.65321251377534373]
["GSI-TK4","Thermal Treatment","PCE",1,1.0401922899156675,3.7416573867739417E-2,1.4440496125461562,3.7416573867739417E-2,541,1.4,2.5870692294283315,1.4,1E-3,1E-3,1.0401922899156675,3.7416573867739417E-2,1.4440496125461562,541,1.4,2.5870692294283315,1E-3,null,1.6318895027125715,2.3957543597927033,1.6318895027125715,2.3957543597927033]
["GSI-TK5","Thermal Treatment","PCE",1,0.18439088914585774,4.6904157598234297E-2,0.59452811811002448,4.6904157598234297E-2,17,2.2000000000000002,0.8880262405560676,2.2000000000000002,1E-3,1E-3,0.18439088914585774,4.6904157598234297E-2,0.59452811811002448,17,2.2000000000000002,0.8880262405560676,1E-3,null,1.0551579174370962,1.159700842867512,1.0551579174370962,1.159700842867512]
["T-01","Thermal Treatment","TCE",4,28,1.9561432664316619E-2,3.1557573723312342,1.9561432664316619E-2,75,0.27,2.4436974992327127,0.27,5.0000000000000001E-4,1E-3,28,1.9561432664316619E-2,3.1557573723312342,75,0.27,2.4436974992327127,5.0000000000000001E-4,null,1.4240766965959655,1.255272505103306,1.4240766965959655,1.255272505103306]
["T-02","Thermal Treatment","TCE",1,1.4183232810551807,5.0000000000000001E-4,3.4528052273406695,1E-3,15,5.0000000000000001E-4,4.4771212547196626,1E-3,5.0000000000000001E-4,1E-3,1.4183232810551807,5.0000000000000001E-4,3.4528052273406695,15,5.0000000000000001E-4,4.4771212547196626,5.0000000000000001E-4,null,1.9493332136866142,1.3587251920446057,1.2945739792865103,1.0016781530832175]
["T-06","Thermal Treatment","TCE",4,995,387.5,0.40955137390339635,387.5,1070,758,0.14971457205315614,758,60.2,60.2,995,387.5,0.40955137390339635,1070,758,0.14971457205315614,60.2,null,2.456472708007412,2.0287717425700245,1.4733527536485727,0.27217282157874273]
["T-03","Thermal Treatment","PCP",1,0.43910943243032863,2.6434302641303912E-3,2.220404908360047,2.6434302641303912E-3,1.3,1.2E-2,2.0347621062592118,1.2E-2,1E-3,1E-3,null,null,null,null,null,null,null,null,0.94649424148555739,-0.14761385714295852,0.94649424148555739,-0.14761385714295852]
["T-05","Thermal Treatment","PCP",1,20.2,2.7566231364290732,0.86497397256703357,2.7566231364290732,20.2,4,0.70329137811866138,4,0.2,0.2,null,null,null,null,null,null,null,null,0.8722733194608735,0.55074824083776963,0.8722733194608735,0.55074824083776963]
["TT-14A","Thermal Treatment","PCE",2,15.450000000000001,1.3607256340384735,1.0551579174370962,{"$f":"IF(F283<0.001,0.001,F283)","v":1.3607256340384735},26,1.8,1.159700842867512,{"$f":"IF(J283<0.001,0.001,J283)","v":1.8},0.72399999999999998,{"$f":"IF(L283<0.001,0.001,L283)","v":1.8},15.450000000000001,1.3607256340384735,{"$f":"-LOG(P283/O283)","v":1.0551579174370962},26,1.8,{"$f":"-LOG(S283/R283)","v":1.159700842867512},0.72399999999999998,null,1.0169634109754691,-0.24482404633111773,1.0169634109754691,-0.24482404633111773]
[]
[null,null,null,null,"Med Bef","Med Aft","% Redn","OoM Redn"]
[null,"Enhanced Bioremediation",null,null,{"$f":"MEDIAN(E4:E120)","v":0.73799999999999999},{"$f":"MEDIAN(F4:F120)","v":2.7266029150346024E-2},{"$f":"1-F286/E286","v":0.96305416104289154},{"$f":"-LOG(F286/E286)","v":1.4324344671399731}]
[null,"Chemical Oxidation",null,null,{"$f":"MEDIAN(E121:E190)","v":1.1484222798555463},{"$f":"MEDIAN(F121:F190)","v":0.26946476990748003},{"$f":"1-F287/E287","v":0.7653609002244588},{"$f":"-LOG(F287/E287)","v":0.62959961625348837}]
[null,"Thermal Treatment",null,null,{"$f":"MEDIAN(E261:E283)","v":10},{"$f":"MEDIAN(F261:F283)","v":0.17889054060957704},{"$f":"1-F288/E288","v":0.98211094593904225},{"$f":"-LOG(F288/E288)","v":1.7474126234889533}]
[null,"Chemical Reduction",null,null,{"$f":"MEDIAN(E191:E211)","v":1.8},{"$f":"MEDIAN(F191:F211)","v":0.13139104431093779},{"$f":"1-F289/E289","v":0.92700497538281235},{"$f":"-LOG(F289/E289)","v":1.1367067406321349}]
[null,"MNA",null,null,{"$f":"MEDIAN(E212:E256)","v":0.67147130975480041},{"$f":"MEDIAN(F212:F256)","v":0.12960941895367262},{"$f":"1-F290/E290","v":0.8069769816360407},{"$f":"-LOG(F290/E290)","v":0.71439089745667927}]